{"text_format":"1","workbook":"xlsx","n_sheets":17,"sheets":["How To Use Guide","BVMS checklist","Project set up","HD_H.264 Data Rate","benchmark_records","Bit Rate Guide new !!!!","Licenses","Workstations Matrix","SD lifetime","local recording","MPEG4 Data Rate_PAL","PAL_NTSC","Sheet1","changelog","--Bit Rate Quick Guide old ----","CPP3 HD Bit Rate Quick Guide","DataBase"],"not_rendered":{"charts":0,"images":21,"macros":1,"external_links":3,"defined_names":246,"comments":4,"pivot_tables":0},"unopened":[],"bounds":{"document_bytes":16777216,"sheet_cells":100000,"rows_first":2000,"rows_last":500,"rows_between":2000,"halvings":0,"cell_chars":16384,"cell_head_chars":4096},"cells_cut":0,"cells_raw":0,"read":"whole","date_system":"1900"}

{"sheet":"How To Use Guide","index":0,"n_rows":232,"n_cols":2,"rows_kept":232,"cut":false,"hidden":false,"merged":[[0,0,0,5],[3,0,3,5],[216,0,216,5],[224,0,224,5],[229,0,229,6]]}
["How to use Guide for BVMS Checklist (Version 2.0)"]
[]
[]
["Filling in the BVMS checklist for New project"]
[]
["Step 1: Provide the basic information"]
[]
[]
[]
[]
[]
[]
[]
[]
[]
["Step 2: Choose the Cameras/Encoders"]
[]
["The BVMS checklist allow selection of up to 4 different type of Bosch cameras and 1 type of Onvif camera"]
[]
[]
[]
[]
[]
[]
[]
[]
[]
[]
["Tips: "]
["1. If you have more than 4 type of Bosch cameras, you can combine similar camera into the same group, e.g. DINION starlight 7000 and FLEXIDOME starlight  7000 RD can be combined into the same group"]
["2. Take note of the Encoding standard, e.g. CPP5 or CPP4 or CPP3. It will decide your bit rate used for storage calculation."]
["3. If the camera IVA feature is required, select \"Yes\" for the option \"VCA enabled\". It will have some influence on the total storage requirement."]
[]
[]
[]
["Step 3: Select the required resolution and IPS for each group"]
[]
["The BVMS checklist allow selection of required resolution and frame rate (IPS) depending on the camera/encoder selected. "]
[]
[]
[]
[]
[]
[]
[]
[]
[]
[]
[]
[]
["Tips:"]
["1. Depending on the camera/encoder selected, the allowable resolution is listed for selection. If the required resolution is not available, please check with the MKR for clarification."]
["2. Depending on the camera/encoder selected, there is a limitation of the IPS for each stream. E.g. For 1080p camera, when stream 1 is configured as 30IPS, stream 2 can only configure up to 5IPS"]
["3. Depending on the camera/encoder selected, certain resolution is only available in stream 2. You can configure stream 1 as live viewing stream and stream 2 as recording stream. "]
[]
[]
[]
["Step 4: Input the quantity of the cameras/encoders"]
[]
[]
[]
[]
[]
[]
[]
[]
[]
[]
["Step 5: Input the bit rate and min retention time of the cameras/encoder for each group"]
[]
[]
[]
[]
[]
[]
[]
[]
[]
[]
[]
[]
[]
["Tips:"]
["1. Depending on the camera/encoder selected, the bit rate can be selected from the sheet \"Bit Rate Quick Guide\" and \"CPP3 HD Bit Rate Quick Guide\""]
["2. If the camera audio feature is required, select \"Yes\" for the option \"Audio enabled\". It will have some influence on the total storage requirement."]
[]
[]
[]
["Step 6: Fill in the quiet time hours, video bandwidth if the cameras/encoders recording scene is expected to be quiet at certain hours of the day."]
[]
[]
[]
[]
[]
[]
[]
["Tips:"]
["1. BVMS VRM does not support alarm recording as it might consume more storage than continuous recording. Due to block based recording, the customer might end up with more wastage."]
["2. Choose the IDNR bit rate from the supported camera in the sheet \"Bit Rate Quick Guide\". It will help to reduce the storage requirement."]
["E.g. If the DINION starlight 7000 is mounted in the office where the staff will arrived from 7am and left by 7pm, the camera is looking at a static scene for 12 hours and the estimated iDNR bit rate is 700Kbit/s."]
[]
[]
[]
["Step 7: Select the camera group to the VRM storage Pool if required"]
[]
[]
[]
[]
[]
[]
[]
[]
[]
[]
["Tips:"]
["1. The BVMS checklist allow selection up to 4 VRM storage group. If the project required more than 4 VRM storage pool, 2nd BVMS checklist should be filled in."]
[]
[]
[]
["Step 8: Select from the list of iSCSI storage type for each VRM storage pool that fit the requirement"]
[]
[]
[]
[]
[]
[]
[]
[]
[]
[]
[]
[]
[]
[]
[]
[]
[]
[]
[]
[]
[]
[]
[]
["Tips:"]
["1. The BVMS checklist is designed to provide calculation with the same type of iSCSI storage."]
["It is possible to reduce the required storage further by selecting a lower size iSCSI storage when the bandwidth and iSCSI session is sufficient."]
["E.g.","The required net storage is 79.47TB. The BVMS checklist suggested 7 x DIVAR IP 6000 8x2TB with net storage of 88.5TB. "]
[null,"It is possible to choose 6 x DIVAR IP 6000 8x2TB and 1 x DIVAR IP 6000 4x2TB to further reduce the storage requirement."]
["E.g.","The required net storage is 202.33TB. The BVMS checklist suggested 4 x E-Series Base + 4 x Expansion Unit with net storage of 240.1TB. "]
[null,"It is possible to choose 4 x E-Series Base + 3 x Expansion Unit to further reduce the storage requirement."]
["2. For E-Series storage, it is possible to configure to \"RAID 6\" if required."]
[]
[]
[]
[]
[]
[]
[]
[]
[]
[]
[]
[]
[]
["Step 9: Select the type of VRM server, software license, workstation and central server hardware."]
[]
[]
[]
[]
[]
[]
[]
[]
[]
[]
[]
[]
[]
[]
[]
[]
[]
[]
[]
[]
["Step 10: Fill in the required quantity of Transcoder and decoders."]
[]
[]
[]
[]
[]
[]
[]
["Tips:"]
["1. For decoder, it will required the necessary BVMS channel licenses"]
[]
[]
[]
["Step 11: Provide the necessary Audio, IP network and other useful information. "]
[]
[]
[]
[]
[]
[]
[]
[]
[]
[]
[]
[]
[]
[]
[]
[]
[]
["Filling in the BVMS checklist for Existing project"]
[]
["For existing project channels expansion without storage expansion."]
["1. Fill in the checklist with the existing channels and the additional channels to check if the existing storage is able to handle the channels expansion."]
[]
["For existing project channels expansion with storage expansion."]
["1. Fill in the checklist with the additional channels only to check if the storage is able to handle the channels expansion."]
[]
["Filling in the BVMS checklist for Enterprise project"]
[]
["1. Each BVMS management server require a separated BVMS checklist."]
["2. The Enterprise management server required a separate BVMS checklist and should indicate how many sub system and what is the sub system type."]
[]
["Filling in the BVMS checklist for Dual recording  project"]
[]
["1. Primary and Secondary VRM required separated BVMS checklist."]

{"sheet":"BVMS checklist","index":1,"n_rows":1741,"n_cols":56,"rows_kept":1741,"cut":false,"hidden":false,"merged":[[1482,1,1514,1],[1482,2,1489,2],[1490,2,1497,2],[1498,2,1505,2],[1506,2,1508,2],[1509,2,1511,2],[1512,2,1514,2],[845,1,877,1],[845,2,852,2],[853,2,860,2],[861,2,868,2],[869,2,871,2],[872,2,874,2],[875,2,877,2],[1165,1,1197,1],[1165,2,1172,2],[1173,2,1180,2],[1181,2,1188,2],[1189,2,1191,2],[1192,2,1194,2],[1195,2,1197,2],[1416,1,1425,1],[916,2,917,2],[1149,2,1152,2],[1426,1,1481,1],[1478,2,1481,2],[528,1,560,1],[555,2,557,2],[909,2,912,2],[600,2,607,2],[611,2,618,2],[1161,2,1164,2],[1233,2,1234,2],[1216,2,1221,2],[1109,1,1164,1],[596,2,597,2],[598,2,599,2],[785,2,786,2],[787,2,788,2],[821,2,828,2],[841,2,844,2],[789,1,844,1],[585,1,778,1],[558,2,560,2],[899,2,904,2],[805,2,812,2],[1099,1,1108,1],[918,2,919,2],[208,10,208,11],[210,8,210,9],[462,1,471,1],[579,2,584,2],[574,6,574,10],[210,10,210,11],[212,6,212,7],[276,2,278,2],[468,2,469,2],[552,2,554,2],[577,3,578,5],[488,2,495,2],[905,1,1098,1],[789,2,796,2],[797,2,804,2],[779,2,781,2],[782,2,784,2],[472,1,527,1],[472,2,479,2],[480,2,487,2],[544,2,551,2],[512,2,515,2],[516,2,519,2],[520,2,523,2],[779,1,788,1],[210,12,210,13],[210,14,210,15],[211,6,211,7],[211,8,211,9],[211,10,211,11],[211,12,211,13],[211,14,211,15],[536,2,543,2],[215,10,215,11],[462,2,464,2],[465,2,467,2],[528,2,535,2],[283,2,290,2],[294,2,301,2],[524,2,527,2],[470,2,471,2],[496,2,503,2],[504,2,511,2],[1541,6,1541,7],[1528,6,1528,10],[1434,2,1441,2],[1527,4,1527,5],[1528,4,1528,5],[829,2,832,2],[833,2,836,2],[1442,2,1449,2],[1450,2,1457,2],[1466,2,1469,2],[1099,2,1101,2],[1248,2,1255,2],[1109,2,1116,2],[1117,2,1124,2],[1125,2,1132,2],[1141,2,1148,2],[1214,3,1215,5],[894,6,894,10],[897,3,898,5],[1153,2,1156,2],[1424,2,1425,2],[1458,2,1465,2],[1105,2,1106,2],[1107,2,1108,2],[205,6,205,7],[205,8,205,9],[201,6,201,15],[192,14,192,15],[190,14,190,15],[191,14,191,15],[206,14,206,15],[1552,8,1552,9],[1211,6,1211,10],[200,6,200,7],[200,8,200,9],[206,6,206,7],[212,8,212,9],[206,8,206,9],[207,6,207,7],[208,6,208,7],[208,8,208,9],[210,6,210,7],[212,10,212,11],[212,12,212,13],[208,12,208,13],[215,14,215,15],[208,14,208,15],[212,14,212,15],[204,6,204,7],[204,8,204,9],[200,10,200,11],[190,10,190,11],[198,6,198,7],[198,8,198,9],[198,10,198,11],[199,6,199,7],[199,8,199,9],[199,10,199,11],[204,10,204,11],[203,6,203,7],[203,10,203,11],[176,10,176,11],[176,12,176,13],[164,14,164,15],[175,12,175,13],[172,6,172,7],[172,12,172,13],[175,6,175,7],[175,8,175,9],[173,10,173,11],[164,12,164,13],[166,14,166,15],[167,14,167,15],[170,6,170,15],[172,14,172,15],[165,12,165,13],[175,10,175,11],[164,6,164,7],[165,10,165,11],[176,6,176,7],[176,8,176,9],[174,8,174,9],[169,6,169,15],[173,6,173,7],[1,21,2,23],[64,12,64,13],[68,8,68,9],[61,16,62,23],[65,8,65,9],[44,14,44,15],[65,10,65,11],[65,12,65,13],[68,10,68,11],[47,6,47,13],[65,6,65,7],[66,12,66,13],[66,8,66,9],[61,6,62,13],[36,3,36,8],[44,5,44,6],[49,6,49,13],[36,14,36,15],[37,14,37,15],[39,14,39,15],[41,14,41,15],[40,14,40,15],[38,14,38,15],[47,3,47,4],[1725,7,1731,7],[1718,7,1724,7],[146,6,146,7],[146,8,146,9],[167,8,167,9],[154,12,154,13],[178,10,178,11],[179,10,179,11],[146,12,146,13],[159,12,159,13],[146,10,146,11],[156,6,156,7],[148,6,148,7],[166,6,166,7],[154,6,154,7],[165,6,165,7],[185,6,185,7],[157,10,157,11],[158,10,158,11],[158,12,158,13],[162,10,162,11],[162,8,162,9],[148,10,148,11],[154,10,154,11],[64,14,64,15],[174,14,174,15],[45,5,45,6],[44,8,45,13],[179,12,179,13],[70,6,70,7],[72,8,72,9],[72,12,72,13],[72,10,72,11],[66,10,66,11],[69,10,69,11],[71,8,71,9],[167,6,167,7],[144,12,144,13],[153,8,153,9],[173,14,173,15],[164,8,164,9],[167,10,167,11],[165,8,165,9],[66,6,66,7],[147,6,147,15],[175,14,175,15],[148,14,148,15],[156,14,156,15],[48,3,48,4],[48,6,48,13],[49,3,49,4],[68,12,68,13],[174,10,174,11],[77,13,81,13],[76,8,76,9],[86,9,90,9],[85,12,85,13],[74,12,74,13],[85,10,85,11],[77,11,81,11],[74,10,74,11],[73,12,73,13],[77,9,81,9],[50,3,50,4],[50,6,50,13],[72,3,72,4],[72,6,72,7],[53,3,53,4],[71,6,71,7],[71,10,71,11],[69,8,69,9],[70,12,70,13],[1596,38,1596,41],[1597,38,1597,39],[1597,40,1597,41],[1597,34,1597,35],[1597,36,1597,37],[1596,34,1596,37],[1581,6,1581,13],[1597,30,1597,31],[1540,12,1541,12],[1540,17,1544,18],[1597,11,1597,12],[1540,13,1541,13],[1578,6,1578,13],[1596,30,1596,33],[1580,6,1580,13],[1579,6,1579,13],[1566,6,1566,10],[1559,6,1559,11],[1557,6,1557,10],[1548,6,1548,13],[1565,6,1565,10],[1567,6,1567,10],[1589,5,1589,7],[1540,6,1540,10],[52,3,52,4],[106,3,136,3],[77,7,81,7],[74,6,74,7],[73,6,73,7],[85,3,90,4],[76,6,76,7],[85,6,85,7],[86,7,90,7],[76,3,81,4],[56,6,56,13],[64,8,64,9],[55,10,55,13],[64,10,64,11],[56,5,57,5],[64,6,64,7],[57,6,57,13],[73,10,73,11],[73,8,73,9],[76,10,76,11],[85,8,85,9],[69,12,69,13],[74,8,74,9],[154,14,154,15],[155,14,155,15],[1597,32,1597,33],[1597,26,1597,27],[1597,7,1597,10],[1596,26,1596,29],[1597,28,1597,29],[174,12,174,13],[1536,12,1538,12],[1536,13,1538,13],[1537,6,1537,10],[1536,6,1536,10],[1527,6,1527,10],[1533,6,1533,10],[1538,6,1538,7],[1534,6,1534,10],[178,8,178,9],[184,12,184,13],[215,6,215,7],[179,8,179,9],[187,12,187,13],[187,14,187,15],[203,12,203,13],[174,6,174,7],[1533,17,1537,18],[157,14,157,15],[158,14,158,15],[157,12,157,13],[155,12,155,13],[156,8,156,9],[156,10,156,11],[157,8,157,9],[155,10,155,11],[155,8,155,9],[156,12,156,13],[176,14,176,15],[196,12,196,13],[205,12,205,13],[205,14,205,15],[190,12,190,13],[189,14,189,15],[193,14,193,15],[173,8,173,9],[166,8,166,9],[160,6,160,15],[162,12,162,13],[162,14,162,15],[172,8,172,9],[155,6,155,7],[153,6,153,7],[148,12,148,13],[154,8,154,9],[159,8,159,9],[159,10,159,11],[153,12,153,13],[153,10,153,11],[157,6,157,7],[158,6,158,7],[158,8,158,9],[148,8,148,9],[65,14,65,15],[66,14,66,15],[68,14,68,15],[69,14,69,15],[70,14,70,15],[71,14,71,15],[67,6,67,7],[67,8,67,9],[67,10,67,11],[67,12,67,13],[67,14,67,15],[68,6,68,7],[146,14,146,15],[69,6,69,7],[71,12,71,13],[70,10,70,11],[70,8,70,9],[72,14,72,15],[73,14,73,15],[74,14,74,15],[144,6,144,7],[145,6,145,7],[86,11,90,11],[144,10,144,11],[145,10,145,11],[144,8,144,9],[86,13,90,13],[145,8,145,9],[145,12,145,13],[76,14,90,15],[76,12,76,13],[144,14,144,15],[145,14,145,15],[162,6,162,7],[167,12,167,13],[166,12,166,13],[159,6,159,7],[172,10,172,11],[164,10,164,11],[166,10,166,11],[165,14,165,15],[173,12,173,13],[159,14,159,15],[189,12,189,13],[197,6,197,7],[196,6,196,7],[196,8,196,9],[196,10,196,11],[191,10,191,11],[189,6,189,7],[189,8,189,9],[189,10,189,11],[193,6,193,7],[191,6,191,7],[191,8,191,9],[192,6,192,7],[192,8,192,9],[192,10,192,11],[197,10,197,11],[192,12,192,13],[191,12,191,13],[190,6,190,7],[190,8,190,9],[268,0,270,0],[216,14,216,15],[272,2,275,2],[217,10,217,11],[218,14,218,15],[217,14,217,15],[217,6,217,7],[218,10,218,11],[257,6,257,10],[260,3,261,5],[218,6,218,7],[216,6,216,7],[216,10,216,11],[268,2,271,2],[262,1,267,1],[262,2,267,2],[268,1,461,1],[279,2,280,2],[281,2,282,2],[585,0,587,0],[585,2,588,2],[589,2,592,2],[905,0,907,0],[905,2,908,2],[1426,2,1433,2],[1470,2,1473,2],[1474,2,1477,2],[1222,2,1225,2],[1222,0,1224,0],[1416,2,1418,2],[1419,2,1421,2],[1226,2,1229,2],[1222,1,1255,1],[1237,2,1244,2],[1133,2,1140,2],[1157,2,1160,2],[1102,2,1104,2],[920,2,927,2],[931,2,938,2],[1235,2,1236,2],[1422,2,1423,2],[813,2,820,2],[837,2,840,2],[14,5,14,14],[16,5,16,14],[17,5,17,14],[18,5,18,14],[19,5,19,14],[20,5,20,14],[21,5,21,14],[22,5,22,14],[23,5,23,14],[178,14,178,15],[179,14,179,15],[180,6,180,15],[178,6,178,7],[188,12,188,13],[178,12,178,13],[179,6,179,7],[181,6,181,15],[184,10,184,11],[184,14,184,15],[188,14,188,15],[185,12,185,13],[184,6,184,7],[184,8,184,9],[185,8,185,9],[185,14,185,15],[187,6,187,7],[187,8,187,9],[187,10,187,11],[185,10,185,11],[188,6,188,7],[188,8,188,9],[188,10,188,11],[25,5,25,14],[26,5,26,14],[27,5,27,14],[28,5,28,14],[29,5,29,14],[30,5,30,14],[31,5,31,14],[32,5,32,14],[33,5,33,14],[207,8,207,9],[207,10,207,11],[207,12,207,13],[207,14,207,15],[193,8,193,9],[193,10,193,11],[193,12,193,13],[205,10,205,11],[196,14,196,15],[200,12,200,13],[200,14,200,15],[197,12,197,13],[197,14,197,15],[198,12,198,13],[199,12,199,13],[199,14,199,15],[204,12,204,13],[204,14,204,15],[203,8,203,9],[206,12,206,13],[198,14,198,15],[203,14,203,15],[197,8,197,9],[206,10,206,11]]}
[null,null,null,null,null,null,null,null,null,null,null,null,null,null,null,null,null,null,null,null,null,null,null,null,null,null,"Mandatory fields filled in???"]
[null,null,null,null,null,null,null,null,null,null,null,null,null,null,null,null,null,null,null,null,null,"Use grouping handle to display replay iSCSI session usage"]
[]
[]
[]
[]
[]
[]
[]
[null,null,null,null,null,null,null,null,null,null,null,null,null,null,null,null,null,null,null,null,null,null,null,null,null,null,null,null," "]
[]
[]
[]
[]
[null,null,null,"BVMS approval number: "]
[]
[null,null,null,"BVMS approval condition:",null,"Full comply to the latest BVMS Sales Guide"]
[null,null,null,null,null,"For 3rd party workstation, usage of recommended ATI/Nvidia graphic card is required for full technical support"]
[null,null,null,null,null,"For BVMS and VRM installed on 3rd party server, it must comply with the minimum requirement stated in the "]
[null,null,null,null,null,"datasheet and sales guide "]
[null,null,null,null,null,"NetApp E2700 series als has dual controller variants whichs are in this checklist used for the High Density selfs. "]
[null,null,null,null,null,"However possible, combinations with Dual controller base units plus 12 disk extensions are not part of this checklist."]
[]
[]
[]
[null,null,null,"BVMS approval Comment:"]
[]
[]
[]
[]
[]
[null,null,null,null,null,null,null,null,null,null,null,null,null,null,null,null,null,null,null,null,null,null,null,null,null,null,null,null," "]
[]
[]
[]
[null,null,null,null,null,null,null,null,null,null,null,null,null,null,"Input field (Mandatory)",null,"Not Filled"]
[null,null,null,"BVMS project checklist",null,null,null,null,null,null,null,null,null,null,"Input field (Mandatory)",null,"Filled"]
[null,null,null,"Version : v 11.0.73",null,null,null,null,null,null,null,null,null,null,"Input field (Optional)"]
[null,null,null,"PLEASE NOTE:",null,null,null,null,null,null,null,null,null,null,"Output value"]
[null,null,null,"Approval of this checklist is in best effort as it includes a storage estimation and a Encoder CPU load estimation.",null,null,null,null,null,null,null,null,null,null,"Warning"]
[null,null,null,"The actual scene variations in the project will ensure that the encoder CPU load and/or estimated storage may be different than presented in this checklist.",null,null,null,null,null,null,null,null,null,null,"Not OK"]
[null,null,null,"As a result, Bosch Security Systems cannot take resposibilty onto the storage estimations done in this checklist.",null,null,null,null,null,null,null,null,null,null,"OK"]
[null,null,null,"Please submit completed forms to:",null,"Your local MKR or next approval level - s. approval training slides",null,null,null,null,null,null,null,null,"Max 100 concurrent OC"]
[null,null,null,null,null,null,null,null,null,null,null,null,null,null,"Max 2000 channels"]
[null,null,null,"Approval status overview:",null,{"$f":"IF(OR(AND(L54<>0,G148>500),N1537>2,OR(J1550>500,J1551>20,N1551>20,N1552>50),S76,AND(S78,NOT(OR(S149,S153)))),\"check manually by BU-ESS expert\",IF(OR(S149,S153,S79,S80,S75,ISNA(#REF!)),\"Not Approved\",IF(S85,\"HD used, RSO needs to check\",\"OK\")))","v":"OK"},null,null,{"$f":"IF(OR(S149,S153),\"Present and future channel/workstation count is over current BVMS system limitations\",\"\")","v":""},null,null,null,null,null,"Max 100 Dibos / BRS units"]
[null,null,null,"Mandatory fields filled in?",null,{"$f":"IF(G47>29,\"OK\",\"Not completed\")","v":"Not completed"}]
[null,null,null,null,null,null,{"$f":"COUNTIF(AB1:AB1593,TRUE)","v":10}]
[null,null,null,"Name"]
[null,null,null,"Office"]
[null,null,null,"Project Name"]
[null,null,null,"Dealer Name"]
[]
[null,null,null,"Installation time of project",null,null,"Year:",null,"Month",null,null,null,null,null,null,null,null,null,null,null,null,null,null,null,null,null,{"$f":"NOT(OR($H$53=\"\"))","v":false},{"$f":"AA53","v":false}]
[null,null,null,"Future expected system expansion",null,null,"Year:",null,"Month",null,"Channels:",null,"Workst:",null,null,null,null,null,null,null,null,null,null,null,null,null,{"$f":"NOT(OR($J$53=\"\"))","v":false},{"$f":"AA54","v":false}]
[null,null,null,null,null,null,null,null,null,null,null,null,null,null,null,null,null,null,null,null,null,null,null,null,null,null,{"$f":"NOT(OR($H$54=\"\"))","v":false},false]
[null,null,null,"BVMS license extensions:",null,null,"Earlier used BVMS approval number:",null,null,null,null,null,null,null,null,null,null,null,null,null,null,null,null,null,null,null,{"$f":"NOT(OR($J$54=\"\"))","v":false},false]
[null,null,null,"Request for extension?",null,"No","<< comment here. Fill in the rest of the checklist including the expansion to reflect the new state.",null,null,null,null,null,null,null,null,null,null,null,null,null,null,null,null,null,null,null,{"$f":"NOT(OR($L$54=\"\"))","v":false},false]
[null,null,null,null,null,null,null,null,null,null,null,null,null,null,null,null,null,null,null,null,null,null,null,null,null,null,{"$f":"NOT(OR($N$54=\"\"))","v":false},false]
[null,null,null,null,null,null,null,null,"Channel exp. Qty:",0,null,"Forensics","Qty:",0]
[null,null,null,null,null,"DVR exp. Qty:",0,null,"Workstations Qty:",0,null,"Keyboards","Qty:",0]
[]
[null,null,null,"Storage used:",null,null,"VRM+NVR mixed-mode",null,null,null,null,null,null,null,null,null,{"$f":"IF(Q76,\"BVMS-NVR cannot record H.264 cameras (H.263 only). \nPlease ignore this message for BRS projects\",\"\")","v":""}]
[null,null,null,"Since BVMS 2.20, the operator client is used capable of both"]
[]
[null,null,null,"Camera/encoder selection",null,null,"Group1",null,"Group2",null,"Group3",null,"Group4",null,"Group5"]
[null,null,null,"Video format - PAL/NTSC,480p,720p,1080p,5MP",null,null,"none",null,"none",null,"none",null,"none",null,"none",null,null,null,null,null,null,null,null,null,null,null,null,null,null,"Standard","Resolution","MP"]
[null,null,null,null,null,null,{"$f":"IF(OR(G66=\"PAL\",G66=\"NTSC\"),\"SD\",G66)","v":"none"},null,{"$f":"IF(OR(I66=\"PAL\",I66=\"NTSC\"),\"SD\",I66)","v":"none"},null,{"$f":"IF(OR(K66=\"PAL\",K66=\"NTSC\"),\"SD\",K66)","v":"none"},null,{"$f":"IF(OR(M66=\"PAL\",M66=\"NTSC\"),\"SD\",M66)","v":"none"},null,{"$f":"IF(OR(O66=\"PAL\",O66=\"NTSC\"),\"SD\",O66)","v":"none"},null,null,null,null,null,null,null,null,null,null,null,null,null,null,"PAL","576i","0.4 MP"]
[null,null,null,"Brand",null,null,"Bosch",null,"Bosch",null,"Bosch",null,"Bosch",null,"Other brand"]
[null,null,null,"Camera/encoder Platform",null,null,"none",null,"none",null,"none",null,"none",null,"ABC-1234",null,null,null,null,null,null,null,null,null,null,null,null,null,null,"PAL","576i","0.4 MP"]
[null,null,null,"Encoding standard",null,null,{"$f":"G1698","v":"-"},null,{"$f":"G1699","v":"-"},null,{"$f":"G1700","v":"-"},null,{"$f":"G1701","v":"-"},null,"H.264",null,null,null,null,null,null,null,null,null,null,null,null,null,null,"NTSC","480i","0.35 MP"]
[null,null,null,null,null,null,{"$f":"G70&\"_str1\"","v":"-_str1"},null,{"$f":"I70&\"_str1\"","v":"-_str1"},null,{"$f":"K70&\"_str1\"","v":"-_str1"},null,{"$f":"M70&\"_str1\"","v":"-_str1"}]
[null,null,null,"Scene activity",null,null,"Medium",null,"Medium",null,"Medium",null,"Medium",null,"Medium",null,null,null,null,null,null,null,null,null,null,null,null,null,null,"VGA","480p","0.3 MP"]
[null,null,null,"VCA enabled",null,null,"No",null,"No",null,"No",null,"No",null,"not applicable",null,null,null,null,null,null,null,null,null,null,null,null,null,null,"HD ready","720p","0.9 MP"]
[null,null,null,"iSCSI recording",null,null,"Direct-iSCSI/VRM-iSCSI",null,"Direct-iSCSI/VRM-iSCSI",null,"Direct-iSCSI/VRM-iSCSI",null,"Direct-iSCSI/VRM-iSCSI",null,{"$f":"V77&\"x VSG instances\"","v":"0x VSG instances"},null,null,null,null,null,null,null,null,null,null,null,null,null,null,"Full HD","1080p","2.0 MP"]
[null,null,null,"Active channels",null,null,{"$f":"$F$1698","v":0},null,{"$f":"$F$1699","v":0},null,{"$f":"$F$1700","v":0},null,{"$f":"$F$1701","v":0},null,{"$f":"MAX(O145,32)","v":32},null,null,"NVR an H.264??",{"$f":"IF(AND(G62=\"NVR Operator Client\",S84),TRUE,FALSE)","v":false},null,null,{"$f":"INT(O146)","v":0}]
[null,null,null,null,null,null,{"$f":"IF(AND($G$62=\"NVR\",LEFT(G$70,5)=\"H.264\"),TRUE,FALSE)","v":false},{"$f":"$L$1698","v":0},{"$f":"IF(AND($G$62=\"NVR\",LEFT(I$70,5)=\"H.264\"),TRUE,FALSE)","v":false},{"$f":"$L$1699","v":0},{"$f":"IF(AND($G$62=\"NVR\",LEFT(K$70,5)=\"H.264\"),TRUE,FALSE)","v":false},{"$f":"$L$1700","v":0},{"$f":"IF(AND($G$62=\"NVR\",LEFT(M$70,5)=\"H.264\"),TRUE,FALSE)","v":false},{"$f":"$L$1701","v":0},null,null,{"$f":"OR(G76,I76,K76,M76)","v":false},"RSO/BU check",{"$f":"IF(AND((G148+L54)>500,(G148)<2001),TRUE,FALSE)","v":false},null,null,{"$f":"INT(O75-V75)","v":32}]
[null,null,null,"Stream1",null,null,"Recording",null,"Recording",null,"Recording",null,"Recording",null,"Comment onto the PC/server hardware running the VSG service(s) in this field…",null,null,null,null,null,null,{"$f":"(ROUNDUP(O146/O75,0))","v":0}]
[null,null,null,null,null,"Resolution stream1","720p",{"$f":"IF(G69=\"none\",\"group off\",IF(OR(ISNA(G80),ISERROR(G80)),\"Unsupported\",IF(G79>G80+G82,\"Overstressed! Decrease resolution/IPS!\",IF(G83,\"Unsupported resolution\",\"OK\"))))","v":"group off"},"1080p",{"$f":"IF(I69=\"none\",\"group off\",IF(OR(ISNA(I80),ISERROR(I80)),\"Unsupported\",IF(I79>I80+I82,\"Overstressed! Decrease resolution/IPS!\",IF(I83,\"Unsupported resolution\",\"OK\"))))","v":"group off"},"1080p",{"$f":"IF(K69=\"none\",\"group off\",IF(OR(ISNA(K80),ISERROR(K80)),\"Unsupported\",IF(K79>K80+K82,\"Overstressed! Decrease resolution/IPS!\",IF(K83,\"Unsupported resolution\",\"OK\"))))","v":"group off"},"1080p",{"$f":"IF(M69=\"none\",\"group off\",IF(OR(ISNA(M80),ISERROR(M80)),\"Unsupported\",IF(M79>M80+M82,\"Overstressed! Decrease resolution/IPS!\",IF(M83,\"Unsupported resolution\",\"OK\"))))","v":"group off"},null,null,null,"Needs RSO/BU confirmation",{"$f":"IF(OR($H$78=\"Needs RSO/BU confirmation\",$J$78=\"Needs RSO/BU confirmation\",$L$78=\"Needs RSO/BU confirmation\",$N$78=\"Needs RSO/BU confirmation\",$H$87=\"Needs RSO/BU confirmation\",$J$87=\"Needs RSO/BU confirmation\",$L$87=\"Needs RSO/BU confirmation\",$N$87=\"Needs RSO/BU confirmation\"),TRUE,FALSE)","v":false}]
[null,null,null,null,null,"IPS stream1",30,null,30,null,30,null,30,null,null,null,null,"Overstressed",{"$f":"IF(OR($H$78=\"Overstressed! Decrease resolution/IPS!\",$J$78=\"Overstressed! Decrease resolution/IPS!\",$L$78=\"Overstressed! Decrease resolution/IPS!\",$N$78=\"Overstressed! Decrease resolution/IPS!\",$H$87=\"Overstressed! Decrease resolution/IPS!\",$J$87=\"Overstressed! Decrease resolution/IPS!\",$L$87=\"Overstressed! Decrease resolution/IPS!\",$N$87=\"Overstressed! Decrease resolution/IPS!\"),TRUE,FALSE)","v":false}]
[null,null,null,null,null,"Max IPS available",{"$f":"IF(G$66=\"NTSC\",PALtoNTSC(AB1600),AB1600)","v":{"$error":"#N/A"}},null,{"$f":"IF(I$66=\"NTSC\",PALtoNTSC(AB1601),AB1601)","v":{"$error":"#N/A"}},null,{"$f":"IF(K$66=\"NTSC\",PALtoNTSC(AB1602),AB1602)","v":{"$error":"#N/A"}},null,{"$f":"IF(M$66=\"NTSC\",PALtoNTSC(AB1603),AB1603)","v":{"$error":"#N/A"}},null,null,null,null,"Unsupported resolution",{"$f":"IF(OR($H$78=\"Unsupported resolution\",$J$78=\"Unsupported resolution\",$L$78=\"Unsupported resolution\",$N$78=\"Unsupported resolution\",$H$87=\"Unsupported resolution\",$J$87=\"Unsupported resolution\",$L$87=\"Unsupported resolution\",$N$87=\"Unsupported resolution\"),TRUE,FALSE)","v":false}]
[null,null,null,null,null,"Unused str1:",{"$f":"IF(SIGN(G80-G79)=-1,0,G80-G79)","v":{"$error":"#N/A"}},null,{"$f":"IF(SIGN(I80-I79)=-1,0,I80-I79)","v":{"$error":"#N/A"}},null,{"$f":"IF(SIGN(K80-K79)=-1,0,K80-K79)","v":{"$error":"#N/A"}},null,{"$f":"IF(SIGN(M80-M79)=-1,0,M80-M79)","v":{"$error":"#N/A"}},null,null,null,null,"H264 used without ok",{"$f":"IF(AND(OR(LEFT(G75,4)=\"H264\",LEFT(I75,4)=\"H264\",LEFT(K75,4)=\"H264\",LEFT(M75,4)=\"H264\")=TRUE,#REF!=\"No\"),TRUE,FALSE)","v":{"$error":"#REF!"}}]
[null,null,null,null,null,"Inherit unused str2:",{"$f":"ROUNDDOWN(H138/VLOOKUP(G78,$E$100:$F$137,2,FALSE),0)","v":{"$error":"#N/A"}},null,{"$f":"ROUNDDOWN(J138/VLOOKUP(I78,$E$100:$F$137,2,FALSE),0)","v":{"$error":"#N/A"}},null,{"$f":"ROUNDDOWN(L138/VLOOKUP(K78,$E$100:$F$137,2,FALSE),0)","v":{"$error":"#N/A"}},null,{"$f":"ROUNDDOWN(N138/VLOOKUP(M78,$E$100:$F$137,2,FALSE),0)","v":{"$error":"#N/A"}},null,null,null,null,"2.20 used without ok",{"$f":"IF(AND(LEFT(G62,4)=\"2.20\",#REF!=\"No\"),TRUE,FALSE)","v":{"$error":"#REF!"}}]
[null,null,null,null,null,null,{"$f":"IF(OR(ISNA(H83),FALSE),TRUE,FALSE)","v":false},{"$f":"VLOOKUP(G78,INDIRECT(G71),1,FALSE)","v":{"$error":"#REF!"}},{"$f":"IF(OR(ISNA(J83),FALSE),TRUE,FALSE)","v":false},{"$f":"VLOOKUP(I78,INDIRECT(I71),1,FALSE)","v":{"$error":"#REF!"}},{"$f":"IF(OR(ISNA(L83),FALSE),TRUE,FALSE)","v":false},{"$f":"VLOOKUP(K78,INDIRECT(K71),1,FALSE)","v":{"$error":"#REF!"}},{"$f":"IF(OR(ISNA(N83),FALSE),TRUE,FALSE)","v":false},{"$f":"VLOOKUP(M78,INDIRECT(M71),1,FALSE)","v":{"$error":"#REF!"}}]
[null,null,null,null,null,null,null,{"$f":"IF(OR(G87=\"1080p\",G87=\"720p\"),IF(G87<>G78,TRUE,FALSE))","v":false},null,{"$f":"IF(OR(I87=\"1080p30\",I87=\"720p60\"),IF(I87<>I78,TRUE,FALSE))","v":false},null,{"$f":"IF(OR(K87=\"1080p30\",K87=\"720p60\"),IF(K87<>K78,TRUE,FALSE))","v":false},null,{"$f":"IF(OR(M87=\"1080p30\",M87=\"720p60\"),IF(M87<>M78,TRUE,FALSE))","v":false},null,null,null,"H.264 used",{"$f":"IF(OR(LEFT(G75,4)=\"H264\",LEFT(I75,4)=\"H264\",LEFT(K75,4)=\"H264\",LEFT(M75,4)=\"H264\")=TRUE,TRUE,FALSE)","v":false}]
[null,null,null,null,null,null,null,null,null,null,null,null,null,null,null,null,null,"HD used",false]
[null,null,null,"Stream2",null,null,"Live Viewing",null,"Live Viewing",null,"Live Viewing",null,"Live Viewing"]
[null,null,null,null,null,"Resolution stream2","Copy stream1",{"$f":"IF(G69=\"none\",\"group off\",IF(OR(ISNA(G89),ISERROR(G89)),\"Unsupported\",IF(AND(G88>G89+G91,NOT(G89=0)),IF(NOT(G93=TRUE),\"Overstressed! Decrease resolution/IPS!\",\"Ok-re-use stream1\"),IF(G92,\"unsupported resolution\",\"OK\"))))","v":"group off"},"Copy stream1",{"$f":"IF(I69=\"none\",\"group off\",IF(OR(ISNA(I89),ISERROR(I89)),\"Unsupported\",IF(AND(I88>I89+I91,NOT(I89=0)),IF(NOT(I93=TRUE),\"Overstressed! Decrease resolution/IPS!\",\"Ok-re-use stream1\"),IF(I92,\"unsupported resolution\",\"OK\"))))","v":"group off"},"Copy stream1",{"$f":"IF(K69=\"none\",\"group off\",IF(OR(ISNA(K89),ISERROR(K89)),\"Unsupported\",IF(AND(K88>K89+K91,NOT(K89=0)),IF(NOT(K93=TRUE),\"Overstressed! Decrease resolution/IPS!\",\"Ok-re-use stream1\"),IF(K92,\"unsupported resolution\",\"OK\"))))","v":"group off"},"Copy stream1",{"$f":"IF(M69=\"none\",\"group off\",IF(OR(ISNA(M89),ISERROR(M89)),\"Unsupported\",IF(AND(M88>M89+M91,NOT(M89=0)),IF(NOT(M93=TRUE),\"Overstressed! Decrease resolution/IPS!\",\"Ok-re-use stream1\"),IF(M92,\"unsupported resolution\",\"OK\"))))","v":"group off"},null,null,"not capable resolution"]
[null,null,null,null,null,"IPS stream2",30,null,30,null,30,null,30,null,null,null,{"$f":"IF(ISNA(VLOOKUP(G78,IF(OR(G$75=\"H264\",G$75=H.264_NBC200),$R$1727:$R$1728,$I$1727:$I$1732),1,FALSE)),TRUE,FALSE)","v":false}]
[null,null,null,null,null,"Max IPS available",{"$f":"IF(G$66=\"NTSC\",PALtoNTSC(AD1600),AD1600)","v":{"$error":"#N/A"}},null,{"$f":"IF(I$66=\"NTSC\",PALtoNTSC(AD1601),AD1601)","v":{"$error":"#N/A"}},null,{"$f":"IF(K$66=\"NTSC\",PALtoNTSC(AD1602),AD1602)","v":{"$error":"#N/A"}},null,{"$f":"IF(M$66=\"NTSC\",PALtoNTSC(AD1603),AD1603)","v":{"$error":"#N/A"}},null,null,null,{"$f":"ISERR(VLOOKUP(G78,IF(OR(G$75=\"H264\",G$75=H.264_NBC200),$R$1727:$R$1728,$I$1727:$I$1732),1,FALSE))","v":true}]
[null,null,null,null,null,"Unused str2:",{"$f":"IF(SIGN(G89-G88)=-1,0,G89-G88)","v":{"$error":"#N/A"}},null,{"$f":"IF(SIGN(I89-I88)=-1,0,I89-I88)","v":{"$error":"#N/A"}},null,{"$f":"IF(SIGN(K89-K88)=-1,0,K89-K88)","v":{"$error":"#N/A"}},null,{"$f":"IF(SIGN(M89-M88)=-1,0,M89-M88)","v":{"$error":"#N/A"}}]
[null,null,null,null,null,"Inherit unused str1:",{"$f":"ROUNDDOWN(G138/VLOOKUP(G87,$E$100:$F$137,2,FALSE),0)","v":{"$error":"#N/A"}},null,{"$f":"ROUNDDOWN(I138/VLOOKUP(I87,$E$100:$F$137,2,FALSE),0)","v":{"$error":"#N/A"}},null,{"$f":"ROUNDDOWN(K138/VLOOKUP(K87,$E$100:$F$137,2,FALSE),0)","v":{"$error":"#N/A"}},null,{"$f":"ROUNDDOWN(M138/VLOOKUP(M87,$E$100:$F$137,2,FALSE),0)","v":{"$error":"#N/A"}}]
[null,null,null,null,null,null,{"$f":"IF(OR(ISNA(H92),FALSE),TRUE,FALSE)","v":false},{"$f":"VLOOKUP(G87,INDIRECT(G70),1,FALSE)","v":{"$error":"#REF!"}},{"$f":"IF(OR(ISNA(J92),FALSE),TRUE,FALSE)","v":false},{"$f":"VLOOKUP(I87,INDIRECT(I70),1,FALSE)","v":{"$error":"#REF!"}},{"$f":"IF(OR(ISNA(L92),FALSE),TRUE,FALSE)","v":false},{"$f":"VLOOKUP(K87,INDIRECT(K70),1,FALSE)","v":{"$error":"#REF!"}},{"$f":"IF(OR(ISNA(N92),FALSE),TRUE,FALSE)","v":false},{"$f":"VLOOKUP(M87,INDIRECT(M70),1,FALSE)","v":{"$error":"#REF!"}}]
[null,null,null,null,null,"Same settings?",{"$f":"IF(OR(NOT(G78=G87),NOT(G79=G88)),FALSE,TRUE)","v":false},{"$f":"IF(OR(G78=\"1080p\",G78=\"720p\"),IF(AND(G78<>G87,G87<>\"I-frame str1\",G87<>\"Copy stream1\"),TRUE,FALSE))","v":false},{"$f":"IF(OR(NOT(I78=I87),NOT(I79=I88)),FALSE,TRUE)","v":false},{"$f":"IF(OR(I78=\"1080p\",I78=\"720p\"),IF(AND(I78<>I87,I87<>\"I-frame str1\",I87<>\"Copy stream1\"),TRUE,FALSE))","v":false},{"$f":"IF(OR(NOT(K78=K87),NOT(K79=K88)),FALSE,TRUE)","v":false},{"$f":"IF(OR(K78=\"1080p\",K78=\"720p\"),IF(AND(K78<>K87,K87<>\"I-frame str1\",K87<>\"Copy stream1\"),TRUE,FALSE))","v":false},{"$f":"IF(OR(NOT(M78=M87),NOT(M79=M88)),FALSE,TRUE)","v":false},{"$f":"IF(OR(M78=\"1080p\",M78=\"720p\"),IF(AND(M78<>M87,M87<>\"I-frame str1\",M87<>\"Copy stream1\"),TRUE,FALSE))","v":false}]
[null,null,null,null,null,"Same resolution:",{"$f":"IF(G78=G87,TRUE,FALSE)","v":false},null,{"$f":"IF(I78=I87,TRUE,FALSE)","v":false},null,{"$f":"IF(K78=K87,TRUE,FALSE)","v":false},null,{"$f":"IF(M78=M87,TRUE,FALSE)","v":false}]
[null,null,null,null,null,"Same IPS:",{"$f":"IF(G79=G88,TRUE,FALSE)","v":true},null,{"$f":"IF(I79=I88,TRUE,FALSE)","v":true},null,{"$f":"IF(K79=K88,TRUE,FALSE)","v":true},null,{"$f":"IF(M79=M88,TRUE,FALSE)","v":true}]
[null,null,null,null,null,"HD 1080p selected",{"$f":"(OR(G66=\"1080p\"))","v":false},null,{"$f":"(OR(I66=\"1080p\"))","v":false},null,{"$f":"(OR(K66=\"1080p\"))","v":false},null,{"$f":"(OR(M66=\"1080p\"))","v":false}]
[null,null,null,null,null,"HD str2?",{"$f":"(OR(G87=\"1080p\",G87=\"720p\",G87=\"720p60\"))","v":false},null,{"$f":"(OR(I87=\"1080p\",I87=\"720p\",I87=\"720p60\"))","v":false},null,{"$f":"(OR(K87=\"1080p\",K87=\"720p\",K87=\"720p60\"))","v":false},null,{"$f":"(OR(M87=\"1080p\",M87=\"720p\",M87=\"720p60\"))","v":false}]
[null,null,null,null,null,"HD?",{"$f":"(OR(G66=\"1080p\",G66=\"720p\"))","v":false},null,{"$f":"(OR(I66=\"1080p\",I66=\"720p\"))","v":false},null,{"$f":"(OR(K66=\"1080p\",K66=\"720p\"))","v":false},null,{"$f":"(OR(M66=\"1080p\",M66=\"720p\"))","v":false}]
[null,null,null,null,null,null,"str1","str2","str1","str2","str1","str2","str1","str2"]
[null,null,null,null,"n.c",1,{"$f":"IF(G$78=$E100,G$81,0)","v":0},{"$f":"IF(G$87=$E100,G$90,0)","v":0},{"$f":"IF(I$78=$E100,I$81,0)","v":0},{"$f":"IF(I$87=$E100,I$90,0)","v":0},{"$f":"IF(K$78=$E100,K$81,0)","v":0},{"$f":"IF(K$87=$E100,K$90,0)","v":0},{"$f":"IF(M$78=$E100,M$81,0)","v":0},{"$f":"IF(M$87=$E100,M$90,0)","v":0}]
[null,null,null,null,"I-frame str1",1,0,0,0,0,0,0,0,0]
[null,null,null,null,"480p",2,0,0,0,0,0,0,0,0]
[null,null,null,null,"SD",8,0,{"$f":"IF(G$87=$E103,G$90,0)","v":0},0,{"$f":"IF(I$87=$E103,I$90,0)","v":0},0,{"$f":"IF(K$87=$E103,K$90,0)","v":0},0,{"$f":"IF(M$87=$E103,M$90,0)","v":0}]
[null,null,null,null,"240p",2,0,0,0,0,0,0,0,0]
[null,null,null,null,"QVGA",1,0,0,0,0,0,0,0,0]
[null,null,null,null,"VGA",2,0,0,0,0,0,0,0,0]
[null,null,null,"Unused","QCIF",1,0,{"$f":"IF(G$87=$E107,G$90,0)","v":0},0,{"$f":"IF(I$87=$E107,I$90,0)","v":0},0,{"$f":"IF(K$87=$E107,K$90,0)","v":0},0,{"$f":"IF(M$87=$E107,M$90,0)","v":0}]
[null,null,null,null,"CIF",2,0,0,0,0,0,0,0,0]
[null,null,null,null,"2CIF",4,0,0,0,0,0,0,0,0]
[null,null,null,null,"4CIF",8,0,0,0,0,0,0,0,0]
[null,null,null,null,"HALF-D1",2,0,0,0,0,0,0,0,0]
[null,null,null,null,"720p",1,{"$error":"#N/A"},0,0,0,0,0,0,0]
[null,null,null,null,"Copy stream1",1,0,{"$error":"#N/A"},0,{"$error":"#N/A"},0,{"$error":"#N/A"},0,{"$error":"#N/A"}]
[null,null,null,null,"1.3MP (Cropped)",1,0,0,0,0,0,0,0,0]
[null,null,null,null,"5MP",1,0,0,0,0,0,0,0,0]
[null,null,null,null,"4MP",1,0,0,0,0,0,0,0,0]
[null,null,null,null,"3MP",1,0,0,0,0,0,0,0,0]
[null,null,null,null,"2992x1680",1,0,0,0,0,0,0,0,0]
[null,null,null,null,"2704x2032",1,{"$f":"IF(G$78=$E119,G$81,0)","v":0},{"$f":"IF(G$87=$E119,G$90,0)","v":0},0,{"$f":"IF(I$87=$E119,I$90,0)","v":0},0,{"$f":"IF(K$87=$E119,K$90,0)","v":0},0,{"$f":"IF(M$87=$E119,M$90,0)","v":0}]
[null,null,null,null,"800x600",1,0,0,0,0,0,0,0,0]
[null,null,null,null,"1024x768",1,0,0,0,0,0,0,0,0]
[null,null,null,null,"1280x960",1,0,0,0,0,0,0,0,0]
[null,null,null,null,"1600x1200",1,0,0,0,0,0,0,0,0]
[null,null,null,null,"3840x2160",1,0,0,0,0,0,0,0,0]
[null,null,null,null,"3584x2016",1,0,0,0,0,0,0,0,0]
[null,null,null,null,"4000x3000",1,0,0,0,0,0,0,0,0]
[null,null,null,null,"2640x2640",1,0,0,0,0,0,0,0,0]
[null,null,null,null,"3648x2160",1,0,0,0,0,0,0,0,0]
[null,null,null,null,"800x800",1E-4,0,0,0,0,0,0,0,0]
[null,null,null,null,"SD ROI",1,{"$f":"IF(G$78=$E130,G$81,0)","v":0},0,0,0,0,0,0,0]
[null,null,null,null,"SD dual ROI",1,0,0,0,0,0,0,0,0]
[null,null,null,null,"400x720",1,0,0,0,0,0,0,0,0]
[null,null,null,null,"D1 4:3",1,0,0,0,0,0,0,0,0]
[null,null,null,null,"480p ROI",1,0,0,0,0,0,0,0,0]
[null,null,null,null,"480p 4:3",2,0,0,0,0,0,0,0,0]
[null,null,null,null,"1080p",1,0,0,{"$error":"#N/A"},0,{"$error":"#N/A"},0,{"$error":"#N/A"},0]
[null,null,null,null,"2/3D1",6.5,{"$f":"IF(G$78=$E137,G$81,0)","v":0},0,0,0,0,0,0,0]
[null,null,null,null,"summarized",null,{"$f":"SUM(G100:G137)*VLOOKUP(G78,$E$100:$F$137,2,FALSE)","v":{"$error":"#N/A"}},{"$f":"SUM(H100:H137)*VLOOKUP(G87,$E$100:$F$137,2,FALSE)","v":{"$error":"#N/A"}},{"$f":"SUM(I100:I137)*VLOOKUP(I78,$E$100:$F$137,2,FALSE)","v":{"$error":"#N/A"}},{"$f":"SUM(J100:J137)*VLOOKUP(I87,$E$100:$F$137,2,FALSE)","v":{"$error":"#N/A"}},{"$f":"SUM(K100:K137)*VLOOKUP(K78,$E$100:$F$137,2,FALSE)","v":{"$error":"#N/A"}},{"$f":"SUM(L100:L137)*VLOOKUP(K87,$E$100:$F$137,2,FALSE)","v":{"$error":"#N/A"}},{"$f":"SUM(M100:M137)*VLOOKUP(M78,$E$100:$F$137,2,FALSE)","v":{"$error":"#N/A"}},{"$f":"SUM(N100:N137)*VLOOKUP(M87,$E$100:$F$137,2,FALSE)","v":{"$error":"#N/A"}}]
[null,null,null,null,null,null,null,null,null,null,null,null,null,null,null,null,null,"H.264 used",{"$f":"OR(LEFT(G70,5)=\"H.264\",LEFT(I70,5)=\"H.264\",LEFT(K70,5)=\"H.264\",LEFT(M70,5)=\"H.264\")","v":false}]
[]
[]
[]
[" "]
[null,null,null,null,null,null,"Group1",null,"Group2",null,"Group3",null,"Group4",null,"Group5"]
[null,null,null,"Camera / Encoder used",null,null,{"$f":"G69","v":"none"},null,{"$f":"I69","v":"none"},null,{"$f":"K69","v":"none"},null,{"$f":"M69","v":"none"},null,{"$f":"O69","v":"ABC-1234"}]
[null,null,null,"Number of above selected product used",null,null,1,null,0,null,0,null,0,null,0,null,1]
[null,null,null,"Total number of cameras/channels",null,null,{"$f":"G146*G222","v":0},null,{"$f":"I146*I222","v":0},null,{"$f":"K146*K222","v":0},null,{"$f":"M146*M222","v":0},null,{"$f":"O146*O222","v":0}]
[null,null,null,"Total number of cameras/channels all groups",null,null,{"$f":"SUM(G147:P147)","v":0}]
[null,null,null,{"$f":"IF(G148>3000,\"Camera count exceeds current BVMS system limit\",\"\")","v":""},null,null,{"$f":"IF(OR(G145=\"none\", G146=0),\"Group off\",\"\")","v":"Group off"},null,{"$f":"IF(OR(I145=\"none\", I146=0),\"Group off\",\"\")","v":"Group off"},null,{"$f":"IF(OR(K145=\"none\", K146=0),\"Group off\",\"\")","v":"Group off"},null,{"$f":"IF(OR(M145=\"none\", M146=0),\"Group off\",\"\")","v":"Group off"},null,{"$f":"IF(OR(O145=\"none\", O146=0),\"Group off\",\"\")","v":"Group off"},null,null,"channel count",{"$f":"IF((OR((J1550+L54)>3000,(G148>3000))),TRUE,FALSE)","v":false}]
[]
[]
[null,null,null,"VRM Storage Estimator"]
[null,null,null,"Only input value in Purple boxes",null,null,null,null,null,null,null,null,null,null,null,null,null,"Workstations",{"$f":"IF((J1551+N54)>200,TRUE,FALSE)","v":false}]
[null,null,null,null,null,null,{"$f":"IF(G155=0,\"0 - used for NVR?\",\"\")","v":""},null,{"$f":"IF(I155=0,\"0 - used for NVR?\",\"\")","v":""},null,{"$f":"IF(K155=0,\"0 - used for NVR?\",\"\")","v":""},null,{"$f":"IF(M155=0,\"0 - used for NVR?\",\"\")","v":""}]
[null,null,null,"Video bandwidth",null,"Standard scene  ",1600,null,1600,null,1600,null,1600,null,0,null,"Kbit/s"]
[null,null,null,"Audio enabled?",null,null,"No",null,"No",null,"No",null,"No",null,"not applicable"]
[null,null,null,"Metadata (IVA) enabled?",null,null,{"$f":"G73","v":"No"},null,{"$f":"I73","v":"No"},null,{"$f":"K73","v":"No"},null,{"$f":"M73","v":"No"},null,"not applicable"]
[null,null,null,"Recording bandwidth (per camera)",null,null,{"$f":"SUM(G155,IF(G156=\"Yes(G.711)\",150,0),IF(G157=\"Yes\",150,0),IF(G156=\"Yes(L16)\",640,0),IF(G156=\"Yes(AAC)\",80,0))","v":1600},null,{"$f":"SUM(I155,IF(I156=\"Yes(G.711)\",150,0),IF(I157=\"Yes\",150,0),IF(I156=\"Yes(L16)\",640,0),IF(I156=\"Yes(AAC)\",80,0))","v":1600},null,{"$f":"SUM(K155,IF(K156=\"Yes(G.711)\",150,0),IF(K157=\"Yes\",150,0),IF(K156=\"Yes(L16)\",640,0),IF(K156=\"Yes(AAC)\",80,0))","v":1600},null,{"$f":"SUM(M155,IF(M156=\"Yes(G.711)\",150,0),IF(M157=\"Yes\",150,0),IF(M156=\"Yes(L16)\",640,0),IF(M156=\"Yes(AAC)\",80,0))","v":1600},null,{"$f":"SUM(O155,IF(O156=\"Yes(G.711)\",150,0),IF(O157=\"Yes\",150,0),IF(O156=\"Yes(L16)\",640,0),IF(O156=\"Yes(AAC)\",80,0))","v":0},null,"Kbit/s"]
[null,null,null,"Recording bandwidth (per camera)",null,null,{"$f":"G158/1024","v":1.5625},null,{"$f":"I158/1024","v":1.5625},null,{"$f":"K158/1024","v":1.5625},null,{"$f":"M158/1024","v":1.5625},null,{"$f":"O158/1024","v":0},null,"Mbit/s"]
[null,null,null,"Total bandwidth (all cameras in group)",null,null,{"$f":"IF(G149<>\"Group off\",G159*G222*G146,0)","v":0},null,{"$f":"IF(I149<>\"Group off\",I159*I222*I146,0)","v":0},null,{"$f":"IF(K149<>\"Group off\",K159*K222*K146,0)","v":0},null,{"$f":"IF(M149<>\"Group off\",M159*M222*M146,0)","v":0},null,{"$f":"IF(O149<>\"Group off\",O159*O222*O146,0)","v":0},null,"Mbit/s"]
[null,null,null,"Total bandwidth (all cameras in all groups)",null,null,{"$f":"SUM(IF(G149=\"Group off\",0,G146*G159*G222),IF(I149=\"Group off\",0,I146*I159*I222),IF(K149=\"Group off\",0,K146*K159*K222),IF(M149=\"Group off\",0,M146*M159*M222),IF(O149=\"Group off\",0,O146*O159*O222))","v":0},null,null,null,null,null,null,null,null,null,"Mbit/s"]
[]
[null,null,null,"Min Retention Time",null,null,30,null,30,null,30,null,30,null,0,null,"days"]
[]
[null,null,null,"Quiet time / Alarm time: hours per day",null,"iDNR   ",0,null,0,null,0,null,0,null,0,null,"Hours per day"]
[null,null,null,"Quiet time / Alarm time: Video bandwidth",null,"iDNR   ",0,null,0,null,0,null,0,null,0,null,"Kbit/s"]
[null,null,null,"Quiet time / Alarm time: Total bandwidth",null,"iDNR   ",{"$f":"SUM(G166,IF(G156=\"Yes\",150,0),IF(G157=\"Yes\",150,0))","v":0},null,{"$f":"SUM(I166,IF(I156=\"Yes\",150,0),IF(I157=\"Yes\",150,0))","v":0},null,{"$f":"SUM(K166,IF(K156=\"Yes\",150,0),IF(K157=\"Yes\",150,0))","v":0},null,{"$f":"SUM(M166,IF(M156=\"Yes\",150,0),IF(M157=\"Yes\",150,0))","v":0},null,{"$f":"SUM(O166,IF(O156=\"Yes\",150,0),IF(O157=\"Yes\",150,0))","v":0},null,"Kbit/s"]
[null,null,null,"Quiet time / Alarm time: reduction factor",null,"iDNR   ",{"$f":"IF(ISERROR(((G167*G165)+(24-G165)*G158)/(24*G158)),1,((G167*G165)+(24-G165)*G158)/(24*G158))","v":1},null,{"$f":"IF(ISERROR(((I167*I165)+(24-I165)*I158)/(24*I158)),1,((I167*I165)+(24-I165)*I158)/(24*I158))","v":1},null,{"$f":"IF(ISERROR(((K167*K165)+(24-K165)*K158)/(24*K158)),1,((K167*K165)+(24-K165)*K158)/(24*K158))","v":1},null,{"$f":"IF(ISERROR(((M167*M165)+(24-M165)*M158)/(24*M158)),1,((M167*M165)+(24-M165)*M158)/(24*M158))","v":1},null,{"$f":"IF(ISERROR(((O167*O165)+(24-O165)*O158)/(24*O158)),1,((O167*O165)+(24-O165)*O158)/(24*O158))","v":1}]
[]
[null,null,null,"Sanity Check in Days",null,null,2,null,null,null,null,null,null,null,null,null,"days"]
[null,null,null,"VRM downtime in days",null,null,4,null,null,null,null,null,null,null,null,null,"days"]
[]
[null,null,null,"Basic Capacity Consumption",null,null,{"$f":"IF(G149=\"Group off\",0,(G168*((G159*3600*24)/8)*1.05)/1024)","v":0},null,{"$f":"IF(I149=\"Group off\",0,(I168*((I159*3600*24)/8)*1.05)/1024)","v":0},null,{"$f":"IF(K149=\"Group off\",0,(K168*((K159*3600*24)/8)*1.05)/1024)","v":0},null,{"$f":"IF(M149=\"Group off\",0,(M168*((M159*3600*24)/8)*1.05)/1024)","v":0},null,{"$f":"IF(O149=\"Group off\",0,(O168*((O159*3600*24)/8)*1.05)/1024)","v":0},null,"GiB/day"]
[null,null,null,"Reserved days in device spanlist",null,null,{"$f":"IF(OR(G163<$G$170,G163<$G$171),G163,MAX($G$170,$G$171))","v":4},null,{"$f":"IF(OR(I163<$G$170,I163<$G$171),I163,MAX($G$170,$G$171))","v":4},null,{"$f":"IF(OR(K163<$G$170,K163<$G$171),K163,MAX($G$170,$G$171))","v":4},null,{"$f":"IF(OR(M163<$G$170,M163<$G$171),M163,MAX($G$170,$G$171))","v":4},null,{"$f":"IF(OR(O163<$G$170,O163<$G$171),O163,MAX($G$170,$G$171))","v":0},null,"Days"]
[null,null,null,"Required available reservation for VRM downtime (spanlist)",null,null,{"$f":"ROUNDUP(((G173*G174)/0.75)*G222,0)","v":0},null,{"$f":"ROUNDUP(((I173*I174)/0.75)*I222,0)","v":0},null,{"$f":"ROUNDUP(((K173*K174)/0.75)*K222,0)","v":0},null,{"$f":"ROUNDUP(((M173*M174)/0.75)*M222,0)","v":0},null,{"$f":"ROUNDUP(((O173*G171)/0.75)*O222,0)","v":0},null,"Blocks/spans [GiB]",null,{"$f":"G175>G177","v":false},{"$f":"H175>H177","v":false},{"$f":"I175>I177","v":false},{"$f":"J175>J177","v":false}]
[null,null,null,"Spanlist capability of selected device",null,null,{"$f":"IF(LEFT(G70,5)=\"H.263\",128,IF(LEFT(G70,4)=\"CPP5\",4096,512))","v":512},null,{"$f":"IF(LEFT(I70,5)=\"H.263\",128,IF(LEFT(I70,4)=\"CPP5\",4096,512))","v":512},null,{"$f":"IF(LEFT(K70,5)=\"H.263\",128,IF(LEFT(K70,4)=\"CPP5\",4096,512))","v":512},null,{"$f":"IF(LEFT(M70,5)=\"H.263\",128,IF(LEFT(M70,4)=\"CPP5\",4096,512))","v":512},null,{"$f":"IF(ISERR(4096/O146),4096,MAX(4096/O146,128))","v":4096}]
[null,null,null,"Possible available reservation for VRM downtime (spanlist)",null,null,{"$f":"IF(MIN(G175,G176)<G222*2,G222*2,MIN(G175,G176))","v":0},null,{"$f":"IF(MIN(I175,I176)<I222*2,I222*2,MIN(I175,I176))","v":0},null,{"$f":"IF(MIN(K175,K176)<K222*2,K222*2,MIN(K175,K176))","v":0},null,{"$f":"IF(MIN(M175,M176)<M222*2,M222*2,MIN(M175,M176))","v":0},null,{"$f":"IF(MIN(O175,O176)<O222*2,O222*2,MIN(O175,O176))","v":2},null,"Blocks/spans [GiB]",null,"VRM/DLA","Spanlist limit"]
[null,null,null,null,null,"limit regular"]
[null,null,null,"Net Storage requirement",null,null,{"$f":"IF(G149=\"Group off\",0,((G173*G163*G222)+IF(OR($G$62=\"NVR\",G155=0),0,G$177))*G146)","v":0},null,{"$f":"IF(I149=\"Group off\",0,((I173*I163*I222)+IF(OR($G$62=\"NVR\",I155=0),0,I$177))*I146)","v":0},null,{"$f":"IF(K149=\"Group off\",0,((K173*K163*K222)+IF(OR($G$62=\"NVR\",K155=0),0,K$177))*K146)","v":0},null,{"$f":"IF(M149=\"Group off\",0,((M173*M163*M222)+IF(OR($G$62=\"NVR\",M155=0),0,M$177))*M146)","v":0},null,{"$f":"IF(O149=\"Group off\",0,((O173*O163*O222)+IF(OR($G$62=\"NVR\",O155=0),0,O$177))*O146)","v":0},null,"GiB for all days"]
[null,null,null,null,null,null,{"$f":"G179/1024","v":0},null,{"$f":"I179/1024","v":0},null,{"$f":"K179/1024","v":0},null,{"$f":"M179/1024","v":0},null,{"$f":"O179/1024","v":0},null,"TiB for all days"]
[null,null,null,null,null,null,{"$f":"SUM(G179:P179)","v":0},null,null,null,null,null,null,null,null,null,"GiB for all days"]
[null,null,null,null,null,null,{"$f":"SUM(G180:P180)","v":0},null,null,null,null,null,null,null,null,null,"TiB for all days"]
[]
[null,null,null,null,null,null,"Group1",null,"Group2",null,"Group3",null,"Group4",null,"Group5"]
[null,null,null,"Primary recording: Group to VRM/Storage pool assignment ",null,null,"VRM 1 / Storage Pool 0",null,"VRM 1 / Storage Pool 0",null,"VRM 1 / Storage Pool 0",null,"VRM 1 / Storage Pool 0",null,"VRM 1 / Storage Pool 0"]
[null,null,null,"Selection",null,null,{"$f":"IFERROR(RIGHT(G185,1)+1,0)","v":1},null,{"$f":"IFERROR(RIGHT(I185,1)+1,0)","v":1},null,{"$f":"IFERROR(RIGHT(K185,1)+1,0)","v":1},null,{"$f":"IFERROR(RIGHT(M185,1)+1,0)","v":1},null,{"$f":"IFERROR(RIGHT(O185,1)+1,0)","v":1}]
[]
[null,null,null,"Secondary recording: Group to VRM assignment:",null,null,"none",null,"none",null,"none",null,"none",null,"none",null,{"$f":"IF(OR(G186=G204,I186=I204,K186=K204,M186=M204,O186=O204),\"SecondaryVRM cannot be same as primary\",\"\")","v":""}]
[null,null,null,"Video bandwidth",null,null,0,null,0,null,0,null,0,null,0,null,"Kbit/s"]
[null,null,null,"Number of cameras used (above selected)",null,null,0,null,0,null,0,null,0,null,0]
[null,null,null,"Min Retention Time",null,null,30,null,30,null,30,null,30,null,1,null,"days"]
[null,null,null,"Quiet time / Alarm time: reduction factor (same as primary rec)",null,null,{"$f":"G168","v":1},null,{"$f":"I168","v":1},null,{"$f":"K168","v":1},null,{"$f":"M168","v":1},null,{"$f":"O168","v":1}]
[null,null,null,"Net Storage requirement - GiB",null,null,{"$f":"IF(G149=\"Group off\",0,((G205*G191*G222)+IF(OR($G$62=\"NVR\",G189=0),0,G$209))*G190)","v":0},null,{"$f":"IF(I149=\"Group off\",0,((I205*I191*I222)+IF(OR($G$62=\"NVR\",I189=0),0,I$209))*I190)","v":0},null,{"$f":"IF(K149=\"Group off\",0,((K205*K191*K222)+IF(OR($G$62=\"NVR\",K189=0),0,K$209))*K190)","v":0},null,{"$f":"IF(M149=\"Group off\",0,((M205*M191*M222)+IF(OR($G$62=\"NVR\",M189=0),0,M$209))*M190)","v":0},null,{"$f":"IF(O149=\"Group off\",0,((O205*O191*O222)+IF(OR($G$62=\"NVR\",O189=0),0,O$209))*O190)","v":0},null,"GiB for all days"]
[null,null,null,"Net Storage requirement - TiB",null,null,{"$f":"G193/1024","v":0},null,{"$f":"I193/1024","v":0},null,{"$f":"K193/1024","v":0},null,{"$f":"M193/1024","v":0},null,{"$f":"O193/1024","v":0},null,"TiB for all days"]
[]
[]
[null,null,null,"Audio enabled?",null,null,{"$f":"G156","v":"No"},null,{"$f":"I156","v":"No"},null,{"$f":"K156","v":"No"},null,{"$f":"M156","v":"No"},null,"not applicable"]
[null,null,null,"Metadata (IVA) enabled?",null,null,{"$f":"G110","v":0},null,{"$f":"I110","v":0},null,{"$f":"K110","v":0},null,{"$f":"M110","v":0},null,"not applicable"]
[null,null,null,"Recording bandwidth (per camera)",null,null,{"$f":"SUM(G189,IF(G197=\"Yes(G.711)\",150,0),IF(G198=\"Yes\",150,0),IF(G197=\"Yes(L16)\",640,0),IF(G197=\"Yes(AAC)\",80,0))","v":0},null,{"$f":"SUM(I189,IF(I197=\"Yes(G.711)\",150,0),IF(I198=\"Yes\",150,0),IF(I197=\"Yes(L16)\",640,0),IF(I197=\"Yes(AAC)\",80,0))","v":0},null,{"$f":"SUM(K189,IF(K197=\"Yes(G.711)\",150,0),IF(K198=\"Yes\",150,0),IF(K197=\"Yes(L16)\",640,0),IF(K197=\"Yes(AAC)\",80,0))","v":0},null,{"$f":"SUM(M189,IF(M197=\"Yes(G.711)\",150,0),IF(M198=\"Yes\",150,0),IF(M197=\"Yes(L16)\",640,0),IF(M197=\"Yes(AAC)\",80,0))","v":0},null,{"$f":"SUM(O189,IF(O197=\"Yes(G.711)\",150,0),IF(O198=\"Yes\",150,0),IF(O197=\"Yes(L16)\",640,0),IF(O197=\"Yes(AAC)\",80,0))","v":0},null,"Kbit/s"]
[null,null,null,"Recording bandwidth (per camera)",null,null,{"$f":"G199/1024","v":0},null,{"$f":"I199/1024","v":0},null,{"$f":"K199/1024","v":0},null,{"$f":"M199/1024","v":0},null,{"$f":"O199/1024","v":0},null,"Mbit/s"]
[null,null,null,"Total bandwidth (all cameras in group)",null,null,{"$f":"IF(G149<>\"Group off\",G200*G222*G190,0)","v":0},null,{"$f":"IF(I149<>\"Group off\",I200*I222*I190,0)","v":0},null,{"$f":"IF(K149<>\"Group off\",K200*K222*K190,0)","v":0},null,{"$f":"IF(M149<>\"Group off\",M200*M222*M190,0)","v":0},null,{"$f":"IF(O149<>\"Group off\",O200*O222*O190,0)","v":0},null,"Mbit/s"]
[null,null,null,"Total bandwidth (all cameras in all groups)",null,null,{"$f":"SUM(IF(G149=\"Group off\",0,G146*G201*G222),IF(I149=\"Group off\",0,I146*I201*I222),IF(K149=\"Group off\",0,K146*K201*K222),IF(M149=\"Group off\",0,M146*M201*M222),IF(O149=\"Group off\",0,O146*O201*O222))","v":0},null,null,null,null,null,null,null,null,null,"Mbit/s"]
[]
[null,null,null,"Selection",null,null,{"$f":"IFERROR(RIGHT(G188,1)+1,0)","v":0},null,{"$f":"IFERROR(RIGHT(I188,1)+1,0)","v":0},null,{"$f":"IFERROR(RIGHT(K188,1)+1,0)","v":0},null,{"$f":"IFERROR(RIGHT(M188,1)+1,0)","v":0},null,{"$f":"IFERROR(RIGHT(O188,1)+1,0)","v":0}]
[null,null,null,"Basic Capacity Consumption",null,null,{"$f":"IF(G149=\"Group off\",0,(G192*((G200*3600*24)/8)*1.05)/1024)","v":0},null,{"$f":"IF(I149=\"Group off\",0,(I192*((I200*3600*24)/8)*1.05)/1024)","v":0},null,{"$f":"IF(K149=\"Group off\",0,(K192*((K200*3600*24)/8)*1.05)/1024)","v":0},null,{"$f":"IF(M149=\"Group off\",0,(M192*((M200*3600*24)/8)*1.05)/1024)","v":0},null,{"$f":"IF(O149=\"Group off\",0,(O192*((O200*3600*24)/8)*1.05)/1024)","v":0},null,"GiB/day"]
[null,null,null,"Reserved days in device spanlist",null,null,{"$f":"IF(OR(G191<$G$170,G191<$G$171),G191,MAX($G$170,$G$171))","v":4},null,{"$f":"IF(OR(I191<$G$170,I191<$G$171),I191,MAX($G$170,$G$171))","v":4},null,{"$f":"IF(OR(K191<$G$170,K191<$G$171),K191,MAX($G$170,$G$171))","v":4},null,{"$f":"IF(OR(M191<$G$170,M191<$G$171),M191,MAX($G$170,$G$171))","v":4},null,{"$f":"IF(OR(O191<$G$170,O191<$G$171),O191,MAX($G$170,$G$171))","v":1},null,"Days"]
[null,null,null,"Required available reservation for VRM downtime (spanlist)",null,null,{"$f":"ROUNDUP(((G205*G206)/0.75)*G222,0)","v":0},null,{"$f":"ROUNDUP(((I205*I206)/0.75)*I222,0)","v":0},null,{"$f":"ROUNDUP(((K205*K206)/0.75)*K222,0)","v":0},null,{"$f":"ROUNDUP(((M205*M206)/0.75)*M222,0)","v":0},null,{"$f":"ROUNDUP(((O205*G171)/0.75)*O222,0)","v":0},null,"Blocks/spans [GiB]",null,{"$f":"G207>G209","v":false},{"$f":"H207>H209","v":false},{"$f":"I207>I209","v":false},{"$f":"J207>J209","v":false}]
[null,null,null,"Spanlist capability of selected device",null,null,{"$f":"IF(LEFT(G93,5)=\"H.263\",128,IF(LEFT(G93,4)=\"CPP5\",4096,512))","v":512},null,{"$f":"IF(LEFT(I93,5)=\"H.263\",128,IF(LEFT(I93,4)=\"CPP5\",4096,512))","v":512},null,{"$f":"IF(LEFT(K93,5)=\"H.263\",128,IF(LEFT(K93,4)=\"CPP5\",4096,512))","v":512},null,{"$f":"IF(LEFT(M93,5)=\"H.263\",128,IF(LEFT(M93,4)=\"CPP5\",4096,512))","v":512},null,{"$f":"IF(ISERR(4096/O146),4096,MAX(4096/O146,128))","v":4096}]
[null,null,null,"Possible available reservation for VRM downtime (spanlist)",null,null,{"$f":"IF(MIN(G207,G208)<G222*2,G222*2,MIN(G207,G208))","v":0},null,{"$f":"IF(MIN(I207,I208)<I222*2,I222*2,MIN(I207,I208))","v":0},null,{"$f":"IF(MIN(K207,K208)<K222*2,K222*2,MIN(K207,K208))","v":0},null,{"$f":"IF(MIN(M207,M208)<M222*2,M222*2,MIN(M207,M208))","v":0},null,{"$f":"IF(MIN(O207,O208)<O222*2,O222*2,MIN(O207,O208))","v":2},null,"Blocks/spans [GiB]",null,"VRM/DLA","Spanlist limit"]
[]
[null,null,null,"Quiet time / Alarm time: hours per day",null,"iDNR   ",{"$f":"G165","v":0},null,{"$f":"I165","v":0},null,{"$f":"K165","v":0},null,{"$f":"M165","v":0},null,{"$f":"O165","v":0},null,"Hours per day"]
[null,null,null,"Quiet time / Alarm time: Video bandwidth",null,"iDNR   ",{"$f":"G166","v":0},null,{"$f":"I166","v":0},null,{"$f":"K166","v":0},null,{"$f":"M166","v":0},null,{"$f":"O166","v":0},null,"Kbit/s"]
[null,null,null,"Quiet time / Alarm time: Total bandwidth",null,"iDNR   ",{"$f":"SUM(G212,IF(G156=\"Yes\",150,0),IF(G157=\"Yes\",150,0))","v":0},null,{"$f":"SUM(I212,IF(I156=\"Yes\",150,0),IF(I157=\"Yes\",150,0))","v":0},null,{"$f":"SUM(K212,IF(K156=\"Yes\",150,0),IF(K157=\"Yes\",150,0))","v":0},null,{"$f":"SUM(M212,IF(M156=\"Yes\",150,0),IF(M157=\"Yes\",150,0))","v":0},null,{"$f":"SUM(O212,IF(O156=\"Yes\",150,0),IF(O157=\"Yes\",150,0))","v":0},null,"Kbit/s"]
[]
[null,null,null,"none",null,null,"Net storage requirement",null,null,null,"Net storage requirement",null,null,null,"Recording bandwidth:"]
[null,null,null,"VRM 1 / Storage Pool 0",null,null,{"$f":"SUMIF($G$186:$P$186,\"=1\",$G$179:$P$179)+SUMIF($G$204:$P$204,\"=1\",$G$193:$P$193)","v":0},null,"GiB for all days",null,{"$f":"SUMIF($G$186:$P$186,\"=1\",$G$180:$P$180)+SUMIF($G$204:$P$204,\"=1\",$G$194:$P$194)","v":0},null,"TiB for all days",null,{"$f":"SUMIF($G$186:$P$186,\"=1\",$G$160:$P$160)+SUMIF($G$204:$P$204,\"=1\",$G$160:$P$160)","v":0},null,"Mbit/s"]
[null,null,null,"VRM 2 / Storage Pool 1",null,null,{"$f":"SUMIF($G$186:$P$186,\"=2\",$G$179:$P$179)+SUMIF($G$204:$P$204,\"=2\",$G$193:$P$193)","v":0},null,"GiB for all days",null,{"$f":"SUMIF($G$186:$P$186,\"=2\",$G$180:$P$180)+SUMIF($G$204:$P$204,\"=2\",$G$194:$P$194)","v":0},null,"TiB for all days",null,{"$f":"SUMIF($G$186:$P$186,\"=2\",$G$160:$P$160)+SUMIF($G$204:$P$204,\"=2\",$G$160:$P$160)","v":0},null,"Mbit/s"]
[null,null,null,"VRM 3 / Storage Pool 2",null,null,{"$f":"SUMIF($G$186:$P$186,\"=3\",$G$179:$P$179)+SUMIF($G$204:$P$204,\"=3\",$G$193:$P$193)","v":0},null,"GiB for all days",null,{"$f":"SUMIF($G$186:$P$186,\"=3\",$G$180:$P$180)+SUMIF($G$204:$P$204,\"=3\",$G$194:$P$194)","v":0},null,"TiB for all days",null,{"$f":"SUMIF($G$186:$P$186,\"=3\",$G$160:$P$160)+SUMIF($G$204:$P$204,\"=3\",$G$160:$P$160)","v":0},null,"Mbit/s"]
[null,null,null,"VRM 4 / Storage Pool 3",null,null,{"$f":"SUMIF($G$186:$P$186,\"=4\",$G$179:$P$179)+SUMIF($G$204:$P$204,\"=4\",$G$193:$P$193)","v":0},null,"GiB for all days",null,{"$f":"SUMIF($G$186:$P$186,\"=4\",$G$180:$P$180)+SUMIF($G$204:$P$204,\"=4\",$G$194:$P$194)","v":0},null,"TiB for all days",null,{"$f":"SUMIF($G$186:$P$186,\"=4\",$G$160:$P$160)+SUMIF($G$204:$P$204,\"=4\",$G$160:$P$160)","v":0},null,"Mbit/s"]
[]
[null,null,null,null,null,null,"session",null,"session",null,"session",null,"session",null,"session",null,"total"]
[null,null,null,"Active recording channels on initiator",null,null,{"$f":"IF(G149=\"Group off\",0,$F$1698)","v":0},null,{"$f":"IF(I149=\"Group off\",0,$F$1699)","v":0},null,{"$f":"IF(K149=\"Group off\",0,$F$1700)","v":0},null,{"$f":"IF(M149=\"Group off\",0,$F$1701)","v":0},null,1]
[null,null,null,"Unused input channel(s) per host",null,null,0,null,0,null,0,null,0,null,0]
[null,1,1,"1 arrays - sessions worst case",null,null,{"$f":"IF($T$224,MIN((G$222*2+G$223*2),$B224),MIN((G$222*2+G$223*2),$C224))","v":0},null,{"$f":"IF($T$224,MIN((I$222*2+I$223*2),$B224),MIN((I$222*2+I$223*2),$C224))","v":0},null,{"$f":"IF($T$224,MIN((K$222*2+K$223*2),$B224),MIN((K$222*2+K$223*2),$C224))","v":0},null,{"$f":"IF($T$224,MIN((M$222*2+M$223*2),$B224),MIN((M$222*2+M$223*2),$C224))","v":0},null,{"$f":"IF($T$224,MIN((O$222*2+O$223*2),$B224),MIN((O$222*2+O$223*2),$C224))","v":1},null,{"$f":"$G224*$G$146+$I224*$I$146+$K224*$K$146+$M224*$M$146+$O224*$O$146","v":0},null,"auto mode",{"$f":"IF(F1590=\"Automatic mode (new since VRM 2.20)\",TRUE,FALSE)","v":true}]
[null,2,2,"2 arrays - sessions worst case",null,null,0,null,0,null,0,null,0,null,2,null,0]
[null,2,3,"3 arrays - sessions worst case",null,null,0,null,0,null,0,null,0,null,2,null,0]
[null,2,4,"4 arrays - sessions worst case",null,null,0,null,0,null,0,null,0,null,2,null,0]
[null,2,5,"5 arrays - sessions worst case",null,null,0,null,0,null,0,null,0,null,2,null,0]
[null,2,6,"6 arrays - sessions worst case",null,null,0,null,0,null,0,null,0,null,2,null,0]
[null,2,7,"7 arrays - sessions worst case",null,null,0,null,0,null,0,null,0,null,2,null,0]
[null,2,8,"8 arrays and more - sessions worst case",null,null,0,null,0,null,0,null,0,null,2,null,0]
[]
[null,null,null,null,null,null,"group total",null,"group total",null,"group total",null,"group total",null,"group total"]
[]
[]
[null,null,null,null,null,null,{"$f":"$G$146*G224","v":0},null,{"$f":"$I224*$I$146","v":0},null,{"$f":"$K224*$K$146","v":0},null,{"$f":"$M224*$M$146","v":0},null,{"$f":"$O224*$O$146","v":0}]
[null,null,null,null,null,null,0,null,0,null,0,null,0,null,0]
[null,null,null,null,null,null,0,null,0,null,0,null,0,null,0]
[null,null,null,null,null,null,0,null,0,null,0,null,0,null,0]
[null,null,null,null,null,null,0,null,0,null,0,null,0,null,0]
[null,null,null,null,null,null,0,null,0,null,0,null,0,null,0]
[null,null,null,null,null,null,0,null,0,null,0,null,0,null,0]
[null,null,null,null,null,null,0,null,0,null,0,null,0,null,0]
[]
[null,null,null,null,null,null,"Pool0 total",null,"Pool1 total",null,"Pool2 total",null,"Pool3 total",null,"total"]
[null,null,null,"Active recording channels on initiator"]
[null,null,null,"Unused input channel(s) per host"]
[null,null,1,"1 arrays - sessions worst case",null,null,{"$f":"SUMIF($G$186:$P$186,\"=1\",G236:O236)","v":0},null,{"$f":"SUMIF($G$186:$P$186,\"=2\",$G236:$O236)","v":0},null,{"$f":"SUMIF($G$186:$P$186,\"=3\",$G236:$O236)","v":0},null,{"$f":"SUMIF($G$186:$P$186,\"=4\",$G236:$O236)","v":0},null,{"$f":"SUM(G248:M248)","v":0}]
[null,null,2,"2 arrays - sessions worst case",null,null,0,null,0,null,0,null,0,null,0]
[null,null,3,"3 arrays - sessions worst case",null,null,0,null,0,null,0,null,0,null,0]
[null,null,4,"4 arrays - sessions worst case",null,null,0,null,0,null,0,null,0,null,0]
[null,null,5,"5 arrays - sessions worst case",null,null,0,null,0,null,0,null,0,null,0]
[null,null,6,"6 arrays - sessions worst case",null,null,0,null,0,null,0,null,0,null,0]
[null,null,7,"7 arrays - sessions worst case",null,null,0,null,0,null,0,null,0,null,0]
[null,null,8,"8 arrays and more - sessions worst case",null,null,0,null,0,null,0,null,0,null,0]
[]
[null,null,null,null,null,"Net storage",{"$f":"OFFSET($G$216,LEFT(RIGHT(D258,2),1),0)","v":0},"bandwidth",{"$f":"OFFSET($O$216,LEFT(RIGHT(D258,2),1),0)","v":0},null,"offset",0]
[null,null,null,"VRM 1 / POOL0:",null,"iSCSI array used","None",null,null,null,null,"Qty:",{"$f":"IFERROR(VLOOKUP(G258,D263:O571,12,FALSE),0)","v":0},"Gross storage:",{"$f":"IFERROR(VLOOKUP(G258,D263:K571,8,FALSE),0)","v":0},"Net \nstorage:",{"$f":"IFERROR((VLOOKUP(G258,D263:Q571,6,FALSE)/1024)*VLOOKUP(G258,D263:Q571,12,FALSE),0)","v":0},null,null,null,null,null,null,null,null,null,{"$f":"NOT(OR(G258=\"N.A.\",G258=\"\"))","v":true},{"$f":"IF(OR($M$1741=1,$M$1741=3),AA258,FALSE)","v":true},null,null,null,null,null,null,null,null,{"$f":"IF(ISERROR(VLOOKUP(G258,AK262:AK571,1,FALSE)),TRUE,FALSE)","v":false}]
[null,null,null,null,null,null,null,null,null,null,null,null,null,null,null,null,null,"workstations:",0]
[null,null,null,null,null,null,null,null,null,null,null,null,null,null,null,null,null,"replay cameos active per workstation:",0]
[null,null,null,"iSCSI storage unit assessment              Provides an overview which one fits best",null,null,"RAID Level","Global spares","Net storage","Gross storage","Gross storage total","Available Bandwidth per array ","Available iSCSI sessions per array","Necessary bandwidth per array","Nr of arrays","Overcapacity last array","Pricepoint compared with FAS2020","Available iSCSI sessions total","Cameras / encoders iSCSI sessions","VRM iSCSI sessions","Replay iSCSI sessions","Total Worst case iSCSI sessions","N-1 capable",null,null,null,null,null,null,null,null,null,null,null,"Available iSCSI sessions N-1","Necessary bandwidth per array N-1"]
[null,null,null,null,null,null,null,null," [GiB]","[TB]","[TB]","[Mbps]",null,"[Mbps]","[Nr Arrays]","[TiB]","[%]"," [Nr Arrays x sessions]","[sessions]","[sessions]","[sessions]","[sessions]","No",null,null,null,null,null,null,null,null,"factor",null,null," [Nr Arrays -1 x sessions]","[Mbps]","None"]
[null,null,"Target Only mode","DIVAR IP 5000 1 x 2TB",null,null,"JBOD",0,1862,2,{"$f":"O263*J263","v":0},130,32,{"$f":"$I$257/O263","v":{"$error":"#DIV/0!"}},{"$f":"ROUNDUP(G257/I263,0)","v":0},{"$f":"(1-((G257/$I263)-INT(G257/$I263)))*I263/1024","v":1.818359375},{"$f":"AH263","v":{"$error":"#DIV/0!"}},{"$f":"O263*M263","v":0},{"$f":"IF($O263>7,OFFSET($G$255,0,$L$257),OFFSET($G$248,O263-1,$L$257,1,1))","v":0},{"$f":"O263*1*MAX($N$1528,1)","v":0},{"$f":"$S$259*MIN(O263,$S$260)","v":0},{"$f":"SUM(S263,T263,U263)","v":0},{"$f":"IF(AND(IF($AJ263<=$L263,TRUE,FALSE),IF($V263<=$AI263,TRUE,FALSE)),\"True\",\"\")","v":{"$error":"#DIV/0!"}},{"$f":"IF(AND(IF($N263<=$L263,TRUE,FALSE),IF($V263<=$R263,TRUE,FALSE),OR(W263=\"True\",$W$262=\"No\")),\"<-- fits project\",\"\")","v":{"$error":"#DIV/0!"}},null,null,null,null,null,null,null,null,{"$f":"AF263*O263","v":0},{"$f":"AG263/$AG$563","v":{"$error":"#DIV/0!"}},{"$f":"(O263-1)*M263","v":-32},{"$f":"IF(O263>1,$I$257/(O263-1),$I$257/O263)","v":{"$error":"#DIV/0!"}},{"$f":"IF(X263=\"<-- fits project\",D263,\"\")","v":{"$error":"#DIV/0!"}}]
[null,null,null,"DIVAR IP 5000 2 x 2TB",null,null,"JBOD",0,{"$f":"IF(G264=\"JBOD\",((2)*1862),((1)*1862))","v":3724},4,0,{"$f":"IF(G264=\"JBOD\",220,90)","v":220},32,{"$error":"#DIV/0!"},{"$f":"ROUNDUP(G257/I264,0)","v":0},{"$f":"(1-((G257/$I264)-INT(G257/$I264)))*I264/1024","v":3.63671875},{"$error":"#DIV/0!"},0,0,0,0,0,{"$error":"#DIV/0!"},{"$error":"#DIV/0!"},null,null,null,null,null,null,null,null,0,{"$error":"#DIV/0!"},-32,{"$error":"#DIV/0!"},{"$error":"#DIV/0!"}]
[null,null,null,"DIVAR IP 5000 4 x 2TB",null,null,"JBOD",0,{"$f":"IF(G265=\"JBOD\",((4)*1862),((2)*1864))","v":7448},8,0,{"$f":"IF(G265=\"JBOD\",310,200)","v":310},32,{"$error":"#DIV/0!"},{"$f":"ROUNDUP(G257/I265,0)","v":0},{"$f":"(1-((G257/$I265)-INT(G257/$I265)))*I265/1024","v":7.2734375},{"$error":"#DIV/0!"},0,0,0,0,0,{"$error":"#DIV/0!"},{"$error":"#DIV/0!"},null,null,null,null,null,null,null,null,0,{"$error":"#DIV/0!"},-32,{"$error":"#DIV/0!"},{"$error":"#DIV/0!"}]
[null,null,null,"DIVAR IP 5000 1 x 4TB",null,null,"JBOD",0,3724,4,0,130,32,{"$error":"#DIV/0!"},{"$f":"ROUNDUP(G257/I266,0)","v":0},{"$f":"(1-((G257/$I266)-INT(G257/$I266)))*I266/1024","v":3.63671875},{"$error":"#DIV/0!"},0,0,0,0,0,{"$error":"#DIV/0!"},{"$error":"#DIV/0!"},null,null,null,null,null,null,null,null,0,{"$error":"#DIV/0!"},-32,{"$error":"#DIV/0!"},{"$error":"#DIV/0!"}]
[null,null,null,"DIVAR IP 5000 2 x 4TB",null,null,"JBOD",0,{"$f":"IF(G267=\"JBOD\",((2)*3724),((1)*3724))","v":7448},8,0,{"$f":"IF(G267=\"JBOD\",220,90)","v":220},32,{"$error":"#DIV/0!"},{"$f":"ROUNDUP(G257/I267,0)","v":0},{"$f":"(1-((G257/$I267)-INT(G257/$I267)))*I267/1024","v":7.2734375},{"$error":"#DIV/0!"},0,0,0,0,0,{"$error":"#DIV/0!"},{"$error":"#DIV/0!"},null,null,null,null,null,null,null,null,0,{"$error":"#DIV/0!"},-32,{"$error":"#DIV/0!"},{"$error":"#DIV/0!"}]
[null,null,null,"DIVAR IP 5000 4 x 4TB",null,null,"JBOD",0,{"$f":"IF(G268=\"JBOD\",((4)*3724),((2)*3724))","v":14896},16,0,{"$f":"IF(G268=\"JBOD\",310,200)","v":310},32,{"$error":"#DIV/0!"},{"$f":"ROUNDUP(G257/I268,0)","v":0},{"$f":"(1-((G257/$I268)-INT(G257/$I268)))*I268/1024","v":14.546875},{"$error":"#DIV/0!"},0,0,0,0,0,{"$error":"#DIV/0!"},{"$error":"#DIV/0!"},null,null,null,null,null,null,null,null,0,{"$error":"#DIV/0!"},-32,{"$error":"#DIV/0!"},{"$error":"#DIV/0!"}]
["False","Full BVMS Management systems","2TB","DIVAR IP 3000 2x2TB",null,"DIP-3042-2HD","JBOD",1,{"$f":"((2)*1864)-100","v":3628},4,0,100,32,{"$f":"I257/O269","v":{"$error":"#DIV/0!"}},{"$f":"ROUNDUP(G257/I269,0)","v":0},{"$f":"(1-((G257/$I269)-INT(G257/$I269)))*I269/1024","v":3.54296875},{"$f":"AH269","v":{"$error":"#DIV/0!"}},0,{"$f":"IF($O269>7,OFFSET($G$255,0,$L$257),OFFSET($G$248,O269-1,$L$257,1,1))/MIN(O269,2)","v":{"$error":"#DIV/0!"}},0,{"$f":"$S$259*MIN(O269,$S$260)","v":0},{"$f":"SUM(S269)","v":{"$error":"#DIV/0!"}},false,{"$f":"IF(AND(IF($N269<=$L269,TRUE,FALSE),IF($V269<=$R269,TRUE,FALSE),OR(W269=\"True\",$W$262=\"No\"),IF($A$269=\"False\",IF(O269=1,TRUE,FALSE),TRUE)),\"<-- fits project\",\"\")","v":{"$error":"#DIV/0!"}},null,null,null,null,null,null,null,0.57999999999999996,0,{"$f":"AG269/AG563","v":{"$error":"#DIV/0!"}},-32,{"$f":"IF(O269>1,I257/(O269-1),I257/O269)","v":{"$error":"#DIV/0!"}},{"$error":"#DIV/0!"}]
[null,null,null,"DIVAR IP 3000 4x2TB",null,"DIP-3042-4HD","JBOD",0,{"$f":"((4)*1864)-100","v":7356},8,0,120,32,{"$f":"I257/O270","v":{"$error":"#DIV/0!"}},{"$f":"ROUNDUP(G257/I270,0)","v":0},{"$f":"(1-((G257/$I270)-INT(G257/$I270)))*I270/1024","v":7.18359375},{"$f":"AH270","v":{"$error":"#DIV/0!"}},0,{"$f":"IF($O270>7,OFFSET($G$255,0,$L$257),OFFSET($G$248,O270-1,$L$257,1,1))/MIN(O270,2)","v":{"$error":"#DIV/0!"}},0,{"$f":"$S$259*MIN(O270,$S$260)","v":0},{"$error":"#DIV/0!"},false,{"$error":"#DIV/0!"},null,null,null,null,null,null,null,0.74,0,{"$f":"AG270/AG563","v":{"$error":"#DIV/0!"}},-32,{"$f":"IF(O270>1,I257/(O270-1),I257/O270)","v":{"$error":"#DIV/0!"}},{"$error":"#DIV/0!"}]
[null,null,null,"DIVAR IP 3000 4x2TB + 1x DIVAR IP 2000 2x2TB",null,null,"JBOD",0,{"$f":"(((4)*1864)-100)+(((2)*1864)-100)","v":10984},12,0,220,48,{"$f":"I257/O271","v":{"$error":"#DIV/0!"}},{"$f":"ROUNDUP(G257/I271,0)","v":0},{"$f":"(1-((G257/$I271)-INT(G257/$I271)))*I271/1024","v":10.7265625},{"$f":"AH271","v":{"$error":"#DIV/0!"}},0,{"$f":"IF($O271>7,OFFSET($G$255,0,$L$257),OFFSET($G$248,O271-1,$L$257,1,1))","v":0},0,{"$f":"$S$259*MIN(O271,$S$260)","v":0},0,{"$f":"IF(AND(IF($AJ271<=$L271,TRUE,FALSE),IF($V271<=$AI271,TRUE,FALSE)),\"True\",\"\")","v":{"$error":"#DIV/0!"}},{"$error":"#DIV/0!"},null,null,null,null,null,null,null,1.32,0,{"$f":"AG271/AG563","v":{"$error":"#DIV/0!"}},-48,{"$f":"IF(O271>1,I257/(O271-1),I257/O271)","v":{"$error":"#DIV/0!"}},{"$error":"#DIV/0!"}]
["Allow >1 Divar IP 3000/7000 systems:",null,null,"DIVAR IP 3000 4x2TB + 1x DIVAR IP 2000 4x2TB",null,null,"JBOD",0,{"$f":"2*(((4)*1864)-100)","v":14712},16,0,220,48,{"$f":"I257/O272","v":{"$error":"#DIV/0!"}},{"$f":"ROUNDUP(G257/I272,0)","v":0},{"$f":"(1-((G257/$I272)-INT(G257/$I272)))*I272/1024","v":14.3671875},{"$error":"#DIV/0!"},0,{"$f":"IF($O272>7,OFFSET($G$255,0,$L$257),OFFSET($G$248,O272-1,$L$257,1,1))","v":0},0,0,0,{"$f":"IF(AND(IF($AJ272<=$L272,TRUE,FALSE),IF($V272<=$AI272,TRUE,FALSE)),\"True\",\"\")","v":{"$error":"#DIV/0!"}},{"$error":"#DIV/0!"},null,null,null,null,null,null,null,1.48,0,{"$f":"AG272/AG563","v":{"$error":"#DIV/0!"}},-48,{"$f":"IF(O272>1,I257/(O272-1),I257/O272)","v":{"$error":"#DIV/0!"}},{"$error":"#DIV/0!"}]
[null,null,"3TB","DIVAR IP 3000 2x3TB",null,"DIP-3043-2HD","JBOD",0,{"$f":"((2-H273)*2794)-100","v":5488},6,0,100,32,{"$f":"I257/O273","v":{"$error":"#DIV/0!"}},{"$f":"ROUNDUP(G257/I273,0)","v":0},{"$f":"(1-((G257/$I273)-INT(G257/$I273)))*I273/1024","v":5.359375},{"$f":"AH273","v":{"$error":"#DIV/0!"}},0,{"$f":"IF($O273>7,OFFSET($G$255,0,$L$257),OFFSET($G$248,O273-1,$L$257,1,1))/MIN(O273,2)","v":{"$error":"#DIV/0!"}},0,{"$f":"$S$259*MIN(O273,$S$260)","v":0},{"$f":"SUM(S273)","v":{"$error":"#DIV/0!"}},false,{"$error":"#DIV/0!"},null,null,null,null,null,null,null,{"$f":"0.77022916775919*1.3","v":1.001297918086947},0,{"$f":"AG273/AG563","v":{"$error":"#DIV/0!"}},-32,{"$f":"IF(O273>1,I257/(O273-1),I257/O273)","v":{"$error":"#DIV/0!"}},{"$error":"#DIV/0!"}]
[null,null,null,"DIVAR IP 3000 4x3TB",null,"DIP-3043-4HD","JBOD",0,{"$f":"((4-H274)*2794)-100","v":11076},12,0,120,32,{"$f":"I257/O274","v":{"$error":"#DIV/0!"}},{"$f":"ROUNDUP(G257/I274,0)","v":0},{"$f":"(1-((G257/$I274)-INT(G257/$I274)))*I274/1024","v":10.81640625},{"$error":"#DIV/0!"},0,{"$f":"IF($O274>7,OFFSET($G$255,0,$L$257),OFFSET($G$248,O274-1,$L$257,1,1))/MIN(O274,2)","v":{"$error":"#DIV/0!"}},0,0,{"$f":"SUM(S274)","v":{"$error":"#DIV/0!"}},false,{"$error":"#DIV/0!"},null,null,null,null,null,null,null,{"$f":"0.917719859457759*1.3","v":1.1930358172950868},0,{"$f":"AG274/AG563","v":{"$error":"#DIV/0!"}},-32,{"$f":"IF(O274>1,I257/(O274-1),I257/O274)","v":{"$error":"#DIV/0!"}},{"$error":"#DIV/0!"}]
[null,null,null,"DIVAR IP 3000 4x3TB + 1x DIVAR IP 2000 2x3TB",null,null,"JBOD",0,{"$f":"(((4)*2794)-100)+(((2)*2794)-100)","v":16564},18,0,220,48,{"$f":"I257/O275","v":{"$error":"#DIV/0!"}},{"$f":"ROUNDUP(G257/I275,0)","v":0},{"$f":"(1-((G257/$I275)-INT(G257/$I275)))*I275/1024","v":16.17578125},{"$error":"#DIV/0!"},0,{"$f":"IF($O275>7,OFFSET($G$255,0,$L$257),OFFSET($G$248,O275-1,$L$257,1,1))","v":0},0,0,{"$f":"SUM(S275)","v":0},{"$f":"IF(AND(IF($AJ275<=$L275,TRUE,FALSE),IF($V275<=$AI275,TRUE,FALSE)),\"True\",\"\")","v":{"$error":"#DIV/0!"}},{"$error":"#DIV/0!"},null,null,null,null,null,null,null,{"$f":"1.47490691698568*1.3","v":1.9173789920813842},0,{"$f":"AG275/AG563","v":{"$error":"#DIV/0!"}},-48,{"$f":"IF(O275>1,I257/(O275-1),I257/O275)","v":{"$error":"#DIV/0!"}},{"$error":"#DIV/0!"}]
[null,null,null,"DIVAR IP 3000 4x3TB + 1x DIVAR IP 2000 4x3TB",null,null,"JBOD",0,{"$f":"2*(((4)*2794)-100)","v":22152},24,0,220,48,{"$f":"I257/O276","v":{"$error":"#DIV/0!"}},{"$f":"ROUNDUP($G$257/I276,0)","v":0},{"$f":"(1-((G257/$I276)-INT(G257/$I276)))*I276/1024","v":21.6328125},{"$error":"#DIV/0!"},0,{"$f":"IF($O276>7,OFFSET($G$255,0,$L$257),OFFSET($G$248,O276-1,$L$257,1,1))","v":0},0,0,{"$f":"SUM(S276)","v":0},{"$f":"IF(AND(IF($AJ276<=$L276,TRUE,FALSE),IF($V276<=$AI276,TRUE,FALSE)),\"True\",\"\")","v":{"$error":"#DIV/0!"}},{"$error":"#DIV/0!"},null,null,null,null,null,null,null,{"$f":"1.68794902721695*1.3","v":2.1943337353820351},0,{"$f":"AG276/AG563","v":{"$error":"#DIV/0!"}},-48,{"$f":"IF(O276>1,I257/(O276-1),I257/O276)","v":{"$error":"#DIV/0!"}},{"$error":"#DIV/0!"}]
[null,null,"3TB","DIVAR IP 7000 R2 4X3TB",null,null,"RAID 5",0,8375,12,0,475,128,{"$f":"I257/O277","v":{"$error":"#DIV/0!"}},0,{"$f":"(1-((G257/$I277)-INT(G257/$I277)))*I277/1024","v":8.1787109375},{"$f":"AH277","v":{"$error":"#DIV/0!"}},0,{"$f":"IF($O277>7,OFFSET($G$255,0,$L$257),OFFSET($G$248,O277-1,$L$257,1,1))/MIN(O277,2)","v":{"$error":"#DIV/0!"}},0,{"$f":"$S$259*MIN(O277,$S$260)","v":0},{"$f":"SUM(S277)","v":{"$error":"#DIV/0!"}},false,{"$error":"#DIV/0!"},null,null,null,null,null,null,null,null,0,{"$f":"AG277/$AG$563","v":{"$error":"#DIV/0!"}},-128,{"$f":"IF(O277>1,$I$257/(O277-1),$I$257/O277)","v":{"$error":"#DIV/0!"}},{"$error":"#DIV/0!"}]
[null,null,null,"DIVAR IP 7000 R2 8X3TB",null,null,"RAID 5",0,{"$f":"IF(G278=\"RAID 5\",(7-H278)*2793,(6-H278)*2793)","v":19551},24,0,475,128,{"$f":"I257/O278","v":{"$error":"#DIV/0!"}},0,{"$f":"(1-((G257/$I278)-INT(G257/$I278)))*I278/1024","v":19.0927734375},{"$error":"#DIV/0!"},0,{"$error":"#DIV/0!"},0,0,{"$error":"#DIV/0!"},false,{"$error":"#DIV/0!"},null,null,null,null,null,null,null,null,0,{"$error":"#DIV/0!"},-128,{"$error":"#DIV/0!"},{"$error":"#DIV/0!"},null,null,null,null,null,null,{"$f":"IF(G278=\"RAID 6\",0,0)","v":0},{"$f":"IF(G278=\"RAID 6\",0,1)","v":1}]
[null,null,null,"DIVAR IP 7000 R2 16X3TB",null,null,"RAID 5",0,{"$f":"IF(G279=\"RAID 5\",(15-H279)*2793,(14-H279)*2793)","v":41895},48,0,475,128,{"$f":"$I$257/O279","v":{"$error":"#DIV/0!"}},0,{"$f":"(1-(($G$257/$I279)-INT($G$257/$I279)))*I279/1024","v":40.9130859375},{"$error":"#DIV/0!"},0,{"$error":"#DIV/0!"},0,0,{"$error":"#DIV/0!"},false,{"$error":"#DIV/0!"},null,null,null,null,null,null,null,null,0,{"$error":"#DIV/0!"},-128,{"$error":"#DIV/0!"},{"$error":"#DIV/0!"},null,null,null,null,null,null,0,1]
[null,null,"6TB","DIVAR IP 7000 R2 8X6TB",null,null,"RAID 5",0,{"$f":"IF(G280=\"RAID 5\",(7-H280)*5586,(6-H280)*5586)","v":39102},{"$f":"8*6","v":48},0,475,128,{"$f":"$I$257/O280","v":{"$error":"#DIV/0!"}},0,{"$f":"(1-(($G$257/$I280)-INT($G$257/$I280)))*I280/1024","v":38.185546875},{"$error":"#DIV/0!"},0,{"$error":"#DIV/0!"},0,0,{"$error":"#DIV/0!"},false,{"$error":"#DIV/0!"},null,null,null,null,null,null,null,null,null,{"$error":"#DIV/0!"},-128,{"$error":"#DIV/0!"},{"$error":"#DIV/0!"},null,null,null,null,null,null,0,1]
[null,null,null,"DIVAR IP 7000 R2 16X6TB",null,null,"RAID 5",0,{"$f":"IF(G281=\"RAID 5\",(15-H281)*5586,(14-H281)*5586)","v":83790},{"$f":"16*6","v":96},0,475,128,{"$f":"$I$257/O281","v":{"$error":"#DIV/0!"}},0,{"$f":"(1-(($G$257/$I281)-INT($G$257/$I281)))*I281/1024","v":81.826171875},{"$error":"#DIV/0!"},0,{"$error":"#DIV/0!"},0,0,{"$error":"#DIV/0!"},false,{"$error":"#DIV/0!"},null,null,null,null,null,null,null,null,null,{"$error":"#DIV/0!"},-128,{"$error":"#DIV/0!"},{"$error":"#DIV/0!"},null,null,null,null,null,null,0,1]
[null,null,"8TB","DIVAR IP 7000 R2 8X8TB",null,null,"RAID 5",0,{"$f":"IF(G282=\"RAID 5\",(7-H282)*7448,(6-H282)*7448)","v":52136},{"$f":"8*8","v":64},0,475,128,{"$f":"$I$257/O282","v":{"$error":"#DIV/0!"}},0,{"$f":"(1-(($G$257/$I282)-INT($G$257/$I282)))*I282/1024","v":50.9140625},{"$error":"#DIV/0!"},0,{"$error":"#DIV/0!"},0,0,{"$error":"#DIV/0!"},false,{"$error":"#DIV/0!"},null,null,null,null,null,null,null,null,null,{"$error":"#DIV/0!"},-128,{"$error":"#DIV/0!"},{"$error":"#DIV/0!"},null,null,null,null,null,null,0,1]
[null,null,null,"DIVAR IP 7000 R2 16X8TB",null,null,"RAID 5",0,{"$f":"IF(G283=\"RAID 5\",(15-H283)*7448,(14-H283)*7448)","v":111720},{"$f":"16*8","v":128},0,475,128,{"$f":"$I$257/O283","v":{"$error":"#DIV/0!"}},0,{"$f":"(1-(($G$257/$I283)-INT($G$257/$I283)))*I283/1024","v":109.1015625},{"$error":"#DIV/0!"},0,{"$error":"#DIV/0!"},0,0,{"$error":"#DIV/0!"},false,{"$error":"#DIV/0!"},null,null,null,null,null,null,null,null,null,{"$error":"#DIV/0!"},-128,{"$error":"#DIV/0!"},{"$error":"#DIV/0!"},null,null,null,null,null,null,0,1]
[null,null,"3TB","DIVAR IP 7000 R2 8X3TB + 1x DIVAR IP 6000 R2 8X3TB",null,null,"RAID 5",0,{"$f":"IF(G284=\"RAID 5\",2*(((7-H284)*2793)),2*(((6-H284)*2793)))","v":39102},48,0,{"$f":"475+550","v":1025},{"$f":"128+128","v":256},{"$f":"I257/O284","v":{"$error":"#DIV/0!"}},0,{"$f":"(1-((G257/$I284)-INT(G257/$I284)))*I284/1024","v":38.185546875},{"$error":"#DIV/0!"},0,{"$f":"IF($O284>7,OFFSET($G$255,0,$L$257),OFFSET($G$248,O284-1,$L$257,1,1))","v":0},0,0,0,{"$f":"IF(AND(IF($AJ284<=$L284,TRUE,FALSE),IF($V284<=$AI284,TRUE,FALSE)),\"True\",\"\")","v":{"$error":"#DIV/0!"}},{"$error":"#DIV/0!"},null,null,null,null,null,null,null,null,{"$f":"AF284*O284","v":0},{"$error":"#DIV/0!"},-256,{"$f":"IF(O284>1,I257/(O284-1),I257/O284)","v":{"$error":"#DIV/0!"}},{"$error":"#DIV/0!"},null,null,null,null,null,null,0,1]
[null,null,null,"DIVAR IP 7000 R2 8X3TB + 2x DIVAR IP 6000 R2 8X3TB",null,null,"RAID 5",0,{"$f":"IF(G285=\"RAID 5\",3*(((7-H285)*2793)),3*(((6-H285)*2793)))","v":58653},{"$f":"24*3","v":72},0,{"$f":"475+(2*550)","v":1575},{"$f":"128+(2*128)","v":384},{"$f":"I257/O285","v":{"$error":"#DIV/0!"}},0,{"$f":"(1-((G257/$I285)-INT(G257/$I285)))*I285/1024","v":57.2783203125},{"$error":"#DIV/0!"},0,0,0,0,0,{"$error":"#DIV/0!"},{"$error":"#DIV/0!"},null,null,null,null,null,null,null,null,0,{"$error":"#DIV/0!"},-384,{"$f":"IF(O285>1,I257/(O285-1),I257/O285)","v":{"$error":"#DIV/0!"}},{"$error":"#DIV/0!"},null,null,null,null,null,null,0,1]
[null,null,null,"DIVAR IP 7000 R2 8X3TB + 3x DIVAR IP 6000 R2 8X3TB",null,null,"RAID 5",0,{"$f":"IF(G286=\"RAID 5\",4*(((7-H286)*2793)),4*(((6-H286)*2793)))","v":78204},{"$f":"32*3","v":96},0,{"$f":"475+(3*550)","v":2125},{"$f":"128+(3*128)","v":512},{"$f":"I257/O286","v":{"$error":"#DIV/0!"}},0,{"$f":"(1-((G257/$I286)-INT(G257/$I286)))*I286/1024","v":76.37109375},{"$error":"#DIV/0!"},0,0,0,0,0,{"$error":"#DIV/0!"},{"$error":"#DIV/0!"},null,null,null,null,null,null,null,null,0,{"$error":"#DIV/0!"},-512,{"$f":"IF(O286>1,I257/(O286-1),I257/O286)","v":{"$error":"#DIV/0!"}},{"$error":"#DIV/0!"},null,null,null,null,null,null,0,1]
[null,null,null,"DIVAR IP 7000 R2 8X3TB + 4x DIVAR IP 6000 R2 8X3TB",null,null,"RAID 5",0,{"$f":"IF(G287=\"RAID 5\",5*(((7-H287)*2793)),5*(((6-H287)*2793)))","v":97755},{"$f":"40*3","v":120},0,{"$f":"475+(4*550)","v":2675},{"$f":"128+(4*128)","v":640},{"$f":"I257/O287","v":{"$error":"#DIV/0!"}},0,{"$f":"(1-((G257/$I287)-INT(G257/$I287)))*I287/1024","v":95.4638671875},{"$error":"#DIV/0!"},0,0,0,0,0,{"$error":"#DIV/0!"},{"$error":"#DIV/0!"},null,null,null,null,null,null,null,null,0,{"$error":"#DIV/0!"},-640,{"$f":"IF(O287>1,I257/(O287-1),I257/O287)","v":{"$error":"#DIV/0!"}},{"$error":"#DIV/0!"},null,null,null,null,null,null,0,1]
[null,null,null,"DIVAR IP 7000 R2 8X3TB + 1x DIVAR IP 6000 R2 3U 16x3TB",null,null,"RAID 5",0,{"$f":"IF(G288=\"RAID 5\",(((7-H288)*2792))+(1*(((15-H288)*2792))),(((6-H288)*2792))+(1*(((14-H288)*2792))))","v":61424},{"$f":"(16+8)*3","v":72},0,{"$f":"475+(1*550)","v":1025},{"$f":"128+(2*128)","v":384},{"$f":"I257/O288","v":{"$error":"#DIV/0!"}},0,{"$f":"(1-((G257/$I288)-INT(G257/$I288)))*I288/1024","v":59.984375},{"$error":"#DIV/0!"},0,0,0,0,0,{"$error":"#DIV/0!"},{"$error":"#DIV/0!"},null,null,null,null,null,null,null,null,0,{"$error":"#DIV/0!"},-384,{"$f":"IF(O288>1,I257/(O288-1),I257/O288)","v":{"$error":"#DIV/0!"}},{"$error":"#DIV/0!"},null,null,null,null,null,null,0,1]
[null,null,null,"DIVAR IP 7000 R2 8X3TB + 2x DIVAR IP 6000 R2 3U 16x3TB",null,null,"RAID 5",0,{"$f":"IF(G289=\"RAID 5\",(((7-H289)*2792))+(2*(((15-H289)*2792))),(((6-H289)*2792))+(2*(((14-H289)*2792))))","v":103304},{"$f":"(2*16+8)*3","v":120},0,{"$f":"475+(2*550)","v":1575},{"$f":"128+(2*128)","v":384},{"$f":"I257/O289","v":{"$error":"#DIV/0!"}},0,{"$f":"(1-((G257/$I289)-INT(G257/$I289)))*I289/1024","v":100.8828125},{"$error":"#DIV/0!"},0,0,0,0,0,{"$error":"#DIV/0!"},{"$error":"#DIV/0!"},null,null,null,null,null,null,null,null,0,{"$error":"#DIV/0!"},-384,{"$f":"IF(O289>1,I257/(O289-1),I257/O289)","v":{"$error":"#DIV/0!"}},{"$error":"#DIV/0!"},null,null,null,null,null,null,0,1]
[null,null,null,"DIVAR IP 7000 R2 8X3TB + 3x DIVAR IP 6000 R2 3U 16x3TB",null,null,"RAID 5",0,{"$f":"IF(G290=\"RAID 5\",(((7-H290)*2792))+(3*(((15-H290)*2792))),(((6-H290)*2792))+(3*(((14-H290)*2792))))","v":145184},{"$f":"(3*16+8)*3","v":168},0,{"$f":"475+(3*550)","v":2125},{"$f":"128+(2*128)","v":384},{"$f":"I257/O290","v":{"$error":"#DIV/0!"}},0,{"$f":"(1-((G257/$I290)-INT(G257/$I290)))*I290/1024","v":141.78125},{"$error":"#DIV/0!"},0,0,0,0,0,{"$error":"#DIV/0!"},{"$error":"#DIV/0!"},null,null,null,null,null,null,null,null,0,{"$error":"#DIV/0!"},-384,{"$f":"IF(O290>1,I257/(O290-1),I257/O290)","v":{"$error":"#DIV/0!"}},{"$error":"#DIV/0!"},null,null,null,null,null,null,0,1]
[null,null,null,"DIVAR IP 7000 R2 8X3TB + 4x DIVAR IP 6000 R2 3U 16x3TB",null,null,"RAID 5",0,{"$f":"IF(G291=\"RAID 5\",(((7-H291)*2792))+(4*(((15-H291)*2792))),(((6-H291)*2792))+(4*(((14-H291)*2792))))","v":187064},{"$f":"(4*16+8)*3","v":216},0,{"$f":"475+(4*550)","v":2675},{"$f":"128+(2*128)","v":384},{"$f":"I257/O291","v":{"$error":"#DIV/0!"}},0,{"$f":"(1-((G257/$I291)-INT(G257/$I291)))*I291/1024","v":182.6796875},{"$error":"#DIV/0!"},0,0,0,0,0,{"$error":"#DIV/0!"},{"$error":"#DIV/0!"},null,null,null,null,null,null,null,null,0,{"$error":"#DIV/0!"},-384,{"$f":"IF(O291>1,I257/(O291-1),I257/O291)","v":{"$error":"#DIV/0!"}},{"$error":"#DIV/0!"},null,null,null,null,null,null,0,1]
[null,null,null,"DIVAR IP 7000 R2 4X4TB",null,null,"RAID 5",0,11170,16,0,475,128,{"$f":"I246/O292","v":{"$error":"#DIV/0!"}},0,{"$f":"(1-((G257/$I292)-INT(G257/$I292)))*I292/1024","v":10.908203125},{"$f":"AH292","v":{"$error":"#DIV/0!"}},0,{"$f":"IF($O292>7,OFFSET($G$255,0,$L$257),OFFSET($G$248,O292-1,$L$257,1,1))/MIN(O292,2)","v":{"$error":"#DIV/0!"}},0,{"$f":"$S$259*MIN(O292,$S$260)","v":0},{"$error":"#DIV/0!"},false,{"$error":"#DIV/0!"},null,null,null,null,null,null,null,null,0,{"$error":"#DIV/0!"},-128,{"$f":"IF(O292>1,$I$574/(O292-1),$I$574/O292)","v":{"$error":"#DIV/0!"}},{"$error":"#DIV/0!"},null,null,null,null,null,null,0,1]
[null,null,null,"DIVAR IP 7000 R2 8X4TB",null,null,"RAID 5",0,{"$f":"IF(G293=\"RAID 5\",(7-H293)*3723,(6-H293)*3723)","v":26061},32,0,475,128,{"$f":"I246/O293","v":{"$error":"#DIV/0!"}},0,{"$f":"(1-((G257/$I293)-INT(G257/$I293)))*I293/1024","v":25.4501953125},{"$f":"AH293","v":{"$error":"#DIV/0!"}},0,{"$f":"IF($O293>7,OFFSET($G$255,0,$L$257),OFFSET($G$248,O293-1,$L$257,1,1))/MIN(O293,2)","v":{"$error":"#DIV/0!"}},0,{"$f":"$S$259*MIN(O293,$S$260)","v":0},{"$error":"#DIV/0!"},false,{"$error":"#DIV/0!"},null,null,null,null,null,null,null,null,0,{"$error":"#DIV/0!"},-128,{"$f":"IF(O293>1,$I$574/(O293-1),$I$574/O293)","v":{"$error":"#DIV/0!"}},{"$error":"#DIV/0!"},null,null,null,null,null,null,0,1]
[null,null,null,"DIVAR IP 7000 R2 16X4TB",null,null,"RAID 5",0,{"$f":"IF(G294=\"RAID 5\",(15-H294)*3723,(14-H294)*3723)","v":55845},64,0,475,128,{"$f":"I246/O294","v":{"$error":"#DIV/0!"}},0,{"$f":"(1-((G257/$I294)-INT(G257/$I294)))*I294/1024","v":54.5361328125},{"$f":"AH294","v":{"$error":"#DIV/0!"}},0,{"$f":"IF($O294>7,OFFSET($G$255,0,$L$257),OFFSET($G$248,O294-1,$L$257,1,1))/MIN(O294,2)","v":{"$error":"#DIV/0!"}},0,{"$f":"$S$259*MIN(O294,$S$260)","v":0},{"$error":"#DIV/0!"},false,{"$error":"#DIV/0!"},null,null,null,null,null,null,null,null,0,{"$error":"#DIV/0!"},-128,{"$f":"IF(O294>1,$I$574/(O294-1),$I$574/O294)","v":{"$error":"#DIV/0!"}},{"$error":"#DIV/0!"},null,null,null,null,null,null,0,1]
[null,null,"4TB","DIVAR IP 7000 R2 8X4TB + 1x DIVAR IP 6000 R2 8X4TB",null,null,"RAID 5",0,{"$f":"IF(G295=\"RAID 5\",2*((7-H295)*3723),2*((6-H295)*3723))","v":52122},{"$f":"16*4","v":64},0,{"$f":"475+550","v":1025},{"$f":"128+128","v":256},{"$f":"I257/O295","v":{"$error":"#DIV/0!"}},0,{"$f":"(1-((G257/$I295)-INT(G257/$I295)))*I295/1024","v":50.900390625},{"$error":"#DIV/0!"},0,{"$f":"IF($O295>7,OFFSET($G$255,0,$L$257),OFFSET($G$248,O295-1,$L$257,1,1))","v":0},0,0,{"$f":"SUM(S295)","v":0},{"$f":"IF(AND(IF($AJ295<=$L295,TRUE,FALSE),IF($V295<=$AI295,TRUE,FALSE)),\"True\",\"\")","v":{"$error":"#DIV/0!"}},{"$error":"#DIV/0!"},null,null,null,null,null,null,null,null,0,{"$error":"#DIV/0!"},-256,{"$f":"IF(O295>1,I257/(O295-1),I257/O295)","v":{"$error":"#DIV/0!"}},{"$f":"IF(X295=\"<-- fits project\",D295,\"\")","v":{"$error":"#DIV/0!"}},null,null,null,null,null,null,0,1]
[null,null,null,"DIVAR IP 7000 R2 8X4TB + 2x DIVAR IP 6000 R2 8X4TB",null,null,"RAID 5",0,{"$f":"IF(G296=\"RAID 5\",3*((7-H296)*3723),3*((6-H296)*3723))","v":78183},{"$f":"24*4","v":96},0,{"$f":"475+(2*550)","v":1575},{"$f":"128+(2*128)","v":384},{"$f":"I257/O296","v":{"$error":"#DIV/0!"}},0,{"$f":"(1-((G257/$I296)-INT(G257/$I296)))*I296/1024","v":76.3505859375},{"$error":"#DIV/0!"},0,0,0,0,0,{"$error":"#DIV/0!"},{"$error":"#DIV/0!"},null,null,null,null,null,null,null,null,0,{"$error":"#DIV/0!"},-384,{"$f":"IF(O296>1,I257/(O296-1),I257/O296)","v":{"$error":"#DIV/0!"}},{"$error":"#DIV/0!"},null,null,null,null,null,null,0,1]
[null,null,null,"DIVAR IP 7000 R2 8X4TB + 3x DIVAR IP 6000 R2 8X4TB",null,null,"RAID 5",0,{"$f":"IF(G297=\"RAID 5\",4*((7-H297)*3723),4*((6-H297)*3723))","v":104244},{"$f":"32*4","v":128},0,{"$f":"475+(3*550)","v":2125},{"$f":"128+(3*128)","v":512},{"$f":"I257/O297","v":{"$error":"#DIV/0!"}},0,{"$f":"(1-((G257/$I297)-INT(G257/$I297)))*I297/1024","v":101.80078125},{"$error":"#DIV/0!"},0,0,0,0,0,{"$error":"#DIV/0!"},{"$error":"#DIV/0!"},null,null,null,null,null,null,null,null,0,{"$error":"#DIV/0!"},-512,{"$f":"IF(O297>1,I257/(O297-1),I257/O297)","v":{"$error":"#DIV/0!"}},{"$error":"#DIV/0!"},null,null,null,null,null,null,0,1]
[null,null,null,"DIVAR IP 7000 R2 8X4TB + 4x DIVAR IP 6000 R2 8X4TB",null,null,"RAID 5",0,{"$f":"IF(G298=\"RAID 5\",5*((7-H298)*3723),5*((6-H298)*3723))","v":130305},{"$f":"40*4","v":160},0,{"$f":"475+(4*550)","v":2675},{"$f":"128+(4*128)","v":640},{"$f":"I257/O298","v":{"$error":"#DIV/0!"}},0,{"$f":"(1-((G257/$I298)-INT(G257/$I298)))*I298/1024","v":127.2509765625},{"$error":"#DIV/0!"},0,0,0,0,0,{"$error":"#DIV/0!"},{"$error":"#DIV/0!"},null,null,null,null,null,null,null,null,0,{"$error":"#DIV/0!"},-640,{"$f":"IF(O298>1,I257/(O298-1),I257/O298)","v":{"$error":"#DIV/0!"}},{"$error":"#DIV/0!"},null,null,null,null,null,null,0,1]
[null,null,null,"DIVAR IP 7000 R2 8X4TB + 1x DIVAR IP 6000 R2 3U 16x4TB",null,null,"RAID 5",0,{"$f":"IF(G299=\"RAID 5\",(((7-H299)*3723))+(1*(((15-H299)*3723))),(((6-H299)*3723))+(1*(((15-H299)*3723))))","v":81906},{"$f":"(16+8)*4","v":96},0,{"$f":"475+(1*550)","v":1025},{"$f":"128+(1*128)","v":256},{"$f":"I257/O299","v":{"$error":"#DIV/0!"}},0,{"$f":"(1-((G257/$I299)-INT(G257/$I299)))*I299/1024","v":79.986328125},{"$error":"#DIV/0!"},0,0,0,0,0,{"$error":"#DIV/0!"},{"$error":"#DIV/0!"},null,null,null,null,null,null,null,null,0,{"$error":"#DIV/0!"},-256,{"$f":"IF(O299>1,I257/(O299-1),I257/O299)","v":{"$error":"#DIV/0!"}},{"$error":"#DIV/0!"},null,null,null,null,null,null,0,1]
[null,null,null,"DIVAR IP 7000 R2 8X4TB + 2x DIVAR IP 6000 R2 3U 16x4TB",null,null,"RAID 5",0,{"$f":"IF(G300=\"RAID 5\",(((7-H300)*3723))+(2*(((15-H300)*3723))),(((6-H300)*3723))+(2*(((15-H300)*3723))))","v":137751},{"$f":"(2*16+8)*4","v":160},0,{"$f":"475+(2*550)","v":1575},{"$f":"128+(2*128)","v":384},{"$f":"I257/O300","v":{"$error":"#DIV/0!"}},0,{"$f":"(1-((G257/$I300)-INT(G257/$I300)))*I300/1024","v":134.5224609375},{"$error":"#DIV/0!"},0,0,0,0,0,{"$error":"#DIV/0!"},{"$error":"#DIV/0!"},null,null,null,null,null,null,null,null,0,{"$error":"#DIV/0!"},-384,{"$f":"IF(O300>1,I257/(O300-1),I257/O300)","v":{"$error":"#DIV/0!"}},{"$error":"#DIV/0!"},null,null,null,null,null,null,0,1]
[null,null,null,"DIVAR IP 7000 R2 8X4TB + 3x DIVAR IP 6000 R2 3U 16x4TB",null,null,"RAID 5",0,{"$f":"IF(G301=\"RAID 5\",(((7-H301)*3723))+(3*(((15-H301)*3723))),(((6-H301)*3723))+(3*(((15-H301)*3723))))","v":193596},{"$f":"(3*16+8)*4","v":224},0,{"$f":"475+(3*550)","v":2125},{"$f":"128+(3*128)","v":512},{"$f":"I257/O301","v":{"$error":"#DIV/0!"}},0,{"$f":"(1-((G257/$I301)-INT(G257/$I301)))*I301/1024","v":189.05859375},{"$error":"#DIV/0!"},0,0,0,0,0,{"$error":"#DIV/0!"},{"$f":"IF(AND(IF($N301<=$L301,TRUE,FALSE),IF($V301<=$R301,TRUE,FALSE),OR(W301=\"True\",$W$262=\"No\"),IF($A$269=\"False\",IF(O301=1,TRUE,FALSE),TRUE)),\"<-- fits project\",\"\")","v":{"$error":"#DIV/0!"}},null,null,null,null,null,null,null,null,0,{"$error":"#DIV/0!"},-512,{"$f":"IF(O301>1,I257/(O301-1),I257/O301)","v":{"$error":"#DIV/0!"}},{"$error":"#DIV/0!"},null,null,null,null,null,null,0,1]
[null,null,null,"DIVAR IP 7000 R2 8X4TB + 4x DIVAR IP 6000 R2 3U 16x4TB",null,null,"RAID 5",0,{"$f":"IF(G302=\"RAID 5\",(((7-H302)*3723))+(4*(((15-H302)*3723))),(((6-H302)*3723))+(4*(((15-H302)*3723))))","v":249441},{"$f":"(4*16+8)*4","v":288},0,{"$f":"475+(4*550)","v":2675},{"$f":"128+(4*128)","v":640},{"$f":"I257/O302","v":{"$error":"#DIV/0!"}},0,{"$f":"(1-((G257/$I302)-INT(G257/$I302)))*I302/1024","v":243.5947265625},{"$error":"#DIV/0!"},0,0,0,0,0,{"$error":"#DIV/0!"},{"$error":"#DIV/0!"},null,null,null,null,null,null,null,null,0,{"$error":"#DIV/0!"},-640,{"$f":"IF(O302>1,$I$257/(O302-1),$I$257/O302)","v":{"$error":"#DIV/0!"}},{"$error":"#DIV/0!"},null,null,null,null,null,null,0,1]
[null,null,null,"DIVAR IP 7000 R2 16X3TB + 1x DIVAR IP 6000 R2 8x4TB",null,null,"RAID 5",0,{"$f":"IF(G303=\"RAID 5\",(((15-H303)*2792))+(1*(((7-H303)*3723))),(((14-H303)*2792))+(1*(((6-H303)*3723))))","v":67941},{"$f":"(16*3)+(1*(8*4))","v":80},0,{"$f":"475+(1*550)","v":1025},{"$f":"128+(1*128)","v":256},{"$f":"$I$257/O303","v":{"$error":"#DIV/0!"}},0,{"$f":"(1-(($G$257/$I303)-INT($G$257/$I303)))*I303/1024","v":66.3486328125},{"$error":"#DIV/0!"},0,0,0,0,0,{"$error":"#DIV/0!"},{"$error":"#DIV/0!"},null,null,null,null,null,null,null,null,0,{"$error":"#DIV/0!"},-256,{"$error":"#DIV/0!"},{"$error":"#DIV/0!"},null,null,null,null,null,null,0,1]
[null,null,null,"DIVAR IP 7000 R2 16X3TB + 2x DIVAR IP 6000 R2 8x4TB",null,null,"RAID 5",0,{"$f":"IF(G304=\"RAID 5\",(((15-H304)*2792))+(2*(((7-H304)*3723))),(((14-H304)*2792))+(2*(((6-H304)*3723))))","v":94002},{"$f":"(16*3)+(2*(8*4))","v":112},0,{"$f":"475+(2*550)","v":1575},{"$f":"128+(2*128)","v":384},{"$error":"#DIV/0!"},0,91.798828125,{"$error":"#DIV/0!"},0,0,0,0,0,{"$error":"#DIV/0!"},{"$error":"#DIV/0!"},null,null,null,null,null,null,null,null,0,{"$error":"#DIV/0!"},-384,{"$error":"#DIV/0!"},{"$error":"#DIV/0!"},null,null,null,null,null,null,0,1]
[null,null,null,"DIVAR IP 7000 R2 16X3TB + 3x \tDIVAR IP 6000 R2 8x4TB",null,null,"RAID 5",0,{"$f":"IF(G305=\"RAID 5\",(((15-H305)*2792))+(3*(((7-H305)*3723))),(((14-H305)*2792))+(3*(((6-H305)*3723))))","v":120063},{"$f":"(16*3)+(3*(8*4))","v":144},0,{"$f":"475+(3*550)","v":2125},{"$f":"128+(3*128)","v":512},{"$error":"#DIV/0!"},0,117.2490234375,{"$error":"#DIV/0!"},0,0,0,0,0,{"$error":"#DIV/0!"},{"$error":"#DIV/0!"},null,null,null,null,null,null,null,null,0,{"$error":"#DIV/0!"},-512,{"$error":"#DIV/0!"},{"$error":"#DIV/0!"},null,null,null,null,null,null,0,1]
[null,null,null,"DIVAR IP 7000 R2 16X3TB + 4x \tDIVAR IP 6000 R2 8x4TB",null,null,"RAID 5",0,{"$f":"IF(G306=\"RAID 5\",(((15-H306)*2792))+(4*(((7-H306)*3723))),(((14-H306)*2792))+(4*(((6-H306)*3723))))","v":146124},{"$f":"(16*3)+(4*(8*4))","v":176},0,{"$f":"475+(4*550)","v":2675},{"$f":"128+(4*128)","v":640},{"$error":"#DIV/0!"},0,142.69921875,{"$error":"#DIV/0!"},0,0,0,0,0,{"$error":"#DIV/0!"},{"$error":"#DIV/0!"},null,null,null,null,null,null,null,null,0,{"$error":"#DIV/0!"},-640,{"$error":"#DIV/0!"},{"$error":"#DIV/0!"},null,null,null,null,null,null,0,1]
[null,null,null,"DIVAR IP 7000 R2 16X3TB + 1x \tDIVAR IP 6000 R2 3U 16x3TB",null,null,"RAID 5",0,{"$f":"IF(G307=\"RAID 5\",(((15-H307)*2792))+(1*(((15-H307)*2792))),(((14-H307)*2792))+(1*(((14-H307)*2792))))","v":83760},{"$f":"(16*3)+(1*(16*3))","v":96},0,{"$f":"475+(1*550)","v":1025},{"$f":"128+(1*128)","v":256},{"$error":"#DIV/0!"},0,81.796875,{"$error":"#DIV/0!"},0,0,0,0,0,{"$error":"#DIV/0!"},{"$error":"#DIV/0!"},null,null,null,null,null,null,null,null,0,{"$error":"#DIV/0!"},-256,{"$error":"#DIV/0!"},{"$error":"#DIV/0!"},null,null,null,null,null,null,0,1]
[null,null,null,"DIVAR IP 7000 R2 16X3TB + 2x \tDIVAR IP 6000 R2 3U 16x3TB",null,null,"RAID 5",0,{"$f":"IF(G308=\"RAID 5\",(((15-H308)*2792))+(2*(((15-H308)*2792))),(((14-H308)*2792))+(2*(((14-H308)*2792))))","v":125640},{"$f":"(16*3)+(2*(16*3))","v":144},0,{"$f":"475+(2*550)","v":1575},{"$f":"128+(2*128)","v":384},{"$error":"#DIV/0!"},{"$f":"ROUNDUP($G$257/I308,0)","v":0},122.6953125,{"$error":"#DIV/0!"},0,0,0,0,0,{"$error":"#DIV/0!"},{"$error":"#DIV/0!"},null,null,null,null,null,null,null,null,0,{"$error":"#DIV/0!"},-384,{"$error":"#DIV/0!"},{"$error":"#DIV/0!"},null,null,null,null,null,null,0,1]
[null,null,null,"DIVAR IP 7000 R2 16X3TB + 3x \tDIVAR IP 6000 R2 3U 16x3TB",null,null,"RAID 5",0,{"$f":"IF(G309=\"RAID 5\",(((15-H309)*2792))+(3*(((15-H309)*2792))),(((14-H309)*2792))+(3*(((14-H309)*2792))))","v":167520},{"$f":"(16*3)+(3*(16*3))","v":192},0,{"$f":"475+(3*550)","v":2125},{"$f":"128+(3*128)","v":512},{"$error":"#DIV/0!"},0,163.59375,{"$error":"#DIV/0!"},0,0,0,0,0,{"$error":"#DIV/0!"},{"$error":"#DIV/0!"},null,null,null,null,null,null,null,null,0,{"$f":"AG309/$AG$563","v":{"$error":"#DIV/0!"}},-512,{"$error":"#DIV/0!"},{"$error":"#DIV/0!"},null,null,null,null,null,null,0,1]
[null,null,null,"DIVAR IP 7000 R2 16X3TB + 4x \tDIVAR IP 6000 R2 3U 16x3TB",null,null,"RAID 5",0,{"$f":"IF(G310=\"RAID 5\",(((15-H310)*2792))+(4*(((15-H310)*2792))),(((14-H310)*2792))+(4*(((14-H310)*2792))))","v":209400},{"$f":"(16*3)+(4*(16*3))","v":240},0,{"$f":"475+(4*550)","v":2675},{"$f":"128+(4*128)","v":640},{"$error":"#DIV/0!"},0,204.4921875,{"$error":"#DIV/0!"},0,0,0,0,0,{"$error":"#DIV/0!"},{"$error":"#DIV/0!"},null,null,null,null,null,null,null,null,0,{"$error":"#DIV/0!"},-640,{"$error":"#DIV/0!"},{"$error":"#DIV/0!"},null,null,null,null,null,null,{"$f":"IF(G310=\"RAID 6\",0,0)","v":0},{"$f":"IF(G310=\"RAID 6\",0,1)","v":1}]
[null,null,null,"DIVAR IP 7000 R2 16X3TB + 1x \tDIVAR IP 6000 R2 3U 16x4TB",null,null,"RAID 5",0,{"$f":"IF(G311=\"RAID 5\",(((15-H311)*2792))+(1*(((15-H311)*3723))),(((14-H311)*2792))+(1*(((14-H311)*3723))))","v":97725},{"$f":"(16*3)+(1*(16*4))","v":112},0,{"$f":"475+(1*550)","v":1025},{"$f":"128+(1*128)","v":256},{"$error":"#DIV/0!"},0,95.4345703125,{"$error":"#DIV/0!"},0,0,0,0,0,{"$error":"#DIV/0!"},{"$error":"#DIV/0!"},null,null,null,null,null,null,null,null,0,{"$error":"#DIV/0!"},-256,{"$error":"#DIV/0!"},{"$error":"#DIV/0!"},null,null,null,null,null,null,0,1]
[null,null,null,"DIVAR IP 7000 R2 16X3TB + 2x \tDIVAR IP 6000 R2 3U 16x4TB",null,null,"RAID 5",0,{"$f":"IF(G312=\"RAID 5\",(((15-H312)*2792))+(2*(((15-H312)*3723))),(((14-H312)*2792))+(2*(((14-H312)*3723))))","v":153570},{"$f":"(16*3)+(2*(16*4))","v":176},0,{"$f":"475+(2*550)","v":1575},{"$f":"128+(2*128)","v":384},{"$error":"#DIV/0!"},0,149.970703125,{"$error":"#DIV/0!"},0,0,0,0,0,{"$error":"#DIV/0!"},{"$error":"#DIV/0!"},null,null,null,null,null,null,null,null,0,{"$error":"#DIV/0!"},-384,{"$error":"#DIV/0!"},{"$error":"#DIV/0!"},null,null,null,null,null,null,0,1]
[null,null,null,"DIVAR IP 7000 R2 16X3TB + 3x \tDIVAR IP 6000 R2 3U 16x4TB",null,null,"RAID 5",0,{"$f":"IF(G313=\"RAID 5\",(((15-H313)*2792))+(3*(((15-H313)*3723))),(((14-H313)*2792))+(3*(((14-H313)*3723))))","v":209415},{"$f":"(16*3)+(3*(16*4))","v":240},0,{"$f":"475+(3*550)","v":2125},{"$f":"128+(3*128)","v":512},{"$error":"#DIV/0!"},0,204.5068359375,{"$error":"#DIV/0!"},0,0,0,0,0,{"$error":"#DIV/0!"},{"$error":"#DIV/0!"},null,null,null,null,null,null,null,null,0,{"$error":"#DIV/0!"},-512,{"$error":"#DIV/0!"},{"$error":"#DIV/0!"},null,null,null,null,null,null,0,1]
[null,null,null,"DIVAR IP 7000 R2 16X3TB + 4x DIVAR IP 6000 R2 3U 16x4TB",null,null,"RAID 5",0,{"$f":"IF(G314=\"RAID 5\",(((15-H314)*2792))+(4*(((15-H314)*3723))),(((14-H314)*2792))+(4*(((14-H314)*3723))))","v":265260},{"$f":"(16*3)+(4*(16*4))","v":304},0,{"$f":"475+(4*550)","v":2675},{"$f":"128+(4*128)","v":640},{"$error":"#DIV/0!"},0,259.04296875,{"$error":"#DIV/0!"},0,0,0,0,0,{"$error":"#DIV/0!"},{"$error":"#DIV/0!"},null,null,null,null,null,null,null,null,0,{"$error":"#DIV/0!"},-640,{"$error":"#DIV/0!"},{"$error":"#DIV/0!"},null,null,null,null,null,null,0,1]
[null,null,null,"DIVAR IP 7000 R2 8X4TB + 1x DIVAR IP 6000 R2 8X3TB",null,null,"RAID 5",0,{"$f":"IF(G315=\"RAID 5\",(((7-H315)*3723))+(1*(((7-H315)*2792))),(((6-H315)*3723))+(1*(((6-H315)*2792))))","v":45605},{"$f":"(8*4)+(1*(8*3))","v":56},0,{"$f":"475+(1*550)","v":1025},{"$f":"128+(1*128)","v":256},{"$error":"#DIV/0!"},0,44.5361328125,{"$error":"#DIV/0!"},0,0,0,0,0,{"$error":"#DIV/0!"},{"$error":"#DIV/0!"},null,null,null,null,null,null,null,null,0,{"$error":"#DIV/0!"},-256,{"$error":"#DIV/0!"},{"$error":"#DIV/0!"},null,null,null,null,null,null,0,1]
[null,null,null,"DIVAR IP 7000 R2 8X4TB + 2x DIVAR IP 6000 R2 8X3TB",null,null,"RAID 5",0,{"$f":"IF(G316=\"RAID 5\",(((7-H316)*3723))+(2*(((7-H316)*2792))),(((6-H316)*3723))+(2*(((6-H316)*2792))))","v":65149},{"$f":"(8*4)+(2*(8*3))","v":80},0,{"$f":"475+(2*550)","v":1575},{"$f":"128+(2*128)","v":384},{"$error":"#DIV/0!"},0,63.6220703125,{"$error":"#DIV/0!"},0,0,0,0,0,{"$error":"#DIV/0!"},{"$error":"#DIV/0!"},null,null,null,null,null,null,null,null,{"$f":"AF316*O316","v":0},{"$error":"#DIV/0!"},-384,{"$error":"#DIV/0!"},{"$error":"#DIV/0!"},null,null,null,null,null,null,0,1]
[null,null,null,"DIVAR IP 7000 R2 8X4TB + 3x DIVAR IP 6000 R2 8X3TB",null,null,"RAID 5",0,{"$f":"IF(G317=\"RAID 5\",(((7-H317)*3723))+(3*(((7-H317)*2792))),(((6-H317)*3723))+(3*(((6-H317)*2792))))","v":84693},{"$f":"(8*4)+(3*(8*3))","v":104},0,{"$f":"475+(3*550)","v":2125},{"$f":"128+(3*128)","v":512},{"$error":"#DIV/0!"},0,82.7080078125,{"$error":"#DIV/0!"},0,0,0,0,0,{"$error":"#DIV/0!"},{"$error":"#DIV/0!"},null,null,null,null,null,null,null,null,0,{"$error":"#DIV/0!"},-512,{"$error":"#DIV/0!"},{"$error":"#DIV/0!"},null,null,null,null,null,null,0,1]
[null,null,null,"DIVAR IP 7000 R2 8X4TB + 4x DIVAR IP 6000 R2 8X3TB",null,null,"RAID 5",0,{"$f":"IF(G318=\"RAID 5\",(((7-H318)*3723))+(4*(((7-H318)*2792))),(((6-H318)*3723))+(4*(((6-H318)*2792))))","v":104237},{"$f":"(8*4)+(4*(8*3))","v":128},0,{"$f":"475+(4*550)","v":2675},{"$f":"128+(4*128)","v":640},{"$error":"#DIV/0!"},0,101.7939453125,{"$error":"#DIV/0!"},0,0,0,0,0,{"$error":"#DIV/0!"},{"$error":"#DIV/0!"},null,null,null,null,null,null,null,null,0,{"$error":"#DIV/0!"},-640,{"$error":"#DIV/0!"},{"$error":"#DIV/0!"},null,null,null,null,null,null,0,1]
[null,null,null,"DIVAR IP 7000 R2 8X4TB +  1x \tDIVAR IP 6000 R2 3U 16x3TB",null,null,"RAID 5",0,{"$f":"IF(G319=\"RAID 5\",(((7-H319)*3723))+(1*(((15-H319)*2792))),(((6-H319)*3723))+(1*(((14-H319)*2792))))","v":67941},{"$f":"(8*4)+(1*(16*3))","v":80},0,{"$f":"475+(1*550)","v":1025},{"$f":"128+(1*128)","v":256},{"$error":"#DIV/0!"},0,66.3486328125,{"$error":"#DIV/0!"},0,0,0,0,0,{"$error":"#DIV/0!"},{"$error":"#DIV/0!"},null,null,null,null,null,null,null,null,0,{"$error":"#DIV/0!"},-256,{"$error":"#DIV/0!"},{"$error":"#DIV/0!"},null,null,null,null,null,null,0,1]
[null,null,null,"DIVAR IP 7000 R2 8X4TB +  2x \tDIVAR IP 6000 R2 3U 16x3TB",null,null,"RAID 5",0,{"$f":"IF(G320=\"RAID 5\",(((7-H320)*3723))+(2*(((15-H320)*2792))),(((6-H320)*3723))+(2*(((14-H320)*2792))))","v":109821},{"$f":"(8*4)+(2*(16*3))","v":128},0,{"$f":"475+(2*550)","v":1575},{"$f":"128+(2*128)","v":384},{"$error":"#DIV/0!"},0,107.2470703125,{"$error":"#DIV/0!"},0,0,0,0,0,{"$error":"#DIV/0!"},{"$error":"#DIV/0!"},null,null,null,null,null,null,null,null,0,{"$error":"#DIV/0!"},-384,{"$error":"#DIV/0!"},{"$error":"#DIV/0!"},null,null,null,null,null,null,0,1]
[null,null,null,"DIVAR IP 7000 R2 8X4TB +  3x \tDIVAR IP 6000 R2 3U 16x3TB",null,null,"RAID 5",0,{"$f":"IF(G321=\"RAID 5\",(((7-H321)*3723))+(3*(((15-H321)*2792))),(((6-H321)*3723))+(3*(((14-H321)*2792))))","v":151701},{"$f":"(8*4)+(3*(16*3))","v":176},0,{"$f":"475+(3*550)","v":2125},{"$f":"128+(3*128)","v":512},{"$error":"#DIV/0!"},0,148.1455078125,{"$error":"#DIV/0!"},0,0,0,0,0,{"$error":"#DIV/0!"},{"$error":"#DIV/0!"},null,null,null,null,null,null,null,null,0,{"$error":"#DIV/0!"},-512,{"$error":"#DIV/0!"},{"$error":"#DIV/0!"},null,null,null,null,null,null,0,1]
[null,null,null,"DIVAR IP 7000 R2 8X4TB +  4x \tDIVAR IP 6000 R2 3U 16x3TB",null,null,"RAID 5",0,{"$f":"IF(G322=\"RAID 5\",(((7-H322)*3723))+(4*(((15-H322)*2792))),(((6-H322)*3723))+(4*(((14-H322)*2792))))","v":193581},{"$f":"(8*4)+(4*(16*3))","v":224},0,{"$f":"475+(4*550)","v":2675},{"$f":"128+(4*128)","v":640},{"$error":"#DIV/0!"},0,189.0439453125,{"$error":"#DIV/0!"},0,0,0,0,0,{"$error":"#DIV/0!"},{"$error":"#DIV/0!"},null,null,null,null,null,null,null,null,0,{"$error":"#DIV/0!"},-640,{"$error":"#DIV/0!"},{"$error":"#DIV/0!"},null,null,null,null,null,null,0,1]
[null,null,null,"DIVAR IP 7000 R2 16X4TB + 1x \tDIVAR IP 6000 R2 8x4TB",null,null,"RAID 5",0,{"$f":"IF(G323=\"RAID 5\",(((15-H323)*3723))+(1*(((7-H323)*3723))),(((14-H323)*3723))+(1*(((6-H323)*3723))))","v":81906},{"$f":"(16*4)+(1*(8*4))","v":96},0,{"$f":"475+(1*550)","v":1025},{"$f":"128+(1*128)","v":256},{"$error":"#DIV/0!"},0,79.986328125,{"$error":"#DIV/0!"},0,0,0,0,0,{"$error":"#DIV/0!"},{"$error":"#DIV/0!"},null,null,null,null,null,null,null,null,0,{"$error":"#DIV/0!"},-256,{"$error":"#DIV/0!"},{"$error":"#DIV/0!"},null,null,null,null,null,null,0,1]
[null,null,null,"DIVAR IP 7000 R2 16X4TB + 2x \tDIVAR IP 6000 R2 8x4TB",null,null,"RAID 5",0,{"$f":"IF(G324=\"RAID 5\",(((15-H324)*3723))+(2*(((7-H324)*3723))),(((14-H324)*3723))+(2*(((6-H324)*3723))))","v":107967},{"$f":"(16*4)+(2*(8*4))","v":128},0,{"$f":"475+(2*550)","v":1575},{"$f":"128+(2*128)","v":384},{"$error":"#DIV/0!"},0,105.4365234375,{"$error":"#DIV/0!"},0,0,0,0,0,{"$error":"#DIV/0!"},{"$error":"#DIV/0!"},null,null,null,null,null,null,null,null,0,{"$error":"#DIV/0!"},-384,{"$error":"#DIV/0!"},{"$error":"#DIV/0!"},null,null,null,null,null,null,0,1]
[null,null,null,"DIVAR IP 7000 R2 16X4TB + 3x \tDIVAR IP 6000 R2 8x4TB",null,null,"RAID 5",0,{"$f":"IF(G325=\"RAID 5\",(((15-H325)*3723))+(3*(((7-H325)*3723))),(((14-H325)*3723))+(3*(((6-H325)*3723))))","v":134028},{"$f":"(16*4)+(3*(8*4))","v":160},0,{"$f":"475+(3*550)","v":2125},{"$f":"128+(3*128)","v":512},{"$error":"#DIV/0!"},0,130.88671875,{"$error":"#DIV/0!"},0,0,0,0,0,{"$error":"#DIV/0!"},{"$error":"#DIV/0!"},null,null,null,null,null,null,null,null,0,{"$error":"#DIV/0!"},-512,{"$error":"#DIV/0!"},{"$error":"#DIV/0!"},null,null,null,null,null,null,0,1]
[null,null,null,"DIVAR IP 7000 R2 16X4TB + 4x \tDIVAR IP 6000 R2 8x4TB",null,null,"RAID 5",0,{"$f":"IF(G326=\"RAID 5\",(((15-H326)*3723))+(4*(((7-H326)*3723))),(((14-H326)*3723))+(4*(((6-H326)*3723))))","v":160089},{"$f":"(16*4)+(4*(8*4))","v":192},0,{"$f":"475+(4*550)","v":2675},{"$f":"128+(4*128)","v":640},{"$error":"#DIV/0!"},0,156.3369140625,{"$error":"#DIV/0!"},0,0,0,0,0,{"$error":"#DIV/0!"},{"$error":"#DIV/0!"},null,null,null,null,null,null,null,null,0,{"$error":"#DIV/0!"},-640,{"$error":"#DIV/0!"},{"$error":"#DIV/0!"},null,null,null,null,null,null,0,1]
[null,null,null,"DIVAR IP 7000 R2 16X4TB + 1x \tDIVAR IP 6000 R2 3U 16x3TB",null,null,"RAID 5",0,{"$f":"IF(G327=\"RAID 5\",(((15-H327)*3723))+(1*(((15-H327)*2792))),(((14-H327)*3723))+(1*(((14-H327)*2792))))","v":97725},{"$f":"(16*4)+(1*(16*3))","v":112},{"$f":"O327*J327","v":0},{"$f":"475+(1*550)","v":1025},{"$f":"128+(1*128)","v":256},{"$error":"#DIV/0!"},0,95.4345703125,{"$error":"#DIV/0!"},{"$f":"O327*M327","v":0},0,{"$f":"O327*1*MAX($N$1528,1)","v":0},0,0,{"$error":"#DIV/0!"},{"$error":"#DIV/0!"},null,null,null,null,null,null,null,null,0,{"$error":"#DIV/0!"},{"$f":"(O327-1)*M327","v":-256},{"$error":"#DIV/0!"},{"$f":"IF(X327=\"<-- fits project\",D327,\"\")","v":{"$error":"#DIV/0!"}},null,null,null,null,null,null,0,1]
[null,null,null,"DIVAR IP 7000 R2 16X4TB + 2x \tDIVAR IP 6000 R2 3U 16x3TB",null,null,"RAID 5",0,{"$f":"IF(G328=\"RAID 5\",(((15-H328)*3723))+(2*(((15-H328)*2792))),(((14-H328)*3723))+(2*(((14-H328)*2792))))","v":139605},{"$f":"(16*4)+(2*(16*3))","v":160},0,{"$f":"475+(2*550)","v":1575},{"$f":"128+(2*128)","v":384},{"$error":"#DIV/0!"},0,136.3330078125,{"$error":"#DIV/0!"},0,0,0,0,0,{"$error":"#DIV/0!"},{"$error":"#DIV/0!"},null,null,null,null,null,null,null,null,0,{"$error":"#DIV/0!"},-384,{"$error":"#DIV/0!"},{"$error":"#DIV/0!"},null,null,null,null,null,null,0,1]
[null,null,null,"DIVAR IP 7000 R2 16X4TB + 3x \tDIVAR IP 6000 R2 3U 16x3TB",null,null,"RAID 5",0,{"$f":"IF(G329=\"RAID 5\",(((15-H329)*3723))+(3*(((15-H329)*2792))),(((14-H329)*3723))+(3*(((14-H329)*2792))))","v":181485},{"$f":"(16*4)+(3*(16*3))","v":208},0,{"$f":"475+(3*550)","v":2125},{"$f":"128+(3*128)","v":512},{"$error":"#DIV/0!"},0,177.2314453125,{"$error":"#DIV/0!"},0,0,0,0,0,{"$error":"#DIV/0!"},{"$error":"#DIV/0!"},null,null,null,null,null,null,null,null,0,{"$error":"#DIV/0!"},-512,{"$error":"#DIV/0!"},{"$error":"#DIV/0!"},null,null,null,null,null,null,0,1]
[null,null,null,"DIVAR IP 7000 R2 16X4TB + 4x \tDIVAR IP 6000 R2 3U 16x3TB",null,null,"RAID 5",0,{"$f":"IF(G330=\"RAID 5\",(((15-H330)*3723))+(4*(((15-H330)*2792))),(((14-H330)*3723))+(4*(((14-H330)*2792))))","v":223365},{"$f":"(16*4)+(4*(16*3))","v":256},0,{"$f":"475+(4*550)","v":2675},{"$f":"128+(4*128)","v":640},{"$error":"#DIV/0!"},0,218.1298828125,{"$error":"#DIV/0!"},0,0,0,0,0,{"$error":"#DIV/0!"},{"$error":"#DIV/0!"},null,null,null,null,null,null,null,null,0,{"$error":"#DIV/0!"},-640,{"$error":"#DIV/0!"},{"$error":"#DIV/0!"},null,null,null,null,null,null,0,1]
[null,null,null,"DIVAR IP 7000 R2 16X4TB + 1x \tDIVAR IP 6000 R2 3U 16x4TB",null,null,"RAID 5",0,{"$f":"IF(G331=\"RAID 5\",(((15-H331)*3723))+(1*(((15-H331)*3723))),(((14-H331)*3723))+(1*(((14-H331)*3723))))","v":111690},{"$f":"(16*4)+(1*(16*4))","v":128},0,{"$f":"475+(1*550)","v":1025},{"$f":"128+(1*128)","v":256},{"$error":"#DIV/0!"},0,109.072265625,{"$error":"#DIV/0!"},0,0,0,0,0,{"$error":"#DIV/0!"},{"$error":"#DIV/0!"},null,null,null,null,null,null,null,null,0,{"$error":"#DIV/0!"},-256,{"$error":"#DIV/0!"},{"$error":"#DIV/0!"},null,null,null,null,null,null,0,1]
[null,null,null,"DIVAR IP 7000 R2 16X4TB + 2x \tDIVAR IP 6000 R2 3U 16x4TB",null,null,"RAID 5",0,{"$f":"IF(G332=\"RAID 5\",(((15-H332)*3723))+(2*(((15-H332)*3723))),(((14-H332)*3723))+(2*(((14-H332)*3723))))","v":167535},{"$f":"(16*4)+(2*(16*4))","v":192},0,{"$f":"475+(2*550)","v":1575},{"$f":"128+(2*128)","v":384},{"$error":"#DIV/0!"},0,163.6083984375,{"$error":"#DIV/0!"},0,0,0,0,0,{"$error":"#DIV/0!"},{"$error":"#DIV/0!"},null,null,null,null,null,null,null,null,0,{"$error":"#DIV/0!"},-384,{"$error":"#DIV/0!"},{"$error":"#DIV/0!"},null,null,null,null,null,null,0,1]
[null,null,null,"DIVAR IP 7000 R2 16X4TB + 3x \tDIVAR IP 6000 R2 3U 16x4TB",null,null,"RAID 5",0,{"$f":"IF(G333=\"RAID 5\",(((15-H333)*3723))+(3*(((15-H333)*3723))),(((14-H333)*3723))+(3*(((14-H333)*3723))))","v":223380},{"$f":"(16*4)+(3*(16*4))","v":256},0,{"$f":"475+(3*550)","v":2125},{"$f":"128+(3*128)","v":512},{"$error":"#DIV/0!"},0,218.14453125,{"$error":"#DIV/0!"},0,0,0,0,0,{"$error":"#DIV/0!"},{"$f":"IF(AND(IF($N333<=$L333,TRUE,FALSE),IF($V333<=$R333,TRUE,FALSE),OR(W333=\"True\",$W$262=\"No\"),IF($A$269=\"False\",IF(O333=1,TRUE,FALSE),TRUE)),\"<-- fits project\",\"\")","v":{"$error":"#DIV/0!"}},null,null,null,null,null,null,null,null,0,{"$error":"#DIV/0!"},-512,{"$error":"#DIV/0!"},{"$error":"#DIV/0!"},null,null,null,null,null,null,0,1]
[null,null,null,"DIVAR IP 7000 R2 16X4TB + 4x \tDIVAR IP 6000 R2 3U 16x4TB",null,null,"RAID 5",0,{"$f":"IF(G334=\"RAID 5\",(((15-H334)*3723))+(4*(((15-H334)*3723))),(((14-H334)*3723))+(4*(((14-H334)*3723))))","v":279225},{"$f":"(16*4)+(4*(16*4))","v":320},0,{"$f":"475+(4*550)","v":2675},{"$f":"128+(4*128)","v":640},{"$error":"#DIV/0!"},0,272.6806640625,{"$error":"#DIV/0!"},0,0,0,0,0,{"$error":"#DIV/0!"},{"$error":"#DIV/0!"},null,null,null,null,null,null,null,null,0,{"$error":"#DIV/0!"},-640,{"$f":"IF(O334>1,$I$257/(O334-1),$I$257/O334)","v":{"$error":"#DIV/0!"}},{"$error":"#DIV/0!"},null,null,null,null,null,null,0,1]
[null,null,null,"DIVAR IP 7000 R2 8X6TB + 1x DIVAR IP 6000 R2 8x3TB",null,null,"RAID 5",0,{"$f":"IF(G335=\"RAID 5\",(((7-H335)*5586))+(1*(((7-H335)*2793))),(((6-H335)*5586))+(1*(((6-H335)*2793))))","v":58653},{"$f":"(8*6)+(1*(8*3))","v":72},0,{"$f":"475+(1*550)","v":1025},{"$f":"128+(1*128)","v":256},{"$f":"$I$257/O335","v":{"$error":"#DIV/0!"}},0,{"$f":"(1-(($G$257/$I335)-INT($G$257/$I335)))*I335/1024","v":57.2783203125},{"$error":"#DIV/0!"},0,0,0,0,0,{"$error":"#DIV/0!"},{"$error":"#DIV/0!"},null,null,null,null,null,null,null,null,0,{"$error":"#DIV/0!"},-256,{"$error":"#DIV/0!"},{"$error":"#DIV/0!"},null,null,null,null,null,null,0,1]
[null,null,null,"DIVAR IP 7000 R2 8X6TB + 2x DIVAR IP 6000 R2 8x3TB",null,null,"RAID 5",0,{"$f":"IF(G336=\"RAID 5\",(((7-H336)*5586))+(2*(((7-H336)*2793))),(((6-H336)*5586))+(2*(((6-H336)*2793))))","v":78204},{"$f":"(8*6)+(2*(8*3))","v":96},0,{"$f":"475+(2*550)","v":1575},{"$f":"128+(2*128)","v":384},{"$error":"#DIV/0!"},0,76.37109375,{"$error":"#DIV/0!"},0,0,0,0,0,{"$error":"#DIV/0!"},{"$error":"#DIV/0!"},null,null,null,null,null,null,null,null,0,{"$error":"#DIV/0!"},-384,{"$error":"#DIV/0!"},{"$error":"#DIV/0!"},null,null,null,null,null,null,0,1]
[null,null,null,"DIVAR IP 7000 R2 8X6TB + 3x DIVAR IP 6000 R2 8x3TB",null,null,"RAID 5",0,{"$f":"IF(G337=\"RAID 5\",(((7-H337)*5586))+(3*(((7-H337)*2793))),(((6-H337)*5586))+(3*(((6-H337)*2793))))","v":97755},{"$f":"(8*6)+(3*(8*3))","v":120},0,{"$f":"475+(3*550)","v":2125},{"$f":"128+(3*128)","v":512},{"$error":"#DIV/0!"},0,95.4638671875,{"$error":"#DIV/0!"},0,0,0,0,0,{"$error":"#DIV/0!"},{"$error":"#DIV/0!"},null,null,null,null,null,null,null,null,0,{"$error":"#DIV/0!"},-512,{"$error":"#DIV/0!"},{"$error":"#DIV/0!"},null,null,null,null,null,null,0,1]
[null,null,null,"DIVAR IP 7000 R2 8X6TB + 4x DIVAR IP 6000 R2 8x3TB",null,null,"RAID 5",0,{"$f":"IF(G338=\"RAID 5\",(((7-H338)*5586))+(4*(((7-H338)*2793))),(((6-H338)*5586))+(4*(((6-H338)*2793))))","v":117306},{"$f":"(8*6)+(4*(8*3))","v":144},0,{"$f":"475+(4*550)","v":2675},{"$f":"128+(4*128)","v":640},{"$error":"#DIV/0!"},0,114.556640625,{"$error":"#DIV/0!"},0,0,0,0,0,{"$error":"#DIV/0!"},{"$error":"#DIV/0!"},null,null,null,null,null,null,null,null,0,{"$error":"#DIV/0!"},-640,{"$error":"#DIV/0!"},{"$error":"#DIV/0!"},null,null,null,null,null,null,0,1]
[null,null,null,"DIVAR IP 7000 R2 8X6TB + 1x DIVAR IP 6000 R2 3U 16x3TB",null,null,"RAID 5",0,{"$f":"IF(G339=\"RAID 5\",(((7-H339)*5586))+(1*(((15-H339)*2793))),(((6-H339)*5586))+(1*(((14-H339)*2793))))","v":80997},{"$f":"(8*6)+(1*(16*3))","v":96},0,{"$f":"475+(1*550)","v":1025},{"$f":"128+(1*128)","v":256},{"$error":"#DIV/0!"},0,79.0986328125,{"$error":"#DIV/0!"},0,0,0,0,0,{"$error":"#DIV/0!"},{"$error":"#DIV/0!"},null,null,null,null,null,null,null,null,0,{"$error":"#DIV/0!"},-256,{"$error":"#DIV/0!"},{"$error":"#DIV/0!"},null,null,null,null,null,null,0,1]
[null,null,null,"DIVAR IP 7000 R2 8X6TB + 2x DIVAR IP 6000 R2 3U 16x3TB",null,null,"RAID 5",0,{"$f":"IF(G340=\"RAID 5\",(((7-H340)*5586))+(2*(((15-H340)*2793))),(((6-H340)*5586))+(2*(((14-H340)*2793))))","v":122892},{"$f":"(8*6)+(2*(16*3))","v":144},0,{"$f":"475+(2*550)","v":1575},{"$f":"128+(2*128)","v":384},{"$error":"#DIV/0!"},{"$f":"ROUNDUP($G$257/I340,0)","v":0},120.01171875,{"$error":"#DIV/0!"},0,0,0,0,0,{"$error":"#DIV/0!"},{"$error":"#DIV/0!"},null,null,null,null,null,null,null,null,0,{"$error":"#DIV/0!"},-384,{"$error":"#DIV/0!"},{"$error":"#DIV/0!"},null,null,null,null,null,null,0,1]
[null,null,null,"DIVAR IP 7000 R2 8X6TB + 3x DIVAR IP 6000 R2 3U 16x3TB",null,null,"RAID 5",0,{"$f":"IF(G341=\"RAID 5\",(((7-H341)*5586))+(3*(((15-H341)*2793))),(((6-H341)*5586))+(3*(((14-H341)*2793))))","v":164787},{"$f":"(8*6)+(3*(16*3))","v":192},0,{"$f":"475+(3*550)","v":2125},{"$f":"128+(3*128)","v":512},{"$error":"#DIV/0!"},0,160.9248046875,{"$error":"#DIV/0!"},0,0,0,0,{"$f":"SUM(S341)","v":0},{"$error":"#DIV/0!"},{"$error":"#DIV/0!"},null,null,null,null,null,null,null,null,0,{"$f":"AG341/$AG$563","v":{"$error":"#DIV/0!"}},-512,{"$error":"#DIV/0!"},{"$error":"#DIV/0!"},null,null,null,null,null,null,0,1]
[null,null,null,"DIVAR IP 7000 R2 8X6TB + 4x DIVAR IP 6000 R2 3U 16x3TB",null,null,"RAID 5",0,{"$f":"IF(G342=\"RAID 5\",(((7-H342)*5586))+(4*(((15-H342)*2793))),(((6-H342)*5586))+(4*(((14-H342)*2793))))","v":206682},{"$f":"(8*6)+(4*(16*3))","v":240},0,{"$f":"475+(4*550)","v":2675},{"$f":"128+(4*128)","v":640},{"$error":"#DIV/0!"},0,201.837890625,{"$error":"#DIV/0!"},0,0,0,0,0,{"$error":"#DIV/0!"},{"$error":"#DIV/0!"},null,null,null,null,null,null,null,null,0,{"$error":"#DIV/0!"},-640,{"$error":"#DIV/0!"},{"$error":"#DIV/0!"},null,null,null,null,null,null,{"$f":"IF(G342=\"RAID 6\",0,0)","v":0},{"$f":"IF(G342=\"RAID 6\",0,1)","v":1}]
[null,null,null,"DIVAR IP 7000 R2 8X6TB + 1x DIVAR IP 6000 R2 8X4TB",null,null,"RAID 5",0,{"$f":"IF(G343=\"RAID 5\",(((7-H343)*5586))+(1*(((7-H343)*3723))),(((6-H343)*5586))+(1*(((7-H343)*3723))))","v":65163},{"$f":"(8*6)+(1*(8*4))","v":80},0,{"$f":"475+(1*550)","v":1025},{"$f":"128+(1*128)","v":256},{"$error":"#DIV/0!"},0,63.6357421875,{"$error":"#DIV/0!"},0,0,0,0,0,{"$error":"#DIV/0!"},{"$error":"#DIV/0!"},null,null,null,null,null,null,null,null,0,{"$error":"#DIV/0!"},-256,{"$error":"#DIV/0!"},{"$error":"#DIV/0!"},null,null,null,null,null,null,0,1]
[null,null,null,"DIVAR IP 7000 R2 8X6TB + 2x DIVAR IP 6000 R2 8X4TB",null,null,"RAID 5",0,{"$f":"IF(G344=\"RAID 5\",(((7-H344)*5586))+(2*(((7-H344)*3723))),(((6-H344)*5586))+(2*(((7-H344)*3723))))","v":91224},{"$f":"(8*6)+(2*(8*4))","v":112},0,{"$f":"475+(2*550)","v":1575},{"$f":"128+(2*128)","v":384},{"$error":"#DIV/0!"},0,89.0859375,{"$error":"#DIV/0!"},0,0,0,0,0,{"$error":"#DIV/0!"},{"$error":"#DIV/0!"},null,null,null,null,null,null,null,null,0,{"$error":"#DIV/0!"},-384,{"$error":"#DIV/0!"},{"$error":"#DIV/0!"},null,null,null,null,null,null,0,1]
[null,null,null,"DIVAR IP 7000 R2 8X6TB + 3x DIVAR IP 6000 R2 8X4TB",null,null,"RAID 5",0,{"$f":"IF(G345=\"RAID 5\",(((7-H345)*5586))+(3*(((7-H345)*3723))),(((6-H345)*5586))+(3*(((7-H345)*3723))))","v":117285},{"$f":"(8*6)+(3*(8*4))","v":144},0,{"$f":"475+(3*550)","v":2125},{"$f":"128+(3*128)","v":512},{"$error":"#DIV/0!"},0,114.5361328125,{"$error":"#DIV/0!"},0,0,0,0,0,{"$error":"#DIV/0!"},{"$error":"#DIV/0!"},null,null,null,null,null,null,null,null,0,{"$error":"#DIV/0!"},-512,{"$error":"#DIV/0!"},{"$error":"#DIV/0!"},null,null,null,null,null,null,0,1]
[null,null,null,"DIVAR IP 7000 R2 8X6TB + 4x DIVAR IP 6000 R2 8X4TB",null,null,"RAID 5",0,{"$f":"IF(G346=\"RAID 5\",(((7-H346)*5586))+(4*(((7-H346)*3723))),(((6-H346)*5586))+(4*(((7-H346)*3723))))","v":143346},{"$f":"(8*6)+(4*(8*4))","v":176},0,{"$f":"475+(4*550)","v":2675},{"$f":"128+(4*128)","v":640},{"$error":"#DIV/0!"},0,139.986328125,{"$error":"#DIV/0!"},0,0,0,0,0,{"$error":"#DIV/0!"},{"$error":"#DIV/0!"},null,null,null,null,null,null,null,null,0,{"$error":"#DIV/0!"},-640,{"$error":"#DIV/0!"},{"$error":"#DIV/0!"},null,null,null,null,null,null,0,1]
[null,null,null,"DIVAR IP 7000 R2 8X6TB + 1x DIVAR IP 6000 R2 3U 16x4TB",null,null,"RAID 5",0,{"$f":"IF(G347=\"RAID 5\",(((7-H347)*5586))+(1*(((15-H347)*3723))),(((6-H347)*5586))+(1*(((14-H347)*3723))))","v":94947},{"$f":"(8*6)+(1*(16*4))","v":112},0,{"$f":"475+(1*550)","v":1025},{"$f":"128+(1*128)","v":256},{"$error":"#DIV/0!"},0,92.7216796875,{"$error":"#DIV/0!"},0,0,0,0,0,{"$error":"#DIV/0!"},{"$error":"#DIV/0!"},null,null,null,null,null,null,null,null,0,{"$error":"#DIV/0!"},-256,{"$error":"#DIV/0!"},{"$error":"#DIV/0!"},null,null,null,null,null,null,0,1]
[null,null,null,"DIVAR IP 7000 R2 8X6TB + 2x DIVAR IP 6000 R2 3U 16x4TB",null,null,"RAID 5",0,{"$f":"IF(G348=\"RAID 5\",(((7-H348)*5586))+(2*(((15-H348)*3723))),(((6-H348)*5586))+(2*(((14-H348)*3723))))","v":150792},{"$f":"(8*6)+(2*(16*4))","v":176},0,{"$f":"475+(2*550)","v":1575},{"$f":"128+(2*128)","v":384},{"$error":"#DIV/0!"},0,147.2578125,{"$error":"#DIV/0!"},0,0,0,0,0,{"$error":"#DIV/0!"},{"$error":"#DIV/0!"},null,null,null,null,null,null,null,null,{"$f":"AF348*O348","v":0},{"$error":"#DIV/0!"},-384,{"$error":"#DIV/0!"},{"$error":"#DIV/0!"},null,null,null,null,null,null,0,1]
[null,null,null,"DIVAR IP 7000 R2 8X6TB + 3x DIVAR IP 6000 R2 3U 16x4TB",null,null,"RAID 5",0,{"$f":"IF(G349=\"RAID 5\",(((7-H349)*5586))+(3*(((15-H349)*3723))),(((6-H349)*5586))+(3*(((14-H349)*3723))))","v":206637},{"$f":"(8*6)+(3*(16*4))","v":240},0,{"$f":"475+(3*550)","v":2125},{"$f":"128+(3*128)","v":512},{"$error":"#DIV/0!"},0,201.7939453125,{"$error":"#DIV/0!"},0,0,0,0,0,{"$error":"#DIV/0!"},{"$error":"#DIV/0!"},null,null,null,null,null,null,null,null,0,{"$error":"#DIV/0!"},-512,{"$error":"#DIV/0!"},{"$error":"#DIV/0!"},null,null,null,null,null,null,0,1]
[null,null,null,"DIVAR IP 7000 R2 8X6TB + 4x DIVAR IP 6000 R2 3U 16x4TB",null,null,"RAID 5",0,{"$f":"IF(G350=\"RAID 5\",(((7-H350)*5586))+(4*(((15-H350)*3723))),(((6-H350)*5586))+(4*(((14-H350)*3723))))","v":262482},{"$f":"(8*6)+(4*(16*4))","v":304},0,{"$f":"475+(4*550)","v":2675},{"$f":"128+(4*128)","v":640},{"$error":"#DIV/0!"},0,256.330078125,{"$error":"#DIV/0!"},0,0,0,0,0,{"$error":"#DIV/0!"},{"$error":"#DIV/0!"},null,null,null,null,null,null,null,null,0,{"$error":"#DIV/0!"},-640,{"$error":"#DIV/0!"},{"$error":"#DIV/0!"},null,null,null,null,null,null,0,1]
[null,null,null,"DIVAR IP 7000 R2 8X6TB + 1x DIVAR IP 6000 R2 8x6TB",null,null,"RAID 5",0,{"$f":"IF(G351=\"RAID 5\",(((7-H351)*5586))+(1*(((7-H351)*5586))),(((6-H351)*5586))+(1*(((6-H351)*5586))))","v":78204},{"$f":"(8*6)+(1*(8*6))","v":96},0,{"$f":"475+(1*550)","v":1025},{"$f":"128+(1*128)","v":256},{"$error":"#DIV/0!"},0,76.37109375,{"$error":"#DIV/0!"},0,0,0,0,0,{"$error":"#DIV/0!"},{"$error":"#DIV/0!"},null,null,null,null,null,null,null,null,0,{"$error":"#DIV/0!"},-256,{"$error":"#DIV/0!"},{"$error":"#DIV/0!"},null,null,null,null,null,null,0,1]
[null,null,null,"DIVAR IP 7000 R2 8X6TB + 2x DIVAR IP 6000 R2 8x6TB",null,null,"RAID 5",0,{"$f":"IF(G352=\"RAID 5\",(((7-H352)*5586))+(2*(((7-H352)*5586))),(((6-H352)*5586))+(2*(((6-H352)*5586))))","v":117306},{"$f":"(8*6)+(2*(8*6))","v":144},0,{"$f":"475+(2*550)","v":1575},{"$f":"128+(2*128)","v":384},{"$error":"#DIV/0!"},0,114.556640625,{"$error":"#DIV/0!"},0,0,0,0,0,{"$error":"#DIV/0!"},{"$error":"#DIV/0!"},null,null,null,null,null,null,null,null,0,{"$error":"#DIV/0!"},-384,{"$error":"#DIV/0!"},{"$error":"#DIV/0!"},null,null,null,null,null,null,0,1]
[null,null,null,"DIVAR IP 7000 R2 8X6TB + 3x DIVAR IP 6000 R2 8x6TB",null,null,"RAID 5",0,{"$f":"IF(G353=\"RAID 5\",(((7-H353)*5586))+(3*(((7-H353)*5586))),(((6-H353)*5586))+(3*(((6-H353)*5586))))","v":156408},{"$f":"(8*6)+(3*(8*6))","v":192},0,{"$f":"475+(3*550)","v":2125},{"$f":"128+(3*128)","v":512},{"$error":"#DIV/0!"},0,152.7421875,{"$error":"#DIV/0!"},0,0,0,0,0,{"$error":"#DIV/0!"},{"$error":"#DIV/0!"},null,null,null,null,null,null,null,null,0,{"$error":"#DIV/0!"},-512,{"$error":"#DIV/0!"},{"$error":"#DIV/0!"},null,null,null,null,null,null,0,1]
[null,null,null,"DIVAR IP 7000 R2 8X6TB + 4x DIVAR IP 6000 R2 8x6TB",null,null,"RAID 5",0,{"$f":"IF(G354=\"RAID 5\",(((7-H354)*5586))+(4*(((7-H354)*5586))),(((6-H354)*5586))+(4*(((6-H354)*5586))))","v":195510},{"$f":"(8*6)+(4*(8*6))","v":240},0,{"$f":"475+(4*550)","v":2675},{"$f":"128+(4*128)","v":640},{"$error":"#DIV/0!"},0,190.927734375,{"$error":"#DIV/0!"},0,0,0,0,0,{"$error":"#DIV/0!"},{"$error":"#DIV/0!"},null,null,null,null,null,null,null,null,0,{"$error":"#DIV/0!"},-640,{"$error":"#DIV/0!"},{"$error":"#DIV/0!"},null,null,null,null,null,null,0,1]
[null,null,null,"DIVAR IP 7000 R2 8X6TB + 1x DIVAR IP 6000 R2 3U 16x6TB",null,null,"RAID 5",0,{"$f":"IF(G355=\"RAID 5\",(((7-H355)*5586))+(1*(((15-H355)*5586))),(((6-H355)*5586))+(1*(((14-H355)*5586))))","v":122892},{"$f":"(8*6)+(1*(16*6))","v":144},0,{"$f":"475+(1*550)","v":1025},{"$f":"128+(1*128)","v":256},{"$error":"#DIV/0!"},0,120.01171875,{"$error":"#DIV/0!"},0,0,0,0,0,{"$error":"#DIV/0!"},{"$error":"#DIV/0!"},null,null,null,null,null,null,null,null,0,{"$error":"#DIV/0!"},-256,{"$error":"#DIV/0!"},{"$error":"#DIV/0!"},null,null,null,null,null,null,0,1]
[null,null,null,"DIVAR IP 7000 R2 8X6TB + 2x DIVAR IP 6000 R2 3U 16x6TB",null,null,"RAID 5",0,{"$f":"IF(G356=\"RAID 5\",(((7-H356)*5586))+(2*(((15-H356)*5586))),(((6-H356)*5586))+(2*(((14-H356)*5586))))","v":206682},{"$f":"(8*6)+(2*(16*6))","v":240},0,{"$f":"475+(2*550)","v":1575},{"$f":"128+(2*128)","v":384},{"$error":"#DIV/0!"},0,201.837890625,{"$error":"#DIV/0!"},0,0,0,0,0,{"$error":"#DIV/0!"},{"$error":"#DIV/0!"},null,null,null,null,null,null,null,null,0,{"$error":"#DIV/0!"},-384,{"$error":"#DIV/0!"},{"$error":"#DIV/0!"},null,null,null,null,null,null,0,1]
[null,null,null,"DIVAR IP 7000 R2 8X6TB + 3x DIVAR IP 6000 R2 3U 16x6TB",null,null,"RAID 5",0,{"$f":"IF(G357=\"RAID 5\",(((7-H357)*5586))+(3*(((15-H357)*5586))),(((6-H357)*5586))+(3*(((14-H357)*5586))))","v":290472},{"$f":"(8*6)+(3*(16*6))","v":336},0,{"$f":"475+(3*550)","v":2125},{"$f":"128+(3*128)","v":512},{"$error":"#DIV/0!"},0,283.6640625,{"$error":"#DIV/0!"},0,0,0,0,0,{"$error":"#DIV/0!"},{"$error":"#DIV/0!"},null,null,null,null,null,null,null,null,0,{"$error":"#DIV/0!"},-512,{"$error":"#DIV/0!"},{"$error":"#DIV/0!"},null,null,null,null,null,null,0,1]
[null,null,null,"DIVAR IP 7000 R2 8X6TB + 4x DIVAR IP 6000 R2 3U 16x6TB",null,null,"RAID 5",0,{"$f":"IF(G358=\"RAID 5\",(((7-H358)*5586))+(4*(((15-H358)*5586))),(((6-H358)*5586))+(4*(((14-H358)*5586))))","v":374262},{"$f":"(8*6)+(4*(16*6))","v":432},0,{"$f":"475+(4*550)","v":2675},{"$f":"128+(4*128)","v":640},{"$error":"#DIV/0!"},0,365.490234375,{"$error":"#DIV/0!"},0,0,0,0,0,{"$error":"#DIV/0!"},{"$error":"#DIV/0!"},null,null,null,null,null,null,null,null,0,{"$error":"#DIV/0!"},-640,{"$error":"#DIV/0!"},{"$error":"#DIV/0!"},null,null,null,null,null,null,0,1]
[null,null,null,"DIVAR IP 7000 R2 8X6TB + 1x DIVAR IP 6000 R2 8x8TB",null,null,"RAID 5",0,{"$f":"IF(G359=\"RAID 5\",(((7-H359)*5586))+(1*(((7-H359)*7448))),(((6-H359)*5586))+(1*(((6-H359)*7448))))","v":91238},{"$f":"(8*6)+(1*(8*8))","v":112},0,{"$f":"475+(1*550)","v":1025},{"$f":"128+(1*128)","v":256},{"$error":"#DIV/0!"},0,89.099609375,{"$error":"#DIV/0!"},0,{"$f":"IF($O359>7,OFFSET($G$255,0,$L$257),OFFSET($G$248,O359-1,$L$257,1,1))","v":0},0,0,0,{"$f":"IF(AND(IF($AJ359<=$L359,TRUE,FALSE),IF($V359<=$AI359,TRUE,FALSE)),\"True\",\"\")","v":{"$error":"#DIV/0!"}},{"$error":"#DIV/0!"},null,null,null,null,null,null,null,null,0,{"$error":"#DIV/0!"},-256,{"$error":"#DIV/0!"},{"$error":"#DIV/0!"},null,null,null,null,null,null,0,1]
[null,null,null,"DIVAR IP 7000 R2 8X6TB + 2x DIVAR IP 6000 R2 8x8TB",null,null,"RAID 5",0,{"$f":"IF(G360=\"RAID 5\",(((7-H360)*5586))+(2*(((7-H360)*7448))),(((6-H360)*5586))+(2*(((6-H360)*7448))))","v":143374},{"$f":"(8*6)+(2*(8*8))","v":176},0,{"$f":"475+(2*550)","v":1575},{"$f":"128+(2*128)","v":384},{"$error":"#DIV/0!"},0,140.013671875,{"$error":"#DIV/0!"},0,0,0,0,0,{"$error":"#DIV/0!"},{"$error":"#DIV/0!"},null,null,null,null,null,null,null,null,0,{"$error":"#DIV/0!"},-384,{"$error":"#DIV/0!"},{"$error":"#DIV/0!"},null,null,null,null,null,null,0,1]
[null,null,null,"DIVAR IP 7000 R2 8X6TB + 3x DIVAR IP 6000 R2 8x8TB",null,null,"RAID 5",0,{"$f":"IF(G361=\"RAID 5\",(((7-H361)*5586))+(3*(((7-H361)*7448))),(((6-H361)*5586))+(3*(((6-H361)*7448))))","v":195510},{"$f":"(8*6)+(3*(8*8))","v":240},0,{"$f":"475+(3*550)","v":2125},{"$f":"128+(3*128)","v":512},{"$error":"#DIV/0!"},0,190.927734375,{"$error":"#DIV/0!"},0,0,0,0,0,{"$error":"#DIV/0!"},{"$error":"#DIV/0!"},null,null,null,null,null,null,null,null,0,{"$error":"#DIV/0!"},-512,{"$error":"#DIV/0!"},{"$error":"#DIV/0!"},null,null,null,null,null,null,0,1]
[null,null,null,"DIVAR IP 7000 R2 8X6TB + 4x DIVAR IP 6000 R2 8x8TB",null,null,"RAID 5",0,{"$f":"IF(G362=\"RAID 5\",(((7-H362)*5586))+(4*(((7-H362)*7448))),(((6-H362)*5586))+(4*(((6-H362)*7448))))","v":247646},{"$f":"(8*6)+(4*(8*8))","v":304},0,{"$f":"475+(4*550)","v":2675},{"$f":"128+(4*128)","v":640},{"$error":"#DIV/0!"},0,241.841796875,{"$error":"#DIV/0!"},0,0,0,0,0,{"$error":"#DIV/0!"},{"$error":"#DIV/0!"},null,null,null,null,null,null,null,null,0,{"$error":"#DIV/0!"},-640,{"$error":"#DIV/0!"},{"$error":"#DIV/0!"},null,null,null,null,null,null,0,1]
[null,null,null,"DIVAR IP 7000 R2 8X6TB + 1x DIVAR IP 6000 R2 3U 16x8TB",null,null,"RAID 5",0,{"$f":"IF(G363=\"RAID 5\",(((7-H363)*5586))+(1*(((15-H363)*7448))),(((6-H363)*5586))+(1*(((14-H363)*7448))))","v":150822},{"$f":"(8*6)+(1*(16*8))","v":176},0,{"$f":"475+(1*550)","v":1025},{"$f":"128+(1*128)","v":256},{"$error":"#DIV/0!"},0,147.287109375,{"$error":"#DIV/0!"},0,0,0,0,0,{"$error":"#DIV/0!"},{"$error":"#DIV/0!"},null,null,null,null,null,null,null,null,0,{"$error":"#DIV/0!"},-256,{"$error":"#DIV/0!"},{"$error":"#DIV/0!"},null,null,null,null,null,null,0,1]
[null,null,null,"DIVAR IP 7000 R2 8X6TB + 2x DIVAR IP 6000 R2 3U 16x8TB",null,null,"RAID 5",0,{"$f":"IF(G364=\"RAID 5\",(((7-H364)*5586))+(2*(((15-H364)*7448))),(((6-H364)*5586))+(2*(((14-H364)*7448))))","v":262542},{"$f":"(8*6)+(2*(16*8))","v":304},0,{"$f":"475+(2*550)","v":1575},{"$f":"128+(2*128)","v":384},{"$error":"#DIV/0!"},0,256.388671875,{"$error":"#DIV/0!"},0,0,0,0,0,{"$error":"#DIV/0!"},{"$error":"#DIV/0!"},null,null,null,null,null,null,null,null,0,{"$error":"#DIV/0!"},-384,{"$error":"#DIV/0!"},{"$error":"#DIV/0!"},null,null,null,null,null,null,0,1]
[null,null,null,"DIVAR IP 7000 R2 8X6TB + 3x DIVAR IP 6000 R2 3U 16x8TB",null,null,"RAID 5",0,{"$f":"IF(G365=\"RAID 5\",(((7-H365)*5586))+(3*(((15-H365)*7448))),(((6-H365)*5586))+(3*(((14-H365)*7448))))","v":374262},{"$f":"(8*6)+(3*(16*8))","v":432},0,{"$f":"475+(3*550)","v":2125},{"$f":"128+(3*128)","v":512},{"$error":"#DIV/0!"},0,365.490234375,{"$error":"#DIV/0!"},0,0,0,0,0,{"$error":"#DIV/0!"},{"$f":"IF(AND(IF($N365<=$L365,TRUE,FALSE),IF($V365<=$R365,TRUE,FALSE),OR(W365=\"True\",$W$262=\"No\"),IF($A$269=\"False\",IF(O365=1,TRUE,FALSE),TRUE)),\"<-- fits project\",\"\")","v":{"$error":"#DIV/0!"}},null,null,null,null,null,null,null,null,0,{"$error":"#DIV/0!"},-512,{"$error":"#DIV/0!"},{"$error":"#DIV/0!"},null,null,null,null,null,null,0,1]
[null,null,null,"DIVAR IP 7000 R2 8X6TB + 4x DIVAR IP 6000 R2 3U 16x8TB",null,null,"RAID 5",0,{"$f":"IF(G366=\"RAID 5\",(((7-H366)*5586))+(4*(((15-H366)*7448))),(((6-H366)*5586))+(4*(((14-H366)*7448))))","v":485982},{"$f":"(8*6)+(4*(16*8))","v":560},0,{"$f":"475+(4*550)","v":2675},{"$f":"128+(4*128)","v":640},{"$error":"#DIV/0!"},0,474.591796875,{"$error":"#DIV/0!"},0,0,0,0,0,{"$error":"#DIV/0!"},{"$error":"#DIV/0!"},null,null,null,null,null,null,null,null,0,{"$error":"#DIV/0!"},-640,{"$f":"IF(O366>1,$I$257/(O366-1),$I$257/O366)","v":{"$error":"#DIV/0!"}},{"$error":"#DIV/0!"},null,null,null,null,null,null,0,1]
[null,null,null,"DIVAR IP 7000 R2 8x8TB + 1x DIVAR IP 6000 R2 8x3TB",null,null,"RAID 5",0,{"$f":"IF(G367=\"RAID 5\",(((7-H367)*7448))+(1*(((7-H367)*2793))),(((6-H367)*7448))+(1*(((6-H367)*2793))))","v":71687},{"$f":"(8*8)+(1*(8*3))","v":88},0,{"$f":"475+(1*550)","v":1025},{"$f":"128+(1*128)","v":256},{"$f":"$I$257/O367","v":{"$error":"#DIV/0!"}},0,{"$f":"(1-(($G$257/$I367)-INT($G$257/$I367)))*I367/1024","v":70.0068359375},{"$error":"#DIV/0!"},0,0,0,0,0,{"$error":"#DIV/0!"},{"$error":"#DIV/0!"},null,null,null,null,null,null,null,null,{"$f":"AF367*O367","v":0},{"$error":"#DIV/0!"},-256,{"$error":"#DIV/0!"},{"$f":"IF(X367=\"<-- fits project\",D367,\"\")","v":{"$error":"#DIV/0!"}},null,null,null,null,null,null,0,1]
[null,null,null,"DIVAR IP 7000 R2 8x8TB + 2x DIVAR IP 6000 R2 8x3TB",null,null,"RAID 5",0,{"$f":"IF(G368=\"RAID 5\",(((7-H368)*7448))+(2*(((7-H368)*2793))),(((6-H368)*7448))+(2*(((6-H368)*2793))))","v":91238},{"$f":"(8*8)+(2*(8*3))","v":112},0,{"$f":"475+(2*550)","v":1575},{"$f":"128+(2*128)","v":384},{"$error":"#DIV/0!"},0,89.099609375,{"$error":"#DIV/0!"},0,0,0,0,0,{"$error":"#DIV/0!"},{"$error":"#DIV/0!"},null,null,null,null,null,null,null,null,0,{"$error":"#DIV/0!"},-384,{"$error":"#DIV/0!"},{"$error":"#DIV/0!"},null,null,null,null,null,null,0,1]
[null,null,null,"DIVAR IP 7000 R2 8x8TB + 3x DIVAR IP 6000 R2 8x3TB",null,null,"RAID 5",0,{"$f":"IF(G369=\"RAID 5\",(((7-H369)*7448))+(3*(((7-H369)*2793))),(((6-H369)*7448))+(3*(((6-H369)*2793))))","v":110789},{"$f":"(8*8)+(3*(8*3))","v":136},0,{"$f":"475+(3*550)","v":2125},{"$f":"128+(3*128)","v":512},{"$error":"#DIV/0!"},0,108.1923828125,{"$error":"#DIV/0!"},0,0,0,0,0,{"$error":"#DIV/0!"},{"$error":"#DIV/0!"},null,null,null,null,null,null,null,null,0,{"$error":"#DIV/0!"},-512,{"$error":"#DIV/0!"},{"$error":"#DIV/0!"},null,null,null,null,null,null,0,1]
[null,null,null,"DIVAR IP 7000 R2 8x8TB + 4x DIVAR IP 6000 R2 8x3TB",null,null,"RAID 5",0,{"$f":"IF(G370=\"RAID 5\",(((7-H370)*7448))+(4*(((7-H370)*2793))),(((6-H370)*7448))+(4*(((6-H370)*2793))))","v":130340},{"$f":"(8*8)+(4*(8*3))","v":160},0,{"$f":"475+(4*550)","v":2675},{"$f":"128+(4*128)","v":640},{"$error":"#DIV/0!"},0,127.28515625,{"$error":"#DIV/0!"},0,0,0,0,0,{"$error":"#DIV/0!"},{"$error":"#DIV/0!"},null,null,null,null,null,null,null,null,0,{"$error":"#DIV/0!"},-640,{"$error":"#DIV/0!"},{"$error":"#DIV/0!"},null,null,null,null,null,null,0,1]
[null,null,null,"DIVAR IP 7000 R2 8x8TB + 1x DIVAR IP 6000 R2 3U 16x3TB",null,null,"RAID 5",0,{"$f":"IF(G371=\"RAID 5\",(((7-H371)*7448))+(1*(((15-H371)*2793))),(((6-H371)*7448))+(1*(((14-H371)*2793))))","v":94031},{"$f":"(8*8)+(1*(16*3))","v":112},0,{"$f":"475+(1*550)","v":1025},{"$f":"128+(1*128)","v":256},{"$error":"#DIV/0!"},0,91.8271484375,{"$error":"#DIV/0!"},0,0,0,0,0,{"$error":"#DIV/0!"},{"$error":"#DIV/0!"},null,null,null,null,null,null,null,null,0,{"$error":"#DIV/0!"},-256,{"$error":"#DIV/0!"},{"$error":"#DIV/0!"},null,null,null,null,null,null,0,1]
[null,null,null,"DIVAR IP 7000 R2 8x8TB + 2x DIVAR IP 6000 R2 3U 16x3TB",null,null,"RAID 5",0,{"$f":"IF(G372=\"RAID 5\",(((7-H372)*7448))+(2*(((15-H372)*2793))),(((6-H372)*7448))+(2*(((14-H372)*2793))))","v":135926},{"$f":"(8*8)+(2*(16*3))","v":160},0,{"$f":"475+(2*550)","v":1575},{"$f":"128+(2*128)","v":384},{"$error":"#DIV/0!"},{"$f":"ROUNDUP($G$257/I372,0)","v":0},132.740234375,{"$error":"#DIV/0!"},0,0,0,0,0,{"$error":"#DIV/0!"},{"$error":"#DIV/0!"},null,null,null,null,null,null,null,null,0,{"$error":"#DIV/0!"},-384,{"$error":"#DIV/0!"},{"$error":"#DIV/0!"},null,null,null,null,null,null,0,1]
[null,null,null,"DIVAR IP 7000 R2 8x8TB + 3x DIVAR IP 6000 R2 3U 16x3TB",null,null,"RAID 5",0,{"$f":"IF(G373=\"RAID 5\",(((7-H373)*7448))+(3*(((15-H373)*2793))),(((6-H373)*7448))+(3*(((14-H373)*2793))))","v":177821},{"$f":"(8*8)+(3*(16*3))","v":208},0,{"$f":"475+(3*550)","v":2125},{"$f":"128+(3*128)","v":512},{"$error":"#DIV/0!"},0,173.6533203125,{"$error":"#DIV/0!"},0,0,0,0,0,{"$error":"#DIV/0!"},{"$error":"#DIV/0!"},null,null,null,null,null,null,null,null,0,{"$f":"AG373/$AG$563","v":{"$error":"#DIV/0!"}},-512,{"$error":"#DIV/0!"},{"$error":"#DIV/0!"},null,null,null,null,null,null,0,1]
[null,null,null,"DIVAR IP 7000 R2 8x8TB + 4x DIVAR IP 6000 R2 3U 16x3TB",null,null,"RAID 5",0,{"$f":"IF(G374=\"RAID 5\",(((7-H374)*7448))+(4*(((15-H374)*2793))),(((6-H374)*7448))+(4*(((14-H374)*2793))))","v":219716},{"$f":"(8*8)+(4*(16*3))","v":256},0,{"$f":"475+(4*550)","v":2675},{"$f":"128+(4*128)","v":640},{"$error":"#DIV/0!"},0,214.56640625,{"$error":"#DIV/0!"},0,0,0,0,0,{"$error":"#DIV/0!"},{"$error":"#DIV/0!"},null,null,null,null,null,null,null,null,0,{"$error":"#DIV/0!"},-640,{"$error":"#DIV/0!"},{"$error":"#DIV/0!"},null,null,null,null,null,null,{"$f":"IF(G374=\"RAID 6\",0,0)","v":0},{"$f":"IF(G374=\"RAID 6\",0,1)","v":1}]
[null,null,null,"DIVAR IP 7000 R2 8x8TB + 1x DIVAR IP 6000 R2 8X4TB",null,null,"RAID 5",0,{"$f":"IF(G375=\"RAID 5\",(((7-H375)*7448))+(1*(((7-H375)*3723))),(((6-H375)*7448))+(1*(((6-H375)*3723))))","v":78197},{"$f":"(8*8)+(1*(8*4))","v":96},0,{"$f":"475+(1*550)","v":1025},{"$f":"128+(1*128)","v":256},{"$error":"#DIV/0!"},0,76.3642578125,{"$error":"#DIV/0!"},0,0,0,0,0,{"$error":"#DIV/0!"},{"$error":"#DIV/0!"},null,null,null,null,null,null,null,null,0,{"$error":"#DIV/0!"},-256,{"$error":"#DIV/0!"},{"$error":"#DIV/0!"},null,null,null,null,null,null,0,1]
[null,null,null,"DIVAR IP 7000 R2 8x8TB + 2x DIVAR IP 6000 R2 8X4TB",null,null,"RAID 5",0,{"$f":"IF(G376=\"RAID 5\",(((7-H376)*7448))+(2*(((7-H376)*3723))),(((6-H376)*7448))+(2*(((6-H376)*3723))))","v":104258},{"$f":"(8*8)+(2*(8*4))","v":128},0,{"$f":"475+(2*550)","v":1575},{"$f":"128+(2*128)","v":384},{"$error":"#DIV/0!"},0,101.814453125,{"$error":"#DIV/0!"},0,0,0,0,0,{"$error":"#DIV/0!"},{"$error":"#DIV/0!"},null,null,null,null,null,null,null,null,0,{"$error":"#DIV/0!"},-384,{"$error":"#DIV/0!"},{"$error":"#DIV/0!"},null,null,null,null,null,null,0,1]
[null,null,null,"DIVAR IP 7000 R2 8x8TB + 3x DIVAR IP 6000 R2 8X4TB",null,null,"RAID 5",0,{"$f":"IF(G377=\"RAID 5\",(((7-H377)*7448))+(3*(((7-H377)*3723))),(((6-H377)*7448))+(3*(((6-H377)*3723))))","v":130319},{"$f":"(8*8)+(3*(8*4))","v":160},0,{"$f":"475+(3*550)","v":2125},{"$f":"128+(3*128)","v":512},{"$error":"#DIV/0!"},0,127.2646484375,{"$error":"#DIV/0!"},0,0,0,0,0,{"$error":"#DIV/0!"},{"$error":"#DIV/0!"},null,null,null,null,null,null,null,null,0,{"$error":"#DIV/0!"},-512,{"$error":"#DIV/0!"},{"$error":"#DIV/0!"},null,null,null,null,null,null,0,1]
[null,null,null,"DIVAR IP 7000 R2 8x8TB + 4x DIVAR IP 6000 R2 8X4TB",null,null,"RAID 5",0,{"$f":"IF(G378=\"RAID 5\",(((7-H378)*7448))+(4*(((7-H378)*3723))),(((6-H378)*7448))+(4*(((6-H378)*3723))))","v":156380},{"$f":"(8*8)+(4*(8*4))","v":192},0,{"$f":"475+(4*550)","v":2675},{"$f":"128+(4*128)","v":640},{"$error":"#DIV/0!"},0,152.71484375,{"$error":"#DIV/0!"},0,0,0,0,0,{"$error":"#DIV/0!"},{"$error":"#DIV/0!"},null,null,null,null,null,null,null,null,0,{"$error":"#DIV/0!"},-640,{"$error":"#DIV/0!"},{"$error":"#DIV/0!"},null,null,null,null,null,null,0,1]
[null,null,null,"DIVAR IP 7000 R2 8x8TB + 1x DIVAR IP 6000 R2 3U 16x4TB",null,null,"RAID 5",0,{"$f":"IF(G379=\"RAID 5\",(((7-H379)*7448))+(1*(((15-H379)*3723))),(((6-H379)*7448))+(1*(((14-H379)*3723))))","v":107981},{"$f":"(8*8)+(1*(16*4))","v":128},0,{"$f":"475+(1*550)","v":1025},{"$f":"128+(1*128)","v":256},{"$error":"#DIV/0!"},0,105.4501953125,{"$error":"#DIV/0!"},0,0,0,0,0,{"$error":"#DIV/0!"},{"$error":"#DIV/0!"},null,null,null,null,null,null,null,null,0,{"$error":"#DIV/0!"},-256,{"$error":"#DIV/0!"},{"$error":"#DIV/0!"},null,null,null,null,null,null,0,1]
[null,null,null,"DIVAR IP 7000 R2 8x8TB + 2x DIVAR IP 6000 R2 3U 16x4TB",null,null,"RAID 5",0,{"$f":"IF(G380=\"RAID 5\",(((7-H380)*7448))+(2*(((15-H380)*3723))),(((6-H380)*7448))+(2*(((14-H380)*3723))))","v":163826},{"$f":"(8*8)+(2*(16*4))","v":192},0,{"$f":"475+(2*550)","v":1575},{"$f":"128+(2*128)","v":384},{"$error":"#DIV/0!"},0,159.986328125,{"$error":"#DIV/0!"},0,0,0,0,0,{"$error":"#DIV/0!"},{"$error":"#DIV/0!"},null,null,null,null,null,null,null,null,0,{"$error":"#DIV/0!"},-384,{"$error":"#DIV/0!"},{"$error":"#DIV/0!"},null,null,null,null,null,null,0,1]
[null,null,null,"DIVAR IP 7000 R2 8x8TB + 3x DIVAR IP 6000 R2 3U 16x4TB",null,null,"RAID 5",0,{"$f":"IF(G381=\"RAID 5\",(((7-H381)*7448))+(3*(((15-H381)*3723))),(((6-H381)*7448))+(3*(((14-H381)*3723))))","v":219671},{"$f":"(8*8)+(3*(16*4))","v":256},0,{"$f":"475+(3*550)","v":2125},{"$f":"128+(3*128)","v":512},{"$error":"#DIV/0!"},0,214.5224609375,{"$error":"#DIV/0!"},0,0,0,0,0,{"$error":"#DIV/0!"},{"$error":"#DIV/0!"},null,null,null,null,null,null,null,null,0,{"$error":"#DIV/0!"},-512,{"$error":"#DIV/0!"},{"$error":"#DIV/0!"},null,null,null,null,null,null,0,1]
[null,null,null,"DIVAR IP 7000 R2 8x8TB + 4x DIVAR IP 6000 R2 3U 16x4TB",null,null,"RAID 5",0,{"$f":"IF(G382=\"RAID 5\",(((7-H382)*7448))+(4*(((15-H382)*3723))),(((6-H382)*7448))+(4*(((14-H382)*3723))))","v":275516},{"$f":"(8*8)+(4*(16*4))","v":320},0,{"$f":"475+(4*550)","v":2675},{"$f":"128+(4*128)","v":640},{"$error":"#DIV/0!"},0,269.05859375,{"$error":"#DIV/0!"},0,0,0,0,0,{"$error":"#DIV/0!"},{"$error":"#DIV/0!"},null,null,null,null,null,null,null,null,0,{"$error":"#DIV/0!"},-640,{"$error":"#DIV/0!"},{"$error":"#DIV/0!"},null,null,null,null,null,null,0,1]
[null,null,null,"DIVAR IP 7000 R2 8x8TB + 1x DIVAR IP 6000 R2 8x6TB",null,null,"RAID 5",0,{"$f":"IF(G383=\"RAID 5\",(((7-H383)*7448))+(1*(((7-H383)*5586))),(((6-H383)*7448))+(1*(((6-H383)*5586))))","v":91238},{"$f":"(8*8)+(1*(8*6))","v":112},0,{"$f":"475+(1*550)","v":1025},{"$f":"128+(1*128)","v":256},{"$error":"#DIV/0!"},0,89.099609375,{"$error":"#DIV/0!"},0,0,0,0,0,{"$error":"#DIV/0!"},{"$error":"#DIV/0!"},null,null,null,null,null,null,null,null,0,{"$error":"#DIV/0!"},-256,{"$error":"#DIV/0!"},{"$error":"#DIV/0!"},null,null,null,null,null,null,0,1]
[null,null,null,"DIVAR IP 7000 R2 8x8TB + 2x DIVAR IP 6000 R2 8x6TB",null,null,"RAID 5",0,{"$f":"IF(G384=\"RAID 5\",(((7-H384)*7448))+(2*(((7-H384)*5586))),(((6-H384)*7448))+(2*(((6-H384)*5586))))","v":130340},{"$f":"(8*8)+(2*(8*6))","v":160},0,{"$f":"475+(2*550)","v":1575},{"$f":"128+(2*128)","v":384},{"$error":"#DIV/0!"},0,127.28515625,{"$error":"#DIV/0!"},0,0,0,0,0,{"$error":"#DIV/0!"},{"$error":"#DIV/0!"},null,null,null,null,null,null,null,null,0,{"$error":"#DIV/0!"},-384,{"$error":"#DIV/0!"},{"$error":"#DIV/0!"},null,null,null,null,null,null,0,1]
[null,null,null,"DIVAR IP 7000 R2 8x8TB + 3x DIVAR IP 6000 R2 8x6TB",null,null,"RAID 5",0,{"$f":"IF(G385=\"RAID 5\",(((7-H385)*7448))+(3*(((7-H385)*5586))),(((6-H385)*7448))+(3*(((6-H385)*5586))))","v":169442},{"$f":"(8*8)+(3*(8*6))","v":208},0,{"$f":"475+(3*550)","v":2125},{"$f":"128+(3*128)","v":512},{"$error":"#DIV/0!"},0,165.470703125,{"$error":"#DIV/0!"},0,0,0,0,0,{"$error":"#DIV/0!"},{"$error":"#DIV/0!"},null,null,null,null,null,null,null,null,0,{"$error":"#DIV/0!"},-512,{"$error":"#DIV/0!"},{"$error":"#DIV/0!"},null,null,null,null,null,null,0,1]
[null,null,null,"DIVAR IP 7000 R2 8x8TB + 4x DIVAR IP 6000 R2 8x6TB",null,null,"RAID 5",0,{"$f":"IF(G386=\"RAID 5\",(((7-H386)*7448))+(4*(((7-H386)*5586))),(((6-H386)*7448))+(4*(((6-H386)*5586))))","v":208544},{"$f":"(8*8)+(4*(8*6))","v":256},0,{"$f":"475+(4*550)","v":2675},{"$f":"128+(4*128)","v":640},{"$error":"#DIV/0!"},0,203.65625,{"$error":"#DIV/0!"},0,0,0,0,0,{"$error":"#DIV/0!"},{"$error":"#DIV/0!"},null,null,null,null,null,null,null,null,0,{"$error":"#DIV/0!"},-640,{"$error":"#DIV/0!"},{"$error":"#DIV/0!"},null,null,null,null,null,null,0,1]
[null,null,null,"DIVAR IP 7000 R2 8x8TB + 1x DIVAR IP 6000 R2 3U 16x6TB",null,null,"RAID 5",0,{"$f":"IF(G387=\"RAID 5\",(((7-H387)*7448))+(1*(((15-H387)*5586))),(((6-H387)*7448))+(1*(((14-H387)*5586))))","v":135926},{"$f":"(8*8)+(1*(16*6))","v":160},0,{"$f":"475+(1*550)","v":1025},{"$f":"128+(1*128)","v":256},{"$error":"#DIV/0!"},0,132.740234375,{"$error":"#DIV/0!"},0,0,0,0,0,{"$error":"#DIV/0!"},{"$error":"#DIV/0!"},null,null,null,null,null,null,null,null,0,{"$error":"#DIV/0!"},-256,{"$error":"#DIV/0!"},{"$error":"#DIV/0!"},null,null,null,null,null,null,0,1]
[null,null,null,"DIVAR IP 7000 R2 8x8TB + 2x DIVAR IP 6000 R2 3U 16x6TB",null,null,"RAID 5",0,{"$f":"IF(G388=\"RAID 5\",(((7-H388)*7448))+(2*(((15-H388)*5586))),(((6-H388)*7448))+(2*(((14-H388)*5586))))","v":219716},{"$f":"(8*8)+(2*(16*6))","v":256},0,{"$f":"475+(2*550)","v":1575},{"$f":"128+(2*128)","v":384},{"$error":"#DIV/0!"},0,214.56640625,{"$error":"#DIV/0!"},0,0,0,0,0,{"$error":"#DIV/0!"},{"$error":"#DIV/0!"},null,null,null,null,null,null,null,null,0,{"$error":"#DIV/0!"},-384,{"$error":"#DIV/0!"},{"$error":"#DIV/0!"},null,null,null,null,null,null,0,1]
[null,null,null,"DIVAR IP 7000 R2 8x8TB + 3x DIVAR IP 6000 R2 3U 16x6TB",null,null,"RAID 5",0,{"$f":"IF(G389=\"RAID 5\",(((7-H389)*7448))+(3*(((15-H389)*5586))),(((6-H389)*7448))+(3*(((14-H389)*5586))))","v":303506},{"$f":"(8*8)+(3*(16*6))","v":352},0,{"$f":"475+(3*550)","v":2125},{"$f":"128+(3*128)","v":512},{"$error":"#DIV/0!"},0,296.392578125,{"$error":"#DIV/0!"},0,0,0,0,0,{"$error":"#DIV/0!"},{"$error":"#DIV/0!"},null,null,null,null,null,null,null,null,0,{"$error":"#DIV/0!"},-512,{"$error":"#DIV/0!"},{"$error":"#DIV/0!"},null,null,null,null,null,null,0,1]
[null,null,null,"DIVAR IP 7000 R2 8x8TB + 4x DIVAR IP 6000 R2 3U 16x6TB",null,null,"RAID 5",0,{"$f":"IF(G390=\"RAID 5\",(((7-H390)*7448))+(4*(((15-H390)*5586))),(((6-H390)*7448))+(4*(((14-H390)*5586))))","v":387296},{"$f":"(8*8)+(4*(16*6))","v":448},0,{"$f":"475+(4*550)","v":2675},{"$f":"128+(4*128)","v":640},{"$error":"#DIV/0!"},0,378.21875,{"$error":"#DIV/0!"},0,0,0,0,0,{"$error":"#DIV/0!"},{"$error":"#DIV/0!"},null,null,null,null,null,null,null,null,0,{"$error":"#DIV/0!"},-640,{"$error":"#DIV/0!"},{"$error":"#DIV/0!"},null,null,null,null,null,null,0,1]
[null,null,null,"DIVAR IP 7000 R2 8x8TB + 1x DIVAR IP 6000 R2 8x8TB",null,null,"RAID 5",0,{"$f":"IF(G391=\"RAID 5\",(((7-H391)*7448))+(1*(((7-H391)*7448))),(((6-H391)*7448))+(1*(((6-H391)*7448))))","v":104272},{"$f":"(8*8)+(1*(8*8))","v":128},{"$f":"O391*J391","v":0},{"$f":"475+(1*550)","v":1025},{"$f":"128+(1*128)","v":256},{"$error":"#DIV/0!"},0,101.828125,{"$error":"#DIV/0!"},{"$f":"O391*M391","v":0},0,{"$f":"O391*1*MAX($N$1528,1)","v":0},0,0,{"$error":"#DIV/0!"},{"$error":"#DIV/0!"},null,null,null,null,null,null,null,null,0,{"$error":"#DIV/0!"},{"$f":"(O391-1)*M391","v":-256},{"$error":"#DIV/0!"},{"$error":"#DIV/0!"},null,null,null,null,null,null,0,1]
[null,null,null,"DIVAR IP 7000 R2 8x8TB + 2x DIVAR IP 6000 R2 8x8TB",null,null,"RAID 5",0,{"$f":"IF(G392=\"RAID 5\",(((7-H392)*7448))+(2*(((7-H392)*7448))),(((6-H392)*7448))+(2*(((6-H392)*7448))))","v":156408},{"$f":"(8*8)+(2*(8*8))","v":192},0,{"$f":"475+(2*550)","v":1575},{"$f":"128+(2*128)","v":384},{"$error":"#DIV/0!"},0,152.7421875,{"$error":"#DIV/0!"},0,0,0,0,0,{"$error":"#DIV/0!"},{"$error":"#DIV/0!"},null,null,null,null,null,null,null,null,0,{"$error":"#DIV/0!"},-384,{"$error":"#DIV/0!"},{"$error":"#DIV/0!"},null,null,null,null,null,null,0,1]
[null,null,null,"DIVAR IP 7000 R2 8x8TB + 3x DIVAR IP 6000 R2 8x8TB",null,null,"RAID 5",0,{"$f":"IF(G393=\"RAID 5\",(((7-H393)*7448))+(3*(((7-H393)*7448))),(((6-H393)*7448))+(3*(((6-H393)*7448))))","v":208544},{"$f":"(8*8)+(3*(8*8))","v":256},0,{"$f":"475+(3*550)","v":2125},{"$f":"128+(3*128)","v":512},{"$error":"#DIV/0!"},0,203.65625,{"$error":"#DIV/0!"},0,0,0,0,0,{"$error":"#DIV/0!"},{"$error":"#DIV/0!"},null,null,null,null,null,null,null,null,0,{"$error":"#DIV/0!"},-512,{"$error":"#DIV/0!"},{"$error":"#DIV/0!"},null,null,null,null,null,null,0,1]
[null,null,null,"DIVAR IP 7000 R2 8x8TB + 4x DIVAR IP 6000 R2 8x8TB",null,null,"RAID 5",0,{"$f":"IF(G394=\"RAID 5\",(((7-H394)*7448))+(4*(((7-H394)*7448))),(((6-H394)*7448))+(4*(((6-H394)*7448))))","v":260680},{"$f":"(8*8)+(4*(8*8))","v":320},0,{"$f":"475+(4*550)","v":2675},{"$f":"128+(4*128)","v":640},{"$error":"#DIV/0!"},0,254.5703125,{"$error":"#DIV/0!"},0,0,0,0,0,{"$error":"#DIV/0!"},{"$error":"#DIV/0!"},null,null,null,null,null,null,null,null,0,{"$error":"#DIV/0!"},-640,{"$error":"#DIV/0!"},{"$error":"#DIV/0!"},null,null,null,null,null,null,0,1]
[null,null,null,"DIVAR IP 7000 R2 8x8TB + 1x DIVAR IP 6000 R2 3U 16x8TB",null,null,"RAID 5",0,{"$f":"IF(G395=\"RAID 5\",(((7-H395)*7448))+(1*(((15-H395)*7448))),(((6-H395)*7448))+(1*(((14-H395)*7448))))","v":163856},{"$f":"(8*8)+(1*(16*8))","v":192},0,{"$f":"475+(1*550)","v":1025},{"$f":"128+(1*128)","v":256},{"$error":"#DIV/0!"},0,160.015625,{"$error":"#DIV/0!"},0,0,0,0,0,{"$error":"#DIV/0!"},{"$error":"#DIV/0!"},null,null,null,null,null,null,null,null,0,{"$error":"#DIV/0!"},-256,{"$error":"#DIV/0!"},{"$error":"#DIV/0!"},null,null,null,null,null,null,0,1]
[null,null,null,"DIVAR IP 7000 R2 8x8TB + 2x DIVAR IP 6000 R2 3U 16x8TB",null,null,"RAID 5",0,{"$f":"IF(G396=\"RAID 5\",(((7-H396)*7448))+(2*(((15-H396)*7448))),(((6-H396)*7448))+(2*(((14-H396)*7448))))","v":275576},{"$f":"(8*8)+(2*(16*8))","v":320},0,{"$f":"475+(2*550)","v":1575},{"$f":"128+(2*128)","v":384},{"$error":"#DIV/0!"},0,269.1171875,{"$error":"#DIV/0!"},0,0,0,0,0,{"$error":"#DIV/0!"},{"$error":"#DIV/0!"},null,null,null,null,null,null,null,null,0,{"$error":"#DIV/0!"},-384,{"$error":"#DIV/0!"},{"$error":"#DIV/0!"},null,null,null,null,null,null,0,1]
[null,null,null,"DIVAR IP 7000 R2 8x8TB + 3x DIVAR IP 6000 R2 3U 16x8TB",null,null,"RAID 5",0,{"$f":"IF(G397=\"RAID 5\",(((7-H397)*7448))+(3*(((15-H397)*7448))),(((6-H397)*7448))+(3*(((14-H397)*7448))))","v":387296},{"$f":"(8*8)+(3*(16*8))","v":448},0,{"$f":"475+(3*550)","v":2125},{"$f":"128+(3*128)","v":512},{"$error":"#DIV/0!"},0,378.21875,{"$error":"#DIV/0!"},0,0,0,0,0,{"$error":"#DIV/0!"},{"$f":"IF(AND(IF($N397<=$L397,TRUE,FALSE),IF($V397<=$R397,TRUE,FALSE),OR(W397=\"True\",$W$262=\"No\"),IF($A$269=\"False\",IF(O397=1,TRUE,FALSE),TRUE)),\"<-- fits project\",\"\")","v":{"$error":"#DIV/0!"}},null,null,null,null,null,null,null,null,0,{"$error":"#DIV/0!"},-512,{"$error":"#DIV/0!"},{"$error":"#DIV/0!"},null,null,null,null,null,null,0,1]
[null,null,null,"DIVAR IP 7000 R2 8x8TB + 4x DIVAR IP 6000 R2 3U 16x8TB",null,null,"RAID 5",0,{"$f":"IF(G398=\"RAID 5\",(((7-H398)*7448))+(4*(((15-H398)*7448))),(((6-H398)*7448))+(4*(((14-H398)*7448))))","v":499016},{"$f":"(8*8)+(4*(16*8))","v":576},0,{"$f":"475+(4*550)","v":2675},{"$f":"128+(4*128)","v":640},{"$error":"#DIV/0!"},0,487.3203125,{"$error":"#DIV/0!"},0,0,0,0,0,{"$error":"#DIV/0!"},{"$error":"#DIV/0!"},null,null,null,null,null,null,null,null,0,{"$error":"#DIV/0!"},-640,{"$f":"IF(O398>1,$I$257/(O398-1),$I$257/O398)","v":{"$error":"#DIV/0!"}},{"$error":"#DIV/0!"},null,null,null,null,null,null,0,1]
[null,null,null,"DIVAR IP 7000 R2 16x6TB + 1x DIVAR IP 6000 R2 8x3TB",null,null,"RAID 5",0,{"$f":"IF(G399=\"RAID 5\",(((15-H399)*5586))+(1*(((7-H399)*2793))),(((14-H399)*5586))+(1*(((6-H399)*2793))))","v":103341},{"$f":"(16*6)+(1*(8*3))","v":120},0,{"$f":"475+(1*550)","v":1025},{"$f":"128+(1*128)","v":256},{"$f":"$I$257/O399","v":{"$error":"#DIV/0!"}},0,{"$f":"(1-(($G$257/$I399)-INT($G$257/$I399)))*I399/1024","v":100.9189453125},{"$error":"#DIV/0!"},0,0,0,0,0,{"$error":"#DIV/0!"},{"$error":"#DIV/0!"},null,null,null,null,null,null,null,null,{"$f":"AF399*O399","v":0},{"$error":"#DIV/0!"},-256,{"$error":"#DIV/0!"},{"$f":"IF(X399=\"<-- fits project\",D399,\"\")","v":{"$error":"#DIV/0!"}},null,null,null,null,null,null,0,1]
[null,null,null,"DIVAR IP 7000 R2 16x6TB + 2x DIVAR IP 6000 R2 8x3TB",null,null,"RAID 5",0,{"$f":"IF(G400=\"RAID 5\",(((15-H400)*5586))+(2*(((7-H400)*2793))),(((14-H400)*5586))+(2*(((6-H400)*2793))))","v":122892},{"$f":"(16*6)+(2*(8*3))","v":144},0,{"$f":"475+(2*550)","v":1575},{"$f":"128+(2*128)","v":384},{"$error":"#DIV/0!"},0,120.01171875,{"$error":"#DIV/0!"},0,0,0,0,0,{"$error":"#DIV/0!"},{"$error":"#DIV/0!"},null,null,null,null,null,null,null,null,0,{"$error":"#DIV/0!"},-384,{"$error":"#DIV/0!"},{"$error":"#DIV/0!"},null,null,null,null,null,null,0,1]
[null,null,null,"DIVAR IP 7000 R2 16x6TB + 3x DIVAR IP 6000 R2 8x3TB",null,null,"RAID 5",0,{"$f":"IF(G401=\"RAID 5\",(((15-H401)*5586))+(3*(((7-H401)*2793))),(((14-H401)*5586))+(3*(((6-H401)*2793))))","v":142443},{"$f":"(16*6)+(3*(8*3))","v":168},0,{"$f":"475+(3*550)","v":2125},{"$f":"128+(3*128)","v":512},{"$error":"#DIV/0!"},0,139.1044921875,{"$error":"#DIV/0!"},0,0,0,0,0,{"$error":"#DIV/0!"},{"$error":"#DIV/0!"},null,null,null,null,null,null,null,null,0,{"$error":"#DIV/0!"},-512,{"$error":"#DIV/0!"},{"$error":"#DIV/0!"},null,null,null,null,null,null,0,1]
[null,null,null,"DIVAR IP 7000 R2 16x6TB + 4x DIVAR IP 6000 R2 8x3TB",null,null,"RAID 5",0,{"$f":"IF(G402=\"RAID 5\",(((15-H402)*5586))+(4*(((7-H402)*2793))),(((14-H402)*5586))+(4*(((6-H402)*2793))))","v":161994},{"$f":"(16*6)+(4*(8*3))","v":192},0,{"$f":"475+(4*550)","v":2675},{"$f":"128+(4*128)","v":640},{"$error":"#DIV/0!"},0,158.197265625,{"$error":"#DIV/0!"},0,0,0,0,0,{"$error":"#DIV/0!"},{"$error":"#DIV/0!"},null,null,null,null,null,null,null,null,0,{"$error":"#DIV/0!"},-640,{"$error":"#DIV/0!"},{"$error":"#DIV/0!"},null,null,null,null,null,null,0,1]
[null,null,null,"DIVAR IP 7000 R2 16x6TB + 1x DIVAR IP 6000 R2 3U 16x3TB",null,null,"RAID 5",0,{"$f":"IF(G403=\"RAID 5\",(((15-H403)*5586))+(1*(((15-H403)*2793))),(((14-H403)*5586))+(1*(((14-H403)*2793))))","v":125685},{"$f":"(16*6)+(1*(16*3))","v":144},0,{"$f":"475+(1*550)","v":1025},{"$f":"128+(1*128)","v":256},{"$error":"#DIV/0!"},0,122.7392578125,{"$error":"#DIV/0!"},0,0,0,0,0,{"$error":"#DIV/0!"},{"$error":"#DIV/0!"},null,null,null,null,null,null,null,null,0,{"$error":"#DIV/0!"},-256,{"$error":"#DIV/0!"},{"$error":"#DIV/0!"},null,null,null,null,null,null,0,1]
[null,null,null,"DIVAR IP 7000 R2 16x6TB + 2x DIVAR IP 6000 R2 3U 16x3TB",null,null,"RAID 5",0,{"$f":"IF(G404=\"RAID 5\",(((15-H404)*5586))+(2*(((15-H404)*2793))),(((14-H404)*5586))+(2*(((14-H404)*2793))))","v":167580},{"$f":"(16*6)+(2*(16*3))","v":192},0,{"$f":"475+(2*550)","v":1575},{"$f":"128+(2*128)","v":384},{"$error":"#DIV/0!"},{"$f":"ROUNDUP($G$257/I404,0)","v":0},163.65234375,{"$error":"#DIV/0!"},0,0,0,0,0,{"$error":"#DIV/0!"},{"$error":"#DIV/0!"},null,null,null,null,null,null,null,null,0,{"$error":"#DIV/0!"},-384,{"$error":"#DIV/0!"},{"$error":"#DIV/0!"},null,null,null,null,null,null,0,1]
[null,null,null,"DIVAR IP 7000 R2 16x6TB + 3x DIVAR IP 6000 R2 3U 16x3TB",null,null,"RAID 5",0,{"$f":"IF(G405=\"RAID 5\",(((15-H405)*5586))+(3*(((15-H405)*2793))),(((14-H405)*5586))+(3*(((14-H405)*2793))))","v":209475},{"$f":"(16*6)+(3*(16*3))","v":240},0,{"$f":"475+(3*550)","v":2125},{"$f":"128+(3*128)","v":512},{"$error":"#DIV/0!"},0,204.5654296875,{"$error":"#DIV/0!"},0,0,0,0,{"$f":"SUM(S405)","v":0},{"$error":"#DIV/0!"},{"$error":"#DIV/0!"},null,null,null,null,null,null,null,null,0,{"$f":"AG405/$AG$563","v":{"$error":"#DIV/0!"}},-512,{"$error":"#DIV/0!"},{"$error":"#DIV/0!"},null,null,null,null,null,null,0,1]
[null,null,null,"DIVAR IP 7000 R2 16x6TB + 4x DIVAR IP 6000 R2 3U 16x3TB",null,null,"RAID 5",0,{"$f":"IF(G406=\"RAID 5\",(((15-H406)*5586))+(4*(((15-H406)*2793))),(((14-H406)*5586))+(4*(((14-H406)*2793))))","v":251370},{"$f":"(16*6)+(4*(16*3))","v":288},0,{"$f":"475+(4*550)","v":2675},{"$f":"128+(4*128)","v":640},{"$error":"#DIV/0!"},0,245.478515625,{"$error":"#DIV/0!"},0,0,0,0,0,{"$error":"#DIV/0!"},{"$error":"#DIV/0!"},null,null,null,null,null,null,null,null,0,{"$error":"#DIV/0!"},-640,{"$error":"#DIV/0!"},{"$error":"#DIV/0!"},null,null,null,null,null,null,{"$f":"IF(G406=\"RAID 6\",0,0)","v":0},{"$f":"IF(G406=\"RAID 6\",0,1)","v":1}]
[null,null,null,"DIVAR IP 7000 R2 16x6TB + 1x DIVAR IP 6000 R2 8x4TB",null,null,"RAID 5",0,{"$f":"IF(G407=\"RAID 5\",(((15-H407)*5586))+(1*(((7-H407)*3723))),(((14-H407)*5586))+(1*(((6-H407)*3723))))","v":109851},{"$f":"(16*6)+(1*(8*4))","v":128},0,{"$f":"475+(1*550)","v":1025},{"$f":"128+(1*128)","v":256},{"$error":"#DIV/0!"},0,107.2763671875,{"$error":"#DIV/0!"},0,0,0,0,0,{"$error":"#DIV/0!"},{"$error":"#DIV/0!"},null,null,null,null,null,null,null,null,0,{"$error":"#DIV/0!"},-256,{"$error":"#DIV/0!"},{"$error":"#DIV/0!"},null,null,null,null,null,null,0,1]
[null,null,null,"DIVAR IP 7000 R2 16x6TB + 2x DIVAR IP 6000 R2 8x4TB",null,null,"RAID 5",0,{"$f":"IF(G408=\"RAID 5\",(((15-H408)*5586))+(2*(((7-H408)*3723))),(((14-H408)*5586))+(2*(((6-H408)*3723))))","v":135912},{"$f":"(16*6)+(2*(8*4))","v":160},0,{"$f":"475+(2*550)","v":1575},{"$f":"128+(2*128)","v":384},{"$error":"#DIV/0!"},0,132.7265625,{"$error":"#DIV/0!"},0,0,0,0,0,{"$error":"#DIV/0!"},{"$error":"#DIV/0!"},null,null,null,null,null,null,null,null,0,{"$error":"#DIV/0!"},-384,{"$error":"#DIV/0!"},{"$error":"#DIV/0!"},null,null,null,null,null,null,0,1]
[null,null,null,"DIVAR IP 7000 R2 16x6TB + 3x DIVAR IP 6000 R2 8x4TB",null,null,"RAID 5",0,{"$f":"IF(G409=\"RAID 5\",(((15-H409)*5586))+(3*(((7-H409)*3723))),(((14-H409)*5586))+(3*(((6-H409)*3723))))","v":161973},{"$f":"(16*6)+(3*(8*4))","v":192},0,{"$f":"475+(3*550)","v":2125},{"$f":"128+(3*128)","v":512},{"$error":"#DIV/0!"},0,158.1767578125,{"$error":"#DIV/0!"},0,0,0,0,0,{"$error":"#DIV/0!"},{"$error":"#DIV/0!"},null,null,null,null,null,null,null,null,0,{"$error":"#DIV/0!"},-512,{"$error":"#DIV/0!"},{"$error":"#DIV/0!"},null,null,null,null,null,null,0,1]
[null,null,null,"DIVAR IP 7000 R2 16x6TB + 4x DIVAR IP 6000 R2 8x4TB",null,null,"RAID 5",0,{"$f":"IF(G410=\"RAID 5\",(((15-H410)*5586))+(4*(((7-H410)*3723))),(((14-H410)*5586))+(4*(((6-H410)*3723))))","v":188034},{"$f":"(16*6)+(4*(8*4))","v":224},0,{"$f":"475+(4*550)","v":2675},{"$f":"128+(4*128)","v":640},{"$error":"#DIV/0!"},0,183.626953125,{"$error":"#DIV/0!"},0,0,0,0,0,{"$error":"#DIV/0!"},{"$error":"#DIV/0!"},null,null,null,null,null,null,null,null,0,{"$error":"#DIV/0!"},-640,{"$error":"#DIV/0!"},{"$error":"#DIV/0!"},null,null,null,null,null,null,0,1]
[null,null,null,"DIVAR IP 7000 R2 16x6TB + 1x DIVAR IP 6000 R2 3U 16x4TB",null,null,"RAID 5",0,{"$f":"IF(G411=\"RAID 5\",(((15-H411)*5586))+(1*(((15-H411)*3723))),(((14-H411)*5586))+(1*(((14-H411)*3723))))","v":139635},{"$f":"(16*6)+(1*(16*4))","v":160},0,{"$f":"475+(1*550)","v":1025},{"$f":"128+(1*128)","v":256},{"$error":"#DIV/0!"},0,136.3623046875,{"$error":"#DIV/0!"},0,0,0,0,0,{"$error":"#DIV/0!"},{"$error":"#DIV/0!"},null,null,null,null,null,null,null,null,0,{"$error":"#DIV/0!"},-256,{"$error":"#DIV/0!"},{"$error":"#DIV/0!"},null,null,null,null,null,null,0,1]
[null,null,null,"DIVAR IP 7000 R2 16x6TB + 2x DIVAR IP 6000 R2 3U 16x4TB",null,null,"RAID 5",0,{"$f":"IF(G412=\"RAID 5\",(((15-H412)*5586))+(2*(((15-H412)*3723))),(((14-H412)*5586))+(2*(((14-H412)*3723))))","v":195480},{"$f":"(16*6)+(2*(16*4))","v":224},0,{"$f":"475+(2*550)","v":1575},{"$f":"128+(2*128)","v":384},{"$error":"#DIV/0!"},0,190.8984375,{"$error":"#DIV/0!"},0,0,0,0,0,{"$error":"#DIV/0!"},{"$error":"#DIV/0!"},null,null,null,null,null,null,null,null,0,{"$error":"#DIV/0!"},-384,{"$error":"#DIV/0!"},{"$error":"#DIV/0!"},null,null,null,null,null,null,0,1]
[null,null,null,"DIVAR IP 7000 R2 16x6TB + 3x DIVAR IP 6000 R2 3U 16x4TB",null,null,"RAID 5",0,{"$f":"IF(G413=\"RAID 5\",(((15-H413)*5586))+(3*(((15-H413)*3723))),(((14-H413)*5586))+(3*(((14-H413)*3723))))","v":251325},{"$f":"(16*6)+(3*(16*4))","v":288},0,{"$f":"475+(3*550)","v":2125},{"$f":"128+(3*128)","v":512},{"$error":"#DIV/0!"},0,245.4345703125,{"$error":"#DIV/0!"},0,0,0,0,0,{"$error":"#DIV/0!"},{"$error":"#DIV/0!"},null,null,null,null,null,null,null,null,0,{"$error":"#DIV/0!"},-512,{"$error":"#DIV/0!"},{"$error":"#DIV/0!"},null,null,null,null,null,null,0,1]
[null,null,null,"DIVAR IP 7000 R2 16x6TB + 4x DIVAR IP 6000 R2 3U 16x4TB",null,null,"RAID 5",0,{"$f":"IF(G414=\"RAID 5\",(((15-H414)*5586))+(4*(((15-H414)*3723))),(((14-H414)*5586))+(4*(((14-H414)*3723))))","v":307170},{"$f":"(16*6)+(4*(16*4))","v":352},0,{"$f":"475+(4*550)","v":2675},{"$f":"128+(4*128)","v":640},{"$error":"#DIV/0!"},0,299.970703125,{"$error":"#DIV/0!"},0,0,0,0,0,{"$error":"#DIV/0!"},{"$error":"#DIV/0!"},null,null,null,null,null,null,null,null,0,{"$error":"#DIV/0!"},-640,{"$error":"#DIV/0!"},{"$error":"#DIV/0!"},null,null,null,null,null,null,0,1]
[null,null,null,"DIVAR IP 7000 R2 16x6TB + 1x DIVAR IP 6000 R2 8x6TB",null,null,"RAID 5",0,{"$f":"IF(G415=\"RAID 5\",(((15-H415)*5586))+(1*(((7-H415)*5586))),(((14-H415)*5586))+(1*(((6-H415)*5586))))","v":122892},{"$f":"(16*6)+(1*(8*6))","v":144},0,{"$f":"475+(1*550)","v":1025},{"$f":"128+(1*128)","v":256},{"$error":"#DIV/0!"},0,120.01171875,{"$error":"#DIV/0!"},0,0,0,0,0,{"$error":"#DIV/0!"},{"$error":"#DIV/0!"},null,null,null,null,null,null,null,null,0,{"$error":"#DIV/0!"},-256,{"$error":"#DIV/0!"},{"$error":"#DIV/0!"},null,null,null,null,null,null,0,1]
[null,null,null,"DIVAR IP 7000 R2 16x6TB + 2x DIVAR IP 6000 R2 8x6TB",null,null,"RAID 5",0,{"$f":"IF(G416=\"RAID 5\",(((15-H416)*5586))+(2*(((7-H416)*5586))),(((14-H416)*5586))+(2*(((6-H416)*5586))))","v":161994},{"$f":"(16*6)+(2*(8*6))","v":192},0,{"$f":"475+(2*550)","v":1575},{"$f":"128+(2*128)","v":384},{"$error":"#DIV/0!"},0,158.197265625,{"$error":"#DIV/0!"},0,0,0,0,0,{"$error":"#DIV/0!"},{"$error":"#DIV/0!"},null,null,null,null,null,null,null,null,0,{"$error":"#DIV/0!"},-384,{"$error":"#DIV/0!"},{"$error":"#DIV/0!"},null,null,null,null,null,null,0,1]
[null,null,null,"DIVAR IP 7000 R2 16x6TB + 3x DIVAR IP 6000 R2 8x6TB",null,null,"RAID 5",0,{"$f":"IF(G417=\"RAID 5\",(((15-H417)*5586))+(3*(((7-H417)*5586))),(((14-H417)*5586))+(3*(((6-H417)*5586))))","v":201096},{"$f":"(16*6)+(3*(8*6))","v":240},0,{"$f":"475+(3*550)","v":2125},{"$f":"128+(3*128)","v":512},{"$error":"#DIV/0!"},0,196.3828125,{"$error":"#DIV/0!"},0,0,0,0,0,{"$error":"#DIV/0!"},{"$error":"#DIV/0!"},null,null,null,null,null,null,null,null,0,{"$error":"#DIV/0!"},-512,{"$error":"#DIV/0!"},{"$error":"#DIV/0!"},null,null,null,null,null,null,0,1]
[null,null,null,"DIVAR IP 7000 R2 16x6TB + 4x DIVAR IP 6000 R2 8x6TB",null,null,"RAID 5",0,{"$f":"IF(G418=\"RAID 5\",(((15-H418)*5586))+(4*(((7-H418)*5586))),(((14-H418)*5586))+(4*(((6-H418)*5586))))","v":240198},{"$f":"(16*6)+(4*(8*6))","v":288},0,{"$f":"475+(4*550)","v":2675},{"$f":"128+(4*128)","v":640},{"$error":"#DIV/0!"},0,234.568359375,{"$error":"#DIV/0!"},0,0,0,0,0,{"$error":"#DIV/0!"},{"$error":"#DIV/0!"},null,null,null,null,null,null,null,null,0,{"$error":"#DIV/0!"},-640,{"$error":"#DIV/0!"},{"$error":"#DIV/0!"},null,null,null,null,null,null,0,1]
[null,null,null,"DIVAR IP 7000 R2 16x6TB + 1x DIVAR IP 6000 R2 3U 16x6TB",null,null,"RAID 5",0,{"$f":"IF(G419=\"RAID 5\",(((15-H419)*5586))+(1*(((15-H419)*5586))),(((14-H419)*5586))+(1*(((14-H419)*5586))))","v":167580},{"$f":"(16*6)+(1*(16*6))","v":192},0,{"$f":"475+(1*550)","v":1025},{"$f":"128+(1*128)","v":256},{"$error":"#DIV/0!"},0,163.65234375,{"$error":"#DIV/0!"},0,0,0,0,0,{"$error":"#DIV/0!"},{"$error":"#DIV/0!"},null,null,null,null,null,null,null,null,0,{"$error":"#DIV/0!"},-256,{"$error":"#DIV/0!"},{"$error":"#DIV/0!"},null,null,null,null,null,null,0,1]
[null,null,null,"DIVAR IP 7000 R2 16x6TB + 2x DIVAR IP 6000 R2 3U 16x6TB",null,null,"RAID 5",0,{"$f":"IF(G420=\"RAID 5\",(((15-H420)*5586))+(2*(((15-H420)*5586))),(((14-H420)*5586))+(2*(((14-H420)*5586))))","v":251370},{"$f":"(16*6)+(2*(16*6))","v":288},0,{"$f":"475+(2*550)","v":1575},{"$f":"128+(2*128)","v":384},{"$error":"#DIV/0!"},0,245.478515625,{"$error":"#DIV/0!"},0,0,0,0,0,{"$error":"#DIV/0!"},{"$error":"#DIV/0!"},null,null,null,null,null,null,null,null,0,{"$error":"#DIV/0!"},-384,{"$error":"#DIV/0!"},{"$error":"#DIV/0!"},null,null,null,null,null,null,0,1]
[null,null,null,"DIVAR IP 7000 R2 16x6TB + 3x DIVAR IP 6000 R2 3U 16x6TB",null,null,"RAID 5",0,{"$f":"IF(G421=\"RAID 5\",(((15-H421)*5586))+(3*(((15-H421)*5586))),(((14-H421)*5586))+(3*(((14-H421)*5586))))","v":335160},{"$f":"(16*6)+(3*(16*6))","v":384},0,{"$f":"475+(3*550)","v":2125},{"$f":"128+(3*128)","v":512},{"$error":"#DIV/0!"},0,327.3046875,{"$error":"#DIV/0!"},0,0,0,0,0,{"$error":"#DIV/0!"},{"$error":"#DIV/0!"},null,null,null,null,null,null,null,null,0,{"$error":"#DIV/0!"},-512,{"$error":"#DIV/0!"},{"$error":"#DIV/0!"},null,null,null,null,null,null,0,1]
[null,null,null,"DIVAR IP 7000 R2 16x6TB + 4x DIVAR IP 6000 R2 3U 16x6TB",null,null,"RAID 5",0,{"$f":"IF(G422=\"RAID 5\",(((15-H422)*5586))+(4*(((15-H422)*5586))),(((14-H422)*5586))+(4*(((14-H422)*5586))))","v":418950},{"$f":"(16*6)+(4*(16*6))","v":480},0,{"$f":"475+(4*550)","v":2675},{"$f":"128+(4*128)","v":640},{"$error":"#DIV/0!"},0,409.130859375,{"$error":"#DIV/0!"},0,0,0,0,0,{"$error":"#DIV/0!"},{"$error":"#DIV/0!"},null,null,null,null,null,null,null,null,0,{"$error":"#DIV/0!"},-640,{"$error":"#DIV/0!"},{"$error":"#DIV/0!"},null,null,null,null,null,null,0,1]
[null,null,null,"DIVAR IP 7000 R2 16x6TB + 1x DIVAR IP 6000 R2 8x8TB",null,null,"RAID 5",0,{"$f":"IF(G423=\"RAID 5\",(((15-H423)*5586))+(1*(((7-H423)*7448))),(((14-H423)*5586))+(1*(((6-H423)*7448))))","v":135926},{"$f":"(16*6)+(1*(8*8))","v":160},0,{"$f":"475+(1*550)","v":1025},{"$f":"128+(1*128)","v":256},{"$error":"#DIV/0!"},0,132.740234375,{"$error":"#DIV/0!"},0,{"$f":"IF($O423>7,OFFSET($G$255,0,$L$257),OFFSET($G$248,O423-1,$L$257,1,1))","v":0},0,0,0,{"$f":"IF(AND(IF($AJ423<=$L423,TRUE,FALSE),IF($V423<=$AI423,TRUE,FALSE)),\"True\",\"\")","v":{"$error":"#DIV/0!"}},{"$error":"#DIV/0!"},null,null,null,null,null,null,null,null,0,{"$error":"#DIV/0!"},-256,{"$error":"#DIV/0!"},{"$error":"#DIV/0!"},null,null,null,null,null,null,0,1]
[null,null,null,"DIVAR IP 7000 R2 16x6TB + 2x DIVAR IP 6000 R2 8x8TB",null,null,"RAID 5",0,{"$f":"IF(G424=\"RAID 5\",(((15-H424)*5586))+(2*(((7-H424)*7448))),(((14-H424)*5586))+(2*(((6-H424)*7448))))","v":188062},{"$f":"(16*6)+(2*(8*8))","v":224},0,{"$f":"475+(2*550)","v":1575},{"$f":"128+(2*128)","v":384},{"$error":"#DIV/0!"},0,183.654296875,{"$error":"#DIV/0!"},0,0,0,0,0,{"$error":"#DIV/0!"},{"$error":"#DIV/0!"},null,null,null,null,null,null,null,null,0,{"$error":"#DIV/0!"},-384,{"$error":"#DIV/0!"},{"$error":"#DIV/0!"},null,null,null,null,null,null,0,1]
[null,null,null,"DIVAR IP 7000 R2 16x6TB + 3x DIVAR IP 6000 R2 8x8TB",null,null,"RAID 5",0,{"$f":"IF(G425=\"RAID 5\",(((15-H425)*5586))+(3*(((7-H425)*7448))),(((14-H425)*5586))+(3*(((6-H425)*7448))))","v":240198},{"$f":"(16*6)+(3*(8*8))","v":288},0,{"$f":"475+(3*550)","v":2125},{"$f":"128+(3*128)","v":512},{"$error":"#DIV/0!"},0,234.568359375,{"$error":"#DIV/0!"},0,0,0,0,0,{"$error":"#DIV/0!"},{"$error":"#DIV/0!"},null,null,null,null,null,null,null,null,0,{"$error":"#DIV/0!"},-512,{"$error":"#DIV/0!"},{"$error":"#DIV/0!"},null,null,null,null,null,null,0,1]
[null,null,null,"DIVAR IP 7000 R2 16x6TB + 4x DIVAR IP 6000 R2 8x8TB",null,null,"RAID 5",0,{"$f":"IF(G426=\"RAID 5\",(((15-H426)*5586))+(4*(((7-H426)*7448))),(((14-H426)*5586))+(4*(((6-H426)*7448))))","v":292334},{"$f":"(16*6)+(4*(8*8))","v":352},0,{"$f":"475+(4*550)","v":2675},{"$f":"128+(4*128)","v":640},{"$error":"#DIV/0!"},0,285.482421875,{"$error":"#DIV/0!"},0,0,0,0,0,{"$error":"#DIV/0!"},{"$error":"#DIV/0!"},null,null,null,null,null,null,null,null,0,{"$error":"#DIV/0!"},-640,{"$error":"#DIV/0!"},{"$error":"#DIV/0!"},null,null,null,null,null,null,0,1]
[null,null,null,"DIVAR IP 7000 R2 16x6TB + 1x DIVAR IP 6000 R2 3U 16x8TB",null,null,"RAID 5",0,{"$f":"IF(G427=\"RAID 5\",(((15-H427)*5586))+(1*(((15-H427)*7448))),(((14-H427)*5586))+(1*(((14-H427)*7448))))","v":195510},{"$f":"(16*6)+(1*(16*8))","v":224},0,{"$f":"475+(1*550)","v":1025},{"$f":"128+(1*128)","v":256},{"$error":"#DIV/0!"},0,190.927734375,{"$error":"#DIV/0!"},0,0,0,0,0,{"$error":"#DIV/0!"},{"$error":"#DIV/0!"},null,null,null,null,null,null,null,null,0,{"$error":"#DIV/0!"},-256,{"$error":"#DIV/0!"},{"$error":"#DIV/0!"},null,null,null,null,null,null,0,1]
[null,null,null,"DIVAR IP 7000 R2 16x6TB + 2x DIVAR IP 6000 R2 3U 16x8TB",null,null,"RAID 5",0,{"$f":"IF(G428=\"RAID 5\",(((15-H428)*5586))+(2*(((15-H428)*7448))),(((14-H428)*5586))+(2*(((14-H428)*7448))))","v":307230},{"$f":"(16*6)+(2*(16*8))","v":352},0,{"$f":"475+(2*550)","v":1575},{"$f":"128+(2*128)","v":384},{"$error":"#DIV/0!"},0,300.029296875,{"$error":"#DIV/0!"},0,0,0,0,0,{"$error":"#DIV/0!"},{"$error":"#DIV/0!"},null,null,null,null,null,null,null,null,0,{"$error":"#DIV/0!"},-384,{"$error":"#DIV/0!"},{"$error":"#DIV/0!"},null,null,null,null,null,null,0,1]
[null,null,null,"DIVAR IP 7000 R2 16x6TB + 3x DIVAR IP 6000 R2 3U 16x8TB",null,null,"RAID 5",0,{"$f":"IF(G429=\"RAID 5\",(((15-H429)*5586))+(3*(((15-H429)*7448))),(((14-H429)*5586))+(3*(((14-H429)*7448))))","v":418950},{"$f":"(16*6)+(3*(16*8))","v":480},0,{"$f":"475+(3*550)","v":2125},{"$f":"128+(3*128)","v":512},{"$error":"#DIV/0!"},0,409.130859375,{"$error":"#DIV/0!"},0,0,0,0,0,{"$error":"#DIV/0!"},{"$f":"IF(AND(IF($N429<=$L429,TRUE,FALSE),IF($V429<=$R429,TRUE,FALSE),OR(W429=\"True\",$W$262=\"No\"),IF($A$269=\"False\",IF(O429=1,TRUE,FALSE),TRUE)),\"<-- fits project\",\"\")","v":{"$error":"#DIV/0!"}},null,null,null,null,null,null,null,null,0,{"$error":"#DIV/0!"},-512,{"$error":"#DIV/0!"},{"$error":"#DIV/0!"},null,null,null,null,null,null,0,1]
[null,null,null,"DIVAR IP 7000 R2 16x6TB + 4x DIVAR IP 6000 R2 3U 16x8TB",null,null,"RAID 5",0,{"$f":"IF(G430=\"RAID 5\",(((15-H430)*5586))+(4*(((15-H430)*7448))),(((14-H430)*5586))+(4*(((14-H430)*7448))))","v":530670},{"$f":"(16*6)+(4*(16*8))","v":608},0,{"$f":"475+(4*550)","v":2675},{"$f":"128+(4*128)","v":640},{"$error":"#DIV/0!"},0,518.232421875,{"$error":"#DIV/0!"},0,0,0,0,0,{"$error":"#DIV/0!"},{"$error":"#DIV/0!"},null,null,null,null,null,null,null,null,0,{"$error":"#DIV/0!"},-640,{"$f":"IF(O430>1,$I$257/(O430-1),$I$257/O430)","v":{"$error":"#DIV/0!"}},{"$error":"#DIV/0!"},null,null,null,null,null,null,0,1]
[null,null,null,"DIVAR IP 7000 R2 16x8TB + 1x DIVAR IP 6000 R2 8x3TB",null,null,"RAID 5",0,{"$f":"IF(G431=\"RAID 5\",(((15-H431)*7448))+(1*(((7-H431)*2793))),(((14-H431)*7448))+(1*(((6-H431)*2793))))","v":131271},{"$f":"(16*8)+(1*(8*3))","v":152},0,{"$f":"475+(1*550)","v":1025},256,{"$f":"$I$257/O431","v":{"$error":"#DIV/0!"}},0,{"$f":"(1-(($G$257/$I431)-INT($G$257/$I431)))*I431/1024","v":128.1943359375},{"$error":"#DIV/0!"},0,0,0,0,0,{"$error":"#DIV/0!"},{"$error":"#DIV/0!"},null,null,null,null,null,null,null,null,{"$f":"AF431*O431","v":0},{"$error":"#DIV/0!"},-256,{"$error":"#DIV/0!"},{"$f":"IF(X431=\"<-- fits project\",D431,\"\")","v":{"$error":"#DIV/0!"}},null,null,null,null,null,null,0,1]
[null,null,null,"DIVAR IP 7000 R2 16x8TB + 2x DIVAR IP 6000 R2 8x3TB",null,null,"RAID 5",0,{"$f":"IF(G432=\"RAID 5\",(((15-H432)*7448))+(2*(((7-H432)*2793))),(((14-H432)*7448))+(2*(((6-H432)*2793))))","v":150822},{"$f":"(16*8)+(2*(8*3))","v":176},0,{"$f":"475+(2*550)","v":1575},384,{"$error":"#DIV/0!"},0,147.287109375,{"$error":"#DIV/0!"},0,0,0,0,0,{"$error":"#DIV/0!"},{"$error":"#DIV/0!"},null,null,null,null,null,null,null,null,0,{"$error":"#DIV/0!"},-384,{"$error":"#DIV/0!"},{"$error":"#DIV/0!"},null,null,null,null,null,null,0,1]
[null,null,null,"DIVAR IP 7000 R2 16x8TB + 3x DIVAR IP 6000 R2 8x3TB",null,null,"RAID 5",0,{"$f":"IF(G433=\"RAID 5\",(((15-H433)*7448))+(3*(((7-H433)*2793))),(((14-H433)*7448))+(3*(((6-H433)*2793))))","v":170373},{"$f":"(16*8)+(3*(8*3))","v":200},0,{"$f":"475+(3*550)","v":2125},512,{"$error":"#DIV/0!"},0,166.3798828125,{"$error":"#DIV/0!"},0,0,0,0,0,{"$error":"#DIV/0!"},{"$error":"#DIV/0!"},null,null,null,null,null,null,null,null,0,{"$error":"#DIV/0!"},-512,{"$error":"#DIV/0!"},{"$error":"#DIV/0!"},null,null,null,null,null,null,0,1]
[null,null,null,"DIVAR IP 7000 R2 16x8TB + 4x DIVAR IP 6000 R2 8x3TB",null,null,"RAID 5",0,{"$f":"IF(G434=\"RAID 5\",(((15-H434)*7448))+(4*(((7-H434)*2793))),(((14-H434)*7448))+(4*(((6-H434)*2793))))","v":189924},{"$f":"(16*8)+(4*(8*3))","v":224},0,{"$f":"475+(4*550)","v":2675},640,{"$error":"#DIV/0!"},0,185.47265625,{"$error":"#DIV/0!"},0,0,0,0,0,{"$error":"#DIV/0!"},{"$error":"#DIV/0!"},null,null,null,null,null,null,null,null,0,{"$error":"#DIV/0!"},-640,{"$error":"#DIV/0!"},{"$error":"#DIV/0!"},null,null,null,null,null,null,0,1]
[null,null,null,"DIVAR IP 7000 R2 16x8TB + 1x DIVAR IP 6000 R2 3U 16x3TB",null,null,"RAID 5",0,{"$f":"IF(G435=\"RAID 5\",(((15-H435)*7448))+(1*(((15-H435)*2793))),(((14-H435)*7448))+(1*(((14-H435)*2793))))","v":153615},{"$f":"(16*8)+(1*(16*3))","v":176},0,{"$f":"475+(1*550)","v":1025},256,{"$error":"#DIV/0!"},0,150.0146484375,{"$error":"#DIV/0!"},0,0,0,0,0,{"$error":"#DIV/0!"},{"$error":"#DIV/0!"},null,null,null,null,null,null,null,null,0,{"$error":"#DIV/0!"},-256,{"$error":"#DIV/0!"},{"$error":"#DIV/0!"},null,null,null,null,null,null,0,1]
[null,null,null,"DIVAR IP 7000 R2 16x8TB + 2x DIVAR IP 6000 R2 3U 16x3TB",null,null,"RAID 5",0,{"$f":"IF(G436=\"RAID 5\",(((15-H436)*7448))+(2*(((15-H436)*2793))),(((14-H436)*7448))+(2*(((14-H436)*2793))))","v":195510},{"$f":"(16*8)+(2*(16*3))","v":224},0,{"$f":"475+(2*550)","v":1575},384,{"$error":"#DIV/0!"},{"$f":"ROUNDUP($G$257/I436,0)","v":0},190.927734375,{"$error":"#DIV/0!"},0,0,0,0,0,{"$error":"#DIV/0!"},{"$error":"#DIV/0!"},null,null,null,null,null,null,null,null,0,{"$error":"#DIV/0!"},-384,{"$error":"#DIV/0!"},{"$error":"#DIV/0!"},null,null,null,null,null,null,0,1]
[null,null,null,"DIVAR IP 7000 R2 16x8TB + 3x DIVAR IP 6000 R2 3U 16x3TB",null,null,"RAID 5",0,{"$f":"IF(G437=\"RAID 5\",(((15-H437)*7448))+(3*(((15-H437)*2793))),(((14-H437)*7448))+(3*(((14-H437)*2793))))","v":237405},{"$f":"(16*8)+(3*(16*3))","v":272},0,{"$f":"475+(3*550)","v":2125},512,{"$error":"#DIV/0!"},0,231.8408203125,{"$error":"#DIV/0!"},0,0,0,0,0,{"$error":"#DIV/0!"},{"$error":"#DIV/0!"},null,null,null,null,null,null,null,null,0,{"$f":"AG437/$AG$563","v":{"$error":"#DIV/0!"}},-512,{"$error":"#DIV/0!"},{"$error":"#DIV/0!"},null,null,null,null,null,null,0,1]
[null,null,null,"DIVAR IP 7000 R2 16x8TB + 4x DIVAR IP 6000 R2 3U 16x3TB",null,null,"RAID 5",0,{"$f":"IF(G438=\"RAID 5\",(((15-H438)*7448))+(4*(((15-H438)*2793))),(((14-H438)*7448))+(4*(((14-H438)*2793))))","v":279300},{"$f":"(16*8)+(4*(16*3))","v":320},0,{"$f":"475+(4*550)","v":2675},640,{"$error":"#DIV/0!"},0,272.75390625,{"$error":"#DIV/0!"},0,0,0,0,0,{"$error":"#DIV/0!"},{"$error":"#DIV/0!"},null,null,null,null,null,null,null,null,0,{"$error":"#DIV/0!"},-640,{"$error":"#DIV/0!"},{"$error":"#DIV/0!"},null,null,null,null,null,null,{"$f":"IF(G438=\"RAID 6\",0,0)","v":0},{"$f":"IF(G438=\"RAID 6\",0,1)","v":1}]
[null,null,null,"DIVAR IP 7000 R2 16x8TB + 1x DIVAR IP 6000 R2 8x4TB",null,null,"RAID 5",0,{"$f":"IF(G439=\"RAID 5\",(((15-H439)*7448))+(1*(((7-H439)*3723))),(((14-H439)*7448))+(1*(((6-H439)*3723))))","v":137781},{"$f":"(16*8)+(1*(8*4))","v":160},0,{"$f":"475+(1*550)","v":1025},256,{"$error":"#DIV/0!"},0,134.5517578125,{"$error":"#DIV/0!"},0,0,0,0,0,{"$error":"#DIV/0!"},{"$error":"#DIV/0!"},null,null,null,null,null,null,null,null,0,{"$error":"#DIV/0!"},-256,{"$error":"#DIV/0!"},{"$error":"#DIV/0!"},null,null,null,null,null,null,0,1]
[null,null,null,"DIVAR IP 7000 R2 16x8TB + 2x DIVAR IP 6000 R2 8x4TB",null,null,"RAID 5",0,{"$f":"IF(G440=\"RAID 5\",(((15-H440)*7448))+(2*(((7-H440)*3723))),(((14-H440)*7448))+(2*(((6-H440)*3723))))","v":163842},{"$f":"(16*8)+(2*(8*4))","v":192},0,{"$f":"475+(2*550)","v":1575},384,{"$error":"#DIV/0!"},0,160.001953125,{"$error":"#DIV/0!"},0,0,0,0,0,{"$error":"#DIV/0!"},{"$error":"#DIV/0!"},null,null,null,null,null,null,null,null,0,{"$error":"#DIV/0!"},-384,{"$error":"#DIV/0!"},{"$error":"#DIV/0!"},null,null,null,null,null,null,0,1]
[null,null,null,"DIVAR IP 7000 R2 16x8TB + 3x DIVAR IP 6000 R2 8x4TB",null,null,"RAID 5",0,{"$f":"IF(G441=\"RAID 5\",(((15-H441)*7448))+(3*(((7-H441)*3723))),(((14-H441)*7448))+(3*(((6-H441)*3723))))","v":189903},{"$f":"(16*8)+(3*(8*4))","v":224},0,{"$f":"475+(3*550)","v":2125},512,{"$error":"#DIV/0!"},0,185.4521484375,{"$error":"#DIV/0!"},0,0,0,0,0,{"$error":"#DIV/0!"},{"$error":"#DIV/0!"},null,null,null,null,null,null,null,null,0,{"$error":"#DIV/0!"},-512,{"$error":"#DIV/0!"},{"$error":"#DIV/0!"},null,null,null,null,null,null,0,1]
[null,null,null,"DIVAR IP 7000 R2 16x8TB + 4x DIVAR IP 6000 R2 8x4TB",null,null,"RAID 5",0,{"$f":"IF(G442=\"RAID 5\",(((15-H442)*7448))+(4*(((7-H442)*3723))),(((14-H442)*7448))+(4*(((6-H442)*3723))))","v":215964},{"$f":"(16*8)+(4*(8*4))","v":256},0,{"$f":"475+(4*550)","v":2675},640,{"$error":"#DIV/0!"},0,210.90234375,{"$error":"#DIV/0!"},0,0,0,0,0,{"$error":"#DIV/0!"},{"$error":"#DIV/0!"},null,null,null,null,null,null,null,null,0,{"$error":"#DIV/0!"},-640,{"$error":"#DIV/0!"},{"$error":"#DIV/0!"},null,null,null,null,null,null,0,1]
[null,null,null,"DIVAR IP 7000 R2 16x8TB + 1x DIVAR IP 6000 R2 3U 16x4TB",null,null,"RAID 5",0,{"$f":"IF(G443=\"RAID 5\",(((15-H443)*7448))+(1*(((15-H443)*3723))),(((14-H443)*7448))+(1*(((14-H443)*3723))))","v":167565},{"$f":"(16*8)+(1*(16*4))","v":192},0,{"$f":"475+(1*550)","v":1025},256,{"$error":"#DIV/0!"},0,163.6376953125,{"$error":"#DIV/0!"},0,0,0,0,0,{"$error":"#DIV/0!"},{"$error":"#DIV/0!"},null,null,null,null,null,null,null,null,0,{"$error":"#DIV/0!"},-256,{"$error":"#DIV/0!"},{"$error":"#DIV/0!"},null,null,null,null,null,null,0,1]
[null,null,null,"DIVAR IP 7000 R2 16x8TB + 2x DIVAR IP 6000 R2 3U 16x4TB",null,null,"RAID 5",0,{"$f":"IF(G444=\"RAID 5\",(((15-H444)*7448))+(2*(((15-H444)*3723))),(((14-H444)*7448))+(2*(((14-H444)*3723))))","v":223410},{"$f":"(16*8)+(2*(16*4))","v":256},0,{"$f":"475+(2*550)","v":1575},384,{"$error":"#DIV/0!"},0,218.173828125,{"$error":"#DIV/0!"},0,0,0,0,0,{"$error":"#DIV/0!"},{"$error":"#DIV/0!"},null,null,null,null,null,null,null,null,0,{"$error":"#DIV/0!"},-384,{"$error":"#DIV/0!"},{"$error":"#DIV/0!"},null,null,null,null,null,null,0,1]
[null,null,null,"DIVAR IP 7000 R2 16x8TB + 3x DIVAR IP 6000 R2 3U 16x4TB",null,null,"RAID 5",0,{"$f":"IF(G445=\"RAID 5\",(((15-H445)*7448))+(3*(((15-H445)*3723))),(((14-H445)*7448))+(3*(((14-H445)*3723))))","v":279255},{"$f":"(16*8)+(3*(16*4))","v":320},0,{"$f":"475+(3*550)","v":2125},512,{"$error":"#DIV/0!"},0,272.7099609375,{"$error":"#DIV/0!"},0,0,0,0,0,{"$error":"#DIV/0!"},{"$error":"#DIV/0!"},null,null,null,null,null,null,null,null,0,{"$error":"#DIV/0!"},-512,{"$error":"#DIV/0!"},{"$error":"#DIV/0!"},null,null,null,null,null,null,0,1]
[null,null,null,"DIVAR IP 7000 R2 16x8TB + 4x DIVAR IP 6000 R2 3U 16x4TB",null,null,"RAID 5",0,{"$f":"IF(G446=\"RAID 5\",(((15-H446)*7448))+(4*(((15-H446)*3723))),(((14-H446)*7448))+(4*(((14-H446)*3723))))","v":335100},{"$f":"(16*8)+(4*(16*4))","v":384},0,{"$f":"475+(4*550)","v":2675},640,{"$error":"#DIV/0!"},0,327.24609375,{"$error":"#DIV/0!"},0,0,0,0,0,{"$error":"#DIV/0!"},{"$error":"#DIV/0!"},null,null,null,null,null,null,null,null,0,{"$error":"#DIV/0!"},-640,{"$error":"#DIV/0!"},{"$error":"#DIV/0!"},null,null,null,null,null,null,0,1]
[null,null,null,"DIVAR IP 7000 R2 16x8TB + 1x DIVAR IP 6000 R2 8x6TB",null,null,"RAID 5",0,{"$f":"IF(G447=\"RAID 5\",(((15-H447)*7448))+(1*(((7-H447)*5586))),(((14-H447)*7448))+(1*(((6-H447)*5586))))","v":150822},{"$f":"(16*8)+(1*(8*6))","v":176},0,{"$f":"475+(1*550)","v":1025},256,{"$error":"#DIV/0!"},0,147.287109375,{"$error":"#DIV/0!"},0,0,0,0,0,{"$error":"#DIV/0!"},{"$error":"#DIV/0!"},null,null,null,null,null,null,null,null,0,{"$error":"#DIV/0!"},-256,{"$error":"#DIV/0!"},{"$error":"#DIV/0!"},null,null,null,null,null,null,0,1]
[null,null,null,"DIVAR IP 7000 R2 16x8TB + 2x DIVAR IP 6000 R2 8x6TB",null,null,"RAID 5",0,{"$f":"IF(G448=\"RAID 5\",(((15-H448)*7448))+(2*(((7-H448)*5586))),(((14-H448)*7448))+(2*(((6-H448)*5586))))","v":189924},{"$f":"(16*8)+(2*(8*6))","v":224},0,{"$f":"475+(2*550)","v":1575},384,{"$error":"#DIV/0!"},0,185.47265625,{"$error":"#DIV/0!"},0,0,0,0,0,{"$error":"#DIV/0!"},{"$error":"#DIV/0!"},null,null,null,null,null,null,null,null,0,{"$error":"#DIV/0!"},-384,{"$error":"#DIV/0!"},{"$error":"#DIV/0!"},null,null,null,null,null,null,0,1]
[null,null,null,"DIVAR IP 7000 R2 16x8TB + 3x DIVAR IP 6000 R2 8x6TB",null,null,"RAID 5",0,{"$f":"IF(G449=\"RAID 5\",(((15-H449)*7448))+(3*(((7-H449)*5586))),(((14-H449)*7448))+(3*(((6-H449)*5586))))","v":229026},{"$f":"(16*8)+(3*(8*6))","v":272},0,{"$f":"475+(3*550)","v":2125},512,{"$error":"#DIV/0!"},0,223.658203125,{"$error":"#DIV/0!"},0,0,0,0,0,{"$error":"#DIV/0!"},{"$error":"#DIV/0!"},null,null,null,null,null,null,null,null,0,{"$error":"#DIV/0!"},-512,{"$error":"#DIV/0!"},{"$error":"#DIV/0!"},null,null,null,null,null,null,0,1]
[null,null,null,"DIVAR IP 7000 R2 16x8TB + 4x DIVAR IP 6000 R2 8x6TB",null,null,"RAID 5",0,{"$f":"IF(G450=\"RAID 5\",(((15-H450)*7448))+(4*(((7-H450)*5586))),(((14-H450)*7448))+(4*(((6-H450)*5586))))","v":268128},{"$f":"(16*8)+(4*(8*6))","v":320},0,{"$f":"475+(4*550)","v":2675},640,{"$error":"#DIV/0!"},0,261.84375,{"$error":"#DIV/0!"},0,0,0,0,0,{"$error":"#DIV/0!"},{"$error":"#DIV/0!"},null,null,null,null,null,null,null,null,0,{"$error":"#DIV/0!"},-640,{"$error":"#DIV/0!"},{"$error":"#DIV/0!"},null,null,null,null,null,null,0,1]
[null,null,null,"DIVAR IP 7000 R2 16x8TB + 1x DIVAR IP 6000 R2 3U 16x6TB",null,null,"RAID 5",0,{"$f":"IF(G451=\"RAID 5\",(((15-H451)*7448))+(1*(((15-H451)*5586))),(((14-H451)*7448))+(1*(((14-H451)*5586))))","v":195510},{"$f":"(16*8)+(1*(16*6))","v":224},0,{"$f":"475+(1*550)","v":1025},256,{"$error":"#DIV/0!"},0,190.927734375,{"$error":"#DIV/0!"},0,0,0,0,0,{"$error":"#DIV/0!"},{"$error":"#DIV/0!"},null,null,null,null,null,null,null,null,0,{"$error":"#DIV/0!"},-256,{"$error":"#DIV/0!"},{"$error":"#DIV/0!"},null,null,null,null,null,null,0,1]
[null,null,null,"DIVAR IP 7000 R2 16x8TB + 2x DIVAR IP 6000 R2 3U 16x6TB",null,null,"RAID 5",0,{"$f":"IF(G452=\"RAID 5\",(((15-H452)*7448))+(2*(((15-H452)*5586))),(((14-H452)*7448))+(2*(((14-H452)*5586))))","v":279300},{"$f":"(16*8)+(2*(16*6))","v":320},0,{"$f":"475+(2*550)","v":1575},384,{"$error":"#DIV/0!"},0,272.75390625,{"$error":"#DIV/0!"},0,0,0,0,0,{"$error":"#DIV/0!"},{"$error":"#DIV/0!"},null,null,null,null,null,null,null,null,0,{"$error":"#DIV/0!"},-384,{"$error":"#DIV/0!"},{"$error":"#DIV/0!"},null,null,null,null,null,null,0,1]
[null,null,null,"DIVAR IP 7000 R2 16x8TB + 3x DIVAR IP 6000 R2 3U 16x6TB",null,null,"RAID 5",0,{"$f":"IF(G453=\"RAID 5\",(((15-H453)*7448))+(3*(((15-H453)*5586))),(((14-H453)*7448))+(3*(((14-H453)*5586))))","v":363090},{"$f":"(16*8)+(3*(16*6))","v":416},0,{"$f":"475+(3*550)","v":2125},512,{"$error":"#DIV/0!"},0,354.580078125,{"$error":"#DIV/0!"},0,0,0,0,0,{"$error":"#DIV/0!"},{"$error":"#DIV/0!"},null,null,null,null,null,null,null,null,0,{"$error":"#DIV/0!"},-512,{"$error":"#DIV/0!"},{"$error":"#DIV/0!"},null,null,null,null,null,null,0,1]
[null,null,null,"DIVAR IP 7000 R2 16x8TB + 4x DIVAR IP 6000 R2 3U 16x6TB",null,null,"RAID 5",0,{"$f":"IF(G454=\"RAID 5\",(((15-H454)*7448))+(4*(((15-H454)*5586))),(((14-H454)*7448))+(4*(((14-H454)*5586))))","v":446880},{"$f":"(16*8)+(4*(16*6))","v":512},0,{"$f":"475+(4*550)","v":2675},640,{"$error":"#DIV/0!"},0,436.40625,{"$error":"#DIV/0!"},0,0,0,0,0,{"$error":"#DIV/0!"},{"$error":"#DIV/0!"},null,null,null,null,null,null,null,null,0,{"$error":"#DIV/0!"},-640,{"$error":"#DIV/0!"},{"$error":"#DIV/0!"},null,null,null,null,null,null,0,1]
[null,null,null,"DIVAR IP 7000 R2 16x8TB + 1x DIVAR IP 6000 R2 8x8TB",null,null,"RAID 5",0,{"$f":"IF(G455=\"RAID 5\",(((15-H455)*7448))+(1*(((7-H455)*7448))),(((14-H455)*7448))+(1*(((6-H455)*7448))))","v":163856},{"$f":"(16*8)+(1*(8*8))","v":192},{"$f":"O455*J455","v":0},{"$f":"475+(1*550)","v":1025},256,{"$error":"#DIV/0!"},0,160.015625,{"$error":"#DIV/0!"},{"$f":"O455*M455","v":0},0,{"$f":"O455*1*MAX($N$1528,1)","v":0},0,0,{"$error":"#DIV/0!"},{"$error":"#DIV/0!"},null,null,null,null,null,null,null,null,0,{"$error":"#DIV/0!"},{"$f":"(O455-1)*M455","v":-256},{"$error":"#DIV/0!"},{"$error":"#DIV/0!"},null,null,null,null,null,null,0,1]
[null,null,null,"DIVAR IP 7000 R2 16x8TB + 2x DIVAR IP 6000 R2 8x8TB",null,null,"RAID 5",0,{"$f":"IF(G456=\"RAID 5\",(((15-H456)*7448))+(2*(((7-H456)*7448))),(((14-H456)*7448))+(2*(((6-H456)*7448))))","v":215992},{"$f":"(16*8)+(2*(8*8))","v":256},0,{"$f":"475+(2*550)","v":1575},384,{"$error":"#DIV/0!"},0,210.9296875,{"$error":"#DIV/0!"},0,0,0,0,0,{"$error":"#DIV/0!"},{"$error":"#DIV/0!"},null,null,null,null,null,null,null,null,0,{"$error":"#DIV/0!"},-384,{"$error":"#DIV/0!"},{"$error":"#DIV/0!"},null,null,null,null,null,null,0,1]
[null,null,null,"DIVAR IP 7000 R2 16x8TB + 3x DIVAR IP 6000 R2 8x8TB",null,null,"RAID 5",0,{"$f":"IF(G457=\"RAID 5\",(((15-H457)*7448))+(3*(((7-H457)*7448))),(((14-H457)*7448))+(3*(((6-H457)*7448))))","v":268128},{"$f":"(16*8)+(3*(8*8))","v":320},0,{"$f":"475+(3*550)","v":2125},512,{"$error":"#DIV/0!"},0,261.84375,{"$error":"#DIV/0!"},0,0,0,0,0,{"$error":"#DIV/0!"},{"$error":"#DIV/0!"},null,null,null,null,null,null,null,null,0,{"$error":"#DIV/0!"},-512,{"$error":"#DIV/0!"},{"$error":"#DIV/0!"},null,null,null,null,null,null,0,1]
[null,null,null,"DIVAR IP 7000 R2 16x8TB + 4x DIVAR IP 6000 R2 8x8TB",null,null,"RAID 5",0,{"$f":"IF(G458=\"RAID 5\",(((15-H458)*7448))+(4*(((7-H458)*7448))),(((14-H458)*7448))+(4*(((6-H458)*7448))))","v":320264},{"$f":"(16*8)+(4*(8*8))","v":384},0,{"$f":"475+(4*550)","v":2675},640,{"$error":"#DIV/0!"},0,312.7578125,{"$error":"#DIV/0!"},0,0,0,0,0,{"$error":"#DIV/0!"},{"$error":"#DIV/0!"},null,null,null,null,null,null,null,null,0,{"$error":"#DIV/0!"},-640,{"$error":"#DIV/0!"},{"$error":"#DIV/0!"},null,null,null,null,null,null,0,1]
[null,null,null,"DIVAR IP 7000 R2 16x8TB + 1x DIVAR IP 6000 R2 3U 16x8TB",null,null,"RAID 5",0,{"$f":"IF(G459=\"RAID 5\",(((15-H459)*7448))+(1*(((15-H459)*7448))),(((14-H459)*7448))+(1*(((14-H459)*7448))))","v":223440},{"$f":"(16*8)+(1*(16*8))","v":256},0,{"$f":"475+(1*550)","v":1025},{"$f":"128+(1*128)","v":256},{"$error":"#DIV/0!"},0,218.203125,{"$error":"#DIV/0!"},0,0,0,0,0,{"$error":"#DIV/0!"},{"$error":"#DIV/0!"},null,null,null,null,null,null,null,null,0,{"$error":"#DIV/0!"},-256,{"$error":"#DIV/0!"},{"$error":"#DIV/0!"},null,null,null,null,null,null,0,1]
[null,null,null,"DIVAR IP 7000 R2 16x8TB + 2x DIVAR IP 6000 R2 3U 16x8TB",null,null,"RAID 5",0,{"$f":"IF(G460=\"RAID 5\",(((15-H460)*7448))+(2*(((15-H460)*7448))),(((14-H460)*7448))+(2*(((14-H460)*7448))))","v":335160},{"$f":"(16*8)+(2*(16*8))","v":384},0,{"$f":"475+(2*550)","v":1575},{"$f":"128+(2*128)","v":384},{"$error":"#DIV/0!"},0,327.3046875,{"$error":"#DIV/0!"},0,0,0,0,0,{"$error":"#DIV/0!"},{"$error":"#DIV/0!"},null,null,null,null,null,null,null,null,0,{"$error":"#DIV/0!"},-384,{"$error":"#DIV/0!"},{"$error":"#DIV/0!"},null,null,null,null,null,null,0,1]
[null,null,null,"DIVAR IP 7000 R2 16x8TB + 3x DIVAR IP 6000 R2 3U 16x8TB",null,null,"RAID 5",0,{"$f":"IF(G461=\"RAID 5\",(((15-H461)*7448))+(3*(((15-H461)*7448))),(((14-H461)*7448))+(3*(((14-H461)*7448))))","v":446880},{"$f":"(16*8)+(3*(16*8))","v":512},0,{"$f":"475+(3*550)","v":2125},{"$f":"128+(3*128)","v":512},{"$error":"#DIV/0!"},0,436.40625,{"$error":"#DIV/0!"},0,0,0,0,0,{"$error":"#DIV/0!"},{"$f":"IF(AND(IF($N461<=$L461,TRUE,FALSE),IF($V461<=$R461,TRUE,FALSE),OR(W461=\"True\",$W$262=\"No\"),IF($A$269=\"False\",IF(O461=1,TRUE,FALSE),TRUE)),\"<-- fits project\",\"\")","v":{"$error":"#DIV/0!"}},null,null,null,null,null,null,null,null,0,{"$error":"#DIV/0!"},-512,{"$error":"#DIV/0!"},{"$error":"#DIV/0!"},null,null,null,null,null,null,0,1]
[null,null,null,"DIVAR IP 7000 R2 16x8TB + 4x DIVAR IP 6000 R2 3U 16x8TB",null,null,"RAID 5",0,{"$f":"IF(G462=\"RAID 5\",(((15-H462)*7448))+(4*(((15-H462)*7448))),(((14-H462)*7448))+(4*(((14-H462)*7448))))","v":558600},{"$f":"(16*8)+(4*(16*8))","v":640},0,{"$f":"475+(4*550)","v":2675},{"$f":"128+(4*128)","v":640},{"$error":"#DIV/0!"},0,545.5078125,{"$error":"#DIV/0!"},0,0,0,0,0,{"$error":"#DIV/0!"},{"$error":"#DIV/0!"},null,null,null,null,null,null,null,null,0,{"$error":"#DIV/0!"},-640,{"$error":"#DIV/0!"},{"$error":"#DIV/0!"},null,null,null,null,null,null,0,1]
[null,"Target Only mode","3TB","DIVAR IP 6000 R2 4x3TB",null,"DIP-6183-4HD","RAID 5",0,8375,12,0,550,256,{"$f":"I257/O463","v":{"$error":"#DIV/0!"}},{"$f":"ROUNDUP(G257/I463,0)","v":0},{"$f":"(1-((G257/$I463)-INT(G257/$I463)))*I463/1024","v":8.1787109375},{"$error":"#DIV/0!"},0,0,0,0,{"$f":"SUM(S463,T463,U463)","v":0},{"$error":"#DIV/0!"},{"$f":"IF(AND(IF($N463<=$L463,TRUE,FALSE),IF($V463<=$R463,TRUE,FALSE),OR(W463=\"True\",W262=\"No\")),\"<-- fits project\",\"\")","v":{"$error":"#DIV/0!"}},null,null,null,null,null,null,null,2.5696156064817242,{"$f":"AF463*O463","v":0},{"$f":"AG463/AG563","v":{"$error":"#DIV/0!"}},-256,{"$f":"IF(O463>1,I257/(O463-1),I257/O463)","v":{"$error":"#DIV/0!"}},{"$f":"IF(X463=\"<-- fits project\",D463,\"\")","v":{"$error":"#DIV/0!"}}]
[null,null,null,"DIVAR IP 6000 R2 8X3TB",null,"DIP-6183-8HD","RAID 5",0,{"$f":"IF(G464=\"RAID 5\",(7-H464)*2793,(6-H464)*2793)","v":19551},24,0,{"$f":"IF(G464=\"RAID 5\",550,475)","v":550},256,{"$f":"I257/O464","v":{"$error":"#DIV/0!"}},{"$f":"ROUNDUP(G257/I464,0)","v":0},{"$f":"(1-((G257/$I464)-INT(G257/$I464)))*I464/1024","v":19.0927734375},{"$error":"#DIV/0!"},0,0,0,0,0,{"$error":"#DIV/0!"},{"$f":"IF(AND(IF($N464<=$L464,TRUE,FALSE),IF($V464<=$R464,TRUE,FALSE),OR(W464=\"True\",W262=\"No\")),\"<-- fits project\",\"\")","v":{"$error":"#DIV/0!"}},null,null,null,null,null,null,null,3.4417772300592584,0,{"$f":"AG464/AG563","v":{"$error":"#DIV/0!"}},-256,{"$f":"IF(O464>1,I257/(O464-1),I257/O464)","v":{"$error":"#DIV/0!"}},{"$error":"#DIV/0!"},null,null,null,null,null,null,{"$f":"IF(G464=\"RAID 6\",0,0)","v":0},{"$f":"IF(G464=\"RAID 6\",0,1)","v":1}]
[null,null,null,"DIVAR IP 6000 R2 3U 16x3TB",null,"DIP-61F3-16HD","RAID 5",0,{"$f":"IF(G465=\"RAID 5\",(15-H465)*2792,(14-H465)*2792)","v":41880},48,0,{"$f":"IF(G465=\"RAID 5\",550,475)","v":550},256,{"$f":"I257/O465","v":{"$error":"#DIV/0!"}},{"$f":"ROUNDUP(G257/I465,0)","v":0},{"$f":"(1-((G257/$I465)-INT(G257/$I465)))*I465/1024","v":40.8984375},{"$error":"#DIV/0!"},0,0,0,{"$f":"$S$259*MIN(O465,$S$260)","v":0},{"$f":"SUM(S465,T465,U465)","v":0},{"$error":"#DIV/0!"},{"$f":"IF(AND(IF($N465<=$L465,TRUE,FALSE),IF($V465<=$R465,TRUE,FALSE),OR(W465=\"True\",W262=\"No\")),\"<-- fits project\",\"\")","v":{"$error":"#DIV/0!"}},null,null,null,null,null,null,null,5.213304315905396,0,{"$f":"AG465/AG563","v":{"$error":"#DIV/0!"}},-256,{"$f":"IF(O465>1,I257/(O465-1),I257/O465)","v":{"$error":"#DIV/0!"}},{"$error":"#DIV/0!"},null,null,null,null,null,null,{"$f":"IF(G465=\"RAID 6\",0,0)","v":0},{"$f":"IF(G465=\"RAID 6\",0,1)","v":1}]
[null,null,"4TB","DIVAR IP 6000 R2 4x4TB",null,"DIP-6184-4HD","RAID 5",0,11170,16,0,550,256,{"$f":"I257/O466","v":{"$error":"#DIV/0!"}},{"$f":"ROUNDUP(G257/I466,0)","v":0},{"$f":"(1-((G257/$I466)-INT(G257/$I466)))*I466/1024","v":10.908203125},{"$error":"#DIV/0!"},0,0,0,0,0,{"$error":"#DIV/0!"},{"$f":"IF(AND(IF($N466<=$L466,TRUE,FALSE),IF($V466<=$R466,TRUE,FALSE),OR(W466=\"True\",W262=\"No\")),\"<-- fits project\",\"\")","v":{"$error":"#DIV/0!"}},null,null,null,null,null,null,null,2.6866248885625885,0,{"$f":"AG466/AG563","v":{"$error":"#DIV/0!"}},-256,{"$f":"IF(O466>1,I257/(O466-1),I257/O466)","v":{"$error":"#DIV/0!"}},{"$error":"#DIV/0!"}]
[null,null,null,"DIVAR IP 6000 R2 8x4TB",null,"DIP-6184-8HD","RAID 5",0,{"$f":"IF(G467=\"RAID 5\",(7-H467)*3723,(6-H467)*3723)","v":26061},32,0,{"$f":"IF(G467=\"RAID 5\",550,475)","v":550},256,{"$f":"I257/O467","v":{"$error":"#DIV/0!"}},{"$f":"ROUNDUP(G257/I467,0)","v":0},{"$f":"(1-((G257/$I467)-INT(G257/$I467)))*I467/1024","v":25.4501953125},{"$error":"#DIV/0!"},0,0,0,0,0,{"$error":"#DIV/0!"},{"$f":"IF(AND(IF($N467<=$L467,TRUE,FALSE),IF($V467<=$R467,TRUE,FALSE),OR(W467=\"True\",W262=\"No\")),\"<-- fits project\",\"\")","v":{"$error":"#DIV/0!"}},null,null,null,null,null,null,null,3.6403980282133306,0,{"$f":"AG467/AG563","v":{"$error":"#DIV/0!"}},-256,{"$f":"IF(O467>1,I257/(O467-1),I257/O467)","v":{"$error":"#DIV/0!"}},{"$error":"#DIV/0!"},null,null,null,null,null,null,{"$f":"IF(G467=\"RAID 6\",0,0)","v":0},{"$f":"IF(G467=\"RAID 6\",0,1)","v":1}]
[null,null,null,"DIVAR IP 6000 R2 3U 16x4TB",null,"DIP-61F4-16HD","RAID 5",0,{"$f":"IF(G468=\"RAID 5\",(15-H468)*3723,(14-H468)*3723)","v":55845},64,0,{"$f":"IF(G468=\"RAID 5\",550,475)","v":550},256,{"$f":"$I$257/O468","v":{"$error":"#DIV/0!"}},{"$f":"ROUNDUP($G$257/I468,0)","v":0},{"$f":"(1-(($G$257/$I468)-INT($G$257/$I468)))*I468/1024","v":54.5361328125},{"$error":"#DIV/0!"},0,0,0,{"$f":"$S$259*MIN(O468,$S$260)","v":0},{"$f":"SUM(S468,T468,U468)","v":0},{"$error":"#DIV/0!"},{"$f":"IF(AND(IF($N468<=$L468,TRUE,FALSE),IF($V468<=$R468,TRUE,FALSE),OR(W468=\"True\",$W$262=\"No\")),\"<-- fits project\",\"\")","v":{"$error":"#DIV/0!"}},null,null,null,null,null,null,null,5.5250013110283707,0,{"$f":"AG468/$AG$563","v":{"$error":"#DIV/0!"}},-256,{"$f":"IF(O468>1,$I$257/(O468-1),$I$257/O468)","v":{"$error":"#DIV/0!"}},{"$error":"#DIV/0!"},null,null,null,null,null,null,0,1]
[null,null,"6TB","DIVAR IP 6000 R2 8X6TB",null,"DIP-6186-8HD","RAID 5",0,{"$f":"IF(G469=\"RAID 5\",(7-H469)*5586,(6-H469)*5586)","v":39102},{"$f":"8*6","v":48},0,{"$f":"IF(G469=\"RAID 5\",550,475)","v":550},256,{"$f":"$I$257/O469","v":{"$error":"#DIV/0!"}},{"$f":"ROUNDUP($G$257/I469,0)","v":0},{"$f":"(1-(($G$257/$I469)-INT($G$257/$I469)))*I469/1024","v":38.185546875},{"$error":"#DIV/0!"},0,0,0,0,0,{"$error":"#DIV/0!"},{"$f":"IF(AND(IF($N469<=$L469,TRUE,FALSE),IF($V469<=$R469,TRUE,FALSE),OR(W469=\"True\",$W$262=\"No\")),\"<-- fits project\",\"\")","v":{"$error":"#DIV/0!"}},null,null,null,null,null,null,null,null,0,{"$error":"#DIV/0!"},-256,{"$f":"IF(O469>1,$I$257/(O469-1),$I$257/O469)","v":{"$error":"#DIV/0!"}},{"$error":"#DIV/0!"},null,null,null,null,null,null,0,1]
[null,null,null,"DIVAR IP 6000 R2 3U 16x6TB",null,"DIP-61F6-16HD","RAID 5",0,{"$f":"IF(G470=\"RAID 5\",(15-H470)*5586,(14-H470)*5586)","v":83790},{"$f":"16*6","v":96},0,550,256,{"$f":"$I$257/O470","v":{"$error":"#DIV/0!"}},{"$f":"ROUNDUP($G$257/I470,0)","v":0},{"$f":"(1-(($G$257/$I470)-INT($G$257/$I470)))*I470/1024","v":81.826171875},{"$f":"AH470","v":{"$error":"#DIV/0!"}},0,0,0,0,0,{"$error":"#DIV/0!"},{"$f":"IF(AND(IF($N470<=$L470,TRUE,FALSE),IF($V470<=$R470,TRUE,FALSE),OR(W470=\"True\",$W$262=\"No\")),\"<-- fits project\",\"\")","v":{"$error":"#DIV/0!"}},null,null,null,null,null,null,null,null,0,{"$error":"#DIV/0!"},-256,{"$f":"IF(O470>1,$I$257/(O470-1),$I$257/O470)","v":{"$error":"#DIV/0!"}},{"$error":"#DIV/0!"},null,null,null,null,null,null,0,1]
[null,null,"8TB","DIVAR IP 6000 R2 8X8TB",null,"DIP-6188-8HD","RAID 5",0,{"$f":"IF(G471=\"RAID 5\",(7-H471)*7448,(6-H471)*7448)","v":52136},{"$f":"8*8","v":64},0,550,256,{"$f":"$I$257/O471","v":{"$error":"#DIV/0!"}},{"$f":"ROUNDUP($G$257/I471,0)","v":0},{"$f":"(1-(($G$257/$I471)-INT($G$257/$I471)))*I471/1024","v":50.9140625},{"$error":"#DIV/0!"},0,0,0,0,0,{"$error":"#DIV/0!"},{"$f":"IF(AND(IF($N471<=$L471,TRUE,FALSE),IF($V471<=$R471,TRUE,FALSE),OR(W471=\"True\",$W$262=\"No\")),\"<-- fits project\",\"\")","v":{"$error":"#DIV/0!"}},null,null,null,null,null,null,null,null,0,{"$error":"#DIV/0!"},-256,{"$f":"IF(O471>1,$I$257/(O471-1),$I$257/O471)","v":{"$error":"#DIV/0!"}},{"$error":"#DIV/0!"},null,null,null,null,null,null,0,1]
[null,null,null,"DIVAR IP 6000 R2 3U 16x8TB",null,"DIP-61F8-16HD","RAID 5",0,{"$f":"IF(G472=\"RAID 5\",(15-H472)*7448,(14-H472)*7448)","v":111720},{"$f":"16*8","v":128},0,550,256,{"$f":"$I$257/O472","v":{"$error":"#DIV/0!"}},{"$f":"ROUNDUP($G$257/I472,0)","v":0},{"$f":"(1-(($G$257/$I472)-INT($G$257/$I472)))*I472/1024","v":109.1015625},{"$error":"#DIV/0!"},0,0,0,0,0,{"$error":"#DIV/0!"},{"$f":"IF(AND(IF($N472<=$L472,TRUE,FALSE),IF($V472<=$R472,TRUE,FALSE),OR(W472=\"True\",$W$262=\"No\")),\"<-- fits project\",\"\")","v":{"$error":"#DIV/0!"}},null,null,null,null,null,null,null,null,0,{"$error":"#DIV/0!"},-256,{"$f":"IF(O472>1,$I$257/(O472-1),$I$257/O472)","v":{"$error":"#DIV/0!"}},{"$error":"#DIV/0!"},null,null,null,null,null,null,0,1]
[0,null,"2TB","EOL E-Series Base Unit, 12 x 2 TB",null,"DSA-N2E7X2-12AT","RAID 5",0,{"$f":"IF(G473=\"RAID 5\",(11-H473)*1862,(10-H473)*1862)","v":20482},24,{"$f":"O473*J473","v":0},1050,800,{"$f":"$I$257/O473","v":{"$error":"#DIV/0!"}},{"$f":"ROUNDUP($G$257/I473,0)","v":0},{"$f":"(1-(($G$257/$I473)-INT($G$257/$I473)))*I473/1024","v":20.001953125},{"$error":"#DIV/0!"},{"$f":"O473*M473","v":0},{"$f":"IF($O473>7,OFFSET($G$255,0,$L$257),OFFSET($G$248,O473-1,$L$257,1,1))","v":0},0,{"$f":"$S$259*MIN(O473,S203)","v":0},0,{"$error":"#DIV/0!"},{"$f":"IF(AND(IF($N473<=$L473,TRUE,FALSE),IF($V473<=$R473,TRUE,FALSE),OR(W473=\"True\",$W$262=\"No\")),\"<-- fits project\",\"\")","v":{"$error":"#DIV/0!"}},null,null,null,null,null,null,null,5.1923278619749329,0,{"$error":"#DIV/0!"},{"$f":"(O473-1)*M473","v":-800},{"$f":"IF(O473>1,I200/(O473-1),I200/O473)","v":{"$error":"#DIV/0!"}},{"$error":"#DIV/0!"}]
[1,null,null,"EOL E-Series Base + 1x Expansion Unit, 24x2TB",null,"DSA‑N2E7X2‑12AT + 1x DSX‑N1D6X2‑12AT","RAID 5",0,{"$f":"IF(G474=\"RAID 5\",(11-H474)*1862,(10-H474)*1862)+IF(G474=\"RAID 5\",(11-H474)*1862,(10-H474)*1862)*A474","v":40964},48,0,1050,800,{"$error":"#DIV/0!"},0,40.00390625,{"$error":"#DIV/0!"},0,0,0,{"$f":"$S$259*MIN(O474,S203)","v":0},0,{"$error":"#DIV/0!"},{"$error":"#DIV/0!"},null,null,null,null,null,null,null,10.031005820965966,0,{"$error":"#DIV/0!"},-800,{"$f":"IF(O474>1,I200/(O474-1),I200/O474)","v":{"$error":"#DIV/0!"}},{"$error":"#DIV/0!"}]
[2,null,null,"EOL E-Series Base + 2x Expansion Unit, 36x2TB",null,"DSA‑N2E7X2‑12AT + 2x DSX‑N1D6X2‑12AT","RAID 5",0,61446,72,0,1050,800,{"$error":"#DIV/0!"},0,60.005859375,{"$error":"#DIV/0!"},800,0,0,{"$f":"$S$259*MIN(O475,S203)","v":0},0,{"$error":"#DIV/0!"},{"$error":"#DIV/0!"},null,null,null,null,null,null,null,15.223333682940899,0,{"$error":"#DIV/0!"},-800,{"$f":"IF(O475>1,I200/(O475-1),I200/O475)","v":{"$error":"#DIV/0!"}},{"$error":"#DIV/0!"}]
[3,null,null,"EOL E-Series Base + 3x Expansion Unit, 48x2TB",null,"DSA‑N2E7X2‑12AT + 3x DSX‑N1D6X2‑12AT","RAID 5",0,81928,92,0,1050,800,{"$error":"#DIV/0!"},0,80.0078125,{"$error":"#DIV/0!"},0,0,0,{"$f":"$S$259*MIN(O476,S203)","v":0},0,{"$error":"#DIV/0!"},{"$error":"#DIV/0!"},null,null,null,null,null,null,null,20.415661544915832,0,{"$error":"#DIV/0!"},-800,{"$f":"IF(O476>1,I200/(O476-1),I200/O476)","v":{"$error":"#DIV/0!"}},{"$error":"#DIV/0!"}]
[4,null,null,"EOL E-Series Base + 4x Expansion Unit, 60x2TB",null,"DSA‑N2E7X2‑12AT + 4x DSX‑N1D6X2‑12AT","RAID 5",0,102410,120,0,1050,800,{"$error":"#DIV/0!"},0,100.009765625,{"$error":"#DIV/0!"},0,0,0,{"$f":"$S$259*MIN(O477,S203)","v":0},0,{"$error":"#DIV/0!"},{"$error":"#DIV/0!"},null,null,null,null,null,null,null,25.607989406890766,0,{"$error":"#DIV/0!"},-800,{"$f":"IF(O477>1,I200/(O477-1),I200/O477)","v":{"$error":"#DIV/0!"}},{"$error":"#DIV/0!"}]
[5,null,null,"EOL E-Series Base + 5x Expansion Unit, 72x2TB",null,"DSA‑N2E7X2‑12AT + 5x DSX‑N1D6X2‑12AT","RAID 5",0,122892,144,0,1050,800,{"$error":"#DIV/0!"},0,120.01171875,{"$error":"#DIV/0!"},0,0,0,{"$f":"$S$259*MIN(O478,S203)","v":0},0,{"$error":"#DIV/0!"},{"$error":"#DIV/0!"},null,null,null,null,null,null,null,30.800317268865697,0,{"$error":"#DIV/0!"},-800,{"$f":"IF(O478>1,I200/(O478-1),I200/O478)","v":{"$error":"#DIV/0!"}},{"$error":"#DIV/0!"}]
[6,null,null,"EOL E-Series Base + 6x Expansion Unit, 84x2TB",null,"DSA‑N2E7X2‑12AT + 6x DSX‑N1D6X2‑12AT","RAID 5",0,143374,168,0,1050,800,{"$error":"#DIV/0!"},0,140.013671875,{"$error":"#DIV/0!"},0,0,0,{"$f":"$S$259*MIN(O479,S203)","v":0},0,{"$error":"#DIV/0!"},{"$error":"#DIV/0!"},null,null,null,null,null,null,null,35.992645130840629,0,{"$error":"#DIV/0!"},-800,{"$f":"IF(O479>1,I200/(O479-1),I200/O479)","v":{"$error":"#DIV/0!"}},{"$error":"#DIV/0!"}]
[7,null,null,"EOL E-Series Base + 7x Expansion Unit, 96x2TB",null,"DSA‑N2E7X2‑12AT + 7x DSX‑N1D6X2‑12AT","RAID 5",0,163856,192,0,1050,800,{"$error":"#DIV/0!"},0,160.015625,{"$f":"AH480","v":{"$error":"#DIV/0!"}},0,0,0,{"$f":"$S$259*MIN(O480,S203)","v":0},{"$f":"SUM(S480,T480,U480)","v":0},{"$error":"#DIV/0!"},{"$error":"#DIV/0!"},null,null,null,null,null,null,null,41.184972992815567,0,{"$error":"#DIV/0!"},-800,{"$f":"IF(O480>1,I200/(O480-1),I200/O480)","v":{"$error":"#DIV/0!"}},{"$error":"#DIV/0!"}]
[0,null,"3TB","EOL E-Series Base Unit, 12 x 3 TB",null,"DSA‑N2E7X3‑12AT","RAID 5",0,{"$f":"IF(G481=\"RAID 5\",(11-H481)*2794,(10-H481)*2794)","v":30734},36,0,650,800,{"$error":"#DIV/0!"},0,30.013671875,{"$f":"AH481","v":{"$error":"#DIV/0!"}},0,0,0,{"$f":"$S$259*MIN(O481,S203)","v":0},{"$f":"SUM(S481,T481,U481)","v":0},{"$error":"#DIV/0!"},{"$error":"#DIV/0!"},null,null,null,null,null,null,null,6.2624547695212129,0,{"$error":"#DIV/0!"},-800,{"$f":"IF(O481>1,I200/(O481-1),I200/O481)","v":{"$error":"#DIV/0!"}},{"$error":"#DIV/0!"}]
[1,null,null,"EOL E-Series Base + 1x Expansion Unit, 24x3TB",null,"DSA‑N2E7X3‑12AT + 1x DSX‑N1D6X3‑12AT","RAID 5",0,{"$f":"IF(G482=\"RAID 5\",(11-H482)*2794,(10-H482)*2794)+IF(G482=\"RAID 5\",(11-H482)*2794,(10-H482)*2794)*A482","v":61468},{"$f":"36+A482*36","v":72},0,1050,800,{"$error":"#DIV/0!"},0,60.02734375,{"$error":"#DIV/0!"},0,0,0,{"$f":"$S$259*MIN(O482,S203)","v":0},0,{"$error":"#DIV/0!"},{"$error":"#DIV/0!"},null,null,null,null,null,null,null,11.704533536105721,0,{"$error":"#DIV/0!"},-800,{"$f":"IF(O482>1,I200/(O482-1),I200/O482)","v":{"$error":"#DIV/0!"}},{"$error":"#DIV/0!"}]
[2,null,null,"EOL E-Series Base + 2x Expansion Unit, 36x3TB",null,"DSA‑N2E7X3‑12AT + 2x DSX‑N1D6X3‑12AT","RAID 5",0,92202,108,0,1050,800,{"$error":"#DIV/0!"},0,90.041015625,{"$error":"#DIV/0!"},0,0,0,{"$f":"$S$259*MIN(O483,S203)","v":0},0,{"$error":"#DIV/0!"},{"$error":"#DIV/0!"},null,null,null,null,null,null,null,17.966988305626934,0,{"$error":"#DIV/0!"},-800,{"$f":"IF(O483>1,I200/(O483-1),I200/O483)","v":{"$error":"#DIV/0!"}},{"$error":"#DIV/0!"}]
[3,null,null,"EOL E-Series Base + 3x Expansion Unit, 48X3TB",null,"DSA‑N2E7X3‑12AT + 3x DSX‑N1D6X3‑12AT","RAID 5",0,122936,144,0,1050,800,{"$error":"#DIV/0!"},0,120.0546875,{"$error":"#DIV/0!"},0,0,0,{"$f":"$S$259*MIN(O484,S203)","v":0},0,{"$error":"#DIV/0!"},{"$error":"#DIV/0!"},null,null,null,null,null,null,null,24.229443075148147,0,{"$error":"#DIV/0!"},-800,{"$f":"IF(O484>1,I200/(O484-1),I200/O484)","v":{"$error":"#DIV/0!"}},{"$error":"#DIV/0!"}]
[4,null,null,"EOL E-Series Base + 4x Expansion Unit, 60x3TB",null,"DSA‑N2E7X3‑12AT + 4x DSX‑N1D6X3‑12AT","RAID 5",0,153670,180,0,1050,800,{"$error":"#DIV/0!"},0,150.068359375,{"$error":"#DIV/0!"},0,0,0,{"$f":"$S$259*MIN(O485,S203)","v":0},0,{"$error":"#DIV/0!"},{"$error":"#DIV/0!"},null,null,null,null,null,null,null,30.49189784466936,0,{"$error":"#DIV/0!"},-800,{"$f":"IF(O485>1,I200/(O485-1),I200/O485)","v":{"$error":"#DIV/0!"}},{"$error":"#DIV/0!"}]
[5,null,null,"EOL E-Series Base + 5x Expansion Unit, 72x3TB",null,"DSA‑N2E7X3‑12AT + 5x DSX‑N1D6X3‑12AT","RAID 5",0,184404,216,0,1050,800,{"$error":"#DIV/0!"},0,180.08203125,{"$error":"#DIV/0!"},0,0,0,{"$f":"$S$259*MIN(O486,S203)","v":0},0,{"$error":"#DIV/0!"},{"$error":"#DIV/0!"},null,null,null,null,null,null,null,36.754352614190573,0,{"$error":"#DIV/0!"},-800,{"$f":"IF(O486>1,I200/(O486-1),I200/O486)","v":{"$error":"#DIV/0!"}},{"$error":"#DIV/0!"}]
[6,null,null,"EOL E-Series Base + 6x Expansion Unit, 84x3TB",null,"DSA‑N2E7X3‑12AT + 6x DSX‑N1D6X3‑12AT","RAID 5",0,215138,252,0,1050,800,{"$error":"#DIV/0!"},0,210.095703125,{"$error":"#DIV/0!"},0,0,0,{"$f":"$S$259*MIN(O487,S203)","v":0},0,{"$error":"#DIV/0!"},{"$error":"#DIV/0!"},null,null,null,null,null,null,null,43.016807383711786,0,{"$error":"#DIV/0!"},-800,{"$f":"IF(O487>1,I200/(O487-1),I200/O487)","v":{"$error":"#DIV/0!"}},{"$error":"#DIV/0!"}]
[7,null,null,"EOL E-Series Base + 7x Expansion Unit, 96x3TB",null,"DSA‑N2E7X3‑12AT + 7x DSX‑N1D6X3‑12AT","RAID 5",0,245872,288,0,1050,800,{"$error":"#DIV/0!"},0,240.109375,{"$f":"AH488","v":{"$error":"#DIV/0!"}},0,0,0,{"$f":"$S$259*MIN(O488,S203)","v":0},0,{"$error":"#DIV/0!"},{"$error":"#DIV/0!"},null,null,null,null,null,null,null,49.279262153232999,0,{"$error":"#DIV/0!"},-800,{"$f":"IF(O488>1,I200/(O488-1),I200/O488)","v":{"$error":"#DIV/0!"}},{"$error":"#DIV/0!"}]
[0,null,"4TB","EOL E-Series Base Unit, 12 x 4 TB",null,"DSA‑N2E7X4‑12AT","RAID 5",0,{"$f":"IF(G489=\"RAID 5\",(11-H489)*3725,(10-H489)*3725)","v":40975},48,0,650,800,{"$error":"#DIV/0!"},0,40.0146484375,{"$f":"AH489","v":{"$error":"#DIV/0!"}},0,0,0,{"$f":"$S$259*MIN(O489,S203)","v":0},0,{"$error":"#DIV/0!"},{"$error":"#DIV/0!"},null,null,null,null,null,null,null,7.1516597619172479,0,{"$error":"#DIV/0!"},-800,{"$f":"IF(O489>1,I200/(O489-1),I200/O489)","v":{"$error":"#DIV/0!"}},{"$error":"#DIV/0!"}]
[1,null,null,"EOL E-Series Base + 1x Expansion Unit, 24x4TB",null,"DSA‑N2E7X4‑12AT + 1x DSX‑N1D6X4‑12AT","RAID 5",0,{"$f":"IF(G490=\"RAID 5\",(11-H490)*3725,(10-H490)*3725)+IF(G490=\"RAID 5\",(11-H490)*3725,(10-H490)*3725)*A490","v":81950},{"$f":"48+A490*48","v":96},0,1050,800,{"$error":"#DIV/0!"},0,80.029296875,{"$error":"#DIV/0!"},0,0,0,{"$f":"$S$259*MIN(O490,S203)","v":0},0,{"$error":"#DIV/0!"},{"$error":"#DIV/0!"},null,null,null,null,null,null,null,13.428535843515654,0,{"$error":"#DIV/0!"},-800,{"$f":"IF(O490>1,I200/(O490-1),I200/O490)","v":{"$error":"#DIV/0!"}},{"$error":"#DIV/0!"}]
[2,null,null,"EOL E-Series Base + 2x Expansion Unit, 36x4TB",null,"DSA‑N2E7X4‑12AT + 2x DSX‑N1D6X4‑12AT","RAID 5",0,122925,144,0,1050,800,{"$error":"#DIV/0!"},0,120.0439453125,{"$error":"#DIV/0!"},0,0,0,{"$f":"$S$259*MIN(O491,S203)","v":0},0,{"$error":"#DIV/0!"},{"$error":"#DIV/0!"},null,null,null,null,null,null,null,20.580195605432902,0,{"$error":"#DIV/0!"},-800,{"$f":"IF(O491>1,I200/(O491-1),I200/O491)","v":{"$error":"#DIV/0!"}},{"$error":"#DIV/0!"}]
[3,null,null,"EOL E-Series Base + 3x Expansion Unit, 48x4TB",null,"DSA‑N2E7X4‑12AT + 3x DSX‑N1D6X4‑12AT","RAID 5",0,163900,192,0,1050,800,{"$error":"#DIV/0!"},0,160.05859375,{"$error":"#DIV/0!"},0,0,0,{"$f":"$S$259*MIN(O492,S203)","v":0},0,{"$error":"#DIV/0!"},{"$error":"#DIV/0!"},null,null,null,null,null,null,null,27.73185536735015,0,{"$error":"#DIV/0!"},-800,{"$f":"IF(O492>1,I200/(O492-1),I200/O492)","v":{"$error":"#DIV/0!"}},{"$error":"#DIV/0!"}]
[4,null,null,"EOL E-Series Base + 4x Expansion Unit, 60x4TB",null,"DSA‑N2E7X4‑12AT + 4x DSX‑N1D6X4‑12AT","RAID 5",0,204875,240,0,1050,800,{"$error":"#DIV/0!"},0,200.0732421875,{"$error":"#DIV/0!"},0,0,0,{"$f":"$S$259*MIN(O493,S203)","v":0},0,{"$error":"#DIV/0!"},{"$error":"#DIV/0!"},null,null,null,null,null,null,null,34.883515129267401,0,{"$error":"#DIV/0!"},-800,{"$f":"IF(O493>1,I200/(O493-1),I200/O493)","v":{"$error":"#DIV/0!"}},{"$error":"#DIV/0!"}]
[5,null,null,"EOL E-Series Base + 5x Expansion Unit, 72x4TB",null,"DSA‑N2E7X4‑12AT + 5x DSX‑N1D6X4‑12AT","RAID 5",0,245850,288,0,1050,800,{"$error":"#DIV/0!"},0,240.087890625,{"$error":"#DIV/0!"},0,0,0,{"$f":"$S$259*MIN(O494,S203)","v":0},0,{"$error":"#DIV/0!"},{"$error":"#DIV/0!"},null,null,null,null,null,null,null,42.035174891184646,0,{"$error":"#DIV/0!"},-800,{"$f":"IF(O494>1,I200/(O494-1),I200/O494)","v":{"$error":"#DIV/0!"}},{"$error":"#DIV/0!"}]
[6,null,null,"EOL E-Series Base + 6x Expansion Unit, 84x4TB",null,"DSA‑N2E7X4‑12AT + 6x DSX‑N1D6X4‑12AT","RAID 5",0,286825,336,0,1050,800,{"$error":"#DIV/0!"},0,280.1025390625,{"$error":"#DIV/0!"},0,0,0,{"$f":"$S$259*MIN(O495,S203)","v":0},0,{"$error":"#DIV/0!"},{"$error":"#DIV/0!"},null,null,null,null,null,null,null,49.186834653101897,0,{"$error":"#DIV/0!"},-800,{"$f":"IF(O495>1,I200/(O495-1),I200/O495)","v":{"$error":"#DIV/0!"}},{"$error":"#DIV/0!"}]
[7,null,null,"EOL E-Series Base + 7x Expansion Unit, 96x4TB",null,"DSA‑N2E7X4‑12AT + 7x DSX‑N1D6X4‑12AT","RAID 5",0,327800,384,0,1050,800,{"$error":"#DIV/0!"},0,320.1171875,{"$error":"#DIV/0!"},0,0,0,{"$f":"$S$259*MIN(O496,S203)","v":0},{"$f":"SUM(S496,T496,U496)","v":0},{"$error":"#DIV/0!"},{"$error":"#DIV/0!"},null,null,null,null,null,null,null,56.338494415019142,0,{"$error":"#DIV/0!"},-800,{"$f":"IF(O496>1,I200/(O496-1),I200/O496)","v":{"$error":"#DIV/0!"}},{"$error":"#DIV/0!"}]
[0,null,"6TB","EOL E-Series Base Unit, 12 x 6 TB",null,"DSA‑N2E7X6‑12AT","RAID 5",0,{"$f":"IF(G497=\"RAID 5\",(11-H497)*5586,(10-H497)*5586)","v":61446},72,0,650,800,{"$error":"#DIV/0!"},0,60.005859375,{"$error":"#DIV/0!"},0,0,0,{"$f":"$S$259*MIN(O497,S203)","v":0},{"$f":"SUM(S497,T497,U497)","v":0},{"$error":"#DIV/0!"},{"$error":"#DIV/0!"},null,null,null,null,null,null,null,10.810739944412397,0,{"$error":"#DIV/0!"},-800,{"$f":"IF(O497>1,I200/(O497-1),I200/O497)","v":{"$error":"#DIV/0!"}},{"$error":"#DIV/0!"}]
[1,null,null,"EOL E-Series Base + 1x Expansion Unit, 24x6TB",null,"DSA-N2E7X6-12AT + 1x DSX-N1D6X6-12AT","RAID 5",0,{"$f":"IF(G498=\"RAID 5\",(11-H498)*5586,(10-H498)*5586)+IF(G498=\"RAID 5\",(11-H498)*5586,(10-H498)*5586)*A498","v":122892},{"$f":"72+A498*72","v":144},0,1050,800,{"$error":"#DIV/0!"},0,120.01171875,{"$error":"#DIV/0!"},0,0,0,{"$f":"$S$259*MIN(O498,S203)","v":0},0,{"$error":"#DIV/0!"},{"$error":"#DIV/0!"},null,null,null,null,null,null,null,20.194097750275315,0,{"$error":"#DIV/0!"},-800,{"$f":"IF(O498>1,I200/(O498-1),I200/O498)","v":{"$error":"#DIV/0!"}},{"$error":"#DIV/0!"}]
[2,null,null,"EOL E-Series Base + 2x Expansion Unit, 36x6TB",null,"DSA-N2E7X6-12AT + 2x DSX-N1D6X6-12AT","RAID 5",0,184338,216,0,1050,800,{"$error":"#DIV/0!"},0,180.017578125,{"$error":"#DIV/0!"},0,0,0,{"$f":"$S$259*MIN(O499,S203)","v":0},0,{"$error":"#DIV/0!"},{"$error":"#DIV/0!"},null,null,null,null,null,null,null,31.004837694687712,0,{"$error":"#DIV/0!"},-800,{"$f":"IF(O499>1,I200/(O499-1),I200/O499)","v":{"$error":"#DIV/0!"}},{"$error":"#DIV/0!"}]
[3,null,null,"EOL E-Series Base + 3x Expansion Unit, 48x6TB",null,"DSA-N2E7X6-12AT + 3x DSX-N1D6X6-12AT","RAID 5",0,245784,288,0,1050,800,{"$error":"#DIV/0!"},0,240.0234375,{"$error":"#DIV/0!"},0,0,0,{"$f":"$S$259*MIN(O500,S203)","v":0},0,{"$error":"#DIV/0!"},{"$error":"#DIV/0!"},null,null,null,null,null,null,null,41.815577639100113,0,{"$error":"#DIV/0!"},-800,{"$f":"IF(O500>1,I200/(O500-1),I200/O500)","v":{"$error":"#DIV/0!"}},{"$error":"#DIV/0!"}]
[4,null,null,"EOL E-Series Base + 4x Expansion Unit, 60x6TB",null,"DSA-N2E7X6-12AT + 4x DSX-N1D6X6-12AT","RAID 5",0,307230,360,0,1050,800,{"$error":"#DIV/0!"},0,300.029296875,{"$error":"#DIV/0!"},0,0,0,{"$f":"$S$259*MIN(O501,S203)","v":0},0,{"$error":"#DIV/0!"},{"$error":"#DIV/0!"},null,null,null,null,null,null,null,52.62631758351251,0,{"$error":"#DIV/0!"},-800,{"$f":"IF(O501>1,I200/(O501-1),I200/O501)","v":{"$error":"#DIV/0!"}},{"$error":"#DIV/0!"}]
[5,null,null,"EOL E-Series Base + 5x Expansion Unit, 72x6TB",null,"DSA-N2E7X6-12AT + 5x DSX-N1D6X6-12AT","RAID 5",0,368676,432,0,1050,800,{"$error":"#DIV/0!"},0,360.03515625,{"$error":"#DIV/0!"},0,0,0,{"$f":"$S$259*MIN(O502,S203)","v":0},0,{"$error":"#DIV/0!"},{"$error":"#DIV/0!"},null,null,null,null,null,null,null,63.437057527924907,0,{"$error":"#DIV/0!"},-800,{"$f":"IF(O502>1,I200/(O502-1),I200/O502)","v":{"$error":"#DIV/0!"}},{"$error":"#DIV/0!"}]
[6,null,null,"EOL E-Series Base + 6x Expansion Unit, 84x6TB",null,"DSA-N2E7X6-12AT + 6x DSX-N1D6X6-12AT","RAID 5",0,430122,504,0,1050,800,{"$error":"#DIV/0!"},0,420.041015625,{"$error":"#DIV/0!"},0,0,0,{"$f":"$S$259*MIN(O503,S203)","v":0},0,{"$error":"#DIV/0!"},{"$error":"#DIV/0!"},null,null,null,null,null,null,null,74.247797472337297,0,{"$error":"#DIV/0!"},-800,{"$f":"IF(O503>1,I200/(O503-1),I200/O503)","v":{"$error":"#DIV/0!"}},{"$error":"#DIV/0!"}]
[7,null,null,"EOL E-Series Base + 7x Expansion Unit, 96x6TB",null,"DSA-N2E7X6-12AT + 7x DSX-N1D6X6-12AT","RAID 5",0,491568,576,0,1050,800,{"$f":"$I$257/O504","v":{"$error":"#DIV/0!"}},{"$f":"ROUNDUP($G$257/I504,0)","v":0},480.046875,{"$error":"#DIV/0!"},0,0,0,{"$f":"$S$259*MIN(O504,$S$260)","v":0},{"$f":"SUM(S504,T504,U504)","v":0},{"$error":"#DIV/0!"},{"$f":"IF(AND(IF($N504<=$L504,TRUE,FALSE),IF($V504<=$R504,TRUE,FALSE),OR(W504=\"True\",$W$262=\"No\")),\"<-- fits project\",\"\")","v":{"$error":"#DIV/0!"}},null,null,null,null,null,null,null,85.058537416749701,0,{"$f":"AG504/$AG$563","v":{"$error":"#DIV/0!"}},-800,{"$f":"IF(O504>1,$I$257/(O504-1),$I$257/O504)","v":{"$error":"#DIV/0!"}},{"$error":"#DIV/0!"}]
[0,null,"8 TB","EOL E-Series Base Unit, 12 x 8 TB",null,"DSA‑N2E7X8‑12AT","RAID 5",0,{"$f":"IF(G505=\"RAID 5\",(11-H505)*7448,(10-H505)*7448)","v":81928},96,0,1050,800,{"$error":"#DIV/0!"},0,{"$f":"(1-(($G$257/$I505)-INT($G$257/$I505)))*I505/1024","v":80.0078125},{"$error":"#DIV/0!"},0,0,0,{"$f":"$S$259*MIN(O505,$S$260)","v":0},{"$f":"SUM(S505,T505,U505)","v":0},{"$error":"#DIV/0!"},{"$error":"#DIV/0!"},null,null,null,null,null,null,null,null,0,{"$error":"#DIV/0!"},-800,{"$error":"#DIV/0!"},{"$error":"#DIV/0!"}]
[1,null,null,"EOL E-Series Base + 1x Expansion Unit, 24x8TB",null,"DSA-N2E7X8-12AT + 1x DSX-N1D6X8-12AT","RAID 5",0,{"$f":"IF(G506=\"RAID 5\",(11-H506)*7448,(10-H506)*7448)+IF(G506=\"RAID 5\",(11-H506)*7448,(10-H506)*7448)*A506","v":163856},{"$f":"96+A506*96","v":192},0,1050,800,{"$error":"#DIV/0!"},0,160.015625,{"$error":"#DIV/0!"},0,0,0,0,0,{"$error":"#DIV/0!"},{"$error":"#DIV/0!"},null,null,null,null,null,null,null,null,0,{"$error":"#DIV/0!"},-800,{"$error":"#DIV/0!"},{"$error":"#DIV/0!"}]
[2,null,null,"EOL E-Series Base + 2x Expansion Unit, 36x8TB",null,"DSA-N2E7X8-12AT + 2x DSX-N1D6X8-12AT","RAID 5",0,245784,288,0,1050,800,{"$error":"#DIV/0!"},0,240.0234375,{"$error":"#DIV/0!"},0,0,0,0,0,{"$error":"#DIV/0!"},{"$error":"#DIV/0!"},null,null,null,null,null,null,null,null,0,{"$error":"#DIV/0!"},-800,{"$error":"#DIV/0!"},{"$error":"#DIV/0!"}]
[3,null,null,"EOL E-Series Base + 3x Expansion Unit, 48x8TB",null,"DSA-N2E7X8-12AT + 3x DSX-N1D6X8-12AT","RAID 5",0,327712,384,0,1050,800,{"$error":"#DIV/0!"},0,320.03125,{"$error":"#DIV/0!"},0,0,0,0,0,{"$error":"#DIV/0!"},{"$error":"#DIV/0!"},null,null,null,null,null,null,null,null,0,{"$error":"#DIV/0!"},-800,{"$error":"#DIV/0!"},{"$error":"#DIV/0!"}]
[4,null,null,"EOL E-Series Base + 4x Expansion Unit, 60x8TB",null,"DSA-N2E7X8-12AT + 4x DSX-N1D6X8-12AT","RAID 5",0,409640,480,0,1050,800,{"$error":"#DIV/0!"},0,400.0390625,{"$error":"#DIV/0!"},0,0,0,0,0,{"$error":"#DIV/0!"},{"$error":"#DIV/0!"},null,null,null,null,null,null,null,null,0,{"$error":"#DIV/0!"},-800,{"$error":"#DIV/0!"},{"$error":"#DIV/0!"}]
[5,null,null,"EOL E-Series Base + 5x Expansion Unit, 72x8TB",null,"DSA-N2E7X8-12AT + 5x DSX-N1D6X8-12AT","RAID 5",0,491568,576,0,1050,800,{"$error":"#DIV/0!"},0,480.046875,{"$error":"#DIV/0!"},0,0,0,0,0,{"$error":"#DIV/0!"},{"$error":"#DIV/0!"},null,null,null,null,null,null,null,null,0,{"$error":"#DIV/0!"},-800,{"$error":"#DIV/0!"},{"$error":"#DIV/0!"}]
[6,null,null,"EOL E-Series Base + 6x Expansion Unit, 84x8TB",null,"DSA-N2E7X8-12AT + 6x DSX-N1D6X8-12AT","RAID 5",0,573496,672,0,1050,800,{"$error":"#DIV/0!"},0,560.0546875,{"$error":"#DIV/0!"},0,0,0,0,0,{"$error":"#DIV/0!"},{"$error":"#DIV/0!"},null,null,null,null,null,null,null,null,0,{"$error":"#DIV/0!"},-800,{"$error":"#DIV/0!"},{"$error":"#DIV/0!"}]
[7,null,null,"EOL E-Series Base + 7x Expansion Unit, 96x8TB",null,"DSA-N2E7X8-12AT + 7x DSX-N1D6X8-12AT","RAID 5",0,655424,768,0,1050,800,{"$error":"#DIV/0!"},0,640.0625,{"$error":"#DIV/0!"},0,0,0,0,0,{"$error":"#DIV/0!"},{"$error":"#DIV/0!"},null,null,null,null,null,null,null,null,0,{"$error":"#DIV/0!"},-800,{"$error":"#DIV/0!"},{"$error":"#DIV/0!"}]
[0,null,"3TB HD","EOL E-Series dual ctrl base Unit, 12x3TB",null,"DSA-N2C7X3-12AT","RAID 5",0,{"$f":"IF(G513=\"RAID 5\",(11-H513)*2794,(10-H513)*2794)+IF(G513=\"RAID 5\",(55-H513*5)*2794,(50-H513*5)*2794)*A513","v":30734},36,0,1300,1600,{"$f":"I200/O513","v":{"$error":"#DIV/0!"}},{"$f":"ROUNDUP($G$257/I513,0)","v":0},{"$f":"(1-((G200/$I513)-INT(G200/$I513)))*I513/1024","v":30.013671875},{"$error":"#DIV/0!"},0,0,0,{"$f":"$S$259*MIN(O513,S203)","v":0},0,{"$error":"#DIV/0!"},{"$error":"#DIV/0!"},null,null,null,null,null,null,null,8.9598956421416958,0,{"$error":"#DIV/0!"},-1600,{"$f":"IF(O513>1,I200/(O513-1),I200/O513)","v":{"$error":"#DIV/0!"}},{"$error":"#DIV/0!"}]
[1,null,null,"EOL E-Series dual ctrl Base + 1x 60 HDD Exp, 12x3TB+60x3TB",null,"DSA-N2C7X3-12AT + 1x DSX-N6D6X3-60AT","RAID 5",0,{"$f":"IF(G514=\"RAID 5\",(11-H514)*2794,(10-H514)*2794)+IF(G514=\"RAID 5\",(55-H514)*2794,(50-H514)*2794)*A514","v":184404},216,0,2100,1600,{"$f":"I200/O514","v":{"$error":"#DIV/0!"}},{"$f":"ROUNDUP($G$257/I514,0)","v":0},{"$f":"(1-((G200/$I514)-INT(G200/$I514)))*I514/1024","v":180.08203125},{"$error":"#DIV/0!"},0,0,0,{"$f":"$S$259*MIN(O514,S203)","v":0},0,{"$error":"#DIV/0!"},{"$error":"#DIV/0!"},null,null,null,null,null,null,null,38.915255126120933,0,{"$error":"#DIV/0!"},-1600,{"$f":"IF(O514>1,I200/(O514-1),I200/O514)","v":{"$error":"#DIV/0!"}},{"$error":"#DIV/0!"}]
[2,null,null,"EOL E-Series dual ctrl Base + 2x 60 HDD Exp, 12x3TB+120x3TB",null,"DSA-N2C7X3-12AT + 2x DSX-N6D6X3-60AT","RAID 5",0,{"$f":"IF(G515=\"RAID 5\",(11-H515)*2794,(10-H515)*2794)+IF(G515=\"RAID 5\",(55-H515)*2794,(50-H515)*2794)*A515","v":338074},396,0,2100,1600,{"$f":"I200/O515","v":{"$error":"#DIV/0!"}},0,{"$f":"(1-((G200/$I515)-INT(G200/$I515)))*I515/1024","v":330.150390625},{"$error":"#DIV/0!"},0,0,0,{"$f":"$S$259*MIN(O515,S203)","v":0},0,{"$error":"#DIV/0!"},{"$error":"#DIV/0!"},null,null,null,null,null,null,null,47.875150768262628,0,{"$error":"#DIV/0!"},-1600,{"$f":"IF(O515>1,I200/(O515-1),I200/O515)","v":{"$error":"#DIV/0!"}},{"$error":"#DIV/0!"}]
[3,null,null,"EOL E-Series dual ctrl Base + 3x 60 HDD Exp, 12x3TB+180x3TB",null,"DSA-N2C7X3-12AT + 3x DSX-N6D6X3-60AT","RAID 5",0,{"$f":"IF(G516=\"RAID 5\",(11-H516)*2794,(10-H516)*2794)+IF(G516=\"RAID 5\",(55-H516)*2794,(50-H516)*2794)*A516","v":491744},574,0,2100,1600,{"$f":"I200/O516","v":{"$error":"#DIV/0!"}},0,{"$f":"(1-((G200/$I516)-INT(G200/$I516)))*I516/1024","v":480.21875},{"$error":"#DIV/0!"},0,0,0,{"$f":"$S$259*MIN(O516,S203)","v":0},0,{"$error":"#DIV/0!"},{"$error":"#DIV/0!"},null,null,null,null,null,null,null,56.835046410404324,0,{"$error":"#DIV/0!"},-1600,{"$f":"IF(O516>1,I200/(O516-1),I200/O516)","v":{"$error":"#DIV/0!"}},{"$error":"#DIV/0!"}]
[0,null,"4TB HD","EOL E-Series dual ctrl base Unit, 12x4TB",null,"DSA-N2C7X4-12AT","RAID 5",0,{"$f":"IF(G517=\"RAID 5\",(11-H517)*3725,(10-H517)*3725)+IF(G517=\"RAID 5\",(55-H517*5)*3725,(50-H517*5)*3725)*A517","v":40975},48,0,1300,1600,{"$f":"I200/O517","v":{"$error":"#DIV/0!"}},0,{"$f":"(1-((G200/$I517)-INT(G200/$I517)))*I517/1024","v":40.0146484375},{"$error":"#DIV/0!"},0,0,0,{"$f":"$S$259*MIN(O517,S203)","v":0},0,{"$error":"#DIV/0!"},{"$error":"#DIV/0!"},null,null,null,null,null,null,null,9.6406471236037543,0,{"$error":"#DIV/0!"},-1600,{"$f":"IF(O517>1,I200/(O517-1),I200/O517)","v":{"$error":"#DIV/0!"}},{"$error":"#DIV/0!"}]
[1,null,null,"EOL E-Series dual ctrl Base + 1x 60 HDD Exp, 12x4TB+60x4TB",null,"DSA-N2C7X4-12AT + 1x DSX-N6D6X4-60AT","RAID 5",0,{"$f":"IF(G518=\"RAID 5\",(11-H518)*3725,(10-H518)*3725)+IF(G518=\"RAID 5\",(55-H518)*3725,(50-H518)*3725)*A518","v":245850},288,0,2100,1600,{"$f":"I200/O518","v":{"$error":"#DIV/0!"}},0,{"$f":"(1-((G200/$I518)-INT(G200/$I518)))*I518/1024","v":240.087890625},{"$error":"#DIV/0!"},0,0,0,{"$f":"$S$259*MIN(O518,S203)","v":0},0,{"$error":"#DIV/0!"},{"$error":"#DIV/0!"},null,null,null,null,null,null,null,44.790956526299233,0,{"$error":"#DIV/0!"},-1600,{"$f":"IF(O518>1,I200/(O518-1),I200/O518)","v":{"$error":"#DIV/0!"}},{"$error":"#DIV/0!"}]
[2,null,null,"EOL E-Series dual ctrl Base + 2x 60 HDD Exp, 12x4TB+120x4TB",null,"DSA-N2C7X4-12AT + 2x DSX-N6D6X4-60AT","RAID 5",0,{"$f":"IF(G519=\"RAID 5\",(11-H519)*3725,(10-H519)*3725)+IF(G519=\"RAID 5\",(55-H519)*3725,(50-H519)*3725)*A519","v":450725},528,0,2100,1600,{"$f":"I200/O519","v":{"$error":"#DIV/0!"}},0,{"$f":"(1-((G200/$I519)-INT(G200/$I519)))*I519/1024","v":440.1611328125},{"$error":"#DIV/0!"},0,0,{"$f":"O519*1*MAX($N$1528,1)","v":0},{"$f":"$S$259*MIN(O519,S203)","v":0},0,{"$error":"#DIV/0!"},{"$error":"#DIV/0!"},null,null,null,null,null,null,null,54.431603649902982,0,{"$error":"#DIV/0!"},-1600,{"$f":"IF(O519>1,I200/(O519-1),I200/O519)","v":{"$error":"#DIV/0!"}},{"$error":"#DIV/0!"}]
[3,null,null,"EOL E-Series dual ctrl Base + 3x 60 HDD Exp, 12x4TB+180x4TB",null,"DSA-N2C7X4-12AT + 3x DSX-N6D6X4-60AT","RAID 5",0,{"$f":"IF(G520=\"RAID 5\",(11-H520)*3725,(10-H520)*3725)+IF(G520=\"RAID 5\",(55-H520)*3725,(50-H520)*3725)*A520","v":655600},768,0,2100,1600,{"$f":"I200/O520","v":{"$error":"#DIV/0!"}},0,{"$f":"(1-((G200/$I520)-INT(G200/$I520)))*I520/1024","v":640.234375},{"$error":"#DIV/0!"},0,0,0,{"$f":"$S$259*MIN(O520,S203)","v":0},0,{"$error":"#DIV/0!"},{"$error":"#DIV/0!"},null,null,null,null,null,null,null,64.072250773506738,0,{"$error":"#DIV/0!"},-1600,{"$f":"IF(O520>1,I200/(O520-1),I200/O520)","v":{"$error":"#DIV/0!"}},{"$error":"#DIV/0!"}]
[0,null,"6TB HD","EOL E-Series dual ctrl base Unit, 12x6TB",null,"DSA-N2C7X6-12AT","RAID 5",0,{"$f":"IF(G521=\"RAID 5\",(11-H521)*5588,(10-H521)*5588)+IF(G521=\"RAID 5\",(55-H521*5)*5588,(50-H521*5)*5588)*A521","v":61468},72,0,1300,1600,{"$f":"I200/O521","v":{"$error":"#DIV/0!"}},0,{"$f":"(1-((G200/$I521)-INT(G200/$I521)))*I521/1024","v":60.02734375},{"$error":"#DIV/0!"},0,0,0,{"$f":"$S$259*MIN(O521,S203)","v":0},0,{"$error":"#DIV/0!"},{"$error":"#DIV/0!"},null,null,null,null,null,null,null,14.549137343332109,0,{"$error":"#DIV/0!"},-1600,{"$f":"IF(O521>1,I200/(O521-1),I200/O521)","v":{"$error":"#DIV/0!"}},{"$error":"#DIV/0!"}]
[1,null,null,"EOL E-Series dual ctrl Base + 1x 60 HDD Exp, 12x6TB+60x6TB",null,"DSA-N2C7X6-12AT + 1x DSX-N6D6X6-60AT","RAID 5",0,{"$f":"IF(G522=\"RAID 5\",(11-H522)*5588,(10-H522)*5588)+IF(G522=\"RAID 5\",(55-H522)*5588,(50-H522)*5588)*A522","v":368808},432,0,2100,1600,{"$f":"I200/O522","v":{"$error":"#DIV/0!"}},0,{"$f":"(1-((G200/$I522)-INT(G200/$I522)))*I522/1024","v":360.1640625},{"$error":"#DIV/0!"},0,0,0,{"$f":"$S$259*MIN(O522,S203)","v":0},0,{"$error":"#DIV/0!"},{"$error":"#DIV/0!"},null,null,null,null,null,null,null,67.1056426661073,0,{"$error":"#DIV/0!"},-1600,{"$f":"IF(O522>1,I200/(O522-1),I200/O522)","v":{"$error":"#DIV/0!"}},{"$error":"#DIV/0!"}]
[2,null,null,"EOL E-Series dual ctrl Base + 2x 60 HDD Exp, 12x6TB+120x6TB",null,"DSA-N2C7X6-12AT + 2x DSX-N6D6X6-60AT","RAID 5",0,{"$f":"IF(G523=\"RAID 5\",(11-H523)*5588,(10-H523)*5588)+IF(G523=\"RAID 5\",(55-H523)*5588,(50-H523)*5588)*A523","v":676148},792,0,2100,1600,{"$f":"I200/O523","v":{"$error":"#DIV/0!"}},0,{"$f":"(1-((G200/$I523)-INT(G200/$I523)))*I523/1024","v":660.30078125},{"$error":"#DIV/0!"},0,0,0,{"$f":"$S$259*MIN(O523,S203)","v":0},0,{"$error":"#DIV/0!"},{"$error":"#DIV/0!"},null,null,null,null,null,null,null,81.654780009439406,0,{"$error":"#DIV/0!"},-1600,{"$f":"IF(O523>1,I200/(O523-1),I200/O523)","v":{"$error":"#DIV/0!"}},{"$error":"#DIV/0!"}]
[3,null,null,"EOL E-Series dual ctrl Base + 3x 60 HDD Exp, 12x6TB+180x6TB",null,"DSA-N2C7X6-12AT + 3x DSX-N6D6X6-60AT","RAID 5",0,{"$f":"IF(G524=\"RAID 5\",(11-H524)*5588,(10-H524)*5588)+IF(G524=\"RAID 5\",(55-H524)*5588,(50-H524)*5588)*A524","v":983488},1152,0,2100,1600,{"$f":"$I$257/O524","v":{"$error":"#DIV/0!"}},{"$f":"ROUNDUP($G$257/I524,0)","v":0},{"$f":"(1-(($G$257/$I524)-INT($G$257/$I524)))*I524/1024","v":960.4375},{"$error":"#DIV/0!"},0,0,0,{"$f":"$S$259*MIN(O524,$S$260)","v":0},0,{"$error":"#DIV/0!"},{"$f":"IF(AND(IF($N524<=$L524,TRUE,FALSE),IF($V524<=$R524,TRUE,FALSE),OR(W524=\"True\",$W$262=\"No\")),\"<-- fits project\",\"\")","v":{"$error":"#DIV/0!"}},null,null,null,null,null,null,null,96.203917352771512,0,{"$error":"#DIV/0!"},-1600,{"$f":"IF(O524>1,$I$257/(O524-1),$I$257/O524)","v":{"$error":"#DIV/0!"}},{"$error":"#DIV/0!"}]
[0,null,"8 TB HD","EOL E-Series dual ctrl base Unit, 12x8TB",null,"DSA-N2C7X8-12AT","RAID 5",0,{"$f":"IF(G525=\"RAID 5\",(11-H525)*7448,(10-H525)*7448)+IF(G525=\"RAID 5\",(55-H525*5)*7448,(50-H525*5)*7448)*A525","v":81928},96,0,1300,1600,{"$f":"$I$257/O525","v":{"$error":"#DIV/0!"}},{"$f":"ROUNDUP($G$257/I525,0)","v":0},{"$f":"(1-(($G$257/$I525)-INT($G$257/$I525)))*I525/1024","v":80.0078125},{"$error":"#DIV/0!"},0,0,0,{"$f":"$S$259*MIN(O525,$S$260)","v":0},0,{"$error":"#DIV/0!"},{"$f":"IF(AND(IF($N525<=$L525,TRUE,FALSE),IF($V525<=$R525,TRUE,FALSE),OR(W525=\"True\",$W$262=\"No\")),\"<-- fits project\",\"\")","v":{"$error":"#DIV/0!"}},null,null,null,null,null,null,null,null,0,{"$error":"#DIV/0!"},-1600,{"$f":"IF(O525>1,$I$257/(O525-1),$I$257/O525)","v":{"$error":"#DIV/0!"}},{"$error":"#DIV/0!"}]
[1,null,null,"EOL E-Series dual ctrl Base + 1x 60 HDD Exp, 12x8TB+60x8TB",null,"DSA-N2C7X8-12AT + 1x DSX-N6D6X8-60AT","RAID 5",0,{"$f":"IF(G526=\"RAID 5\",(11-H526)*7448,(10-H526)*7448)+IF(G526=\"RAID 5\",(55-H526)*7448,(50-H526)*7448)*A526","v":491568},{"$f":"96+(60*8)","v":576},0,2100,1600,{"$f":"$I$257/O526","v":{"$error":"#DIV/0!"}},{"$f":"ROUNDUP($G$257/I526,0)","v":0},{"$f":"(1-(($G$257/$I526)-INT($G$257/$I526)))*I526/1024","v":480.046875},{"$error":"#DIV/0!"},0,0,0,0,0,{"$error":"#DIV/0!"},{"$f":"IF(AND(IF($N526<=$L526,TRUE,FALSE),IF($V526<=$R526,TRUE,FALSE),OR(W526=\"True\",$W$262=\"No\")),\"<-- fits project\",\"\")","v":{"$error":"#DIV/0!"}},null,null,null,null,null,null,null,null,{"$f":"AF526*O526","v":0},{"$error":"#DIV/0!"},-1600,{"$f":"IF(O526>1,$I$257/(O526-1),$I$257/O526)","v":{"$error":"#DIV/0!"}},{"$f":"IF(X526=\"<-- fits project\",D526,\"\")","v":{"$error":"#DIV/0!"}}]
[2,null,null,"EOL E-Series dual ctrl Base + 2x 60 HDD Exp, 12x8TB+120x8TB",null,"DSA-N2C7X8-12AT + 2x DSX-N6D6X8-60AT","RAID 5",0,{"$f":"IF(G527=\"RAID 5\",(11-H527)*7448,(10-H527)*7448)+IF(G527=\"RAID 5\",(55-H527)*7448,(50-H527)*7448)*A527","v":901208},{"$f":"96+(120*8)","v":1056},0,2100,1600,{"$f":"$I$257/O527","v":{"$error":"#DIV/0!"}},{"$f":"ROUNDUP($G$257/I527,0)","v":0},{"$f":"(1-(($G$257/$I527)-INT($G$257/$I527)))*I527/1024","v":880.0859375},{"$error":"#DIV/0!"},0,0,0,0,0,{"$error":"#DIV/0!"},{"$f":"IF(AND(IF($N527<=$L527,TRUE,FALSE),IF($V527<=$R527,TRUE,FALSE),OR(W527=\"True\",$W$262=\"No\")),\"<-- fits project\",\"\")","v":{"$error":"#DIV/0!"}},null,null,null,null,null,null,null,null,0,{"$error":"#DIV/0!"},-1600,{"$f":"IF(O527>1,$I$257/(O527-1),$I$257/O527)","v":{"$error":"#DIV/0!"}},{"$error":"#DIV/0!"}]
[3,null,null,"EOL E-Series dual ctrl Base + 3x 60 HDD Exp, 12x8TB+180x8TB",null,"DSA-N2C7X8-12AT + 3x DSX-N6D6X8-60AT","RAID 5",0,{"$f":"IF(G528=\"RAID 5\",(11-H528)*7448,(10-H528)*7448)+IF(G528=\"RAID 5\",(55-H528)*7448,(50-H528)*7448)*A528","v":1310848},{"$f":"96+(180*8)","v":1536},0,2100,1600,{"$f":"$I$257/O528","v":{"$error":"#DIV/0!"}},{"$f":"ROUNDUP($G$257/I528,0)","v":0},{"$f":"(1-(($G$257/$I528)-INT($G$257/$I528)))*I528/1024","v":1280.125},{"$error":"#DIV/0!"},0,0,0,0,0,{"$error":"#DIV/0!"},{"$f":"IF(AND(IF($N528<=$L528,TRUE,FALSE),IF($V528<=$R528,TRUE,FALSE),OR(W528=\"True\",$W$262=\"No\")),\"<-- fits project\",\"\")","v":{"$error":"#DIV/0!"}},null,null,null,null,null,null,null,null,0,{"$error":"#DIV/0!"},-1600,{"$f":"IF(O528>1,$I$257/(O528-1),$I$257/O528)","v":{"$error":"#DIV/0!"}},{"$error":"#DIV/0!"}]
[0,"NetApp E-Series E2800","4TB","E-Series Base Unit, 12 x 4 TB",null,"DSA-N2E8X4-12AT","RAID 5",0,{"$f":"IF(G529=\"RAID 5\",(11-H529)*3724,(10-H529)*3724)","v":40964},48,0,1250,800,{"$f":"I257/O529","v":{"$error":"#DIV/0!"}},{"$f":"ROUNDUP(G257/I529,0)","v":0},{"$f":"(1-((G257/$I529)-INT(G257/$I529)))*I529/1024","v":40.00390625},{"$f":"AH529","v":{"$error":"#DIV/0!"}},0,{"$f":"IF($O529>7,OFFSET($G$255,0,$L$257),OFFSET($G$248,O529-1,$L$257,1,1))","v":0},0,{"$f":"$S$259*MIN(O529,S260)","v":0},{"$f":"SUM(S529,T529,U529)","v":0},{"$f":"IF(AND(IF($AJ529<=$L529,TRUE,FALSE),IF($V529<=$AI529,TRUE,FALSE)),\"True\",\"\")","v":{"$error":"#DIV/0!"}},{"$f":"IF(AND(IF($N529<=$L529,TRUE,FALSE),IF($V529<=$R529,TRUE,FALSE),OR(W529=\"True\",W262=\"No\")),\"<-- fits project\",\"\")","v":{"$error":"#DIV/0!"}},null,null,null,null,null,null,null,7.1516597619172479,{"$f":"AF529*O529","v":0},{"$error":"#DIV/0!"},-800,{"$f":"IF(O529>1,I257/(O529-1),I257/O529)","v":{"$error":"#DIV/0!"}},{"$f":"IF(X529=\"<-- fits project\",D529,\"\")","v":{"$error":"#DIV/0!"}}]
[1,null,null,"E-Series Base + 1x Expansion Unit, 24x4TB",null,"DSA-N2E8X4-12AT + 1x DSX-N1D8X4-12AT","RAID 5",0,{"$f":"IF(G530=\"RAID 5\",(11-H530)*3724,(10-H530)*3724)+IF(G530=\"RAID 5\",(11-H530)*3724,(10-H530)*3724)*A530","v":81928},{"$f":"48+A530*48","v":96},0,1250,800,{"$f":"I257/O530","v":{"$error":"#DIV/0!"}},{"$f":"ROUNDUP(G257/I530,0)","v":0},{"$f":"(1-((G257/$I530)-INT(G257/$I530)))*I530/1024","v":80.0078125},{"$error":"#DIV/0!"},0,0,0,{"$f":"$S$259*MIN(O530,S260)","v":0},0,{"$error":"#DIV/0!"},{"$f":"IF(AND(IF($N530<=$L530,TRUE,FALSE),IF($V530<=$R530,TRUE,FALSE),OR(W530=\"True\",W262=\"No\")),\"<-- fits project\",\"\")","v":{"$error":"#DIV/0!"}},null,null,null,null,null,null,null,13.428535843515654,0,{"$f":"AG530/AG563","v":{"$error":"#DIV/0!"}},-800,{"$f":"IF(O530>1,I257/(O530-1),I257/O530)","v":{"$error":"#DIV/0!"}},{"$error":"#DIV/0!"}]
[2,null,null,"E-Series Base + 2x Expansion Unit, 36x4TB",null,"DSA-N2E8X4-12AT + 2x DSX-N1D8X4-12AT","RAID 5",0,122892,144,0,1250,800,{"$f":"I257/O531","v":{"$error":"#DIV/0!"}},{"$f":"ROUNDUP(G257/I531,0)","v":0},{"$f":"(1-((G257/$I531)-INT(G257/$I531)))*I531/1024","v":120.01171875},{"$error":"#DIV/0!"},0,0,0,{"$f":"$S$259*MIN(O531,S260)","v":0},0,{"$error":"#DIV/0!"},{"$f":"IF(AND(IF($N531<=$L531,TRUE,FALSE),IF($V531<=$R531,TRUE,FALSE),OR(W531=\"True\",W262=\"No\")),\"<-- fits project\",\"\")","v":{"$error":"#DIV/0!"}},null,null,null,null,null,null,null,20.580195605432902,0,{"$f":"AG531/AG563","v":{"$error":"#DIV/0!"}},-800,{"$f":"IF(O531>1,I257/(O531-1),I257/O531)","v":{"$error":"#DIV/0!"}},{"$error":"#DIV/0!"}]
[3,null,null,"E-Series Base + 3x Expansion Unit, 48x4TB",null,"DSA-N2E8X4-12AT + 3x DSX-N1D8X4-12AT","RAID 5",0,163856,192,0,1250,800,{"$f":"I257/O532","v":{"$error":"#DIV/0!"}},{"$f":"ROUNDUP(G257/I532,0)","v":0},{"$f":"(1-((G257/$I532)-INT(G257/$I532)))*I532/1024","v":160.015625},{"$error":"#DIV/0!"},0,0,0,{"$f":"$S$259*MIN(O532,S260)","v":0},0,{"$error":"#DIV/0!"},{"$f":"IF(AND(IF($N532<=$L532,TRUE,FALSE),IF($V532<=$R532,TRUE,FALSE),OR(W532=\"True\",W262=\"No\")),\"<-- fits project\",\"\")","v":{"$error":"#DIV/0!"}},null,null,null,null,null,null,null,27.73185536735015,0,{"$f":"AG532/AG563","v":{"$error":"#DIV/0!"}},-800,{"$f":"IF(O532>1,I257/(O532-1),I257/O532)","v":{"$error":"#DIV/0!"}},{"$error":"#DIV/0!"}]
[4,null,null,"E-Series Base + 4x Expansion Unit, 60x4TB",null,"DSA-N2E8X4-12AT + 4x DSX-N1D8X4-12AT","RAID 5",0,204820,240,0,1250,800,{"$f":"I257/O533","v":{"$error":"#DIV/0!"}},{"$f":"ROUNDUP(G257/I533,0)","v":0},{"$f":"(1-((G257/$I533)-INT(G257/$I533)))*I533/1024","v":200.01953125},{"$error":"#DIV/0!"},0,0,0,{"$f":"$S$259*MIN(O533,S260)","v":0},0,{"$error":"#DIV/0!"},{"$f":"IF(AND(IF($N533<=$L533,TRUE,FALSE),IF($V533<=$R533,TRUE,FALSE),OR(W533=\"True\",W262=\"No\")),\"<-- fits project\",\"\")","v":{"$error":"#DIV/0!"}},null,null,null,null,null,null,null,34.883515129267401,0,{"$f":"AG533/AG563","v":{"$error":"#DIV/0!"}},-800,{"$f":"IF(O533>1,I257/(O533-1),I257/O533)","v":{"$error":"#DIV/0!"}},{"$error":"#DIV/0!"}]
[5,null,null,"E-Series Base + 5x Expansion Unit, 72x4TB",null,"DSA-N2E8X4-12AT + 5x DSX-N1D8X4-12AT","RAID 5",0,245784,288,0,1250,800,{"$f":"I257/O534","v":{"$error":"#DIV/0!"}},{"$f":"ROUNDUP(G257/I534,0)","v":0},{"$f":"(1-((G257/$I534)-INT(G257/$I534)))*I534/1024","v":240.0234375},{"$error":"#DIV/0!"},0,0,0,{"$f":"$S$259*MIN(O534,S260)","v":0},0,{"$error":"#DIV/0!"},{"$f":"IF(AND(IF($N534<=$L534,TRUE,FALSE),IF($V534<=$R534,TRUE,FALSE),OR(W534=\"True\",W262=\"No\")),\"<-- fits project\",\"\")","v":{"$error":"#DIV/0!"}},null,null,null,null,null,null,null,42.035174891184646,0,{"$f":"AG534/AG563","v":{"$error":"#DIV/0!"}},-800,{"$f":"IF(O534>1,I257/(O534-1),I257/O534)","v":{"$error":"#DIV/0!"}},{"$error":"#DIV/0!"}]
[6,null,null,"E-Series Base + 6x Expansion Unit, 84x4TB",null,"DSA-N2E8X4-12AT + 6x DSX-N1D8X4-12AT","RAID 5",0,286748,336,0,1250,800,{"$f":"I257/O535","v":{"$error":"#DIV/0!"}},{"$f":"ROUNDUP(G257/I535,0)","v":0},{"$f":"(1-((G257/$I535)-INT(G257/$I535)))*I535/1024","v":280.02734375},{"$error":"#DIV/0!"},0,0,0,{"$f":"$S$259*MIN(O535,S260)","v":0},0,{"$error":"#DIV/0!"},{"$f":"IF(AND(IF($N535<=$L535,TRUE,FALSE),IF($V535<=$R535,TRUE,FALSE),OR(W535=\"True\",W262=\"No\")),\"<-- fits project\",\"\")","v":{"$error":"#DIV/0!"}},null,null,null,null,null,null,null,49.186834653101897,0,{"$f":"AG535/AG563","v":{"$error":"#DIV/0!"}},-800,{"$f":"IF(O535>1,I257/(O535-1),I257/O535)","v":{"$error":"#DIV/0!"}},{"$error":"#DIV/0!"}]
[7,null,null,"E-Series Base + 7x Expansion Unit, 96x4TB",null,"DSA-N2E8X4-12AT + 7x DSX-N1D8X4-12AT","RAID 5",0,327712,384,0,1250,800,{"$f":"I257/O536","v":{"$error":"#DIV/0!"}},{"$f":"ROUNDUP(G257/I536,0)","v":0},{"$f":"(1-((G257/$I536)-INT(G257/$I536)))*I536/1024","v":320.03125},{"$error":"#DIV/0!"},0,0,0,{"$f":"$S$259*MIN(O536,S260)","v":0},{"$f":"SUM(S536,T536,U536)","v":0},{"$error":"#DIV/0!"},{"$f":"IF(AND(IF($N536<=$L536,TRUE,FALSE),IF($V536<=$R536,TRUE,FALSE),OR(W536=\"True\",W262=\"No\")),\"<-- fits project\",\"\")","v":{"$error":"#DIV/0!"}},null,null,null,null,null,null,null,56.338494415019142,0,{"$f":"AG536/AG563","v":{"$error":"#DIV/0!"}},-800,{"$f":"IF(O536>1,I257/(O536-1),I257/O536)","v":{"$error":"#DIV/0!"}},{"$error":"#DIV/0!"}]
[0,null,"8 TB","E-Series Base Unit, 12 x 8 TB",null,"DSA‑N2E8X8‑12AT","RAID 5",0,{"$f":"IF(G537=\"RAID 5\",(11-H537)*7448,(10-H537)*7448)","v":81928},{"$f":"12*8","v":96},0,1250,800,{"$f":"I257/O537","v":{"$error":"#DIV/0!"}},{"$f":"ROUNDUP(G257/I537,0)","v":0},{"$f":"(1-((G257/$I537)-INT(G257/$I537)))*I537/1024","v":80.0078125},{"$error":"#DIV/0!"},0,0,0,{"$f":"$S$259*MIN(O537,S260)","v":0},{"$f":"SUM(S537,T537,U537)","v":0},{"$error":"#DIV/0!"},{"$f":"IF(AND(IF($N537<=$L537,TRUE,FALSE),IF($V537<=$R537,TRUE,FALSE),OR(W537=\"True\",W262=\"No\")),\"<-- fits project\",\"\")","v":{"$error":"#DIV/0!"}},null,null,null,null,null,null,null,10.810739944412397,0,{"$f":"AG537/AG563","v":{"$error":"#DIV/0!"}},-800,{"$f":"IF(O537>1,I257/(O537-1),I257/O537)","v":{"$error":"#DIV/0!"}},{"$error":"#DIV/0!"}]
[1,null,null,"E-Series Base + 1x Expansion Unit, 24x8TB",null,"DSA-N2E8X8-12AT + 1x DSX-N1D8X8-12AT","RAID 5",0,{"$f":"IF(G538=\"RAID 5\",(11-H538)*7448,(10-H538)*7448)+IF(G538=\"RAID 5\",(11-H538)*7448,(10-H538)*7448)*A538","v":163856},{"$f":"96+A538*96","v":192},0,1250,800,{"$f":"I257/O538","v":{"$error":"#DIV/0!"}},{"$f":"ROUNDUP(G257/I538,0)","v":0},{"$f":"(1-((G257/$I538)-INT(G257/$I538)))*I538/1024","v":160.015625},{"$error":"#DIV/0!"},0,0,0,{"$f":"$S$259*MIN(O538,S260)","v":0},0,{"$error":"#DIV/0!"},{"$f":"IF(AND(IF($N538<=$L538,TRUE,FALSE),IF($V538<=$R538,TRUE,FALSE),OR(W538=\"True\",W262=\"No\")),\"<-- fits project\",\"\")","v":{"$error":"#DIV/0!"}},null,null,null,null,null,null,null,20.194097750275315,0,{"$f":"AG538/AG563","v":{"$error":"#DIV/0!"}},-800,{"$f":"IF(O538>1,I257/(O538-1),I257/O538)","v":{"$error":"#DIV/0!"}},{"$error":"#DIV/0!"}]
[2,null,null,"E-Series Base + 2x Expansion Unit, 36x8TB",null,"DSA-N2E8X8-12AT + 2x DSX-N1D8X8-12AT","RAID 5",0,245784,288,0,1250,800,{"$f":"I257/O539","v":{"$error":"#DIV/0!"}},{"$f":"ROUNDUP(G257/I539,0)","v":0},{"$f":"(1-((G257/$I539)-INT(G257/$I539)))*I539/1024","v":240.0234375},{"$error":"#DIV/0!"},0,0,0,{"$f":"$S$259*MIN(O539,S260)","v":0},0,{"$error":"#DIV/0!"},{"$f":"IF(AND(IF($N539<=$L539,TRUE,FALSE),IF($V539<=$R539,TRUE,FALSE),OR(W539=\"True\",W262=\"No\")),\"<-- fits project\",\"\")","v":{"$error":"#DIV/0!"}},null,null,null,null,null,null,null,31.004837694687712,0,{"$f":"AG539/AG563","v":{"$error":"#DIV/0!"}},-800,{"$f":"IF(O539>1,I257/(O539-1),I257/O539)","v":{"$error":"#DIV/0!"}},{"$error":"#DIV/0!"}]
[3,null,null,"E-Series Base + 3x Expansion Unit, 48x8TB",null,"DSA-N2E8X8-12AT + 3x DSX-N1D8X8-12AT","RAID 5",0,327712,384,0,1250,800,{"$f":"I257/O540","v":{"$error":"#DIV/0!"}},{"$f":"ROUNDUP(G257/I540,0)","v":0},{"$f":"(1-((G257/$I540)-INT(G257/$I540)))*I540/1024","v":320.03125},{"$error":"#DIV/0!"},0,0,0,{"$f":"$S$259*MIN(O540,S260)","v":0},0,{"$error":"#DIV/0!"},{"$f":"IF(AND(IF($N540<=$L540,TRUE,FALSE),IF($V540<=$R540,TRUE,FALSE),OR(W540=\"True\",W262=\"No\")),\"<-- fits project\",\"\")","v":{"$error":"#DIV/0!"}},null,null,null,null,null,null,null,41.815577639100113,0,{"$f":"AG540/AG563","v":{"$error":"#DIV/0!"}},-800,{"$f":"IF(O540>1,I257/(O540-1),I257/O540)","v":{"$error":"#DIV/0!"}},{"$error":"#DIV/0!"}]
[4,null,null,"E-Series Base + 4x Expansion Unit, 60x8TB",null,"DSA-N2E8X8-12AT + 4x DSX-N1D8X8-12AT","RAID 5",0,409640,480,0,1250,800,{"$f":"I257/O541","v":{"$error":"#DIV/0!"}},{"$f":"ROUNDUP(G257/I541,0)","v":0},{"$f":"(1-((G257/$I541)-INT(G257/$I541)))*I541/1024","v":400.0390625},{"$error":"#DIV/0!"},0,0,0,{"$f":"$S$259*MIN(O541,S260)","v":0},0,{"$error":"#DIV/0!"},{"$f":"IF(AND(IF($N541<=$L541,TRUE,FALSE),IF($V541<=$R541,TRUE,FALSE),OR(W541=\"True\",W262=\"No\")),\"<-- fits project\",\"\")","v":{"$error":"#DIV/0!"}},null,null,null,null,null,null,null,52.62631758351251,0,{"$f":"AG541/AG563","v":{"$error":"#DIV/0!"}},-800,{"$f":"IF(O541>1,I257/(O541-1),I257/O541)","v":{"$error":"#DIV/0!"}},{"$error":"#DIV/0!"}]
[5,null,null,"E-Series Base + 5x Expansion Unit, 72x8TB",null,"DSA-N2E8X8-12AT + 5x DSX-N1D8X8-12AT","RAID 5",0,491568,576,0,1250,800,{"$f":"I257/O542","v":{"$error":"#DIV/0!"}},{"$f":"ROUNDUP(G257/I542,0)","v":0},{"$f":"(1-((G257/$I542)-INT(G257/$I542)))*I542/1024","v":480.046875},{"$error":"#DIV/0!"},0,0,0,{"$f":"$S$259*MIN(O542,S260)","v":0},0,{"$error":"#DIV/0!"},{"$f":"IF(AND(IF($N542<=$L542,TRUE,FALSE),IF($V542<=$R542,TRUE,FALSE),OR(W542=\"True\",W262=\"No\")),\"<-- fits project\",\"\")","v":{"$error":"#DIV/0!"}},null,null,null,null,null,null,null,63.437057527924907,0,{"$f":"AG542/AG563","v":{"$error":"#DIV/0!"}},-800,{"$f":"IF(O542>1,I257/(O542-1),I257/O542)","v":{"$error":"#DIV/0!"}},{"$error":"#DIV/0!"}]
[6,null,null,"E-Series Base + 6x Expansion Unit, 84x8TB",null,"DSA-N2E8X8-12AT + 6x DSX-N1D8X8-12AT","RAID 5",0,573496,672,0,1250,800,{"$f":"I257/O543","v":{"$error":"#DIV/0!"}},{"$f":"ROUNDUP(G257/I543,0)","v":0},{"$f":"(1-((G257/$I543)-INT(G257/$I543)))*I543/1024","v":560.0546875},{"$error":"#DIV/0!"},0,0,0,{"$f":"$S$259*MIN(O543,S260)","v":0},0,{"$error":"#DIV/0!"},{"$f":"IF(AND(IF($N543<=$L543,TRUE,FALSE),IF($V543<=$R543,TRUE,FALSE),OR(W543=\"True\",W262=\"No\")),\"<-- fits project\",\"\")","v":{"$error":"#DIV/0!"}},null,null,null,null,null,null,null,74.247797472337297,0,{"$f":"AG543/AG563","v":{"$error":"#DIV/0!"}},-800,{"$f":"IF(O543>1,I257/(O543-1),I257/O543)","v":{"$error":"#DIV/0!"}},{"$error":"#DIV/0!"}]
[7,null,null,"E-Series Base + 7x Expansion Unit, 96x8TB",null,"DSA-N2E8X8-12AT + 7x DSX-N1D8X8-12AT","RAID 5",0,655424,768,0,1250,800,{"$f":"$I$257/O544","v":{"$error":"#DIV/0!"}},{"$f":"ROUNDUP($G$257/I544,0)","v":0},{"$f":"(1-(($G$257/$I544)-INT($G$257/$I544)))*I544/1024","v":640.0625},{"$error":"#DIV/0!"},0,0,0,{"$f":"$S$259*MIN(O544,$S$260)","v":0},{"$f":"SUM(S544,T544,U544)","v":0},{"$error":"#DIV/0!"},{"$f":"IF(AND(IF($N544<=$L544,TRUE,FALSE),IF($V544<=$R544,TRUE,FALSE),OR(W544=\"True\",$W$262=\"No\")),\"<-- fits project\",\"\")","v":{"$error":"#DIV/0!"}},null,null,null,null,null,null,null,85.058537416749701,{"$f":"AF544*O544","v":0},{"$f":"AG544/$AG$563","v":{"$error":"#DIV/0!"}},-800,{"$f":"IF(O544>1,$I$257/(O544-1),$I$257/O544)","v":{"$error":"#DIV/0!"}},{"$f":"IF(X544=\"<-- fits project\",D544,\"\")","v":{"$error":"#DIV/0!"}}]
[0,null,"10 TB","E-Series Base Unit, 12 x 10 TB",null,"DSA‑N2E8XA‑12AT","RAID 5",0,{"$f":"IF(G545=\"RAID 5\",(11-H545)*9310,(10-H545)*9310)","v":102410},120,0,1250,800,{"$error":"#DIV/0!"},0,100.009765625,{"$error":"#DIV/0!"},0,0,0,{"$f":"$S$259*MIN(O545,$S$260)","v":0},{"$f":"SUM(S545,T545,U545)","v":0},{"$error":"#DIV/0!"},{"$error":"#DIV/0!"},null,null,null,null,null,null,null,null,0,{"$error":"#DIV/0!"},-800,{"$error":"#DIV/0!"},{"$error":"#DIV/0!"}]
[1,null,null,"E-Series Base + 1x Expansion Unit, 24x10TB",null,"DSA-N2E8XA-12AT + 1x DSX-N1D8XA-12AT","RAID 5",0,{"$f":"IF(G546=\"RAID 5\",(11-H546)*9310,(10-H546)*9310)+IF(G546=\"RAID 5\",(11-H546)*9310,(10-H546)*9310)*A546","v":204820},{"$f":"120+A546*120","v":240},0,1250,800,{"$error":"#DIV/0!"},0,200.01953125,{"$error":"#DIV/0!"},0,0,0,0,0,{"$error":"#DIV/0!"},{"$error":"#DIV/0!"},null,null,null,null,null,null,null,null,0,{"$error":"#DIV/0!"},-800,{"$error":"#DIV/0!"},{"$error":"#DIV/0!"}]
[2,null,null,"E-Series Base + 2x Expansion Unit, 36x10TB",null,"DSA-N2E8XA-12AT + 2x DSX-N1D8XA-12AT","RAID 5",0,307230,360,0,1250,800,{"$error":"#DIV/0!"},0,300.029296875,{"$error":"#DIV/0!"},0,0,0,0,0,{"$error":"#DIV/0!"},{"$error":"#DIV/0!"},null,null,null,null,null,null,null,null,0,{"$error":"#DIV/0!"},-800,{"$error":"#DIV/0!"},{"$error":"#DIV/0!"}]
[3,null,null,"E-Series Base + 3x Expansion Unit, 48x10TB",null,"DSA-N2E8XA-12AT + 3x DSX-N1D8XA-12AT","RAID 5",0,409640,480,0,1250,800,{"$error":"#DIV/0!"},0,400.0390625,{"$error":"#DIV/0!"},0,0,0,0,0,{"$error":"#DIV/0!"},{"$error":"#DIV/0!"},null,null,null,null,null,null,null,null,0,{"$error":"#DIV/0!"},-800,{"$error":"#DIV/0!"},{"$error":"#DIV/0!"}]
[4,null,null,"E-Series Base + 4x Expansion Unit, 60x10TB",null,"DSA-N2E8XA-12AT + 4x DSX-N1D8XA-12AT","RAID 5",0,512050,600,0,1250,800,{"$error":"#DIV/0!"},0,500.048828125,{"$error":"#DIV/0!"},0,0,0,0,0,{"$error":"#DIV/0!"},{"$error":"#DIV/0!"},null,null,null,null,null,null,null,null,0,{"$error":"#DIV/0!"},-800,{"$error":"#DIV/0!"},{"$error":"#DIV/0!"}]
[5,null,null,"E-Series Base + 5x Expansion Unit, 72x10TB",null,"DSA-N2E8XA-12AT + 5x DSX-N1D8XA-12AT","RAID 5",0,614460,720,0,1250,800,{"$error":"#DIV/0!"},0,600.05859375,{"$error":"#DIV/0!"},0,0,0,0,0,{"$error":"#DIV/0!"},{"$error":"#DIV/0!"},null,null,null,null,null,null,null,null,0,{"$error":"#DIV/0!"},-800,{"$error":"#DIV/0!"},{"$error":"#DIV/0!"}]
[6,null,null,"E-Series Base + 6x Expansion Unit, 84x10TB",null,"DSA-N2E8XA-12AT + 6x DSX-N1D8XA-12AT","RAID 5",0,716870,840,0,1250,800,{"$error":"#DIV/0!"},0,700.068359375,{"$error":"#DIV/0!"},0,0,0,0,0,{"$error":"#DIV/0!"},{"$error":"#DIV/0!"},null,null,null,null,null,null,null,null,0,{"$error":"#DIV/0!"},-800,{"$error":"#DIV/0!"},{"$error":"#DIV/0!"}]
[7,null,null,"E-Series Base + 7x Expansion Unit, 96x10TB",null,"DSA-N2E8XA-12AT + 7x DSX-N1D8XA-12AT","RAID 5",0,819280,960,0,1250,800,{"$error":"#DIV/0!"},0,800.078125,{"$error":"#DIV/0!"},0,0,0,0,0,{"$error":"#DIV/0!"},{"$error":"#DIV/0!"},null,null,null,null,null,null,null,null,0,{"$error":"#DIV/0!"},-800,{"$error":"#DIV/0!"},{"$error":"#DIV/0!"}]
[0,null,"4 TB","E-Series dual ctrl base Unit, 60x4TB",null,"DSA-N6C8X4-60AT","RAID 5",0,{"$f":"IF(G553=\"RAID 5\",(55-H553)*3724,(50-H553)*3724)+IF(G553=\"RAID 5\",(55-H553*5)*3724,(50-H553*5)*3724)*A553","v":204820},{"$f":"60*4","v":240},0,1250,800,{"$f":"I257/O553","v":{"$error":"#DIV/0!"}},{"$f":"ROUNDUP(G257/I553,0)","v":0},{"$f":"(1-((G257/$I553)-INT(G257/$I553)))*I553/1024","v":200.01953125},{"$error":"#DIV/0!"},0,0,0,{"$f":"$S$259*MIN(O553,S260)","v":0},{"$f":"SUM(S553,T553,U553)","v":0},{"$error":"#DIV/0!"},{"$f":"IF(AND(IF($N553<=$L553,TRUE,FALSE),IF($V553<=$R553,TRUE,FALSE),OR(W553=\"True\",W262=\"No\")),\"<-- fits project\",\"\")","v":{"$error":"#DIV/0!"}},null,null,null,null,null,null,null,9.6406471236037543,0,{"$f":"AG553/AG563","v":{"$error":"#DIV/0!"}},-800,{"$f":"IF(O553>1,I257/(O553-1),I257/O553)","v":{"$error":"#DIV/0!"}},{"$error":"#DIV/0!"}]
[1,null,null,"E-Series dual ctrl Base + 1x 60 HDD Exp, 60x4TB+60x4TB",null,"DSA-N6C8X4-60AT + 1x DSX-N6D8X4-60AT","RAID 5",0,{"$f":"IF(G554=\"RAID 5\",(55-H554)*3724,(50-H554)*3724)+IF(G554=\"RAID 5\",(55-H554)*3724,(50-H554)*3724)*A554","v":409640},{"$f":"120*4","v":480},{"$f":"O554*J554","v":0},1250,800,{"$f":"I257/O554","v":{"$error":"#DIV/0!"}},{"$f":"ROUNDUP(G257/I554,0)","v":0},{"$f":"(1-((G257/$I554)-INT(G257/$I554)))*I554/1024","v":400.0390625},{"$error":"#DIV/0!"},{"$f":"O554*M554","v":0},0,0,{"$f":"$S$259*MIN(O554,S260)","v":0},0,{"$error":"#DIV/0!"},{"$f":"IF(AND(IF($N554<=$L554,TRUE,FALSE),IF($V554<=$R554,TRUE,FALSE),OR(W554=\"True\",W262=\"No\")),\"<-- fits project\",\"\")","v":{"$error":"#DIV/0!"}},null,null,null,null,null,null,null,44.790956526299233,0,{"$f":"AG554/AG563","v":{"$error":"#DIV/0!"}},{"$f":"(O554-1)*M554","v":-800},{"$f":"IF(O554>1,I257/(O554-1),I257/O554)","v":{"$error":"#DIV/0!"}},{"$error":"#DIV/0!"}]
[2,null,null,"E-Series dual ctrl Base + 2x 60 HDD Exp, 60x4TB+120x4TB",null,"DSA-N6C8X4-60AT + 2x DSX-N6D8X4-60AT","RAID 5",0,{"$f":"IF(G555=\"RAID 5\",(55-H555)*3724,(50-H555)*3724)+IF(G555=\"RAID 5\",(55-H555)*3724,(50-H555)*3724)*A555","v":614460},{"$f":"180*4","v":720},0,1250,800,{"$f":"I257/O555","v":{"$error":"#DIV/0!"}},{"$f":"ROUNDUP(G257/I555,0)","v":0},{"$f":"(1-((G257/$I555)-INT(G257/$I555)))*I555/1024","v":600.05859375},{"$error":"#DIV/0!"},0,0,0,{"$f":"$S$259*MIN(O555,S260)","v":0},0,{"$error":"#DIV/0!"},{"$f":"IF(AND(IF($N555<=$L555,TRUE,FALSE),IF($V555<=$R555,TRUE,FALSE),OR(W555=\"True\",W262=\"No\")),\"<-- fits project\",\"\")","v":{"$error":"#DIV/0!"}},null,null,null,null,null,null,null,54.431603649902982,0,{"$f":"AG555/AG563","v":{"$error":"#DIV/0!"}},-800,{"$f":"IF(O555>1,I257/(O555-1),I257/O555)","v":{"$error":"#DIV/0!"}},{"$error":"#DIV/0!"}]
[0,null,"8 TB","E-Series dual ctrl base Unit, 60x8TB",null,"DSA-N6C8X8-60AT","RAID 5",0,{"$f":"IF(G556=\"RAID 5\",(55-H556)*7448,(50-H556)*7448)+IF(G556=\"RAID 5\",(55-H556*5)*7448,(50-H556*5)*7448)*A556","v":409640},{"$f":"60*8","v":480},0,1250,800,{"$f":"I257/O556","v":{"$error":"#DIV/0!"}},{"$f":"ROUNDUP(G257/I556,0)","v":0},{"$f":"(1-((G257/$I556)-INT(G257/$I556)))*I556/1024","v":400.0390625},{"$error":"#DIV/0!"},0,0,0,{"$f":"$S$259*MIN(O556,S260)","v":0},0,{"$error":"#DIV/0!"},{"$f":"IF(AND(IF($N556<=$L556,TRUE,FALSE),IF($V556<=$R556,TRUE,FALSE),OR(W556=\"True\",W262=\"No\")),\"<-- fits project\",\"\")","v":{"$error":"#DIV/0!"}},null,null,null,null,null,null,null,14.549137343332109,0,{"$f":"AG556/AG563","v":{"$error":"#DIV/0!"}},-800,{"$f":"IF(O556>1,I257/(O556-1),I257/O556)","v":{"$error":"#DIV/0!"}},{"$error":"#DIV/0!"}]
[1,null,null,"E-Series dual ctrl Base + 1x 60 HDD Exp, 60x8TB+60x8TB",null,"DSA-N6C8X8-60AT + 1x DSX-N6D8X8-60AT","RAID 5",0,{"$f":"IF(G557=\"RAID 5\",(55-H557)*7448,(50-H557)*7448)+IF(G557=\"RAID 5\",(55-H557)*7448,(50-H557)*7448)*A557","v":819280},{"$f":"120*8","v":960},0,1250,800,{"$f":"I257/O557","v":{"$error":"#DIV/0!"}},{"$f":"ROUNDUP(G257/I557,0)","v":0},{"$f":"(1-((G257/$I557)-INT(G257/$I557)))*I557/1024","v":800.078125},{"$error":"#DIV/0!"},0,0,0,{"$f":"$S$259*MIN(O557,S260)","v":0},0,{"$error":"#DIV/0!"},{"$f":"IF(AND(IF($N557<=$L557,TRUE,FALSE),IF($V557<=$R557,TRUE,FALSE),OR(W557=\"True\",W262=\"No\")),\"<-- fits project\",\"\")","v":{"$error":"#DIV/0!"}},null,null,null,null,null,null,null,67.1056426661073,0,{"$f":"AG557/AG563","v":{"$error":"#DIV/0!"}},-800,{"$f":"IF(O557>1,I257/(O557-1),I257/O557)","v":{"$error":"#DIV/0!"}},{"$error":"#DIV/0!"}]
[2,null,null,"E-Series dual ctrl Base + 2x 60 HDD Exp, 60x8TB+120x8TB",null,"DSA-N6C8X8-60AT + 2x DSX-N6D8X8-60AT","RAID 5",0,{"$f":"IF(G558=\"RAID 5\",(55-H558)*7448,(50-H558)*7448)+IF(G558=\"RAID 5\",(55-H558)*7448,(50-H558)*7448)*A558","v":1228920},{"$f":"180*8","v":1440},0,1250,800,{"$f":"I257/O558","v":{"$error":"#DIV/0!"}},{"$f":"ROUNDUP(G257/I558,0)","v":0},{"$f":"(1-((G257/$I558)-INT(G257/$I558)))*I558/1024","v":1200.1171875},{"$error":"#DIV/0!"},0,0,0,{"$f":"$S$259*MIN(O558,S260)","v":0},0,{"$error":"#DIV/0!"},{"$f":"IF(AND(IF($N558<=$L558,TRUE,FALSE),IF($V558<=$R558,TRUE,FALSE),OR(W558=\"True\",W262=\"No\")),\"<-- fits project\",\"\")","v":{"$error":"#DIV/0!"}},null,null,null,null,null,null,null,81.654780009439406,0,{"$f":"AG558/AG563","v":{"$error":"#DIV/0!"}},-800,{"$f":"IF(O558>1,I257/(O558-1),I257/O558)","v":{"$error":"#DIV/0!"}},{"$error":"#DIV/0!"}]
[0,null,"10 TB","E-Series dual ctrl base Unit, 60x10TB",null,"DSA-N6C8XA-60AT","RAID 5",0,{"$f":"IF(G559=\"RAID 5\",(55-H559)*9310,(50-H559)*9310)+IF(G559=\"RAID 5\",(55-H559*5)*9310,(50-H559*5)*9310)*A559","v":512050},{"$f":"60*10","v":600},0,1250,800,{"$f":"$I$257/O559","v":{"$error":"#DIV/0!"}},{"$f":"ROUNDUP($G$257/I559,0)","v":0},{"$f":"(1-(($G$257/$I559)-INT($G$257/$I559)))*I559/1024","v":500.048828125},{"$error":"#DIV/0!"},0,0,0,{"$f":"$S$259*MIN(O559,$S$260)","v":0},0,{"$error":"#DIV/0!"},{"$f":"IF(AND(IF($N559<=$L559,TRUE,FALSE),IF($V559<=$R559,TRUE,FALSE),OR(W559=\"True\",$W$262=\"No\")),\"<-- fits project\",\"\")","v":{"$error":"#DIV/0!"}},null,null,null,null,null,null,null,null,0,{"$f":"AG559/AG564","v":{"$error":"#DIV/0!"}},-800,{"$f":"IF(O559>1,$I$257/(O559-1),$I$257/O559)","v":{"$error":"#DIV/0!"}},{"$error":"#DIV/0!"}]
[1,null,null,"E-Series dual ctrl Base + 1x 60 HDD Exp, 60x10TB+60x10TB",null,"DSA-N6C8XA-60AT + 1x DSX-N6D8XA-60AT","RAID 5",0,{"$f":"IF(G560=\"RAID 5\",(55-H560)*9310,(50-H560)*9310)+IF(G560=\"RAID 5\",(55-H560)*9310,(50-H560)*9310)*A560","v":1024100},{"$f":"120*10","v":1200},0,1250,800,{"$f":"$I$257/O560","v":{"$error":"#DIV/0!"}},{"$f":"ROUNDUP($G$257/I560,0)","v":0},{"$f":"(1-(($G$257/$I560)-INT($G$257/$I560)))*I560/1024","v":1000.09765625},{"$error":"#DIV/0!"},0,0,0,0,0,{"$error":"#DIV/0!"},{"$f":"IF(AND(IF($N560<=$L560,TRUE,FALSE),IF($V560<=$R560,TRUE,FALSE),OR(W560=\"True\",$W$262=\"No\")),\"<-- fits project\",\"\")","v":{"$error":"#DIV/0!"}},null,null,null,null,null,null,null,null,0,{"$f":"AG560/AG565","v":{"$error":"#DIV/0!"}},-800,{"$f":"IF(O560>1,$I$257/(O560-1),$I$257/O560)","v":{"$error":"#DIV/0!"}},{"$error":"#DIV/0!"}]
[2,null,null,"E-Series dual ctrl Base + 2x 60 HDD Exp, 60x10TB+120x10TB",null,"DSA-N6C8XA-60AT+ 2x DSX-N6D8XA-60AT","RAID 5",0,{"$f":"IF(G561=\"RAID 5\",(55-H561)*9310,(50-H561)*9310)+IF(G561=\"RAID 5\",(55-H561)*9310,(50-H561)*9310)*A561","v":1536150},{"$f":"180*10","v":1800},0,1250,800,{"$f":"$I$257/O561","v":{"$error":"#DIV/0!"}},{"$f":"ROUNDUP($G$257/I561,0)","v":0},{"$f":"(1-(($G$257/$I561)-INT($G$257/$I561)))*I561/1024","v":1500.146484375},{"$error":"#DIV/0!"},0,0,0,0,0,{"$error":"#DIV/0!"},{"$f":"IF(AND(IF($N561<=$L561,TRUE,FALSE),IF($V561<=$R561,TRUE,FALSE),OR(W561=\"True\",$W$262=\"No\")),\"<-- fits project\",\"\")","v":{"$error":"#DIV/0!"}},null,null,null,null,null,null,null,null,0,{"$f":"AG561/AG566","v":{"$error":"#DIV/0!"}},-800,{"$f":"IF(O561>1,$I$257/(O561-1),$I$257/O561)","v":{"$error":"#DIV/0!"}},{"$error":"#DIV/0!"}]
[null,null,0,"EOL FAS2020 Base Unit 6x1000GB",null,"DSA-N2B20-6AT","RAID 4",0,{"$f":"IF(G562=\"RAID 4\",(5-H562)*633,(4-H562)*633)+IF(G562=\"RAID 4\",(13-H562)*633,(12-H562)*633)*C562","v":3165},6,0,250,128,{"$f":"I257/O562","v":{"$error":"#DIV/0!"}},{"$f":"ROUNDUP(G257/I562,0)","v":0},{"$f":"(1-((G257/$I562)-INT(G257/$I562)))*I562/1024","v":3.0908203125},{"$f":"AH562","v":{"$error":"#DIV/0!"}},0,0,0,{"$f":"$S$259*MIN(O562,$S$260)","v":0},{"$f":"SUM(S562,T562,U562)","v":0},{"$error":"#DIV/0!"},{"$f":"IF(AND(IF($N562<=$L562,TRUE,FALSE),IF($V562<=$R562,TRUE,FALSE),OR(W562=\"True\",W262=\"No\")),\"<-- fits project\",\"\")","v":{"$error":"#DIV/0!"}},null,null,null,null,null,null,null,2.7616058786512143,0,{"$f":"AG562/AG563","v":{"$error":"#DIV/0!"}},-128,{"$f":"IF(O562>1,I257/(O562-1),I257/O562)","v":{"$error":"#DIV/0!"}},{"$error":"#DIV/0!"}]
[null,null,0,"EOL FAS2020 Base Unit 12x1000GB",null,"DSA-N2B20-12AT","RAID 4",0,{"$f":"IF(G563=\"RAID 4\",(11-H563)*633,(10-H563)*633)+IF(G563=\"RAID 4\",(13-H563)*633,(12-H563)*633)*C563","v":6963},12,0,250,128,{"$f":"I257/O563","v":{"$error":"#DIV/0!"}},{"$f":"ROUNDUP(G257/I563,0)","v":0},{"$f":"(1-((G257/$I563)-INT(G257/$I563)))*I563/1024","v":6.7998046875},{"$error":"#DIV/0!"},0,0,0,0,0,{"$error":"#DIV/0!"},{"$f":"IF(AND(IF($N563<=$L563,TRUE,FALSE),IF($V563<=$R563,TRUE,FALSE),OR(W563=\"True\",W262=\"No\")),\"<-- fits project\",\"\")","v":{"$error":"#DIV/0!"}},null,null,null,null,null,null,null,3.9632092663485237,0,{"$f":"AG563/AG563","v":{"$error":"#DIV/0!"}},-128,{"$f":"IF(O563>1,I257/(O563-1),I257/O563)","v":{"$error":"#DIV/0!"}},{"$error":"#DIV/0!"}]
[null,null,1,"EOL FAS2020 XStage1 26x1000GB",null,"DSA-N2B20-26AT","RAID DP",0,13926,26,0,250,128,{"$f":"I257/O564","v":{"$error":"#DIV/0!"}},{"$f":"ROUNDUP(G257/I564,0)","v":0},{"$f":"(1-((G257/$I564)-INT(G257/$I564)))*I564/1024","v":13.599609375},{"$error":"#DIV/0!"},0,0,0,0,0,{"$error":"#DIV/0!"},{"$f":"IF(AND(IF($N564<=$L564,TRUE,FALSE),IF($V564<=$R564,TRUE,FALSE),OR(W564=\"True\",W262=\"No\")),\"<-- fits project\",\"\")","v":{"$error":"#DIV/0!"}},null,null,null,null,null,null,null,8.3377962924117686,0,{"$f":"AG564/AG563","v":{"$error":"#DIV/0!"}},-128,{"$f":"IF(O564>1,I257/(O564-1),I257/O564)","v":{"$error":"#DIV/0!"}},{"$error":"#DIV/0!"}]
[null,null,2,"EOL FAS2020 XStage2 40x1000GB",null,"DSA-N2B20-40AT","RAID DP",0,21522,24,0,250,128,{"$f":"I257/O565","v":{"$error":"#DIV/0!"}},{"$f":"ROUNDUP(G257/I565,0)","v":0},{"$f":"(1-((G257/$I565)-INT(G257/$I565)))*I565/1024","v":21.017578125},{"$error":"#DIV/0!"},0,0,0,0,0,{"$error":"#DIV/0!"},{"$f":"IF(AND(IF($N565<=$L565,TRUE,FALSE),IF($V565<=$R565,TRUE,FALSE),OR(W565=\"True\",W262=\"No\")),\"<-- fits project\",\"\")","v":{"$error":"#DIV/0!"}},null,null,null,null,null,null,null,12.712383318475014,0,{"$f":"AG565/AG563","v":{"$error":"#DIV/0!"}},-128,{"$f":"IF(O565>1,I257/(O565-1),I257/O565)","v":{"$error":"#DIV/0!"}},{"$error":"#DIV/0!"}]
[null,null,0,"EOL FAS2040 Base Unit 12x1000GB",null,"DSA-N2B40-12AT","RAID DP",0,6330,12,0,400,256,{"$f":"I257/O566","v":{"$error":"#DIV/0!"}},{"$f":"ROUNDUP(G257/I566,0)","v":0},{"$f":"(1-((G257/$I566)-INT(G257/$I566)))*I566/1024","v":6.181640625},{"$error":"#DIV/0!"},0,0,0,0,0,{"$error":"#DIV/0!"},{"$f":"IF(AND(IF($N566<=$L566,TRUE,FALSE),IF($V566<=$R566,TRUE,FALSE),OR(W566=\"True\",W262=\"No\")),\"<-- fits project\",\"\")","v":{"$error":"#DIV/0!"}},null,null,null,null,null,null,null,5.4505283444333736,0,{"$f":"AG566/AG563","v":{"$error":"#DIV/0!"}},-256,{"$f":"IF(O566>1,I257/(O566-1),I257/O566)","v":{"$error":"#DIV/0!"}},{"$error":"#DIV/0!"}]
[null,null,1,"EOL FAS2040 Base + 1 x Expansion, 26x1TB",null,"DSA-N2B40-26AT","RAID DP",0,13926,26,0,400,256,{"$f":"I257/O567","v":{"$error":"#DIV/0!"}},{"$f":"ROUNDUP(G257/I567,0)","v":0},{"$f":"(1-((G257/$I567)-INT(G257/$I567)))*I567/1024","v":13.599609375},{"$error":"#DIV/0!"},0,0,0,0,0,{"$error":"#DIV/0!"},{"$f":"IF(AND(IF($N567<=$L567,TRUE,FALSE),IF($V567<=$R567,TRUE,FALSE),OR(W567=\"True\",W262=\"No\")),\"<-- fits project\",\"\")","v":{"$error":"#DIV/0!"}},null,null,null,null,null,null,null,9.8251153704966168,0,{"$f":"AG567/AG563","v":{"$error":"#DIV/0!"}},-256,{"$f":"IF(O567>1,I257/(O567-1),I257/O567)","v":{"$error":"#DIV/0!"}},{"$error":"#DIV/0!"}]
[null,null,2,"EOL FAS2040 Base + 2 x Expansion, 40x1TB",null,"DSA-N2B40-40AT","RAID DP",0,21522,40,0,400,256,{"$f":"I257/O568","v":{"$error":"#DIV/0!"}},{"$f":"ROUNDUP(G257/I568,0)","v":0},{"$f":"(1-((G257/$I568)-INT(G257/$I568)))*I568/1024","v":21.017578125},{"$error":"#DIV/0!"},0,0,0,0,0,{"$error":"#DIV/0!"},{"$f":"IF(AND(IF($N568<=$L568,TRUE,FALSE),IF($V568<=$R568,TRUE,FALSE),OR(W568=\"True\",W262=\"No\")),\"<-- fits project\",\"\")","v":{"$error":"#DIV/0!"}},null,null,null,null,null,null,null,14.199702396559863,0,{"$f":"AG568/AG563","v":{"$error":"#DIV/0!"}},-256,{"$f":"IF(O568>1,I257/(O568-1),I257/O568)","v":{"$error":"#DIV/0!"}},{"$error":"#DIV/0!"}]
[null,null,4,"EOL FAS2040 Base + 4 x Expansion; 68x1TB",null,"DSA-N2B40-68AT","RAID DP",0,36714,68,0,400,256,{"$f":"I257/O569","v":{"$error":"#DIV/0!"}},{"$f":"ROUNDUP(G257/I569,0)","v":0},{"$f":"(1-((G257/$I569)-INT(G257/$I569)))*I569/1024","v":35.853515625},{"$error":"#DIV/0!"},0,0,0,0,0,{"$error":"#DIV/0!"},{"$f":"IF(AND(IF($N569<=$L569,TRUE,FALSE),IF($V569<=$R569,TRUE,FALSE),OR(W569=\"True\",W262=\"No\")),\"<-- fits project\",\"\")","v":{"$error":"#DIV/0!"}},null,null,null,null,null,null,null,22.948876448686352,{"$f":"AF569*O569","v":0},{"$f":"AG569/AG563","v":{"$error":"#DIV/0!"}},-256,{"$f":"IF(O569>1,I257/(O569-1),I257/O569)","v":{"$error":"#DIV/0!"}},{"$error":"#DIV/0!"}]
[null,null,6,"EOL FAS2040 Base + 6 x Expansion; 96x1TB",null,"DSA-N2B40-96AT","RAID DP",0,51906,96,0,400,256,{"$f":"I257/O570","v":{"$error":"#DIV/0!"}},{"$f":"ROUNDUP(G257/I570,0)","v":0},{"$f":"(1-((G257/$I570)-INT(G257/$I570)))*I570/1024","v":50.689453125},{"$error":"#DIV/0!"},0,0,0,0,0,{"$error":"#DIV/0!"},{"$f":"IF(AND(IF($N570<=$L570,TRUE,FALSE),IF($V570<=$R570,TRUE,FALSE),OR(W570=\"True\",W262=\"No\")),\"<-- fits project\",\"\")","v":{"$error":"#DIV/0!"}},null,null,null,null,null,null,null,31.69805050081284,0,{"$f":"AG570/AG563","v":{"$error":"#DIV/0!"}},-256,{"$f":"IF(O570>1,I257/(O570-1),I257/O570)","v":{"$error":"#DIV/0!"}},{"$error":"#DIV/0!"}]
[null,null,null,"3th party (Project based/customized storage)",null,null,"RAID 6",0,16000,null,0,150,64,{"$f":"I257/O571","v":{"$error":"#DIV/0!"}},{"$f":"ROUNDUP(G257/I571,0)","v":0},{"$f":"(1-((G257/$I571)-INT(G257/$I571)))*I571/1024","v":15.625},"?",0,0,0,0,0,{"$error":"#DIV/0!"},{"$f":"IF(AND(IF($N571<=$L571,TRUE,FALSE),IF($V571<=$R571,TRUE,FALSE),OR(W571=\"True\",W262=\"No\")),\"<-- fits project\",\"\")","v":{"$error":"#DIV/0!"}},null,null,null,null,null,null,null,null,null,null,-64,{"$f":"IF(O571>1,I257/(O571-1),I257/O571)","v":{"$error":"#DIV/0!"}},{"$error":"#DIV/0!"}]
[]
[]
[null,null,null,null,null,"Net storage",{"$f":"OFFSET($G$216,LEFT(RIGHT(D575,2),1),0)","v":0},"bandwidth",{"$f":"OFFSET($O$216,LEFT(RIGHT(D575,2),1),0)","v":0},null,"offset",0]
[null,null,null,"VRM 2 / POOL1:",null,"iSCSI array used","None",null,null,null,null,"Qty:",{"$f":"IFERROR(VLOOKUP(G575,D580:O888,12,FALSE),0)","v":0},"Gross storage:",{"$f":"IFERROR(VLOOKUP(G575,D580:K888,8,FALSE),0)","v":0},"Net \nstorage:",{"$f":"IFERROR((VLOOKUP(G575,D580:Q888,6,FALSE)/1024)*VLOOKUP(G575,D580:Q888,12,FALSE),0)","v":0},null,null,null,null,null,null,null,null,null,{"$f":"NOT(OR(G575=\"N.A.\",G575=\"\"))","v":true},{"$f":"IF(OR($M$1741=1,$M$1741=3),AA575,FALSE)","v":true},null,null,null,null,null,null,null,null,{"$f":"IF(ISERROR(VLOOKUP(G575,AK579:AK888,1,FALSE)),TRUE,FALSE)","v":false}]
[null,null,null,null,null,null,null,null,null,null,null,null,null,null,null,null,null,"workstations:",0]
[null,null,null,null,null,null,null,null,null,null,null,null,null,null,null,null,null,"replay cameos active per workstation:",4]
[null,null,null,"iSCSI storage unit assessment              Provides an overview which one fits best",null,null,"RAID Level","Global spares","Net storage","Gross storage","Gross storage total","Available Bandwidth per array ","Available iSCSI sessions per array","Necessary bandwidth per array","Nr of arrays","Overcapacity last array","Pricepoint compared with FAS2020","Available iSCSI sessions total","Cameras / encoders iSCSI sessions","VRM iSCSI sessions","Replay iSCSI sessions","Total Worst case iSCSI sessions","N-1 capable",null,null,null,null,null,null,null,null,null,null,null,"Available iSCSI sessions N-1","Necessary bandwidth per array N-1"]
[null,null,null,null,null,null,null,null," [GiB]","[TB]","[TB]","[Mbps]",null,"[Mbps]","[Nr Arrays]","[TiB]","[%]"," [Nr Arrays x sessions]","[sessions]","[sessions]","[sessions]","[sessions]","No",null,null,null,null,null,null,null,null,"factor",null,null," [Nr Arrays -1 x sessions]","[Mbps]","None"]
[null,null,"Target Only mode","DIVAR IP 5000 1 x 2TB",null,null,"JBOD",0,1862,2,{"$f":"O580*J580","v":0},130,32,{"$f":"$I$574/O580","v":{"$error":"#DIV/0!"}},{"$f":"ROUNDUP(G574/I580,0)","v":0},{"$f":"(1-(($G$574/$I580)-INT($G$574/$I580)))*I580/1024","v":1.818359375},{"$f":"AH580","v":{"$error":"#DIV/0!"}},{"$f":"O580*M580","v":0},{"$f":"IF($O580>7,OFFSET($I$255,0,$L$574),OFFSET($I$248,O580-1,$L$574,1,1))","v":0},{"$f":"O580*1*MAX($N$1528,1)","v":0},{"$f":"$S$259*MIN(O580,$S$260)","v":0},{"$f":"SUM(S580,T580,U580)","v":0},{"$f":"IF(AND(IF($AJ580<=$L580,TRUE,FALSE),IF($V580<=$AI580,TRUE,FALSE)),\"True\",\"\")","v":{"$error":"#DIV/0!"}},{"$f":"IF(AND(IF($N580<=$L580,TRUE,FALSE),IF($V580<=$R580,TRUE,FALSE),OR(W580=\"True\",$W$579=\"No\")),\"<-- fits project\",\"\")","v":{"$error":"#DIV/0!"}},null,null,null,null,null,null,null,null,{"$f":"AF580*O580","v":0},{"$f":"AG580/$AG$563","v":{"$error":"#DIV/0!"}},{"$f":"(O580-1)*M580","v":-32},{"$f":"IF(O580>1,$I$574/(O580-1),$I$574/O580)","v":{"$error":"#DIV/0!"}},{"$f":"IF(X580=\"<-- fits project\",D580,\"\")","v":{"$error":"#DIV/0!"}}]
[null,null,null,"DIVAR IP 5000 2 x 2TB",null,null,"JBOD",0,{"$f":"IF(G581=\"JBOD\",((2)*1862),((1)*1862))","v":3724},4,0,{"$f":"IF(G581=\"JBOD\",220,90)","v":220},32,{"$error":"#DIV/0!"},{"$f":"ROUNDUP(G574/I581,0)","v":0},3.63671875,{"$error":"#DIV/0!"},0,0,0,0,0,{"$error":"#DIV/0!"},{"$error":"#DIV/0!"},null,null,null,null,null,null,null,null,0,{"$error":"#DIV/0!"},-32,{"$error":"#DIV/0!"},{"$error":"#DIV/0!"}]
[null,null,null,"DIVAR IP 5000 4 x 2TB",null,null,"JBOD",0,{"$f":"IF(G582=\"JBOD\",((4)*1862),((2)*1864))","v":7448},8,0,{"$f":"IF(G582=\"JBOD\",310,200)","v":310},32,{"$error":"#DIV/0!"},{"$f":"ROUNDUP(G574/I582,0)","v":0},7.2734375,{"$error":"#DIV/0!"},0,0,0,0,0,{"$error":"#DIV/0!"},{"$error":"#DIV/0!"},null,null,null,null,null,null,null,null,0,{"$error":"#DIV/0!"},-32,{"$error":"#DIV/0!"},{"$error":"#DIV/0!"}]
[null,null,null,"DIVAR IP 5000 1 x 4TB",null,null,"JBOD",0,3724,4,0,130,32,{"$error":"#DIV/0!"},{"$f":"ROUNDUP(G574/I583,0)","v":0},3.63671875,{"$error":"#DIV/0!"},0,0,0,0,0,{"$error":"#DIV/0!"},{"$error":"#DIV/0!"},null,null,null,null,null,null,null,null,0,{"$error":"#DIV/0!"},-32,{"$error":"#DIV/0!"},{"$error":"#DIV/0!"}]
[null,null,null,"DIVAR IP 5000 2 x 4TB",null,null,"JBOD",0,{"$f":"IF(G584=\"JBOD\",((2)*3724),((1)*3724))","v":7448},8,0,{"$f":"IF(G584=\"JBOD\",220,90)","v":220},32,{"$error":"#DIV/0!"},{"$f":"ROUNDUP(G574/I584,0)","v":0},7.2734375,{"$error":"#DIV/0!"},0,0,0,0,0,{"$error":"#DIV/0!"},{"$error":"#DIV/0!"},null,null,null,null,null,null,null,null,0,{"$error":"#DIV/0!"},-32,{"$error":"#DIV/0!"},{"$error":"#DIV/0!"}]
[null,null,null,"DIVAR IP 5000 4 x 4TB",null,null,"JBOD",0,{"$f":"IF(G585=\"JBOD\",((4)*3724),((2)*3724))","v":14896},16,0,{"$f":"IF(G585=\"JBOD\",310,200)","v":310},32,{"$error":"#DIV/0!"},{"$f":"ROUNDUP(G574/I585,0)","v":0},14.546875,{"$error":"#DIV/0!"},0,0,0,0,0,{"$error":"#DIV/0!"},{"$error":"#DIV/0!"},null,null,null,null,null,null,null,null,0,{"$error":"#DIV/0!"},-32,{"$error":"#DIV/0!"},{"$error":"#DIV/0!"}]
["False","Full BVMS Management systems","2TB","DIVAR IP 3000 2x2TB",null,"DIP-3042-2HD","JBOD",0,{"$f":"((2)*1864)-100","v":3628},4,0,100,32,{"$f":"I574/O586","v":{"$error":"#DIV/0!"}},{"$f":"ROUNDUP(G574/I586,0)","v":0},{"$f":"(1-((G574/$I586)-INT(G574/$I586)))*I586/1024","v":3.54296875},{"$f":"AH586","v":{"$error":"#DIV/0!"}},0,{"$f":"IF($O586>7,OFFSET($I$255,0,$L$574),OFFSET($I$248,O586-1,$L$574,1,1))/MIN(O586,2)","v":{"$error":"#DIV/0!"}},0,{"$f":"$S$259*MIN(O586,$S$260)","v":0},{"$f":"SUM(S586)","v":{"$error":"#DIV/0!"}},false,{"$f":"IF(AND(IF($N586<=$L586,TRUE,FALSE),IF($V586<=$R586,TRUE,FALSE),OR(W586=\"True\",$W$579=\"No\"),IF($A$586=\"False\",IF(O586=1,TRUE,FALSE),TRUE)),\"<-- fits project\",\"\")","v":{"$error":"#DIV/0!"}},null,null,null,null,null,null,null,0.57999999999999996,0,{"$f":"AG586/AG880","v":{"$error":"#DIV/0!"}},-32,{"$f":"IF(O586>1,I574/(O586-1),I574/O586)","v":{"$error":"#DIV/0!"}},{"$error":"#DIV/0!"}]
[null,null,null,"DIVAR IP 3000 4x2TB",null,"DIP-3042-4HD","JBOD",0,{"$f":"((4)*1864)-100","v":7356},8,0,120,32,{"$f":"I574/O587","v":{"$error":"#DIV/0!"}},{"$f":"ROUNDUP(G574/I587,0)","v":0},{"$f":"(1-((G574/$I587)-INT(G574/$I587)))*I587/1024","v":7.18359375},{"$f":"AH587","v":{"$error":"#DIV/0!"}},0,{"$f":"IF($O587>7,OFFSET($I$255,0,$L$574),OFFSET($I$248,O587-1,$L$574,1,1))/MIN(O587,2)","v":{"$error":"#DIV/0!"}},0,{"$f":"$S$259*MIN(O587,$S$260)","v":0},{"$error":"#DIV/0!"},false,{"$error":"#DIV/0!"},null,null,null,null,null,null,null,0.74,0,{"$f":"AG587/AG880","v":{"$error":"#DIV/0!"}},-32,{"$f":"IF(O587>1,I574/(O587-1),I574/O587)","v":{"$error":"#DIV/0!"}},{"$error":"#DIV/0!"}]
[null,null,null,"DIVAR IP 3000 4x2TB + 1x DIVAR IP 2000 2x2TB",null,null,"JBOD",0,{"$f":"(((4)*1864)-100)+(((2)*1864)-100)","v":10984},12,0,220,48,{"$f":"I574/O588","v":{"$error":"#DIV/0!"}},{"$f":"ROUNDUP(G574/I588,0)","v":0},{"$f":"(1-((G574/$I588)-INT(G574/$I588)))*I588/1024","v":10.7265625},{"$f":"AH588","v":{"$error":"#DIV/0!"}},0,{"$f":"IF($O588>7,OFFSET($I$255,0,$L$574),OFFSET($I$248,O588-1,$L$574,1,1))","v":0},0,{"$f":"$S$259*MIN(O588,$S$260)","v":0},0,{"$f":"IF(AND(IF($AJ588<=$L588,TRUE,FALSE),IF($V588<=$AI588,TRUE,FALSE)),\"True\",\"\")","v":{"$error":"#DIV/0!"}},{"$error":"#DIV/0!"},null,null,null,null,null,null,null,1.32,0,{"$f":"AG588/AG880","v":{"$error":"#DIV/0!"}},-48,{"$f":"IF(O588>1,I574/(O588-1),I574/O588)","v":{"$error":"#DIV/0!"}},{"$error":"#DIV/0!"}]
["Allow >1 Divar IP 3000/7000 systems:",null,null,"DIVAR IP 3000 4x2TB + 1x DIVAR IP 2000 4x2TB",null,null,"JBOD",0,{"$f":"2*(((4)*1864)-100)","v":14712},16,0,220,48,{"$f":"I574/O589","v":{"$error":"#DIV/0!"}},{"$f":"ROUNDUP(G574/I589,0)","v":0},{"$f":"(1-((G574/$I589)-INT(G574/$I589)))*I589/1024","v":14.3671875},{"$f":"AH589","v":{"$error":"#DIV/0!"}},0,{"$f":"IF($O589>7,OFFSET($I$255,0,$L$574),OFFSET($I$248,O589-1,$L$574,1,1))","v":0},0,{"$f":"$S$259*MIN(O589,$S$260)","v":0},0,{"$f":"IF(AND(IF($AJ589<=$L589,TRUE,FALSE),IF($V589<=$AI589,TRUE,FALSE)),\"True\",\"\")","v":{"$error":"#DIV/0!"}},{"$error":"#DIV/0!"},null,null,null,null,null,null,null,1.48,0,{"$f":"AG589/AG880","v":{"$error":"#DIV/0!"}},-48,{"$f":"IF(O589>1,I574/(O589-1),I574/O589)","v":{"$error":"#DIV/0!"}},{"$error":"#DIV/0!"}]
[null,null,"3TB","DIVAR IP 3000 2x3TB",null,"DIP-3043-2HD","JBOD",0,{"$f":"((2-H590)*2794)-100","v":5488},6,0,100,32,{"$f":"I574/O590","v":{"$error":"#DIV/0!"}},{"$f":"ROUNDUP(G574/I590,0)","v":0},{"$f":"(1-((G574/$I590)-INT(G574/$I590)))*I590/1024","v":5.359375},{"$error":"#DIV/0!"},0,{"$f":"IF($O590>7,OFFSET($I$255,0,$L$574),OFFSET($I$248,O590-1,$L$574,1,1))/MIN(O590,2)","v":{"$error":"#DIV/0!"}},0,0,{"$f":"SUM(S590)","v":{"$error":"#DIV/0!"}},false,{"$error":"#DIV/0!"},null,null,null,null,null,null,null,{"$f":"0.77022916775919*1.3","v":1.001297918086947},0,{"$f":"AG590/AG880","v":{"$error":"#DIV/0!"}},-32,{"$f":"IF(O590>1,I574/(O590-1),I574/O590)","v":{"$error":"#DIV/0!"}},{"$error":"#DIV/0!"}]
[null,null,null,"DIVAR IP 3000 4x3TB",null,"DIP-3043-4HD","JBOD",0,{"$f":"((4-H591)*2794)-100","v":11076},12,0,120,32,{"$f":"I574/O591","v":{"$error":"#DIV/0!"}},{"$f":"ROUNDUP(G574/I591,0)","v":0},{"$f":"(1-((G574/$I591)-INT(G574/$I591)))*I591/1024","v":10.81640625},{"$error":"#DIV/0!"},0,{"$f":"IF($O591>7,OFFSET($I$255,0,$L$574),OFFSET($I$248,O591-1,$L$574,1,1))/MIN(O591,2)","v":{"$error":"#DIV/0!"}},0,0,{"$f":"SUM(S591)","v":{"$error":"#DIV/0!"}},false,{"$error":"#DIV/0!"},null,null,null,null,null,null,null,{"$f":"0.917719859457759*1.3","v":1.1930358172950868},0,{"$f":"AG591/AG880","v":{"$error":"#DIV/0!"}},-32,{"$f":"IF(O591>1,I574/(O591-1),I574/O591)","v":{"$error":"#DIV/0!"}},{"$error":"#DIV/0!"}]
[null,null,null,"DIVAR IP 3000 4x3TB + 1x DIVAR IP 2000 2x3TB",null,null,"JBOD",0,{"$f":"(((4)*2794)-100)+(((2)*2794)-100)","v":16564},18,0,220,48,{"$f":"I574/O592","v":{"$error":"#DIV/0!"}},{"$f":"ROUNDUP(G574/I592,0)","v":0},{"$f":"(1-((G574/$I592)-INT(G574/$I592)))*I592/1024","v":16.17578125},{"$error":"#DIV/0!"},0,{"$f":"IF($O592>7,OFFSET($I$255,0,$L$574),OFFSET($I$248,O592-1,$L$574,1,1))","v":0},0,0,{"$f":"SUM(S592)","v":0},{"$f":"IF(AND(IF($AJ592<=$L592,TRUE,FALSE),IF($V592<=$AI592,TRUE,FALSE)),\"True\",\"\")","v":{"$error":"#DIV/0!"}},{"$error":"#DIV/0!"},null,null,null,null,null,null,null,{"$f":"1.47490691698568*1.3","v":1.9173789920813842},0,{"$f":"AG592/AG880","v":{"$error":"#DIV/0!"}},-48,{"$f":"IF(O592>1,I574/(O592-1),I574/O592)","v":{"$error":"#DIV/0!"}},{"$error":"#DIV/0!"}]
[null,null,null,"DIVAR IP 3000 4x3TB + 1x DIVAR IP 2000 4x3TB",null,null,"JBOD",0,{"$f":"2*(((4)*2794)-100)","v":22152},24,0,220,48,{"$f":"I574/O593","v":{"$error":"#DIV/0!"}},{"$f":"ROUNDUP(G574/I593,0)","v":0},{"$f":"(1-((G574/$I593)-INT(G574/$I593)))*I593/1024","v":21.6328125},{"$error":"#DIV/0!"},0,{"$f":"IF($O593>7,OFFSET($I$255,0,$L$574),OFFSET($I$248,O593-1,$L$574,1,1))","v":0},0,0,{"$f":"SUM(S593)","v":0},{"$f":"IF(AND(IF($AJ593<=$L593,TRUE,FALSE),IF($V593<=$AI593,TRUE,FALSE)),\"True\",\"\")","v":{"$error":"#DIV/0!"}},{"$error":"#DIV/0!"},null,null,null,null,null,null,null,{"$f":"1.68794902721695*1.3","v":2.1943337353820351},0,{"$f":"AG593/$AG$880","v":{"$error":"#DIV/0!"}},-48,{"$f":"IF(O593>1,I574/(O593-1),I574/O593)","v":{"$error":"#DIV/0!"}},{"$error":"#DIV/0!"}]
[null,null,null,"DIVAR IP 7000 R2 4X3TB",null,null,"RAID 5",0,8375,12,0,475,128,{"$f":"$I$574/O594","v":{"$error":"#DIV/0!"}},{"$f":"ROUNDUP($G$574/I594,0)","v":0},{"$f":"(1-(($G$574/$I594)-INT($G$574/$I594)))*I594/1024","v":8.1787109375},{"$error":"#DIV/0!"},0,{"$f":"IF($O594>7,OFFSET($I$255,0,$L$574),OFFSET($I$248,O594-1,$L$574,1,1))/MIN(O594,2)","v":{"$error":"#DIV/0!"}},0,0,{"$f":"SUM(S594)","v":{"$error":"#DIV/0!"}},false,{"$error":"#DIV/0!"},null,null,null,null,null,null,null,null,0,{"$error":"#DIV/0!"},-128,{"$f":"IF(O594>1,$I$574/(O594-1),$I$574/O594)","v":{"$error":"#DIV/0!"}},{"$error":"#DIV/0!"}]
[null,null,null,"DIVAR IP 7000 R2 8X3TB",null,null,"RAID 5",0,{"$f":"IF(G595=\"RAID 5\",(7-H595)*2793,(6-H595)*2793)","v":19551},24,0,475,128,{"$error":"#DIV/0!"},0,19.0927734375,{"$error":"#DIV/0!"},0,{"$error":"#DIV/0!"},0,0,{"$error":"#DIV/0!"},false,{"$error":"#DIV/0!"},null,null,null,null,null,null,null,null,0,{"$error":"#DIV/0!"},-128,{"$error":"#DIV/0!"},{"$error":"#DIV/0!"},null,null,null,null,null,null,{"$f":"IF(G595=\"RAID 6\",0,0)","v":0},{"$f":"IF(G595=\"RAID 6\",0,1)","v":1}]
[null,null,null,"DIVAR IP 7000 R2 16X3TB",null,null,"RAID 5",0,{"$f":"IF(G596=\"RAID 5\",(15-H596)*2793,(14-H596)*2793)","v":41895},48,0,475,128,{"$error":"#DIV/0!"},0,40.9130859375,{"$error":"#DIV/0!"},0,{"$error":"#DIV/0!"},0,0,{"$error":"#DIV/0!"},false,{"$error":"#DIV/0!"},null,null,null,null,null,null,null,null,0,{"$error":"#DIV/0!"},-128,{"$error":"#DIV/0!"},{"$f":"IF(X596=\"<-- fits project\",D596,\"\")","v":{"$error":"#DIV/0!"}},null,null,null,null,null,null,0,1]
[null,null,"6TB","DIVAR IP 7000 R2 8X6TB",null,null,"RAID 5",0,{"$f":"IF(G597=\"RAID 5\",(7-H597)*5586,(6-H597)*5586)","v":39102},{"$f":"8*6","v":48},0,475,128,{"$error":"#DIV/0!"},0,38.185546875,{"$error":"#DIV/0!"},0,{"$error":"#DIV/0!"},0,0,{"$error":"#DIV/0!"},false,{"$error":"#DIV/0!"},null,null,null,null,null,null,null,null,0,{"$error":"#DIV/0!"},-128,{"$error":"#DIV/0!"},{"$error":"#DIV/0!"},null,null,null,null,null,null,0,1]
[null,null,null,"DIVAR IP 7000 R2 16X6TB",null,null,"RAID 5",0,{"$f":"IF(G598=\"RAID 5\",(15-H598)*5586,(14-H598)*5586)","v":83790},{"$f":"16*6","v":96},0,475,128,{"$error":"#DIV/0!"},0,81.826171875,{"$error":"#DIV/0!"},0,{"$error":"#DIV/0!"},0,0,{"$error":"#DIV/0!"},false,{"$error":"#DIV/0!"},null,null,null,null,null,null,null,null,0,{"$error":"#DIV/0!"},-128,{"$error":"#DIV/0!"},{"$error":"#DIV/0!"},null,null,null,null,null,null,0,1]
[null,null,"8TB","DIVAR IP 7000 R2 8X8TB",null,null,"RAID 5",0,{"$f":"IF(G599=\"RAID 5\",(7-H599)*7448,(6-H599)*7448)","v":52136},{"$f":"8*8","v":64},0,475,128,{"$error":"#DIV/0!"},0,50.9140625,{"$error":"#DIV/0!"},0,{"$error":"#DIV/0!"},0,0,{"$error":"#DIV/0!"},false,{"$error":"#DIV/0!"},null,null,null,null,null,null,null,null,0,{"$error":"#DIV/0!"},-128,{"$error":"#DIV/0!"},{"$error":"#DIV/0!"},null,null,null,null,null,null,0,1]
[null,null,null,"DIVAR IP 7000 R2 16X8TB",null,null,"RAID 5",0,{"$f":"IF(G600=\"RAID 5\",(15-H600)*7448,(14-H600)*7448)","v":111720},{"$f":"16*8","v":128},0,475,128,{"$error":"#DIV/0!"},0,109.1015625,{"$error":"#DIV/0!"},0,{"$error":"#DIV/0!"},0,0,{"$error":"#DIV/0!"},false,{"$error":"#DIV/0!"},null,null,null,null,null,null,null,null,0,{"$error":"#DIV/0!"},-128,{"$error":"#DIV/0!"},{"$error":"#DIV/0!"},null,null,null,null,null,null,0,1]
[null,null,"3TB","DIVAR IP 7000 R2 8X3TB + 1x DIVAR IP 6000 R2 8X3TB",null,null,"RAID 5",0,{"$f":"IF(G601=\"RAID 5\",2*(((7-H601)*2793)),2*(((6-H601)*2793)))","v":39102},48,0,{"$f":"475+550","v":1025},{"$f":"128+128","v":256},{"$error":"#DIV/0!"},0,38.185546875,{"$error":"#DIV/0!"},0,{"$f":"IF($O601>7,OFFSET($I$255,0,$L$574),OFFSET($I$248,O601-1,$L$574,1,1))","v":0},0,0,0,{"$f":"IF(AND(IF($AJ601<=$L601,TRUE,FALSE),IF($V601<=$AI601,TRUE,FALSE)),\"True\",\"\")","v":{"$error":"#DIV/0!"}},{"$error":"#DIV/0!"},null,null,null,null,null,null,null,null,0,{"$error":"#DIV/0!"},-256,{"$error":"#DIV/0!"},{"$error":"#DIV/0!"}]
[null,null,null,"DIVAR IP 7000 R2 8X3TB + 2x DIVAR IP 6000 R2 8X3TB",null,null,"RAID 5",0,{"$f":"IF(G602=\"RAID 5\",3*(((7-H602)*2793)),3*(((6-H602)*2793)))","v":58653},{"$f":"24*3","v":72},0,{"$f":"475+(2*550)","v":1575},{"$f":"128+(2*128)","v":384},{"$error":"#DIV/0!"},0,57.2783203125,{"$error":"#DIV/0!"},0,0,0,0,0,{"$error":"#DIV/0!"},{"$error":"#DIV/0!"},null,null,null,null,null,null,null,null,0,{"$error":"#DIV/0!"},-384,{"$error":"#DIV/0!"},{"$error":"#DIV/0!"}]
[null,null,null,"DIVAR IP 7000 R2 8X3TB + 3x DIVAR IP 6000 R2 8X3TB",null,null,"RAID 5",0,{"$f":"IF(G603=\"RAID 5\",4*(((7-H603)*2793)),4*(((6-H603)*2793)))","v":78204},{"$f":"32*3","v":96},0,{"$f":"475+(3*550)","v":2125},{"$f":"128+(3*128)","v":512},{"$error":"#DIV/0!"},0,76.37109375,{"$error":"#DIV/0!"},0,0,0,0,0,{"$error":"#DIV/0!"},{"$error":"#DIV/0!"},null,null,null,null,null,null,null,null,0,{"$error":"#DIV/0!"},-512,{"$error":"#DIV/0!"},{"$error":"#DIV/0!"}]
[null,null,null,"DIVAR IP 7000 R2 8X3TB + 4x DIVAR IP 6000 R2 8X3TB",null,null,"RAID 5",0,{"$f":"IF(G604=\"RAID 5\",5*(((7-H604)*2793)),5*(((6-H604)*2793)))","v":97755},{"$f":"40*3","v":120},0,{"$f":"475+(4*550)","v":2675},{"$f":"128+(4*128)","v":640},{"$error":"#DIV/0!"},0,95.4638671875,{"$error":"#DIV/0!"},0,0,0,0,0,{"$error":"#DIV/0!"},{"$error":"#DIV/0!"},null,null,null,null,null,null,null,null,0,{"$error":"#DIV/0!"},-640,{"$error":"#DIV/0!"},{"$error":"#DIV/0!"}]
[null,null,null,"DIVAR IP 7000 R2 8X3TB + 1x DIVAR IP 6000 R2 3U 16x3TB",null,null,"RAID 5",0,{"$f":"IF(G605=\"RAID 5\",(((7-H605)*2792))+(1*(((15-H605)*2792))),(((6-H605)*2792))+(1*(((14-H605)*2792))))","v":61424},{"$f":"(16+8)*3","v":72},0,{"$f":"475+(1*550)","v":1025},{"$f":"128+(2*128)","v":384},{"$error":"#DIV/0!"},0,59.984375,{"$error":"#DIV/0!"},0,0,0,0,0,{"$error":"#DIV/0!"},{"$error":"#DIV/0!"},null,null,null,null,null,null,null,null,0,{"$error":"#DIV/0!"},-384,{"$error":"#DIV/0!"},{"$error":"#DIV/0!"}]
[null,null,null,"DIVAR IP 7000 R2 8X3TB + 2x DIVAR IP 6000 R2 3U 16x3TB",null,null,"RAID 5",0,{"$f":"IF(G606=\"RAID 5\",(((7-H606)*2792))+(2*(((15-H606)*2792))),(((6-H606)*2792))+(2*(((14-H606)*2792))))","v":103304},{"$f":"(2*16+8)*3","v":120},0,{"$f":"475+(2*550)","v":1575},{"$f":"128+(2*128)","v":384},{"$error":"#DIV/0!"},0,100.8828125,{"$error":"#DIV/0!"},0,0,0,0,0,{"$error":"#DIV/0!"},{"$error":"#DIV/0!"},null,null,null,null,null,null,null,null,0,{"$error":"#DIV/0!"},-384,{"$error":"#DIV/0!"},{"$error":"#DIV/0!"}]
[null,null,null,"DIVAR IP 7000 R2 8X3TB + 3x DIVAR IP 6000 R2 3U 16x3TB",null,null,"RAID 5",0,{"$f":"IF(G607=\"RAID 5\",(((7-H607)*2792))+(3*(((15-H607)*2792))),(((6-H607)*2792))+(3*(((14-H607)*2792))))","v":145184},{"$f":"(3*16+8)*3","v":168},0,{"$f":"475+(3*550)","v":2125},{"$f":"128+(2*128)","v":384},{"$error":"#DIV/0!"},0,141.78125,{"$error":"#DIV/0!"},0,0,0,0,0,{"$error":"#DIV/0!"},{"$error":"#DIV/0!"},null,null,null,null,null,null,null,null,0,{"$error":"#DIV/0!"},-384,{"$error":"#DIV/0!"},{"$error":"#DIV/0!"}]
[null,null,null,"DIVAR IP 7000 R2 8X3TB + 4x DIVAR IP 6000 R2 3U 16x3TB",null,null,"RAID 5",0,{"$f":"IF(G608=\"RAID 5\",(((7-H608)*2792))+(4*(((15-H608)*2792))),(((6-H608)*2792))+(4*(((14-H608)*2792))))","v":187064},{"$f":"(4*16+8)*3","v":216},0,{"$f":"475+(4*550)","v":2675},{"$f":"128+(2*128)","v":384},{"$error":"#DIV/0!"},0,182.6796875,{"$error":"#DIV/0!"},0,0,0,0,0,{"$error":"#DIV/0!"},{"$error":"#DIV/0!"},null,null,null,null,null,null,null,null,0,{"$error":"#DIV/0!"},-384,{"$error":"#DIV/0!"},{"$error":"#DIV/0!"}]
[null,null,null,"DIVAR IP 7000 R2 4X4TB",null,null,"RAID 5",0,11170,16,0,475,128,{"$error":"#DIV/0!"},0,10.908203125,{"$error":"#DIV/0!"},0,{"$f":"IF($O609>7,OFFSET($I$255,0,$L$574),OFFSET($I$248,O609-1,$L$574,1,1))/MIN(O609,2)","v":{"$error":"#DIV/0!"}},0,0,{"$error":"#DIV/0!"},false,{"$error":"#DIV/0!"},null,null,null,null,null,null,null,null,0,{"$error":"#DIV/0!"},-128,{"$error":"#DIV/0!"},{"$error":"#DIV/0!"}]
[null,null,null,"DIVAR IP 7000 R2 8X4TB",null,null,"RAID 5",0,{"$f":"IF(G610=\"RAID 5\",(7-H610)*3723,(6-H610)*3723)","v":26061},32,0,475,128,{"$error":"#DIV/0!"},0,25.4501953125,{"$error":"#DIV/0!"},0,{"$f":"IF($O610>7,OFFSET($I$255,0,$L$574),OFFSET($I$248,O610-1,$L$574,1,1))/MIN(O610,2)","v":{"$error":"#DIV/0!"}},0,0,{"$error":"#DIV/0!"},false,{"$error":"#DIV/0!"},null,null,null,null,null,null,null,null,0,{"$error":"#DIV/0!"},-128,{"$error":"#DIV/0!"},{"$error":"#DIV/0!"},null,null,null,null,null,null,{"$f":"IF(G610=\"RAID 6\",0,0)","v":0},{"$f":"IF(G610=\"RAID 6\",0,1)","v":1}]
[null,null,null,"DIVAR IP 7000 R2 16X4TB",null,null,"RAID 5",0,{"$f":"IF(G611=\"RAID 5\",(15-H611)*3723,(14-H611)*3723)","v":55845},64,0,475,128,{"$error":"#DIV/0!"},0,54.5361328125,{"$error":"#DIV/0!"},0,{"$f":"IF($O611>7,OFFSET($I$255,0,$L$574),OFFSET($I$248,O611-1,$L$574,1,1))/MIN(O611,2)","v":{"$error":"#DIV/0!"}},0,0,{"$error":"#DIV/0!"},false,{"$error":"#DIV/0!"},null,null,null,null,null,null,null,null,0,{"$error":"#DIV/0!"},-128,{"$error":"#DIV/0!"},{"$error":"#DIV/0!"},null,null,null,null,null,null,{"$f":"IF(G611=\"RAID 6\",0,0)","v":0},{"$f":"IF(G611=\"RAID 6\",0,1)","v":1}]
[null,null,"4TB","DIVAR IP 7000 R2 8X4TB + 1x DIVAR IP 6000 R2 8X4TB",null,null,"RAID 5",0,{"$f":"IF(G612=\"RAID 5\",2*((7-H612)*3723),2*((6-H612)*3723))","v":52122},{"$f":"16*4","v":64},0,{"$f":"475+550","v":1025},{"$f":"128+128","v":256},{"$error":"#DIV/0!"},0,50.900390625,{"$error":"#DIV/0!"},0,{"$f":"IF($O612>7,OFFSET($I$255,0,$L$574),OFFSET($I$248,O612-1,$L$574,1,1))","v":0},0,0,0,{"$f":"IF(AND(IF($AJ612<=$L612,TRUE,FALSE),IF($V612<=$AI612,TRUE,FALSE)),\"True\",\"\")","v":{"$error":"#DIV/0!"}},{"$error":"#DIV/0!"},null,null,null,null,null,null,null,null,0,{"$error":"#DIV/0!"},-256,{"$error":"#DIV/0!"},{"$error":"#DIV/0!"}]
[null,null,null,"DIVAR IP 7000 R2 8X4TB + 2x DIVAR IP 6000 R2 8X4TB",null,null,"RAID 5",0,{"$f":"IF(G613=\"RAID 5\",3*((7-H613)*3723),3*((6-H613)*3723))","v":78183},{"$f":"24*4","v":96},0,{"$f":"475+(2*550)","v":1575},{"$f":"128+(2*128)","v":384},{"$error":"#DIV/0!"},0,76.3505859375,{"$error":"#DIV/0!"},0,0,0,0,0,{"$error":"#DIV/0!"},{"$error":"#DIV/0!"},null,null,null,null,null,null,null,null,0,{"$error":"#DIV/0!"},-384,{"$error":"#DIV/0!"},{"$error":"#DIV/0!"}]
[null,null,null,"DIVAR IP 7000 R2 8X4TB + 3x DIVAR IP 6000 R2 8X4TB",null,null,"RAID 5",0,{"$f":"IF(G614=\"RAID 5\",4*((7-H614)*3723),4*((6-H614)*3723))","v":104244},{"$f":"32*4","v":128},0,{"$f":"475+(3*550)","v":2125},{"$f":"128+(3*128)","v":512},{"$error":"#DIV/0!"},0,101.80078125,{"$error":"#DIV/0!"},0,0,0,0,0,{"$error":"#DIV/0!"},{"$error":"#DIV/0!"},null,null,null,null,null,null,null,null,0,{"$error":"#DIV/0!"},-512,{"$error":"#DIV/0!"},{"$error":"#DIV/0!"}]
[null,null,null,"DIVAR IP 7000 R2 8X4TB + 4x DIVAR IP 6000 R2 8X4TB",null,null,"RAID 5",0,{"$f":"IF(G615=\"RAID 5\",5*((7-H615)*3723),5*((6-H615)*3723))","v":130305},{"$f":"40*4","v":160},0,{"$f":"475+(4*550)","v":2675},{"$f":"128+(4*128)","v":640},{"$error":"#DIV/0!"},0,127.2509765625,{"$error":"#DIV/0!"},0,0,0,0,0,{"$error":"#DIV/0!"},{"$error":"#DIV/0!"},null,null,null,null,null,null,null,null,0,{"$error":"#DIV/0!"},-640,{"$error":"#DIV/0!"},{"$error":"#DIV/0!"}]
[null,null,null,"DIVAR IP 7000 R2 8X4TB + 1x DIVAR IP 6000 R2 3U 16x4TB",null,null,"RAID 6",1,{"$f":"IF(G616=\"RAID 5\",(((7-H616)*3723))+(1*(((15-H616)*3723))),(((6-H616)*3723))+(1*(((15-H616)*3723))))","v":70737},{"$f":"(16+8)*4","v":96},0,{"$f":"475+(1*550)","v":1025},{"$f":"128+(1*128)","v":256},{"$error":"#DIV/0!"},0,69.0791015625,{"$error":"#DIV/0!"},0,0,0,0,0,{"$error":"#DIV/0!"},{"$error":"#DIV/0!"},null,null,null,null,null,null,null,null,0,{"$error":"#DIV/0!"},-256,{"$error":"#DIV/0!"},{"$error":"#DIV/0!"}]
[null,null,null,"DIVAR IP 7000 R2 8X4TB + 2x DIVAR IP 6000 R2 3U 16x4TB",null,null,"RAID 5",0,{"$f":"IF(G617=\"RAID 5\",(((7-H617)*3723))+(2*(((15-H617)*3723))),(((6-H617)*3723))+(2*(((15-H617)*3723))))","v":137751},{"$f":"(2*16+8)*4","v":160},0,{"$f":"475+(2*550)","v":1575},{"$f":"128+(2*128)","v":384},{"$error":"#DIV/0!"},0,134.5224609375,{"$error":"#DIV/0!"},0,0,0,0,0,{"$error":"#DIV/0!"},{"$error":"#DIV/0!"},null,null,null,null,null,null,null,null,0,{"$error":"#DIV/0!"},-384,{"$error":"#DIV/0!"},{"$error":"#DIV/0!"}]
[null,null,null,"DIVAR IP 7000 R2 8X4TB + 3x DIVAR IP 6000 R2 3U 16x4TB",null,null,"RAID 5",0,{"$f":"IF(G618=\"RAID 5\",(((7-H618)*3723))+(3*(((15-H618)*3723))),(((6-H618)*3723))+(3*(((15-H618)*3723))))","v":193596},{"$f":"(3*16+8)*4","v":224},0,{"$f":"475+(3*550)","v":2125},{"$f":"128+(3*128)","v":512},{"$error":"#DIV/0!"},0,189.05859375,{"$error":"#DIV/0!"},0,0,0,0,0,{"$error":"#DIV/0!"},{"$f":"IF(AND(IF($N618<=$L618,TRUE,FALSE),IF($V618<=$R618,TRUE,FALSE),OR(W618=\"True\",$W$579=\"No\"),IF($A$586=\"False\",IF(O618=1,TRUE,FALSE),TRUE)),\"<-- fits project\",\"\")","v":{"$error":"#DIV/0!"}},null,null,null,null,null,null,null,null,0,{"$error":"#DIV/0!"},-512,{"$error":"#DIV/0!"},{"$error":"#DIV/0!"}]
[null,null,null,"DIVAR IP 7000 R2 8X4TB + 4x DIVAR IP 6000 R2 3U 16x4TB",null,null,"RAID 5",0,{"$f":"IF(G619=\"RAID 5\",(((7-H619)*3723))+(4*(((15-H619)*3723))),(((6-H619)*3723))+(4*(((15-H619)*3723))))","v":249441},{"$f":"(4*16+8)*4","v":288},0,{"$f":"475+(4*550)","v":2675},{"$f":"128+(4*128)","v":640},{"$error":"#DIV/0!"},0,243.5947265625,{"$error":"#DIV/0!"},0,0,0,0,0,{"$error":"#DIV/0!"},{"$error":"#DIV/0!"},null,null,null,null,null,null,null,null,0,{"$error":"#DIV/0!"},-640,{"$error":"#DIV/0!"},{"$error":"#DIV/0!"}]
[null,null,null,"DIVAR IP 7000 R2 16X3TB + 1x DIVAR IP 6000 R2 8x4TB",null,null,"RAID 5",0,{"$f":"IF(G620=\"RAID 5\",(((15-H620)*2792))+(1*(((7-H620)*3723))),(((14-H620)*2792))+(1*(((6-H620)*3723))))","v":67941},{"$f":"(16*3)+(1*(8*4))","v":80},0,{"$f":"475+(1*550)","v":1025},{"$f":"128+(1*128)","v":256},{"$error":"#DIV/0!"},0,66.3486328125,{"$error":"#DIV/0!"},0,0,0,0,0,{"$error":"#DIV/0!"},{"$error":"#DIV/0!"},null,null,null,null,null,null,null,null,{"$f":"AF620*O620","v":0},{"$f":"AG620/$AG$563","v":{"$error":"#DIV/0!"}},-256,{"$error":"#DIV/0!"},{"$error":"#DIV/0!"}]
[null,null,null,"DIVAR IP 7000 R2 16X3TB + 2x DIVAR IP 6000 R2 8x4TB",null,null,"RAID 5",0,{"$f":"IF(G621=\"RAID 5\",(((15-H621)*2792))+(2*(((7-H621)*3723))),(((14-H621)*2792))+(2*(((6-H621)*3723))))","v":94002},{"$f":"(16*3)+(2*(8*4))","v":112},0,{"$f":"475+(2*550)","v":1575},{"$f":"128+(2*128)","v":384},{"$error":"#DIV/0!"},0,91.798828125,{"$error":"#DIV/0!"},0,0,0,0,0,{"$error":"#DIV/0!"},{"$error":"#DIV/0!"},null,null,null,null,null,null,null,null,0,{"$error":"#DIV/0!"},-384,{"$error":"#DIV/0!"},{"$error":"#DIV/0!"}]
[null,null,null,"DIVAR IP 7000 R2 16X3TB + 3x \tDIVAR IP 6000 R2 8x4TB",null,null,"RAID 5",0,{"$f":"IF(G622=\"RAID 5\",(((15-H622)*2792))+(3*(((7-H622)*3723))),(((14-H622)*2792))+(3*(((6-H622)*3723))))","v":120063},{"$f":"(16*3)+(3*(8*4))","v":144},0,{"$f":"475+(3*550)","v":2125},{"$f":"128+(3*128)","v":512},{"$error":"#DIV/0!"},0,117.2490234375,{"$error":"#DIV/0!"},0,0,0,0,0,{"$error":"#DIV/0!"},{"$error":"#DIV/0!"},null,null,null,null,null,null,null,null,0,{"$error":"#DIV/0!"},-512,{"$error":"#DIV/0!"},{"$error":"#DIV/0!"}]
[null,null,null,"DIVAR IP 7000 R2 16X3TB + 4x \tDIVAR IP 6000 R2 8x4TB",null,null,"RAID 5",0,{"$f":"IF(G623=\"RAID 5\",(((15-H623)*2792))+(4*(((7-H623)*3723))),(((14-H623)*2792))+(4*(((6-H623)*3723))))","v":146124},{"$f":"(16*3)+(4*(8*4))","v":176},0,{"$f":"475+(4*550)","v":2675},{"$f":"128+(4*128)","v":640},{"$error":"#DIV/0!"},0,142.69921875,{"$error":"#DIV/0!"},0,0,0,0,0,{"$error":"#DIV/0!"},{"$error":"#DIV/0!"},null,null,null,null,null,null,null,null,0,{"$error":"#DIV/0!"},-640,{"$error":"#DIV/0!"},{"$error":"#DIV/0!"}]
[null,null,null,"DIVAR IP 7000 R2 16X3TB + 1x \tDIVAR IP 6000 R2 3U 16x3TB",null,null,"RAID 5",0,{"$f":"IF(G624=\"RAID 5\",(((15-H624)*2792))+(1*(((15-H624)*2792))),(((14-H624)*2792))+(1*(((14-H624)*2792))))","v":83760},{"$f":"(16*3)+(1*(16*3))","v":96},0,{"$f":"475+(1*550)","v":1025},{"$f":"128+(1*128)","v":256},{"$error":"#DIV/0!"},0,81.796875,{"$error":"#DIV/0!"},0,0,0,0,0,{"$error":"#DIV/0!"},{"$error":"#DIV/0!"},null,null,null,null,null,null,null,null,0,{"$error":"#DIV/0!"},-256,{"$error":"#DIV/0!"},{"$error":"#DIV/0!"}]
[null,null,null,"DIVAR IP 7000 R2 16X3TB + 2x \tDIVAR IP 6000 R2 3U 16x3TB",null,null,"RAID 5",0,{"$f":"IF(G625=\"RAID 5\",(((15-H625)*2792))+(2*(((15-H625)*2792))),(((14-H625)*2792))+(2*(((14-H625)*2792))))","v":125640},{"$f":"(16*3)+(2*(16*3))","v":144},0,{"$f":"475+(2*550)","v":1575},{"$f":"128+(2*128)","v":384},{"$error":"#DIV/0!"},0,122.6953125,{"$error":"#DIV/0!"},0,0,0,0,0,{"$error":"#DIV/0!"},{"$error":"#DIV/0!"},null,null,null,null,null,null,null,null,0,{"$error":"#DIV/0!"},-384,{"$error":"#DIV/0!"},{"$error":"#DIV/0!"}]
[null,null,null,"DIVAR IP 7000 R2 16X3TB + 3x \tDIVAR IP 6000 R2 3U 16x3TB",null,null,"RAID 5",0,{"$f":"IF(G626=\"RAID 5\",(((15-H626)*2792))+(3*(((15-H626)*2792))),(((14-H626)*2792))+(3*(((14-H626)*2792))))","v":167520},{"$f":"(16*3)+(3*(16*3))","v":192},0,{"$f":"475+(3*550)","v":2125},{"$f":"128+(3*128)","v":512},{"$f":"$I$574/O626","v":{"$error":"#DIV/0!"}},{"$f":"ROUNDUP($G$574/I626,0)","v":0},{"$f":"(1-(($G$574/$I626)-INT($G$574/$I626)))*I626/1024","v":163.59375},{"$error":"#DIV/0!"},0,0,0,0,0,{"$error":"#DIV/0!"},{"$error":"#DIV/0!"},null,null,null,null,null,null,null,null,0,{"$error":"#DIV/0!"},-512,{"$f":"IF(O626>1,$I$574/(O626-1),$I$574/O626)","v":{"$error":"#DIV/0!"}},{"$error":"#DIV/0!"}]
[null,null,null,"DIVAR IP 7000 R2 16X3TB + 4x \tDIVAR IP 6000 R2 3U 16x3TB",null,null,"RAID 5",0,{"$f":"IF(G627=\"RAID 5\",(((15-H627)*2792))+(4*(((15-H627)*2792))),(((14-H627)*2792))+(4*(((14-H627)*2792))))","v":209400},{"$f":"(16*3)+(4*(16*3))","v":240},0,{"$f":"475+(4*550)","v":2675},{"$f":"128+(4*128)","v":640},{"$error":"#DIV/0!"},0,204.4921875,{"$error":"#DIV/0!"},0,0,0,0,0,{"$error":"#DIV/0!"},{"$error":"#DIV/0!"},null,null,null,null,null,null,null,null,0,{"$error":"#DIV/0!"},-640,{"$error":"#DIV/0!"},{"$error":"#DIV/0!"}]
[null,null,null,"DIVAR IP 7000 R2 16X3TB + 1x \tDIVAR IP 6000 R2 3U 16x4TB",null,null,"RAID 5",0,{"$f":"IF(G628=\"RAID 5\",(((15-H628)*2792))+(1*(((15-H628)*3723))),(((14-H628)*2792))+(1*(((14-H628)*3723))))","v":97725},{"$f":"(16*3)+(1*(16*4))","v":112},0,{"$f":"475+(1*550)","v":1025},{"$f":"128+(1*128)","v":256},{"$error":"#DIV/0!"},0,95.4345703125,{"$error":"#DIV/0!"},0,0,0,0,0,{"$error":"#DIV/0!"},{"$error":"#DIV/0!"},null,null,null,null,null,null,null,null,0,{"$error":"#DIV/0!"},-256,{"$error":"#DIV/0!"},{"$error":"#DIV/0!"}]
[null,null,null,"DIVAR IP 7000 R2 16X3TB + 2x \tDIVAR IP 6000 R2 3U 16x4TB",null,null,"RAID 5",0,{"$f":"IF(G629=\"RAID 5\",(((15-H629)*2792))+(2*(((15-H629)*3723))),(((14-H629)*2792))+(2*(((14-H629)*3723))))","v":153570},{"$f":"(16*3)+(2*(16*4))","v":176},0,{"$f":"475+(2*550)","v":1575},{"$f":"128+(2*128)","v":384},{"$error":"#DIV/0!"},0,149.970703125,{"$error":"#DIV/0!"},0,0,0,0,0,{"$error":"#DIV/0!"},{"$error":"#DIV/0!"},null,null,null,null,null,null,null,null,0,{"$error":"#DIV/0!"},-384,{"$error":"#DIV/0!"},{"$error":"#DIV/0!"}]
[null,null,null,"DIVAR IP 7000 R2 16X3TB + 3x \tDIVAR IP 6000 R2 3U 16x4TB",null,null,"RAID 5",0,{"$f":"IF(G630=\"RAID 5\",(((15-H630)*2792))+(3*(((15-H630)*3723))),(((14-H630)*2792))+(3*(((14-H630)*3723))))","v":209415},{"$f":"(16*3)+(3*(16*4))","v":240},0,{"$f":"475+(3*550)","v":2125},{"$f":"128+(3*128)","v":512},{"$error":"#DIV/0!"},0,204.5068359375,{"$error":"#DIV/0!"},0,0,0,0,0,{"$error":"#DIV/0!"},{"$error":"#DIV/0!"},null,null,null,null,null,null,null,null,0,{"$error":"#DIV/0!"},-512,{"$error":"#DIV/0!"},{"$error":"#DIV/0!"}]
[null,null,null,"DIVAR IP 7000 R2 16X3TB + 4x DIVAR IP 6000 R2 3U 16x4TB",null,null,"RAID 5",0,{"$f":"IF(G631=\"RAID 5\",(((15-H631)*2792))+(4*(((15-H631)*3723))),(((14-H631)*2792))+(4*(((14-H631)*3723))))","v":265260},{"$f":"(16*3)+(4*(16*4))","v":304},0,{"$f":"475+(4*550)","v":2675},{"$f":"128+(4*128)","v":640},{"$error":"#DIV/0!"},0,259.04296875,{"$error":"#DIV/0!"},0,0,0,0,0,{"$error":"#DIV/0!"},{"$error":"#DIV/0!"},null,null,null,null,null,null,null,null,0,{"$error":"#DIV/0!"},-640,{"$error":"#DIV/0!"},{"$error":"#DIV/0!"}]
[null,null,null,"DIVAR IP 7000 R2 8X4TB + 1x DIVAR IP 6000 R2 8X3TB",null,null,"RAID 5",0,{"$f":"IF(G632=\"RAID 5\",(((7-H632)*3723))+(1*(((7-H632)*2792))),(((6-H632)*3723))+(1*(((6-H632)*2792))))","v":45605},{"$f":"(8*4)+(1*(8*3))","v":56},0,{"$f":"475+(1*550)","v":1025},{"$f":"128+(1*128)","v":256},{"$error":"#DIV/0!"},0,44.5361328125,{"$error":"#DIV/0!"},0,0,0,0,0,{"$error":"#DIV/0!"},{"$error":"#DIV/0!"},null,null,null,null,null,null,null,null,0,{"$error":"#DIV/0!"},-256,{"$error":"#DIV/0!"},{"$f":"IF(X632=\"<-- fits project\",D632,\"\")","v":{"$error":"#DIV/0!"}}]
[null,null,null,"DIVAR IP 7000 R2 8X4TB + 2x DIVAR IP 6000 R2 8X3TB",null,null,"RAID 5",0,{"$f":"IF(G633=\"RAID 5\",(((7-H633)*3723))+(2*(((7-H633)*2792))),(((6-H633)*3723))+(2*(((6-H633)*2792))))","v":65149},{"$f":"(8*4)+(2*(8*3))","v":80},0,{"$f":"475+(2*550)","v":1575},{"$f":"128+(2*128)","v":384},{"$error":"#DIV/0!"},0,63.6220703125,{"$error":"#DIV/0!"},0,0,0,0,0,{"$error":"#DIV/0!"},{"$error":"#DIV/0!"},null,null,null,null,null,null,null,null,0,{"$error":"#DIV/0!"},-384,{"$error":"#DIV/0!"},{"$error":"#DIV/0!"}]
[null,null,null,"DIVAR IP 7000 R2 8X4TB + 3x DIVAR IP 6000 R2 8X3TB",null,null,"RAID 5",0,{"$f":"IF(G634=\"RAID 5\",(((7-H634)*3723))+(3*(((7-H634)*2792))),(((6-H634)*3723))+(3*(((6-H634)*2792))))","v":84693},{"$f":"(8*4)+(3*(8*3))","v":104},0,{"$f":"475+(3*550)","v":2125},{"$f":"128+(3*128)","v":512},{"$error":"#DIV/0!"},0,82.7080078125,{"$error":"#DIV/0!"},0,0,0,0,0,{"$error":"#DIV/0!"},{"$error":"#DIV/0!"},null,null,null,null,null,null,null,null,0,{"$error":"#DIV/0!"},-512,{"$error":"#DIV/0!"},{"$error":"#DIV/0!"}]
[null,null,null,"DIVAR IP 7000 R2 8X4TB + 4x DIVAR IP 6000 R2 8X3TB",null,null,"RAID 5",0,{"$f":"IF(G635=\"RAID 5\",(((7-H635)*3723))+(4*(((7-H635)*2792))),(((6-H635)*3723))+(4*(((6-H635)*2792))))","v":104237},{"$f":"(8*4)+(4*(8*3))","v":128},0,{"$f":"475+(4*550)","v":2675},{"$f":"128+(4*128)","v":640},{"$error":"#DIV/0!"},0,101.7939453125,{"$error":"#DIV/0!"},0,0,0,0,0,{"$error":"#DIV/0!"},{"$error":"#DIV/0!"},null,null,null,null,null,null,null,null,0,{"$error":"#DIV/0!"},-640,{"$error":"#DIV/0!"},{"$error":"#DIV/0!"}]
[null,null,null,"DIVAR IP 7000 R2 8X4TB +  1x \tDIVAR IP 6000 R2 3U 16x3TB",null,null,"RAID 5",0,{"$f":"IF(G636=\"RAID 5\",(((7-H636)*3723))+(1*(((15-H636)*2792))),(((6-H636)*3723))+(1*(((14-H636)*2792))))","v":67941},{"$f":"(8*4)+(1*(16*3))","v":80},0,{"$f":"475+(1*550)","v":1025},{"$f":"128+(1*128)","v":256},{"$error":"#DIV/0!"},0,66.3486328125,{"$error":"#DIV/0!"},0,0,0,0,0,{"$error":"#DIV/0!"},{"$error":"#DIV/0!"},null,null,null,null,null,null,null,null,0,{"$error":"#DIV/0!"},-256,{"$error":"#DIV/0!"},{"$error":"#DIV/0!"}]
[null,null,null,"DIVAR IP 7000 R2 8X4TB +  2x \tDIVAR IP 6000 R2 3U 16x3TB",null,null,"RAID 5",0,{"$f":"IF(G637=\"RAID 5\",(((7-H637)*3723))+(2*(((15-H637)*2792))),(((6-H637)*3723))+(2*(((14-H637)*2792))))","v":109821},{"$f":"(8*4)+(2*(16*3))","v":128},0,{"$f":"475+(2*550)","v":1575},{"$f":"128+(2*128)","v":384},{"$error":"#DIV/0!"},0,107.2470703125,{"$error":"#DIV/0!"},0,0,0,0,0,{"$error":"#DIV/0!"},{"$error":"#DIV/0!"},null,null,null,null,null,null,null,null,0,{"$error":"#DIV/0!"},-384,{"$error":"#DIV/0!"},{"$error":"#DIV/0!"}]
[null,null,null,"DIVAR IP 7000 R2 8X4TB +  3x \tDIVAR IP 6000 R2 3U 16x3TB",null,null,"RAID 5",0,{"$f":"IF(G638=\"RAID 5\",(((7-H638)*3723))+(3*(((15-H638)*2792))),(((6-H638)*3723))+(3*(((14-H638)*2792))))","v":151701},{"$f":"(8*4)+(3*(16*3))","v":176},0,{"$f":"475+(3*550)","v":2125},{"$f":"128+(3*128)","v":512},{"$error":"#DIV/0!"},0,148.1455078125,{"$error":"#DIV/0!"},0,0,0,0,0,{"$error":"#DIV/0!"},{"$error":"#DIV/0!"},null,null,null,null,null,null,null,null,0,{"$error":"#DIV/0!"},-512,{"$error":"#DIV/0!"},{"$error":"#DIV/0!"}]
[null,null,null,"DIVAR IP 7000 R2 8X4TB +  4x \tDIVAR IP 6000 R2 3U 16x3TB",null,null,"RAID 5",0,{"$f":"IF(G639=\"RAID 5\",(((7-H639)*3723))+(4*(((15-H639)*2792))),(((6-H639)*3723))+(4*(((14-H639)*2792))))","v":193581},{"$f":"(8*4)+(4*(16*3))","v":224},0,{"$f":"475+(4*550)","v":2675},{"$f":"128+(4*128)","v":640},{"$error":"#DIV/0!"},0,189.0439453125,{"$error":"#DIV/0!"},0,0,0,0,0,{"$error":"#DIV/0!"},{"$error":"#DIV/0!"},null,null,null,null,null,null,null,null,0,{"$error":"#DIV/0!"},-640,{"$error":"#DIV/0!"},{"$error":"#DIV/0!"}]
[null,null,null,"DIVAR IP 7000 R2 16X4TB + 1x \tDIVAR IP 6000 R2 8x4TB",null,null,"RAID 5",0,{"$f":"IF(G640=\"RAID 5\",(((15-H640)*3723))+(1*(((7-H640)*3723))),(((14-H640)*3723))+(1*(((6-H640)*3723))))","v":81906},{"$f":"(16*4)+(1*(8*4))","v":96},0,{"$f":"475+(1*550)","v":1025},{"$f":"128+(1*128)","v":256},{"$error":"#DIV/0!"},0,79.986328125,{"$error":"#DIV/0!"},0,0,0,0,0,{"$error":"#DIV/0!"},{"$error":"#DIV/0!"},null,null,null,null,null,null,null,null,0,{"$error":"#DIV/0!"},-256,{"$error":"#DIV/0!"},{"$error":"#DIV/0!"}]
[null,null,null,"DIVAR IP 7000 R2 16X4TB + 2x \tDIVAR IP 6000 R2 8x4TB",null,null,"RAID 5",0,{"$f":"IF(G641=\"RAID 5\",(((15-H641)*3723))+(2*(((7-H641)*3723))),(((14-H641)*3723))+(2*(((6-H641)*3723))))","v":107967},{"$f":"(16*4)+(2*(8*4))","v":128},0,{"$f":"475+(2*550)","v":1575},{"$f":"128+(2*128)","v":384},{"$error":"#DIV/0!"},0,105.4365234375,{"$error":"#DIV/0!"},0,0,0,0,0,{"$error":"#DIV/0!"},{"$error":"#DIV/0!"},null,null,null,null,null,null,null,null,0,{"$error":"#DIV/0!"},-384,{"$error":"#DIV/0!"},{"$error":"#DIV/0!"}]
[null,null,null,"DIVAR IP 7000 R2 16X4TB + 3x \tDIVAR IP 6000 R2 8x4TB",null,null,"RAID 5",0,{"$f":"IF(G642=\"RAID 5\",(((15-H642)*3723))+(3*(((7-H642)*3723))),(((14-H642)*3723))+(3*(((6-H642)*3723))))","v":134028},{"$f":"(16*4)+(3*(8*4))","v":160},0,{"$f":"475+(3*550)","v":2125},{"$f":"128+(3*128)","v":512},{"$error":"#DIV/0!"},0,130.88671875,{"$error":"#DIV/0!"},0,0,0,0,0,{"$error":"#DIV/0!"},{"$error":"#DIV/0!"},null,null,null,null,null,null,null,null,0,{"$error":"#DIV/0!"},-512,{"$error":"#DIV/0!"},{"$error":"#DIV/0!"}]
[null,null,null,"DIVAR IP 7000 R2 16X4TB + 4x \tDIVAR IP 6000 R2 8x4TB",null,null,"RAID 5",0,{"$f":"IF(G643=\"RAID 5\",(((15-H643)*3723))+(4*(((7-H643)*3723))),(((14-H643)*3723))+(4*(((6-H643)*3723))))","v":160089},{"$f":"(16*4)+(4*(8*4))","v":192},0,{"$f":"475+(4*550)","v":2675},{"$f":"128+(4*128)","v":640},{"$error":"#DIV/0!"},0,156.3369140625,{"$error":"#DIV/0!"},0,0,0,0,0,{"$error":"#DIV/0!"},{"$error":"#DIV/0!"},null,null,null,null,null,null,null,null,0,{"$error":"#DIV/0!"},-640,{"$error":"#DIV/0!"},{"$error":"#DIV/0!"}]
[null,null,null,"DIVAR IP 7000 R2 16X4TB + 1x \tDIVAR IP 6000 R2 3U 16x3TB",null,null,"RAID 5",0,{"$f":"IF(G644=\"RAID 5\",(((15-H644)*3723))+(1*(((15-H644)*2792))),(((14-H644)*3723))+(1*(((14-H644)*2792))))","v":97725},{"$f":"(16*4)+(1*(16*3))","v":112},{"$f":"O644*J644","v":0},{"$f":"475+(1*550)","v":1025},{"$f":"128+(1*128)","v":256},{"$error":"#DIV/0!"},0,95.4345703125,{"$error":"#DIV/0!"},{"$f":"O644*M644","v":0},0,{"$f":"O644*1*MAX($N$1528,1)","v":0},0,0,{"$error":"#DIV/0!"},{"$error":"#DIV/0!"},null,null,null,null,null,null,null,null,0,{"$error":"#DIV/0!"},{"$f":"(O644-1)*M644","v":-256},{"$error":"#DIV/0!"},{"$error":"#DIV/0!"}]
[null,null,null,"DIVAR IP 7000 R2 16X4TB + 2x \tDIVAR IP 6000 R2 3U 16x3TB",null,null,"RAID 5",0,{"$f":"IF(G645=\"RAID 5\",(((15-H645)*3723))+(2*(((15-H645)*2792))),(((14-H645)*3723))+(2*(((14-H645)*2792))))","v":139605},{"$f":"(16*4)+(2*(16*3))","v":160},0,{"$f":"475+(2*550)","v":1575},{"$f":"128+(2*128)","v":384},{"$error":"#DIV/0!"},0,136.3330078125,{"$error":"#DIV/0!"},0,0,0,0,0,{"$error":"#DIV/0!"},{"$error":"#DIV/0!"},null,null,null,null,null,null,null,null,0,{"$error":"#DIV/0!"},-384,{"$error":"#DIV/0!"},{"$error":"#DIV/0!"}]
[null,null,null,"DIVAR IP 7000 R2 16X4TB + 3x \tDIVAR IP 6000 R2 3U 16x3TB",null,null,"RAID 5",0,{"$f":"IF(G646=\"RAID 5\",(((15-H646)*3723))+(3*(((15-H646)*2792))),(((14-H646)*3723))+(3*(((14-H646)*2792))))","v":181485},{"$f":"(16*4)+(3*(16*3))","v":208},0,{"$f":"475+(3*550)","v":2125},{"$f":"128+(3*128)","v":512},{"$error":"#DIV/0!"},0,177.2314453125,{"$error":"#DIV/0!"},0,0,0,0,0,{"$error":"#DIV/0!"},{"$error":"#DIV/0!"},null,null,null,null,null,null,null,null,0,{"$error":"#DIV/0!"},-512,{"$error":"#DIV/0!"},{"$error":"#DIV/0!"}]
[null,null,null,"DIVAR IP 7000 R2 16X4TB + 4x \tDIVAR IP 6000 R2 3U 16x3TB",null,null,"RAID 5",0,{"$f":"IF(G647=\"RAID 5\",(((15-H647)*3723))+(4*(((15-H647)*2792))),(((14-H647)*3723))+(4*(((14-H647)*2792))))","v":223365},{"$f":"(16*4)+(4*(16*3))","v":256},0,{"$f":"475+(4*550)","v":2675},{"$f":"128+(4*128)","v":640},{"$error":"#DIV/0!"},0,218.1298828125,{"$error":"#DIV/0!"},0,0,0,0,0,{"$error":"#DIV/0!"},{"$error":"#DIV/0!"},null,null,null,null,null,null,null,null,0,{"$error":"#DIV/0!"},-640,{"$error":"#DIV/0!"},{"$error":"#DIV/0!"}]
[null,null,null,"DIVAR IP 7000 R2 16X4TB + 1x \tDIVAR IP 6000 R2 3U 16x4TB",null,null,"RAID 5",0,{"$f":"IF(G648=\"RAID 5\",(((15-H648)*3723))+(1*(((15-H648)*3723))),(((14-H648)*3723))+(1*(((14-H648)*3723))))","v":111690},{"$f":"(16*4)+(1*(16*4))","v":128},0,{"$f":"475+(1*550)","v":1025},{"$f":"128+(1*128)","v":256},{"$error":"#DIV/0!"},0,109.072265625,{"$error":"#DIV/0!"},0,0,0,0,0,{"$error":"#DIV/0!"},{"$error":"#DIV/0!"},null,null,null,null,null,null,null,null,0,{"$error":"#DIV/0!"},-256,{"$error":"#DIV/0!"},{"$error":"#DIV/0!"}]
[null,null,null,"DIVAR IP 7000 R2 16X4TB + 2x \tDIVAR IP 6000 R2 3U 16x4TB",null,null,"RAID 5",0,{"$f":"IF(G649=\"RAID 5\",(((15-H649)*3723))+(2*(((15-H649)*3723))),(((14-H649)*3723))+(2*(((14-H649)*3723))))","v":167535},{"$f":"(16*4)+(2*(16*4))","v":192},0,{"$f":"475+(2*550)","v":1575},{"$f":"128+(2*128)","v":384},{"$error":"#DIV/0!"},0,163.6083984375,{"$error":"#DIV/0!"},0,0,0,0,0,{"$error":"#DIV/0!"},{"$error":"#DIV/0!"},null,null,null,null,null,null,null,null,0,{"$error":"#DIV/0!"},-384,{"$error":"#DIV/0!"},{"$error":"#DIV/0!"}]
[null,null,null,"DIVAR IP 7000 R2 16X4TB + 3x \tDIVAR IP 6000 R2 3U 16x4TB",null,null,"RAID 5",0,{"$f":"IF(G650=\"RAID 5\",(((15-H650)*3723))+(3*(((15-H650)*3723))),(((14-H650)*3723))+(3*(((14-H650)*3723))))","v":223380},{"$f":"(16*4)+(3*(16*4))","v":256},0,{"$f":"475+(3*550)","v":2125},{"$f":"128+(3*128)","v":512},{"$error":"#DIV/0!"},0,218.14453125,{"$error":"#DIV/0!"},0,0,0,0,0,{"$error":"#DIV/0!"},{"$f":"IF(AND(IF($N650<=$L650,TRUE,FALSE),IF($V650<=$R650,TRUE,FALSE),OR(W650=\"True\",$W$579=\"No\"),IF($A$586=\"False\",IF(O650=1,TRUE,FALSE),TRUE)),\"<-- fits project\",\"\")","v":{"$error":"#DIV/0!"}},null,null,null,null,null,null,null,null,0,{"$error":"#DIV/0!"},-512,{"$error":"#DIV/0!"},{"$error":"#DIV/0!"}]
[null,null,null,"DIVAR IP 7000 R2 16X4TB + 4x \tDIVAR IP 6000 R2 3U 16x4TB",null,null,"RAID 5",0,{"$f":"IF(G651=\"RAID 5\",(((15-H651)*3723))+(4*(((15-H651)*3723))),(((14-H651)*3723))+(4*(((14-H651)*3723))))","v":279225},{"$f":"(16*4)+(4*(16*4))","v":320},0,{"$f":"475+(4*550)","v":2675},{"$f":"128+(4*128)","v":640},{"$error":"#DIV/0!"},0,272.6806640625,{"$error":"#DIV/0!"},0,0,0,0,0,{"$error":"#DIV/0!"},{"$error":"#DIV/0!"},null,null,null,null,null,null,null,null,0,{"$error":"#DIV/0!"},-640,{"$error":"#DIV/0!"},{"$error":"#DIV/0!"}]
[null,null,null,"DIVAR IP 7000 R2 8X6TB + 1x DIVAR IP 6000 R2 8x3TB",null,null,"RAID 5",0,{"$f":"IF(G652=\"RAID 5\",(((7-H652)*5586))+(1*(((7-H652)*2793))),(((6-H652)*5586))+(1*(((6-H652)*2793))))","v":58653},{"$f":"(8*6)+(1*(8*3))","v":72},0,{"$f":"475+(1*550)","v":1025},{"$f":"128+(1*128)","v":256},{"$error":"#DIV/0!"},0,57.2783203125,{"$error":"#DIV/0!"},0,0,0,0,0,{"$error":"#DIV/0!"},{"$error":"#DIV/0!"},null,null,null,null,null,null,null,null,0,{"$error":"#DIV/0!"},-256,{"$error":"#DIV/0!"},{"$error":"#DIV/0!"}]
[null,null,null,"DIVAR IP 7000 R2 8X6TB + 2x DIVAR IP 6000 R2 8x3TB",null,null,"RAID 5",0,{"$f":"IF(G653=\"RAID 5\",(((7-H653)*5586))+(2*(((7-H653)*2793))),(((6-H653)*5586))+(2*(((6-H653)*2793))))","v":78204},{"$f":"(8*6)+(2*(8*3))","v":96},0,{"$f":"475+(2*550)","v":1575},{"$f":"128+(2*128)","v":384},{"$error":"#DIV/0!"},0,76.37109375,{"$error":"#DIV/0!"},0,0,0,0,0,{"$error":"#DIV/0!"},{"$error":"#DIV/0!"},null,null,null,null,null,null,null,null,0,{"$error":"#DIV/0!"},-384,{"$error":"#DIV/0!"},{"$error":"#DIV/0!"}]
[null,null,null,"DIVAR IP 7000 R2 8X6TB + 3x DIVAR IP 6000 R2 8x3TB",null,null,"RAID 5",0,{"$f":"IF(G654=\"RAID 5\",(((7-H654)*5586))+(3*(((7-H654)*2793))),(((6-H654)*5586))+(3*(((6-H654)*2793))))","v":97755},{"$f":"(8*6)+(3*(8*3))","v":120},0,{"$f":"475+(3*550)","v":2125},{"$f":"128+(3*128)","v":512},{"$error":"#DIV/0!"},0,95.4638671875,{"$error":"#DIV/0!"},0,0,0,0,0,{"$error":"#DIV/0!"},{"$error":"#DIV/0!"},null,null,null,null,null,null,null,null,0,{"$error":"#DIV/0!"},-512,{"$error":"#DIV/0!"},{"$error":"#DIV/0!"}]
[null,null,null,"DIVAR IP 7000 R2 8X6TB + 4x DIVAR IP 6000 R2 8x3TB",null,null,"RAID 5",0,{"$f":"IF(G655=\"RAID 5\",(((7-H655)*5586))+(4*(((7-H655)*2793))),(((6-H655)*5586))+(4*(((6-H655)*2793))))","v":117306},{"$f":"(8*6)+(4*(8*3))","v":144},0,{"$f":"475+(4*550)","v":2675},{"$f":"128+(4*128)","v":640},{"$error":"#DIV/0!"},0,114.556640625,{"$error":"#DIV/0!"},0,0,0,0,0,{"$error":"#DIV/0!"},{"$error":"#DIV/0!"},null,null,null,null,null,null,null,null,0,{"$error":"#DIV/0!"},-640,{"$error":"#DIV/0!"},{"$error":"#DIV/0!"}]
[null,null,null,"DIVAR IP 7000 R2 8X6TB + 1x DIVAR IP 6000 R2 3U 16x3TB",null,null,"RAID 5",0,{"$f":"IF(G656=\"RAID 5\",(((7-H656)*5586))+(1*(((15-H656)*2793))),(((6-H656)*5586))+(1*(((14-H656)*2793))))","v":80997},{"$f":"(8*6)+(1*(16*3))","v":96},0,{"$f":"475+(1*550)","v":1025},{"$f":"128+(1*128)","v":256},{"$error":"#DIV/0!"},0,79.0986328125,{"$error":"#DIV/0!"},0,0,0,0,0,{"$error":"#DIV/0!"},{"$error":"#DIV/0!"},null,null,null,null,null,null,null,null,0,{"$error":"#DIV/0!"},-256,{"$error":"#DIV/0!"},{"$error":"#DIV/0!"}]
[null,null,null,"DIVAR IP 7000 R2 8X6TB + 2x DIVAR IP 6000 R2 3U 16x3TB",null,null,"RAID 5",0,{"$f":"IF(G657=\"RAID 5\",(((7-H657)*5586))+(2*(((15-H657)*2793))),(((6-H657)*5586))+(2*(((14-H657)*2793))))","v":122892},{"$f":"(8*6)+(2*(16*3))","v":144},0,{"$f":"475+(2*550)","v":1575},{"$f":"128+(2*128)","v":384},{"$error":"#DIV/0!"},0,120.01171875,{"$error":"#DIV/0!"},0,0,0,0,0,{"$error":"#DIV/0!"},{"$error":"#DIV/0!"},null,null,null,null,null,null,null,null,0,{"$error":"#DIV/0!"},-384,{"$error":"#DIV/0!"},{"$error":"#DIV/0!"}]
[null,null,null,"DIVAR IP 7000 R2 8X6TB + 3x DIVAR IP 6000 R2 3U 16x3TB",null,null,"RAID 5",0,{"$f":"IF(G658=\"RAID 5\",(((7-H658)*5586))+(3*(((15-H658)*2793))),(((6-H658)*5586))+(3*(((14-H658)*2793))))","v":164787},{"$f":"(8*6)+(3*(16*3))","v":192},0,{"$f":"475+(3*550)","v":2125},{"$f":"128+(3*128)","v":512},{"$f":"$I$574/O658","v":{"$error":"#DIV/0!"}},{"$f":"ROUNDUP($G$574/I658,0)","v":0},{"$f":"(1-(($G$574/$I658)-INT($G$574/$I658)))*I658/1024","v":160.9248046875},{"$error":"#DIV/0!"},0,0,0,0,{"$f":"SUM(S658)","v":0},{"$error":"#DIV/0!"},{"$error":"#DIV/0!"},null,null,null,null,null,null,null,null,0,{"$error":"#DIV/0!"},-512,{"$f":"IF(O658>1,$I$574/(O658-1),$I$574/O658)","v":{"$error":"#DIV/0!"}},{"$error":"#DIV/0!"}]
[null,null,null,"DIVAR IP 7000 R2 8X6TB + 4x DIVAR IP 6000 R2 3U 16x3TB",null,null,"RAID 5",0,{"$f":"IF(G659=\"RAID 5\",(((7-H659)*5586))+(4*(((15-H659)*2793))),(((6-H659)*5586))+(4*(((14-H659)*2793))))","v":206682},{"$f":"(8*6)+(4*(16*3))","v":240},0,{"$f":"475+(4*550)","v":2675},{"$f":"128+(4*128)","v":640},{"$error":"#DIV/0!"},0,201.837890625,{"$error":"#DIV/0!"},0,0,0,0,0,{"$error":"#DIV/0!"},{"$error":"#DIV/0!"},null,null,null,null,null,null,null,null,0,{"$error":"#DIV/0!"},-640,{"$error":"#DIV/0!"},{"$error":"#DIV/0!"}]
[null,null,null,"DIVAR IP 7000 R2 8X6TB + 1x DIVAR IP 6000 R2 8X4TB",null,null,"RAID 5",0,{"$f":"IF(G660=\"RAID 5\",(((7-H660)*5586))+(1*(((7-H660)*3723))),(((6-H660)*5586))+(1*(((7-H660)*3723))))","v":65163},{"$f":"(8*6)+(1*(8*4))","v":80},0,{"$f":"475+(1*550)","v":1025},{"$f":"128+(1*128)","v":256},{"$error":"#DIV/0!"},0,63.6357421875,{"$error":"#DIV/0!"},0,0,0,0,0,{"$error":"#DIV/0!"},{"$error":"#DIV/0!"},null,null,null,null,null,null,null,null,0,{"$error":"#DIV/0!"},-256,{"$error":"#DIV/0!"},{"$error":"#DIV/0!"}]
[null,null,null,"DIVAR IP 7000 R2 8X6TB + 2x DIVAR IP 6000 R2 8X4TB",null,null,"RAID 5",0,{"$f":"IF(G661=\"RAID 5\",(((7-H661)*5586))+(2*(((7-H661)*3723))),(((6-H661)*5586))+(2*(((7-H661)*3723))))","v":91224},{"$f":"(8*6)+(2*(8*4))","v":112},0,{"$f":"475+(2*550)","v":1575},{"$f":"128+(2*128)","v":384},{"$error":"#DIV/0!"},0,89.0859375,{"$error":"#DIV/0!"},0,0,0,0,0,{"$error":"#DIV/0!"},{"$error":"#DIV/0!"},null,null,null,null,null,null,null,null,0,{"$error":"#DIV/0!"},-384,{"$error":"#DIV/0!"},{"$error":"#DIV/0!"}]
[null,null,null,"DIVAR IP 7000 R2 8X6TB + 3x DIVAR IP 6000 R2 8X4TB",null,null,"RAID 5",0,{"$f":"IF(G662=\"RAID 5\",(((7-H662)*5586))+(3*(((7-H662)*3723))),(((6-H662)*5586))+(3*(((7-H662)*3723))))","v":117285},{"$f":"(8*6)+(3*(8*4))","v":144},0,{"$f":"475+(3*550)","v":2125},{"$f":"128+(3*128)","v":512},{"$error":"#DIV/0!"},0,114.5361328125,{"$error":"#DIV/0!"},0,0,0,0,0,{"$error":"#DIV/0!"},{"$error":"#DIV/0!"},null,null,null,null,null,null,null,null,0,{"$error":"#DIV/0!"},-512,{"$error":"#DIV/0!"},{"$error":"#DIV/0!"}]
[null,null,null,"DIVAR IP 7000 R2 8X6TB + 4x DIVAR IP 6000 R2 8X4TB",null,null,"RAID 5",0,{"$f":"IF(G663=\"RAID 5\",(((7-H663)*5586))+(4*(((7-H663)*3723))),(((6-H663)*5586))+(4*(((7-H663)*3723))))","v":143346},{"$f":"(8*6)+(4*(8*4))","v":176},0,{"$f":"475+(4*550)","v":2675},{"$f":"128+(4*128)","v":640},{"$error":"#DIV/0!"},0,139.986328125,{"$error":"#DIV/0!"},0,0,0,0,0,{"$error":"#DIV/0!"},{"$error":"#DIV/0!"},null,null,null,null,null,null,null,null,0,{"$error":"#DIV/0!"},-640,{"$error":"#DIV/0!"},{"$error":"#DIV/0!"}]
[null,null,null,"DIVAR IP 7000 R2 8X6TB + 1x DIVAR IP 6000 R2 3U 16x4TB",null,null,"RAID 5",0,{"$f":"IF(G664=\"RAID 5\",(((7-H664)*5586))+(1*(((15-H664)*3723))),(((6-H664)*5586))+(1*(((14-H664)*3723))))","v":94947},{"$f":"(8*6)+(1*(16*4))","v":112},0,{"$f":"475+(1*550)","v":1025},{"$f":"128+(1*128)","v":256},{"$error":"#DIV/0!"},0,92.7216796875,{"$error":"#DIV/0!"},0,0,0,0,0,{"$error":"#DIV/0!"},{"$error":"#DIV/0!"},null,null,null,null,null,null,null,null,0,{"$error":"#DIV/0!"},-256,{"$error":"#DIV/0!"},{"$error":"#DIV/0!"}]
[null,null,null,"DIVAR IP 7000 R2 8X6TB + 2x DIVAR IP 6000 R2 3U 16x4TB",null,null,"RAID 5",0,{"$f":"IF(G665=\"RAID 5\",(((7-H665)*5586))+(2*(((15-H665)*3723))),(((6-H665)*5586))+(2*(((14-H665)*3723))))","v":150792},{"$f":"(8*6)+(2*(16*4))","v":176},0,{"$f":"475+(2*550)","v":1575},{"$f":"128+(2*128)","v":384},{"$error":"#DIV/0!"},0,147.2578125,{"$error":"#DIV/0!"},0,0,0,0,0,{"$error":"#DIV/0!"},{"$error":"#DIV/0!"},null,null,null,null,null,null,null,null,0,{"$error":"#DIV/0!"},-384,{"$error":"#DIV/0!"},{"$error":"#DIV/0!"}]
[null,null,null,"DIVAR IP 7000 R2 8X6TB + 3x DIVAR IP 6000 R2 3U 16x4TB",null,null,"RAID 5",0,{"$f":"IF(G666=\"RAID 5\",(((7-H666)*5586))+(3*(((15-H666)*3723))),(((6-H666)*5586))+(3*(((14-H666)*3723))))","v":206637},{"$f":"(8*6)+(3*(16*4))","v":240},0,{"$f":"475+(3*550)","v":2125},{"$f":"128+(3*128)","v":512},{"$error":"#DIV/0!"},0,201.7939453125,{"$error":"#DIV/0!"},0,0,0,0,0,{"$error":"#DIV/0!"},{"$error":"#DIV/0!"},null,null,null,null,null,null,null,null,0,{"$error":"#DIV/0!"},-512,{"$error":"#DIV/0!"},{"$error":"#DIV/0!"}]
[null,null,null,"DIVAR IP 7000 R2 8X6TB + 4x DIVAR IP 6000 R2 3U 16x4TB",null,null,"RAID 5",0,{"$f":"IF(G667=\"RAID 5\",(((7-H667)*5586))+(4*(((15-H667)*3723))),(((6-H667)*5586))+(4*(((14-H667)*3723))))","v":262482},{"$f":"(8*6)+(4*(16*4))","v":304},0,{"$f":"475+(4*550)","v":2675},{"$f":"128+(4*128)","v":640},{"$error":"#DIV/0!"},0,256.330078125,{"$error":"#DIV/0!"},0,0,0,0,0,{"$error":"#DIV/0!"},{"$error":"#DIV/0!"},null,null,null,null,null,null,null,null,0,{"$error":"#DIV/0!"},-640,{"$error":"#DIV/0!"},{"$error":"#DIV/0!"}]
[null,null,null,"DIVAR IP 7000 R2 8X6TB + 1x DIVAR IP 6000 R2 8x6TB",null,null,"RAID 5",0,{"$f":"IF(G668=\"RAID 5\",(((7-H668)*5586))+(1*(((7-H668)*5586))),(((6-H668)*5586))+(1*(((6-H668)*5586))))","v":78204},{"$f":"(8*6)+(1*(8*6))","v":96},0,{"$f":"475+(1*550)","v":1025},{"$f":"128+(1*128)","v":256},{"$error":"#DIV/0!"},0,76.37109375,{"$error":"#DIV/0!"},0,0,0,0,0,{"$error":"#DIV/0!"},{"$error":"#DIV/0!"},null,null,null,null,null,null,null,null,0,{"$error":"#DIV/0!"},-256,{"$error":"#DIV/0!"},{"$error":"#DIV/0!"}]
[null,null,null,"DIVAR IP 7000 R2 8X6TB + 2x DIVAR IP 6000 R2 8x6TB",null,null,"RAID 5",0,{"$f":"IF(G669=\"RAID 5\",(((7-H669)*5586))+(2*(((7-H669)*5586))),(((6-H669)*5586))+(2*(((6-H669)*5586))))","v":117306},{"$f":"(8*6)+(2*(8*6))","v":144},0,{"$f":"475+(2*550)","v":1575},{"$f":"128+(2*128)","v":384},{"$error":"#DIV/0!"},0,114.556640625,{"$error":"#DIV/0!"},0,0,0,0,0,{"$error":"#DIV/0!"},{"$error":"#DIV/0!"},null,null,null,null,null,null,null,null,0,{"$error":"#DIV/0!"},-384,{"$error":"#DIV/0!"},{"$error":"#DIV/0!"}]
[null,null,null,"DIVAR IP 7000 R2 8X6TB + 3x DIVAR IP 6000 R2 8x6TB",null,null,"RAID 5",0,{"$f":"IF(G670=\"RAID 5\",(((7-H670)*5586))+(3*(((7-H670)*5586))),(((6-H670)*5586))+(3*(((6-H670)*5586))))","v":156408},{"$f":"(8*6)+(3*(8*6))","v":192},0,{"$f":"475+(3*550)","v":2125},{"$f":"128+(3*128)","v":512},{"$error":"#DIV/0!"},0,152.7421875,{"$error":"#DIV/0!"},0,0,0,0,0,{"$error":"#DIV/0!"},{"$error":"#DIV/0!"},null,null,null,null,null,null,null,null,0,{"$error":"#DIV/0!"},-512,{"$error":"#DIV/0!"},{"$error":"#DIV/0!"}]
[null,null,null,"DIVAR IP 7000 R2 8X6TB + 4x DIVAR IP 6000 R2 8x6TB",null,null,"RAID 5",0,{"$f":"IF(G671=\"RAID 5\",(((7-H671)*5586))+(4*(((7-H671)*5586))),(((6-H671)*5586))+(4*(((6-H671)*5586))))","v":195510},{"$f":"(8*6)+(4*(8*6))","v":240},0,{"$f":"475+(4*550)","v":2675},{"$f":"128+(4*128)","v":640},{"$error":"#DIV/0!"},0,190.927734375,{"$error":"#DIV/0!"},0,0,0,0,0,{"$error":"#DIV/0!"},{"$error":"#DIV/0!"},null,null,null,null,null,null,null,null,0,{"$error":"#DIV/0!"},-640,{"$error":"#DIV/0!"},{"$error":"#DIV/0!"}]
[null,null,null,"DIVAR IP 7000 R2 8X6TB + 1x DIVAR IP 6000 R2 3U 16x6TB",null,null,"RAID 5",0,{"$f":"IF(G672=\"RAID 5\",(((7-H672)*5586))+(1*(((15-H672)*5586))),(((6-H672)*5586))+(1*(((14-H672)*5586))))","v":122892},{"$f":"(8*6)+(1*(16*6))","v":144},0,{"$f":"475+(1*550)","v":1025},{"$f":"128+(1*128)","v":256},{"$error":"#DIV/0!"},0,120.01171875,{"$error":"#DIV/0!"},0,0,0,0,0,{"$error":"#DIV/0!"},{"$error":"#DIV/0!"},null,null,null,null,null,null,null,null,0,{"$error":"#DIV/0!"},-256,{"$error":"#DIV/0!"},{"$error":"#DIV/0!"}]
[null,null,null,"DIVAR IP 7000 R2 8X6TB + 2x DIVAR IP 6000 R2 3U 16x6TB",null,null,"RAID 5",0,{"$f":"IF(G673=\"RAID 5\",(((7-H673)*5586))+(2*(((15-H673)*5586))),(((6-H673)*5586))+(2*(((14-H673)*5586))))","v":206682},{"$f":"(8*6)+(2*(16*6))","v":240},0,{"$f":"475+(2*550)","v":1575},{"$f":"128+(2*128)","v":384},{"$error":"#DIV/0!"},0,201.837890625,{"$error":"#DIV/0!"},0,0,0,0,0,{"$error":"#DIV/0!"},{"$error":"#DIV/0!"},null,null,null,null,null,null,null,null,0,{"$error":"#DIV/0!"},-384,{"$error":"#DIV/0!"},{"$error":"#DIV/0!"}]
[null,null,null,"DIVAR IP 7000 R2 8X6TB + 3x DIVAR IP 6000 R2 3U 16x6TB",null,null,"RAID 5",0,{"$f":"IF(G674=\"RAID 5\",(((7-H674)*5586))+(3*(((15-H674)*5586))),(((6-H674)*5586))+(3*(((14-H674)*5586))))","v":290472},{"$f":"(8*6)+(3*(16*6))","v":336},0,{"$f":"475+(3*550)","v":2125},{"$f":"128+(3*128)","v":512},{"$error":"#DIV/0!"},0,283.6640625,{"$error":"#DIV/0!"},0,0,0,0,0,{"$error":"#DIV/0!"},{"$error":"#DIV/0!"},null,null,null,null,null,null,null,null,0,{"$error":"#DIV/0!"},-512,{"$error":"#DIV/0!"},{"$error":"#DIV/0!"}]
[null,null,null,"DIVAR IP 7000 R2 8X6TB + 4x DIVAR IP 6000 R2 3U 16x6TB",null,null,"RAID 5",0,{"$f":"IF(G675=\"RAID 5\",(((7-H675)*5586))+(4*(((15-H675)*5586))),(((6-H675)*5586))+(4*(((14-H675)*5586))))","v":374262},{"$f":"(8*6)+(4*(16*6))","v":432},0,{"$f":"475+(4*550)","v":2675},{"$f":"128+(4*128)","v":640},{"$error":"#DIV/0!"},0,365.490234375,{"$error":"#DIV/0!"},0,0,0,0,0,{"$error":"#DIV/0!"},{"$error":"#DIV/0!"},null,null,null,null,null,null,null,null,0,{"$error":"#DIV/0!"},-640,{"$error":"#DIV/0!"},{"$error":"#DIV/0!"}]
[null,null,null,"DIVAR IP 7000 R2 8X6TB + 1x DIVAR IP 6000 R2 8x8TB",null,null,"RAID 5",0,{"$f":"IF(G676=\"RAID 5\",(((7-H676)*5586))+(1*(((7-H676)*7448))),(((6-H676)*5586))+(1*(((6-H676)*7448))))","v":91238},{"$f":"(8*6)+(1*(8*8))","v":112},0,{"$f":"475+(1*550)","v":1025},{"$f":"128+(1*128)","v":256},{"$error":"#DIV/0!"},0,89.099609375,{"$error":"#DIV/0!"},0,{"$f":"IF($O676>7,OFFSET($I$255,0,$L$574),OFFSET($I$248,O676-1,$L$574,1,1))","v":0},0,0,0,{"$f":"IF(AND(IF($AJ676<=$L676,TRUE,FALSE),IF($V676<=$AI676,TRUE,FALSE)),\"True\",\"\")","v":{"$error":"#DIV/0!"}},{"$error":"#DIV/0!"},null,null,null,null,null,null,null,null,0,{"$error":"#DIV/0!"},-256,{"$error":"#DIV/0!"},{"$error":"#DIV/0!"}]
[null,null,null,"DIVAR IP 7000 R2 8X6TB + 2x DIVAR IP 6000 R2 8x8TB",null,null,"RAID 5",0,{"$f":"IF(G677=\"RAID 5\",(((7-H677)*5586))+(2*(((7-H677)*7448))),(((6-H677)*5586))+(2*(((6-H677)*7448))))","v":143374},{"$f":"(8*6)+(2*(8*8))","v":176},0,{"$f":"475+(2*550)","v":1575},{"$f":"128+(2*128)","v":384},{"$error":"#DIV/0!"},0,140.013671875,{"$error":"#DIV/0!"},0,0,0,0,0,{"$error":"#DIV/0!"},{"$error":"#DIV/0!"},null,null,null,null,null,null,null,null,0,{"$error":"#DIV/0!"},-384,{"$error":"#DIV/0!"},{"$error":"#DIV/0!"}]
[null,null,null,"DIVAR IP 7000 R2 8X6TB + 3x DIVAR IP 6000 R2 8x8TB",null,null,"RAID 5",0,{"$f":"IF(G678=\"RAID 5\",(((7-H678)*5586))+(3*(((7-H678)*7448))),(((6-H678)*5586))+(3*(((6-H678)*7448))))","v":195510},{"$f":"(8*6)+(3*(8*8))","v":240},0,{"$f":"475+(3*550)","v":2125},{"$f":"128+(3*128)","v":512},{"$error":"#DIV/0!"},0,190.927734375,{"$error":"#DIV/0!"},0,0,0,0,0,{"$error":"#DIV/0!"},{"$error":"#DIV/0!"},null,null,null,null,null,null,null,null,0,{"$error":"#DIV/0!"},-512,{"$error":"#DIV/0!"},{"$error":"#DIV/0!"}]
[null,null,null,"DIVAR IP 7000 R2 8X6TB + 4x DIVAR IP 6000 R2 8x8TB",null,null,"RAID 5",0,{"$f":"IF(G679=\"RAID 5\",(((7-H679)*5586))+(4*(((7-H679)*7448))),(((6-H679)*5586))+(4*(((6-H679)*7448))))","v":247646},{"$f":"(8*6)+(4*(8*8))","v":304},0,{"$f":"475+(4*550)","v":2675},{"$f":"128+(4*128)","v":640},{"$error":"#DIV/0!"},0,241.841796875,{"$error":"#DIV/0!"},0,0,0,0,0,{"$error":"#DIV/0!"},{"$error":"#DIV/0!"},null,null,null,null,null,null,null,null,0,{"$error":"#DIV/0!"},-640,{"$error":"#DIV/0!"},{"$error":"#DIV/0!"}]
[null,null,null,"DIVAR IP 7000 R2 8X6TB + 1x DIVAR IP 6000 R2 3U 16x8TB",null,null,"RAID 5",0,{"$f":"IF(G680=\"RAID 5\",(((7-H680)*5586))+(1*(((15-H680)*7448))),(((6-H680)*5586))+(1*(((14-H680)*7448))))","v":150822},{"$f":"(8*6)+(1*(16*8))","v":176},0,{"$f":"475+(1*550)","v":1025},{"$f":"128+(1*128)","v":256},{"$error":"#DIV/0!"},0,147.287109375,{"$error":"#DIV/0!"},0,0,0,0,0,{"$error":"#DIV/0!"},{"$error":"#DIV/0!"},null,null,null,null,null,null,null,null,0,{"$error":"#DIV/0!"},-256,{"$error":"#DIV/0!"},{"$error":"#DIV/0!"}]
[null,null,null,"DIVAR IP 7000 R2 8X6TB + 2x DIVAR IP 6000 R2 3U 16x8TB",null,null,"RAID 5",0,{"$f":"IF(G681=\"RAID 5\",(((7-H681)*5586))+(2*(((15-H681)*7448))),(((6-H681)*5586))+(2*(((14-H681)*7448))))","v":262542},{"$f":"(8*6)+(2*(16*8))","v":304},0,{"$f":"475+(2*550)","v":1575},{"$f":"128+(2*128)","v":384},{"$error":"#DIV/0!"},0,256.388671875,{"$error":"#DIV/0!"},0,0,0,0,0,{"$error":"#DIV/0!"},{"$error":"#DIV/0!"},null,null,null,null,null,null,null,null,0,{"$error":"#DIV/0!"},-384,{"$error":"#DIV/0!"},{"$error":"#DIV/0!"}]
[null,null,null,"DIVAR IP 7000 R2 8X6TB + 3x DIVAR IP 6000 R2 3U 16x8TB",null,null,"RAID 5",0,{"$f":"IF(G682=\"RAID 5\",(((7-H682)*5586))+(3*(((15-H682)*7448))),(((6-H682)*5586))+(3*(((14-H682)*7448))))","v":374262},{"$f":"(8*6)+(3*(16*8))","v":432},0,{"$f":"475+(3*550)","v":2125},{"$f":"128+(3*128)","v":512},{"$error":"#DIV/0!"},0,365.490234375,{"$error":"#DIV/0!"},0,0,0,0,0,{"$error":"#DIV/0!"},{"$f":"IF(AND(IF($N682<=$L682,TRUE,FALSE),IF($V682<=$R682,TRUE,FALSE),OR(W682=\"True\",$W$579=\"No\"),IF($A$586=\"False\",IF(O682=1,TRUE,FALSE),TRUE)),\"<-- fits project\",\"\")","v":{"$error":"#DIV/0!"}},null,null,null,null,null,null,null,null,0,{"$error":"#DIV/0!"},-512,{"$error":"#DIV/0!"},{"$error":"#DIV/0!"}]
[null,null,null,"DIVAR IP 7000 R2 8X6TB + 4x DIVAR IP 6000 R2 3U 16x8TB",null,null,"RAID 5",0,{"$f":"IF(G683=\"RAID 5\",(((7-H683)*5586))+(4*(((15-H683)*7448))),(((6-H683)*5586))+(4*(((14-H683)*7448))))","v":485982},{"$f":"(8*6)+(4*(16*8))","v":560},0,{"$f":"475+(4*550)","v":2675},{"$f":"128+(4*128)","v":640},{"$error":"#DIV/0!"},0,474.591796875,{"$error":"#DIV/0!"},0,0,0,0,0,{"$error":"#DIV/0!"},{"$error":"#DIV/0!"},null,null,null,null,null,null,null,null,0,{"$error":"#DIV/0!"},-640,{"$error":"#DIV/0!"},{"$error":"#DIV/0!"}]
[null,null,null,"DIVAR IP 7000 R2 8x8TB + 1x DIVAR IP 6000 R2 8x3TB",null,null,"RAID 5",0,{"$f":"IF(G684=\"RAID 5\",(((7-H684)*7448))+(1*(((7-H684)*2793))),(((6-H684)*7448))+(1*(((6-H684)*2793))))","v":71687},{"$f":"(8*8)+(1*(8*3))","v":88},0,{"$f":"475+(1*550)","v":1025},{"$f":"128+(1*128)","v":256},{"$error":"#DIV/0!"},0,70.0068359375,{"$error":"#DIV/0!"},0,0,0,0,0,{"$error":"#DIV/0!"},{"$error":"#DIV/0!"},null,null,null,null,null,null,null,null,{"$f":"AF684*O684","v":0},{"$f":"AG684/$AG$563","v":{"$error":"#DIV/0!"}},-256,{"$error":"#DIV/0!"},{"$error":"#DIV/0!"}]
[null,null,null,"DIVAR IP 7000 R2 8x8TB + 2x DIVAR IP 6000 R2 8x3TB",null,null,"RAID 5",0,{"$f":"IF(G685=\"RAID 5\",(((7-H685)*7448))+(2*(((7-H685)*2793))),(((6-H685)*7448))+(2*(((6-H685)*2793))))","v":91238},{"$f":"(8*8)+(2*(8*3))","v":112},0,{"$f":"475+(2*550)","v":1575},{"$f":"128+(2*128)","v":384},{"$error":"#DIV/0!"},0,89.099609375,{"$error":"#DIV/0!"},0,0,0,0,0,{"$error":"#DIV/0!"},{"$error":"#DIV/0!"},null,null,null,null,null,null,null,null,0,{"$error":"#DIV/0!"},-384,{"$error":"#DIV/0!"},{"$error":"#DIV/0!"}]
[null,null,null,"DIVAR IP 7000 R2 8x8TB + 3x DIVAR IP 6000 R2 8x3TB",null,null,"RAID 5",0,{"$f":"IF(G686=\"RAID 5\",(((7-H686)*7448))+(3*(((7-H686)*2793))),(((6-H686)*7448))+(3*(((6-H686)*2793))))","v":110789},{"$f":"(8*8)+(3*(8*3))","v":136},0,{"$f":"475+(3*550)","v":2125},{"$f":"128+(3*128)","v":512},{"$error":"#DIV/0!"},0,108.1923828125,{"$error":"#DIV/0!"},0,0,0,0,0,{"$error":"#DIV/0!"},{"$error":"#DIV/0!"},null,null,null,null,null,null,null,null,0,{"$error":"#DIV/0!"},-512,{"$error":"#DIV/0!"},{"$error":"#DIV/0!"}]
[null,null,null,"DIVAR IP 7000 R2 8x8TB + 4x DIVAR IP 6000 R2 8x3TB",null,null,"RAID 5",0,{"$f":"IF(G687=\"RAID 5\",(((7-H687)*7448))+(4*(((7-H687)*2793))),(((6-H687)*7448))+(4*(((6-H687)*2793))))","v":130340},{"$f":"(8*8)+(4*(8*3))","v":160},0,{"$f":"475+(4*550)","v":2675},{"$f":"128+(4*128)","v":640},{"$error":"#DIV/0!"},0,127.28515625,{"$error":"#DIV/0!"},0,0,0,0,0,{"$error":"#DIV/0!"},{"$error":"#DIV/0!"},null,null,null,null,null,null,null,null,0,{"$error":"#DIV/0!"},-640,{"$error":"#DIV/0!"},{"$error":"#DIV/0!"}]
[null,null,null,"DIVAR IP 7000 R2 8x8TB + 1x DIVAR IP 6000 R2 3U 16x3TB",null,null,"RAID 5",0,{"$f":"IF(G688=\"RAID 5\",(((7-H688)*7448))+(1*(((15-H688)*2793))),(((6-H688)*7448))+(1*(((14-H688)*2793))))","v":94031},{"$f":"(8*8)+(1*(16*3))","v":112},0,{"$f":"475+(1*550)","v":1025},{"$f":"128+(1*128)","v":256},{"$error":"#DIV/0!"},0,91.8271484375,{"$f":"AH688","v":{"$error":"#DIV/0!"}},0,0,0,0,0,{"$error":"#DIV/0!"},{"$error":"#DIV/0!"},null,null,null,null,null,null,null,null,0,{"$error":"#DIV/0!"},-256,{"$error":"#DIV/0!"},{"$error":"#DIV/0!"}]
[null,null,null,"DIVAR IP 7000 R2 8x8TB + 2x DIVAR IP 6000 R2 3U 16x3TB",null,null,"RAID 5",0,{"$f":"IF(G689=\"RAID 5\",(((7-H689)*7448))+(2*(((15-H689)*2793))),(((6-H689)*7448))+(2*(((14-H689)*2793))))","v":135926},{"$f":"(8*8)+(2*(16*3))","v":160},0,{"$f":"475+(2*550)","v":1575},{"$f":"128+(2*128)","v":384},{"$error":"#DIV/0!"},0,132.740234375,{"$error":"#DIV/0!"},0,0,0,0,0,{"$error":"#DIV/0!"},{"$error":"#DIV/0!"},null,null,null,null,null,null,null,null,0,{"$error":"#DIV/0!"},-384,{"$error":"#DIV/0!"},{"$error":"#DIV/0!"}]
[null,null,null,"DIVAR IP 7000 R2 8x8TB + 3x DIVAR IP 6000 R2 3U 16x3TB",null,null,"RAID 5",0,{"$f":"IF(G690=\"RAID 5\",(((7-H690)*7448))+(3*(((15-H690)*2793))),(((6-H690)*7448))+(3*(((14-H690)*2793))))","v":177821},{"$f":"(8*8)+(3*(16*3))","v":208},0,{"$f":"475+(3*550)","v":2125},{"$f":"128+(3*128)","v":512},{"$f":"$I$574/O690","v":{"$error":"#DIV/0!"}},{"$f":"ROUNDUP($G$574/I690,0)","v":0},{"$f":"(1-(($G$574/$I690)-INT($G$574/$I690)))*I690/1024","v":173.6533203125},{"$error":"#DIV/0!"},0,0,0,0,0,{"$error":"#DIV/0!"},{"$error":"#DIV/0!"},null,null,null,null,null,null,null,null,0,{"$error":"#DIV/0!"},-512,{"$f":"IF(O690>1,$I$574/(O690-1),$I$574/O690)","v":{"$error":"#DIV/0!"}},{"$error":"#DIV/0!"}]
[null,null,null,"DIVAR IP 7000 R2 8x8TB + 4x DIVAR IP 6000 R2 3U 16x3TB",null,null,"RAID 5",0,{"$f":"IF(G691=\"RAID 5\",(((7-H691)*7448))+(4*(((15-H691)*2793))),(((6-H691)*7448))+(4*(((14-H691)*2793))))","v":219716},{"$f":"(8*8)+(4*(16*3))","v":256},0,{"$f":"475+(4*550)","v":2675},{"$f":"128+(4*128)","v":640},{"$error":"#DIV/0!"},0,214.56640625,{"$error":"#DIV/0!"},0,0,0,0,0,{"$error":"#DIV/0!"},{"$error":"#DIV/0!"},null,null,null,null,null,null,null,null,0,{"$error":"#DIV/0!"},-640,{"$error":"#DIV/0!"},{"$error":"#DIV/0!"}]
[null,null,null,"DIVAR IP 7000 R2 8x8TB + 1x DIVAR IP 6000 R2 8X4TB",null,null,"RAID 5",0,{"$f":"IF(G692=\"RAID 5\",(((7-H692)*7448))+(1*(((7-H692)*3723))),(((6-H692)*7448))+(1*(((6-H692)*3723))))","v":78197},{"$f":"(8*8)+(1*(8*4))","v":96},0,{"$f":"475+(1*550)","v":1025},{"$f":"128+(1*128)","v":256},{"$error":"#DIV/0!"},0,76.3642578125,{"$error":"#DIV/0!"},0,0,0,0,0,{"$error":"#DIV/0!"},{"$error":"#DIV/0!"},null,null,null,null,null,null,null,null,0,{"$error":"#DIV/0!"},-256,{"$error":"#DIV/0!"},{"$error":"#DIV/0!"}]
[null,null,null,"DIVAR IP 7000 R2 8x8TB + 2x DIVAR IP 6000 R2 8X4TB",null,null,"RAID 5",0,{"$f":"IF(G693=\"RAID 5\",(((7-H693)*7448))+(2*(((7-H693)*3723))),(((6-H693)*7448))+(2*(((6-H693)*3723))))","v":104258},{"$f":"(8*8)+(2*(8*4))","v":128},0,{"$f":"475+(2*550)","v":1575},{"$f":"128+(2*128)","v":384},{"$error":"#DIV/0!"},0,101.814453125,{"$error":"#DIV/0!"},0,0,0,0,0,{"$error":"#DIV/0!"},{"$error":"#DIV/0!"},null,null,null,null,null,null,null,null,0,{"$error":"#DIV/0!"},-384,{"$error":"#DIV/0!"},{"$error":"#DIV/0!"}]
[null,null,null,"DIVAR IP 7000 R2 8x8TB + 3x DIVAR IP 6000 R2 8X4TB",null,null,"RAID 5",0,{"$f":"IF(G694=\"RAID 5\",(((7-H694)*7448))+(3*(((7-H694)*3723))),(((6-H694)*7448))+(3*(((6-H694)*3723))))","v":130319},{"$f":"(8*8)+(3*(8*4))","v":160},0,{"$f":"475+(3*550)","v":2125},{"$f":"128+(3*128)","v":512},{"$error":"#DIV/0!"},0,127.2646484375,{"$error":"#DIV/0!"},0,0,0,0,0,{"$error":"#DIV/0!"},{"$error":"#DIV/0!"},null,null,null,null,null,null,null,null,0,{"$error":"#DIV/0!"},-512,{"$error":"#DIV/0!"},{"$error":"#DIV/0!"}]
[null,null,null,"DIVAR IP 7000 R2 8x8TB + 4x DIVAR IP 6000 R2 8X4TB",null,null,"RAID 5",0,{"$f":"IF(G695=\"RAID 5\",(((7-H695)*7448))+(4*(((7-H695)*3723))),(((6-H695)*7448))+(4*(((6-H695)*3723))))","v":156380},{"$f":"(8*8)+(4*(8*4))","v":192},0,{"$f":"475+(4*550)","v":2675},{"$f":"128+(4*128)","v":640},{"$error":"#DIV/0!"},0,152.71484375,{"$error":"#DIV/0!"},0,0,0,0,0,{"$error":"#DIV/0!"},{"$error":"#DIV/0!"},null,null,null,null,null,null,null,null,0,{"$error":"#DIV/0!"},-640,{"$error":"#DIV/0!"},{"$error":"#DIV/0!"}]
[null,null,null,"DIVAR IP 7000 R2 8x8TB + 1x DIVAR IP 6000 R2 3U 16x4TB",null,null,"RAID 5",0,{"$f":"IF(G696=\"RAID 5\",(((7-H696)*7448))+(1*(((15-H696)*3723))),(((6-H696)*7448))+(1*(((14-H696)*3723))))","v":107981},{"$f":"(8*8)+(1*(16*4))","v":128},0,{"$f":"475+(1*550)","v":1025},{"$f":"128+(1*128)","v":256},{"$error":"#DIV/0!"},0,105.4501953125,{"$error":"#DIV/0!"},0,0,0,{"$f":"$S$259*MIN(O696,$S$260)","v":0},0,{"$error":"#DIV/0!"},{"$error":"#DIV/0!"},null,null,null,null,null,null,null,null,0,{"$error":"#DIV/0!"},-256,{"$error":"#DIV/0!"},{"$error":"#DIV/0!"}]
[null,null,null,"DIVAR IP 7000 R2 8x8TB + 2x DIVAR IP 6000 R2 3U 16x4TB",null,null,"RAID 5",0,{"$f":"IF(G697=\"RAID 5\",(((7-H697)*7448))+(2*(((15-H697)*3723))),(((6-H697)*7448))+(2*(((14-H697)*3723))))","v":163826},{"$f":"(8*8)+(2*(16*4))","v":192},0,{"$f":"475+(2*550)","v":1575},{"$f":"128+(2*128)","v":384},{"$error":"#DIV/0!"},0,159.986328125,{"$error":"#DIV/0!"},0,0,0,0,0,{"$error":"#DIV/0!"},{"$error":"#DIV/0!"},null,null,null,null,null,null,null,null,0,{"$error":"#DIV/0!"},-384,{"$error":"#DIV/0!"},{"$error":"#DIV/0!"}]
[null,null,null,"DIVAR IP 7000 R2 8x8TB + 3x DIVAR IP 6000 R2 3U 16x4TB",null,null,"RAID 5",0,{"$f":"IF(G698=\"RAID 5\",(((7-H698)*7448))+(3*(((15-H698)*3723))),(((6-H698)*7448))+(3*(((14-H698)*3723))))","v":219671},{"$f":"(8*8)+(3*(16*4))","v":256},0,{"$f":"475+(3*550)","v":2125},{"$f":"128+(3*128)","v":512},{"$error":"#DIV/0!"},0,214.5224609375,{"$error":"#DIV/0!"},0,0,0,0,0,{"$error":"#DIV/0!"},{"$error":"#DIV/0!"},null,null,null,null,null,null,null,null,0,{"$error":"#DIV/0!"},-512,{"$error":"#DIV/0!"},{"$error":"#DIV/0!"}]
[null,null,null,"DIVAR IP 7000 R2 8x8TB + 4x DIVAR IP 6000 R2 3U 16x4TB",null,null,"RAID 5",0,{"$f":"IF(G699=\"RAID 5\",(((7-H699)*7448))+(4*(((15-H699)*3723))),(((6-H699)*7448))+(4*(((14-H699)*3723))))","v":275516},{"$f":"(8*8)+(4*(16*4))","v":320},0,{"$f":"475+(4*550)","v":2675},{"$f":"128+(4*128)","v":640},{"$error":"#DIV/0!"},0,269.05859375,{"$error":"#DIV/0!"},0,0,0,0,0,{"$error":"#DIV/0!"},{"$error":"#DIV/0!"},null,null,null,null,null,null,null,null,0,{"$error":"#DIV/0!"},-640,{"$error":"#DIV/0!"},{"$error":"#DIV/0!"}]
[null,null,null,"DIVAR IP 7000 R2 8x8TB + 1x DIVAR IP 6000 R2 8x6TB",null,null,"RAID 5",0,{"$f":"IF(G700=\"RAID 5\",(((7-H700)*7448))+(1*(((7-H700)*5586))),(((6-H700)*7448))+(1*(((6-H700)*5586))))","v":91238},{"$f":"(8*8)+(1*(8*6))","v":112},0,{"$f":"475+(1*550)","v":1025},{"$f":"128+(1*128)","v":256},{"$error":"#DIV/0!"},0,89.099609375,{"$error":"#DIV/0!"},0,0,0,0,0,{"$error":"#DIV/0!"},{"$error":"#DIV/0!"},null,null,null,null,null,null,null,null,0,{"$error":"#DIV/0!"},-256,{"$error":"#DIV/0!"},{"$error":"#DIV/0!"}]
[null,null,null,"DIVAR IP 7000 R2 8x8TB + 2x DIVAR IP 6000 R2 8x6TB",null,null,"RAID 5",0,{"$f":"IF(G701=\"RAID 5\",(((7-H701)*7448))+(2*(((7-H701)*5586))),(((6-H701)*7448))+(2*(((6-H701)*5586))))","v":130340},{"$f":"(8*8)+(2*(8*6))","v":160},0,{"$f":"475+(2*550)","v":1575},{"$f":"128+(2*128)","v":384},{"$error":"#DIV/0!"},0,127.28515625,{"$error":"#DIV/0!"},0,0,0,0,0,{"$error":"#DIV/0!"},{"$error":"#DIV/0!"},null,null,null,null,null,null,null,null,0,{"$error":"#DIV/0!"},-384,{"$error":"#DIV/0!"},{"$error":"#DIV/0!"}]
[null,null,null,"DIVAR IP 7000 R2 8x8TB + 3x DIVAR IP 6000 R2 8x6TB",null,null,"RAID 5",0,{"$f":"IF(G702=\"RAID 5\",(((7-H702)*7448))+(3*(((7-H702)*5586))),(((6-H702)*7448))+(3*(((6-H702)*5586))))","v":169442},{"$f":"(8*8)+(3*(8*6))","v":208},0,{"$f":"475+(3*550)","v":2125},{"$f":"128+(3*128)","v":512},{"$error":"#DIV/0!"},0,165.470703125,{"$error":"#DIV/0!"},0,0,0,0,0,{"$error":"#DIV/0!"},{"$error":"#DIV/0!"},null,null,null,null,null,null,null,null,0,{"$error":"#DIV/0!"},-512,{"$error":"#DIV/0!"},{"$error":"#DIV/0!"}]
[null,null,null,"DIVAR IP 7000 R2 8x8TB + 4x DIVAR IP 6000 R2 8x6TB",null,null,"RAID 5",0,{"$f":"IF(G703=\"RAID 5\",(((7-H703)*7448))+(4*(((7-H703)*5586))),(((6-H703)*7448))+(4*(((6-H703)*5586))))","v":208544},{"$f":"(8*8)+(4*(8*6))","v":256},0,{"$f":"475+(4*550)","v":2675},{"$f":"128+(4*128)","v":640},{"$error":"#DIV/0!"},0,203.65625,{"$error":"#DIV/0!"},0,0,0,0,0,{"$error":"#DIV/0!"},{"$error":"#DIV/0!"},null,null,null,null,null,null,null,null,0,{"$error":"#DIV/0!"},-640,{"$error":"#DIV/0!"},{"$error":"#DIV/0!"}]
[null,null,null,"DIVAR IP 7000 R2 8x8TB + 1x DIVAR IP 6000 R2 3U 16x6TB",null,null,"RAID 5",0,{"$f":"IF(G704=\"RAID 5\",(((7-H704)*7448))+(1*(((15-H704)*5586))),(((6-H704)*7448))+(1*(((14-H704)*5586))))","v":135926},{"$f":"(8*8)+(1*(16*6))","v":160},0,{"$f":"475+(1*550)","v":1025},{"$f":"128+(1*128)","v":256},{"$error":"#DIV/0!"},0,132.740234375,{"$error":"#DIV/0!"},0,0,0,0,0,{"$error":"#DIV/0!"},{"$error":"#DIV/0!"},null,null,null,null,null,null,null,null,0,{"$error":"#DIV/0!"},-256,{"$error":"#DIV/0!"},{"$error":"#DIV/0!"}]
[null,null,null,"DIVAR IP 7000 R2 8x8TB + 2x DIVAR IP 6000 R2 3U 16x6TB",null,null,"RAID 5",0,{"$f":"IF(G705=\"RAID 5\",(((7-H705)*7448))+(2*(((15-H705)*5586))),(((6-H705)*7448))+(2*(((14-H705)*5586))))","v":219716},{"$f":"(8*8)+(2*(16*6))","v":256},0,{"$f":"475+(2*550)","v":1575},{"$f":"128+(2*128)","v":384},{"$error":"#DIV/0!"},0,214.56640625,{"$error":"#DIV/0!"},0,0,0,0,0,{"$error":"#DIV/0!"},{"$error":"#DIV/0!"},null,null,null,null,null,null,null,null,0,{"$error":"#DIV/0!"},-384,{"$error":"#DIV/0!"},{"$error":"#DIV/0!"}]
[null,null,null,"DIVAR IP 7000 R2 8x8TB + 3x DIVAR IP 6000 R2 3U 16x6TB",null,null,"RAID 5",0,{"$f":"IF(G706=\"RAID 5\",(((7-H706)*7448))+(3*(((15-H706)*5586))),(((6-H706)*7448))+(3*(((14-H706)*5586))))","v":303506},{"$f":"(8*8)+(3*(16*6))","v":352},0,{"$f":"475+(3*550)","v":2125},{"$f":"128+(3*128)","v":512},{"$error":"#DIV/0!"},0,296.392578125,{"$error":"#DIV/0!"},0,0,0,0,0,{"$error":"#DIV/0!"},{"$error":"#DIV/0!"},null,null,null,null,null,null,null,null,0,{"$error":"#DIV/0!"},-512,{"$error":"#DIV/0!"},{"$error":"#DIV/0!"}]
[null,null,null,"DIVAR IP 7000 R2 8x8TB + 4x DIVAR IP 6000 R2 3U 16x6TB",null,null,"RAID 5",0,{"$f":"IF(G707=\"RAID 5\",(((7-H707)*7448))+(4*(((15-H707)*5586))),(((6-H707)*7448))+(4*(((14-H707)*5586))))","v":387296},{"$f":"(8*8)+(4*(16*6))","v":448},0,{"$f":"475+(4*550)","v":2675},{"$f":"128+(4*128)","v":640},{"$error":"#DIV/0!"},0,378.21875,{"$error":"#DIV/0!"},0,0,0,0,0,{"$error":"#DIV/0!"},{"$error":"#DIV/0!"},null,null,null,null,null,null,null,null,0,{"$error":"#DIV/0!"},-640,{"$error":"#DIV/0!"},{"$error":"#DIV/0!"}]
[null,null,null,"DIVAR IP 7000 R2 8x8TB + 1x DIVAR IP 6000 R2 8x8TB",null,null,"RAID 5",0,{"$f":"IF(G708=\"RAID 5\",(((7-H708)*7448))+(1*(((7-H708)*7448))),(((6-H708)*7448))+(1*(((6-H708)*7448))))","v":104272},{"$f":"(8*8)+(1*(8*8))","v":128},{"$f":"O708*J708","v":0},{"$f":"475+(1*550)","v":1025},{"$f":"128+(1*128)","v":256},{"$error":"#DIV/0!"},0,101.828125,{"$error":"#DIV/0!"},{"$f":"O708*M708","v":0},0,{"$f":"O708*1*MAX($N$1528,1)","v":0},0,0,{"$error":"#DIV/0!"},{"$error":"#DIV/0!"},null,null,null,null,null,null,null,null,0,{"$error":"#DIV/0!"},{"$f":"(O708-1)*M708","v":-256},{"$error":"#DIV/0!"},{"$error":"#DIV/0!"}]
[null,null,null,"DIVAR IP 7000 R2 8x8TB + 2x DIVAR IP 6000 R2 8x8TB",null,null,"RAID 5",0,{"$f":"IF(G709=\"RAID 5\",(((7-H709)*7448))+(2*(((7-H709)*7448))),(((6-H709)*7448))+(2*(((6-H709)*7448))))","v":156408},{"$f":"(8*8)+(2*(8*8))","v":192},0,{"$f":"475+(2*550)","v":1575},{"$f":"128+(2*128)","v":384},{"$error":"#DIV/0!"},0,152.7421875,{"$error":"#DIV/0!"},0,0,0,0,0,{"$error":"#DIV/0!"},{"$error":"#DIV/0!"},null,null,null,null,null,null,null,null,0,{"$error":"#DIV/0!"},-384,{"$error":"#DIV/0!"},{"$error":"#DIV/0!"}]
[null,null,null,"DIVAR IP 7000 R2 8x8TB + 3x DIVAR IP 6000 R2 8x8TB",null,null,"RAID 5",0,{"$f":"IF(G710=\"RAID 5\",(((7-H710)*7448))+(3*(((7-H710)*7448))),(((6-H710)*7448))+(3*(((6-H710)*7448))))","v":208544},{"$f":"(8*8)+(3*(8*8))","v":256},0,{"$f":"475+(3*550)","v":2125},{"$f":"128+(3*128)","v":512},{"$error":"#DIV/0!"},0,203.65625,{"$error":"#DIV/0!"},0,0,0,0,0,{"$error":"#DIV/0!"},{"$error":"#DIV/0!"},null,null,null,null,null,null,null,null,0,{"$error":"#DIV/0!"},-512,{"$error":"#DIV/0!"},{"$error":"#DIV/0!"}]
[null,null,null,"DIVAR IP 7000 R2 8x8TB + 4x DIVAR IP 6000 R2 8x8TB",null,null,"RAID 5",0,{"$f":"IF(G711=\"RAID 5\",(((7-H711)*7448))+(4*(((7-H711)*7448))),(((6-H711)*7448))+(4*(((6-H711)*7448))))","v":260680},{"$f":"(8*8)+(4*(8*8))","v":320},0,{"$f":"475+(4*550)","v":2675},{"$f":"128+(4*128)","v":640},{"$error":"#DIV/0!"},0,254.5703125,{"$error":"#DIV/0!"},0,0,0,0,0,{"$error":"#DIV/0!"},{"$error":"#DIV/0!"},null,null,null,null,null,null,null,null,0,{"$error":"#DIV/0!"},-640,{"$error":"#DIV/0!"},{"$error":"#DIV/0!"}]
[null,null,null,"DIVAR IP 7000 R2 8x8TB + 1x DIVAR IP 6000 R2 3U 16x8TB",null,null,"RAID 5",0,{"$f":"IF(G712=\"RAID 5\",(((7-H712)*7448))+(1*(((15-H712)*7448))),(((6-H712)*7448))+(1*(((14-H712)*7448))))","v":163856},{"$f":"(8*8)+(1*(16*8))","v":192},0,{"$f":"475+(1*550)","v":1025},{"$f":"128+(1*128)","v":256},{"$error":"#DIV/0!"},0,160.015625,{"$error":"#DIV/0!"},0,0,0,0,0,{"$error":"#DIV/0!"},{"$error":"#DIV/0!"},null,null,null,null,null,null,null,null,0,{"$error":"#DIV/0!"},-256,{"$error":"#DIV/0!"},{"$error":"#DIV/0!"}]
[null,null,null,"DIVAR IP 7000 R2 8x8TB + 2x DIVAR IP 6000 R2 3U 16x8TB",null,null,"RAID 5",0,{"$f":"IF(G713=\"RAID 5\",(((7-H713)*7448))+(2*(((15-H713)*7448))),(((6-H713)*7448))+(2*(((14-H713)*7448))))","v":275576},{"$f":"(8*8)+(2*(16*8))","v":320},0,{"$f":"475+(2*550)","v":1575},{"$f":"128+(2*128)","v":384},{"$error":"#DIV/0!"},0,269.1171875,{"$error":"#DIV/0!"},0,0,0,0,0,{"$error":"#DIV/0!"},{"$error":"#DIV/0!"},null,null,null,null,null,null,null,null,0,{"$error":"#DIV/0!"},-384,{"$error":"#DIV/0!"},{"$error":"#DIV/0!"}]
[null,null,null,"DIVAR IP 7000 R2 8x8TB + 3x DIVAR IP 6000 R2 3U 16x8TB",null,null,"RAID 5",0,{"$f":"IF(G714=\"RAID 5\",(((7-H714)*7448))+(3*(((15-H714)*7448))),(((6-H714)*7448))+(3*(((14-H714)*7448))))","v":387296},{"$f":"(8*8)+(3*(16*8))","v":448},0,{"$f":"475+(3*550)","v":2125},{"$f":"128+(3*128)","v":512},{"$error":"#DIV/0!"},0,378.21875,{"$error":"#DIV/0!"},0,0,0,0,0,{"$error":"#DIV/0!"},{"$f":"IF(AND(IF($N714<=$L714,TRUE,FALSE),IF($V714<=$R714,TRUE,FALSE),OR(W714=\"True\",$W$579=\"No\"),IF($A$586=\"False\",IF(O714=1,TRUE,FALSE),TRUE)),\"<-- fits project\",\"\")","v":{"$error":"#DIV/0!"}},null,null,null,null,null,null,null,null,0,{"$error":"#DIV/0!"},-512,{"$error":"#DIV/0!"},{"$error":"#DIV/0!"}]
[null,null,null,"DIVAR IP 7000 R2 8x8TB + 4x DIVAR IP 6000 R2 3U 16x8TB",null,null,"RAID 5",0,{"$f":"IF(G715=\"RAID 5\",(((7-H715)*7448))+(4*(((15-H715)*7448))),(((6-H715)*7448))+(4*(((14-H715)*7448))))","v":499016},{"$f":"(8*8)+(4*(16*8))","v":576},0,{"$f":"475+(4*550)","v":2675},{"$f":"128+(4*128)","v":640},{"$error":"#DIV/0!"},0,487.3203125,{"$error":"#DIV/0!"},0,0,0,0,0,{"$error":"#DIV/0!"},{"$error":"#DIV/0!"},null,null,null,null,null,null,null,null,0,{"$error":"#DIV/0!"},-640,{"$error":"#DIV/0!"},{"$error":"#DIV/0!"}]
[null,null,null,"DIVAR IP 7000 R2 16x6TB + 1x DIVAR IP 6000 R2 8x3TB",null,null,"RAID 5",0,{"$f":"IF(G716=\"RAID 5\",(((15-H716)*5586))+(1*(((7-H716)*2793))),(((14-H716)*5586))+(1*(((6-H716)*2793))))","v":103341},{"$f":"(16*6)+(1*(8*3))","v":120},0,{"$f":"475+(1*550)","v":1025},{"$f":"128+(1*128)","v":256},{"$error":"#DIV/0!"},0,100.9189453125,{"$error":"#DIV/0!"},0,0,0,0,0,{"$error":"#DIV/0!"},{"$error":"#DIV/0!"},null,null,null,null,null,null,null,null,0,{"$error":"#DIV/0!"},-256,{"$error":"#DIV/0!"},{"$error":"#DIV/0!"}]
[null,null,null,"DIVAR IP 7000 R2 16x6TB + 2x DIVAR IP 6000 R2 8x3TB",null,null,"RAID 5",0,{"$f":"IF(G717=\"RAID 5\",(((15-H717)*5586))+(2*(((7-H717)*2793))),(((14-H717)*5586))+(2*(((6-H717)*2793))))","v":122892},{"$f":"(16*6)+(2*(8*3))","v":144},0,{"$f":"475+(2*550)","v":1575},{"$f":"128+(2*128)","v":384},{"$error":"#DIV/0!"},0,120.01171875,{"$error":"#DIV/0!"},0,0,0,0,0,{"$error":"#DIV/0!"},{"$error":"#DIV/0!"},null,null,null,null,null,null,null,null,0,{"$error":"#DIV/0!"},-384,{"$error":"#DIV/0!"},{"$error":"#DIV/0!"}]
[null,null,null,"DIVAR IP 7000 R2 16x6TB + 3x DIVAR IP 6000 R2 8x3TB",null,null,"RAID 5",0,{"$f":"IF(G718=\"RAID 5\",(((15-H718)*5586))+(3*(((7-H718)*2793))),(((14-H718)*5586))+(3*(((6-H718)*2793))))","v":142443},{"$f":"(16*6)+(3*(8*3))","v":168},0,{"$f":"475+(3*550)","v":2125},{"$f":"128+(3*128)","v":512},{"$error":"#DIV/0!"},0,139.1044921875,{"$error":"#DIV/0!"},0,0,0,0,0,{"$error":"#DIV/0!"},{"$error":"#DIV/0!"},null,null,null,null,null,null,null,null,0,{"$error":"#DIV/0!"},-512,{"$error":"#DIV/0!"},{"$error":"#DIV/0!"}]
[null,null,null,"DIVAR IP 7000 R2 16x6TB + 4x DIVAR IP 6000 R2 8x3TB",null,null,"RAID 5",0,{"$f":"IF(G719=\"RAID 5\",(((15-H719)*5586))+(4*(((7-H719)*2793))),(((14-H719)*5586))+(4*(((6-H719)*2793))))","v":161994},{"$f":"(16*6)+(4*(8*3))","v":192},0,{"$f":"475+(4*550)","v":2675},{"$f":"128+(4*128)","v":640},{"$error":"#DIV/0!"},0,158.197265625,{"$error":"#DIV/0!"},0,0,0,0,0,{"$error":"#DIV/0!"},{"$error":"#DIV/0!"},null,null,null,null,null,null,null,null,0,{"$error":"#DIV/0!"},-640,{"$error":"#DIV/0!"},{"$error":"#DIV/0!"}]
[null,null,null,"DIVAR IP 7000 R2 16x6TB + 1x DIVAR IP 6000 R2 3U 16x3TB",null,null,"RAID 5",0,{"$f":"IF(G720=\"RAID 5\",(((15-H720)*5586))+(1*(((15-H720)*2793))),(((14-H720)*5586))+(1*(((14-H720)*2793))))","v":125685},{"$f":"(16*6)+(1*(16*3))","v":144},0,{"$f":"475+(1*550)","v":1025},{"$f":"128+(1*128)","v":256},{"$error":"#DIV/0!"},0,122.7392578125,{"$error":"#DIV/0!"},0,0,0,0,0,{"$error":"#DIV/0!"},{"$error":"#DIV/0!"},null,null,null,null,null,null,null,null,0,{"$error":"#DIV/0!"},-256,{"$error":"#DIV/0!"},{"$error":"#DIV/0!"}]
[null,null,null,"DIVAR IP 7000 R2 16x6TB + 2x DIVAR IP 6000 R2 3U 16x3TB",null,null,"RAID 5",0,{"$f":"IF(G721=\"RAID 5\",(((15-H721)*5586))+(2*(((15-H721)*2793))),(((14-H721)*5586))+(2*(((14-H721)*2793))))","v":167580},{"$f":"(16*6)+(2*(16*3))","v":192},0,{"$f":"475+(2*550)","v":1575},{"$f":"128+(2*128)","v":384},{"$error":"#DIV/0!"},0,163.65234375,{"$error":"#DIV/0!"},0,0,0,0,0,{"$error":"#DIV/0!"},{"$error":"#DIV/0!"},null,null,null,null,null,null,null,null,0,{"$error":"#DIV/0!"},-384,{"$error":"#DIV/0!"},{"$error":"#DIV/0!"}]
[null,null,null,"DIVAR IP 7000 R2 16x6TB + 3x DIVAR IP 6000 R2 3U 16x3TB",null,null,"RAID 5",0,{"$f":"IF(G722=\"RAID 5\",(((15-H722)*5586))+(3*(((15-H722)*2793))),(((14-H722)*5586))+(3*(((14-H722)*2793))))","v":209475},{"$f":"(16*6)+(3*(16*3))","v":240},0,{"$f":"475+(3*550)","v":2125},{"$f":"128+(3*128)","v":512},{"$f":"$I$574/O722","v":{"$error":"#DIV/0!"}},{"$f":"ROUNDUP($G$574/I722,0)","v":0},{"$f":"(1-(($G$574/$I722)-INT($G$574/$I722)))*I722/1024","v":204.5654296875},{"$error":"#DIV/0!"},0,0,0,0,{"$f":"SUM(S722)","v":0},{"$error":"#DIV/0!"},{"$error":"#DIV/0!"},null,null,null,null,null,null,null,null,0,{"$error":"#DIV/0!"},-512,{"$f":"IF(O722>1,$I$574/(O722-1),$I$574/O722)","v":{"$error":"#DIV/0!"}},{"$error":"#DIV/0!"}]
[null,null,null,"DIVAR IP 7000 R2 16x6TB + 4x DIVAR IP 6000 R2 3U 16x3TB",null,null,"RAID 5",0,{"$f":"IF(G723=\"RAID 5\",(((15-H723)*5586))+(4*(((15-H723)*2793))),(((14-H723)*5586))+(4*(((14-H723)*2793))))","v":251370},{"$f":"(16*6)+(4*(16*3))","v":288},0,{"$f":"475+(4*550)","v":2675},{"$f":"128+(4*128)","v":640},{"$error":"#DIV/0!"},0,245.478515625,{"$error":"#DIV/0!"},0,0,0,0,0,{"$error":"#DIV/0!"},{"$error":"#DIV/0!"},null,null,null,null,null,null,null,null,0,{"$error":"#DIV/0!"},-640,{"$error":"#DIV/0!"},{"$error":"#DIV/0!"}]
[null,null,null,"DIVAR IP 7000 R2 16x6TB + 1x DIVAR IP 6000 R2 8x4TB",null,null,"RAID 5",0,{"$f":"IF(G724=\"RAID 5\",(((15-H724)*5586))+(1*(((7-H724)*3723))),(((14-H724)*5586))+(1*(((6-H724)*3723))))","v":109851},{"$f":"(16*6)+(1*(8*4))","v":128},0,{"$f":"475+(1*550)","v":1025},{"$f":"128+(1*128)","v":256},{"$error":"#DIV/0!"},0,107.2763671875,{"$error":"#DIV/0!"},0,0,0,0,0,{"$error":"#DIV/0!"},{"$error":"#DIV/0!"},null,null,null,null,null,null,null,null,0,{"$error":"#DIV/0!"},-256,{"$error":"#DIV/0!"},{"$error":"#DIV/0!"}]
[null,null,null,"DIVAR IP 7000 R2 16x6TB + 2x DIVAR IP 6000 R2 8x4TB",null,null,"RAID 5",0,{"$f":"IF(G725=\"RAID 5\",(((15-H725)*5586))+(2*(((7-H725)*3723))),(((14-H725)*5586))+(2*(((6-H725)*3723))))","v":135912},{"$f":"(16*6)+(2*(8*4))","v":160},0,{"$f":"475+(2*550)","v":1575},{"$f":"128+(2*128)","v":384},{"$error":"#DIV/0!"},0,132.7265625,{"$error":"#DIV/0!"},0,0,0,0,0,{"$error":"#DIV/0!"},{"$error":"#DIV/0!"},null,null,null,null,null,null,null,null,0,{"$error":"#DIV/0!"},-384,{"$error":"#DIV/0!"},{"$error":"#DIV/0!"}]
[null,null,null,"DIVAR IP 7000 R2 16x6TB + 3x DIVAR IP 6000 R2 8x4TB",null,null,"RAID 5",0,{"$f":"IF(G726=\"RAID 5\",(((15-H726)*5586))+(3*(((7-H726)*3723))),(((14-H726)*5586))+(3*(((6-H726)*3723))))","v":161973},{"$f":"(16*6)+(3*(8*4))","v":192},0,{"$f":"475+(3*550)","v":2125},{"$f":"128+(3*128)","v":512},{"$error":"#DIV/0!"},0,158.1767578125,{"$error":"#DIV/0!"},0,0,0,0,0,{"$error":"#DIV/0!"},{"$error":"#DIV/0!"},null,null,null,null,null,null,null,null,0,{"$error":"#DIV/0!"},-512,{"$error":"#DIV/0!"},{"$error":"#DIV/0!"}]
[null,null,null,"DIVAR IP 7000 R2 16x6TB + 4x DIVAR IP 6000 R2 8x4TB",null,null,"RAID 5",0,{"$f":"IF(G727=\"RAID 5\",(((15-H727)*5586))+(4*(((7-H727)*3723))),(((14-H727)*5586))+(4*(((6-H727)*3723))))","v":188034},{"$f":"(16*6)+(4*(8*4))","v":224},0,{"$f":"475+(4*550)","v":2675},{"$f":"128+(4*128)","v":640},{"$error":"#DIV/0!"},0,183.626953125,{"$error":"#DIV/0!"},0,0,0,0,0,{"$error":"#DIV/0!"},{"$error":"#DIV/0!"},null,null,null,null,null,null,null,null,0,{"$error":"#DIV/0!"},-640,{"$error":"#DIV/0!"},{"$error":"#DIV/0!"}]
[null,null,null,"DIVAR IP 7000 R2 16x6TB + 1x DIVAR IP 6000 R2 3U 16x4TB",null,null,"RAID 5",0,{"$f":"IF(G728=\"RAID 5\",(((15-H728)*5586))+(1*(((15-H728)*3723))),(((14-H728)*5586))+(1*(((14-H728)*3723))))","v":139635},{"$f":"(16*6)+(1*(16*4))","v":160},0,{"$f":"475+(1*550)","v":1025},{"$f":"128+(1*128)","v":256},{"$error":"#DIV/0!"},0,136.3623046875,{"$error":"#DIV/0!"},0,0,0,0,0,{"$error":"#DIV/0!"},{"$error":"#DIV/0!"},null,null,null,null,null,null,null,null,0,{"$error":"#DIV/0!"},-256,{"$error":"#DIV/0!"},{"$error":"#DIV/0!"}]
[null,null,null,"DIVAR IP 7000 R2 16x6TB + 2x DIVAR IP 6000 R2 3U 16x4TB",null,null,"RAID 5",0,{"$f":"IF(G729=\"RAID 5\",(((15-H729)*5586))+(2*(((15-H729)*3723))),(((14-H729)*5586))+(2*(((14-H729)*3723))))","v":195480},{"$f":"(16*6)+(2*(16*4))","v":224},0,{"$f":"475+(2*550)","v":1575},{"$f":"128+(2*128)","v":384},{"$error":"#DIV/0!"},0,190.8984375,{"$error":"#DIV/0!"},0,0,0,0,0,{"$error":"#DIV/0!"},{"$error":"#DIV/0!"},null,null,null,null,null,null,null,null,0,{"$error":"#DIV/0!"},-384,{"$error":"#DIV/0!"},{"$error":"#DIV/0!"}]
[null,null,null,"DIVAR IP 7000 R2 16x6TB + 3x DIVAR IP 6000 R2 3U 16x4TB",null,null,"RAID 5",0,{"$f":"IF(G730=\"RAID 5\",(((15-H730)*5586))+(3*(((15-H730)*3723))),(((14-H730)*5586))+(3*(((14-H730)*3723))))","v":251325},{"$f":"(16*6)+(3*(16*4))","v":288},0,{"$f":"475+(3*550)","v":2125},{"$f":"128+(3*128)","v":512},{"$error":"#DIV/0!"},0,245.4345703125,{"$error":"#DIV/0!"},0,0,0,0,0,{"$error":"#DIV/0!"},{"$error":"#DIV/0!"},null,null,null,null,null,null,null,null,0,{"$error":"#DIV/0!"},-512,{"$error":"#DIV/0!"},{"$error":"#DIV/0!"}]
[null,null,null,"DIVAR IP 7000 R2 16x6TB + 4x DIVAR IP 6000 R2 3U 16x4TB",null,null,"RAID 5",0,{"$f":"IF(G731=\"RAID 5\",(((15-H731)*5586))+(4*(((15-H731)*3723))),(((14-H731)*5586))+(4*(((14-H731)*3723))))","v":307170},{"$f":"(16*6)+(4*(16*4))","v":352},0,{"$f":"475+(4*550)","v":2675},{"$f":"128+(4*128)","v":640},{"$error":"#DIV/0!"},0,299.970703125,{"$error":"#DIV/0!"},0,0,0,0,0,{"$error":"#DIV/0!"},{"$error":"#DIV/0!"},null,null,null,null,null,null,null,null,0,{"$error":"#DIV/0!"},-640,{"$error":"#DIV/0!"},{"$error":"#DIV/0!"}]
[null,null,null,"DIVAR IP 7000 R2 16x6TB + 1x DIVAR IP 6000 R2 8x6TB",null,null,"RAID 5",0,{"$f":"IF(G732=\"RAID 5\",(((15-H732)*5586))+(1*(((7-H732)*5586))),(((14-H732)*5586))+(1*(((6-H732)*5586))))","v":122892},{"$f":"(16*6)+(1*(8*6))","v":144},0,{"$f":"475+(1*550)","v":1025},{"$f":"128+(1*128)","v":256},{"$error":"#DIV/0!"},0,120.01171875,{"$error":"#DIV/0!"},0,0,0,0,0,{"$error":"#DIV/0!"},{"$error":"#DIV/0!"},null,null,null,null,null,null,null,null,0,{"$error":"#DIV/0!"},-256,{"$error":"#DIV/0!"},{"$error":"#DIV/0!"}]
[null,null,null,"DIVAR IP 7000 R2 16x6TB + 2x DIVAR IP 6000 R2 8x6TB",null,null,"RAID 5",0,{"$f":"IF(G733=\"RAID 5\",(((15-H733)*5586))+(2*(((7-H733)*5586))),(((14-H733)*5586))+(2*(((6-H733)*5586))))","v":161994},{"$f":"(16*6)+(2*(8*6))","v":192},0,{"$f":"475+(2*550)","v":1575},{"$f":"128+(2*128)","v":384},{"$error":"#DIV/0!"},0,158.197265625,{"$error":"#DIV/0!"},0,0,0,0,0,{"$error":"#DIV/0!"},{"$error":"#DIV/0!"},null,null,null,null,null,null,null,null,0,{"$error":"#DIV/0!"},-384,{"$error":"#DIV/0!"},{"$error":"#DIV/0!"}]
[null,null,null,"DIVAR IP 7000 R2 16x6TB + 3x DIVAR IP 6000 R2 8x6TB",null,null,"RAID 5",0,{"$f":"IF(G734=\"RAID 5\",(((15-H734)*5586))+(3*(((7-H734)*5586))),(((14-H734)*5586))+(3*(((6-H734)*5586))))","v":201096},{"$f":"(16*6)+(3*(8*6))","v":240},0,{"$f":"475+(3*550)","v":2125},{"$f":"128+(3*128)","v":512},{"$error":"#DIV/0!"},0,196.3828125,{"$error":"#DIV/0!"},0,0,0,0,0,{"$error":"#DIV/0!"},{"$error":"#DIV/0!"},null,null,null,null,null,null,null,null,0,{"$error":"#DIV/0!"},-512,{"$error":"#DIV/0!"},{"$error":"#DIV/0!"}]
[null,null,null,"DIVAR IP 7000 R2 16x6TB + 4x DIVAR IP 6000 R2 8x6TB",null,null,"RAID 5",0,{"$f":"IF(G735=\"RAID 5\",(((15-H735)*5586))+(4*(((7-H735)*5586))),(((14-H735)*5586))+(4*(((6-H735)*5586))))","v":240198},{"$f":"(16*6)+(4*(8*6))","v":288},0,{"$f":"475+(4*550)","v":2675},{"$f":"128+(4*128)","v":640},{"$error":"#DIV/0!"},0,234.568359375,{"$error":"#DIV/0!"},0,0,0,0,0,{"$error":"#DIV/0!"},{"$error":"#DIV/0!"},null,null,null,null,null,null,null,null,0,{"$error":"#DIV/0!"},-640,{"$error":"#DIV/0!"},{"$error":"#DIV/0!"}]
[null,null,null,"DIVAR IP 7000 R2 16x6TB + 1x DIVAR IP 6000 R2 3U 16x6TB",null,null,"RAID 5",0,{"$f":"IF(G736=\"RAID 5\",(((15-H736)*5586))+(1*(((15-H736)*5586))),(((14-H736)*5586))+(1*(((14-H736)*5586))))","v":167580},{"$f":"(16*6)+(1*(16*6))","v":192},0,{"$f":"475+(1*550)","v":1025},{"$f":"128+(1*128)","v":256},{"$error":"#DIV/0!"},0,163.65234375,{"$error":"#DIV/0!"},0,0,0,0,0,{"$error":"#DIV/0!"},{"$error":"#DIV/0!"},null,null,null,null,null,null,null,null,0,{"$error":"#DIV/0!"},-256,{"$error":"#DIV/0!"},{"$error":"#DIV/0!"}]
[null,null,null,"DIVAR IP 7000 R2 16x6TB + 2x DIVAR IP 6000 R2 3U 16x6TB",null,null,"RAID 5",0,{"$f":"IF(G737=\"RAID 5\",(((15-H737)*5586))+(2*(((15-H737)*5586))),(((14-H737)*5586))+(2*(((14-H737)*5586))))","v":251370},{"$f":"(16*6)+(2*(16*6))","v":288},0,{"$f":"475+(2*550)","v":1575},{"$f":"128+(2*128)","v":384},{"$error":"#DIV/0!"},0,245.478515625,{"$error":"#DIV/0!"},0,0,0,0,0,{"$error":"#DIV/0!"},{"$error":"#DIV/0!"},null,null,null,null,null,null,null,null,0,{"$error":"#DIV/0!"},-384,{"$error":"#DIV/0!"},{"$error":"#DIV/0!"}]
[null,null,null,"DIVAR IP 7000 R2 16x6TB + 3x DIVAR IP 6000 R2 3U 16x6TB",null,null,"RAID 5",0,{"$f":"IF(G738=\"RAID 5\",(((15-H738)*5586))+(3*(((15-H738)*5586))),(((14-H738)*5586))+(3*(((14-H738)*5586))))","v":335160},{"$f":"(16*6)+(3*(16*6))","v":384},0,{"$f":"475+(3*550)","v":2125},{"$f":"128+(3*128)","v":512},{"$error":"#DIV/0!"},0,327.3046875,{"$error":"#DIV/0!"},0,0,0,0,0,{"$error":"#DIV/0!"},{"$error":"#DIV/0!"},null,null,null,null,null,null,null,null,0,{"$error":"#DIV/0!"},-512,{"$error":"#DIV/0!"},{"$error":"#DIV/0!"}]
[null,null,null,"DIVAR IP 7000 R2 16x6TB + 4x DIVAR IP 6000 R2 3U 16x6TB",null,null,"RAID 5",0,{"$f":"IF(G739=\"RAID 5\",(((15-H739)*5586))+(4*(((15-H739)*5586))),(((14-H739)*5586))+(4*(((14-H739)*5586))))","v":418950},{"$f":"(16*6)+(4*(16*6))","v":480},0,{"$f":"475+(4*550)","v":2675},{"$f":"128+(4*128)","v":640},{"$error":"#DIV/0!"},0,409.130859375,{"$error":"#DIV/0!"},0,0,0,0,0,{"$error":"#DIV/0!"},{"$error":"#DIV/0!"},null,null,null,null,null,null,null,null,0,{"$error":"#DIV/0!"},-640,{"$error":"#DIV/0!"},{"$error":"#DIV/0!"}]
[null,null,null,"DIVAR IP 7000 R2 16x6TB + 1x DIVAR IP 6000 R2 8x8TB",null,null,"RAID 5",0,{"$f":"IF(G740=\"RAID 5\",(((15-H740)*5586))+(1*(((7-H740)*7448))),(((14-H740)*5586))+(1*(((6-H740)*7448))))","v":135926},{"$f":"(16*6)+(1*(8*8))","v":160},0,{"$f":"475+(1*550)","v":1025},{"$f":"128+(1*128)","v":256},{"$error":"#DIV/0!"},0,132.740234375,{"$error":"#DIV/0!"},0,{"$f":"IF($O740>7,OFFSET($I$255,0,$L$574),OFFSET($I$248,O740-1,$L$574,1,1))","v":0},0,0,0,{"$f":"IF(AND(IF($AJ740<=$L740,TRUE,FALSE),IF($V740<=$AI740,TRUE,FALSE)),\"True\",\"\")","v":{"$error":"#DIV/0!"}},{"$error":"#DIV/0!"},null,null,null,null,null,null,null,null,0,{"$error":"#DIV/0!"},-256,{"$error":"#DIV/0!"},{"$error":"#DIV/0!"}]
[null,null,null,"DIVAR IP 7000 R2 16x6TB + 2x DIVAR IP 6000 R2 8x8TB",null,null,"RAID 5",0,{"$f":"IF(G741=\"RAID 5\",(((15-H741)*5586))+(2*(((7-H741)*7448))),(((14-H741)*5586))+(2*(((6-H741)*7448))))","v":188062},{"$f":"(16*6)+(2*(8*8))","v":224},0,{"$f":"475+(2*550)","v":1575},{"$f":"128+(2*128)","v":384},{"$error":"#DIV/0!"},0,183.654296875,{"$error":"#DIV/0!"},0,0,0,0,0,{"$error":"#DIV/0!"},{"$error":"#DIV/0!"},null,null,null,null,null,null,null,null,0,{"$error":"#DIV/0!"},-384,{"$error":"#DIV/0!"},{"$error":"#DIV/0!"}]
[null,null,null,"DIVAR IP 7000 R2 16x6TB + 3x DIVAR IP 6000 R2 8x8TB",null,null,"RAID 5",0,{"$f":"IF(G742=\"RAID 5\",(((15-H742)*5586))+(3*(((7-H742)*7448))),(((14-H742)*5586))+(3*(((6-H742)*7448))))","v":240198},{"$f":"(16*6)+(3*(8*8))","v":288},0,{"$f":"475+(3*550)","v":2125},{"$f":"128+(3*128)","v":512},{"$error":"#DIV/0!"},0,234.568359375,{"$error":"#DIV/0!"},0,0,0,0,0,{"$error":"#DIV/0!"},{"$error":"#DIV/0!"},null,null,null,null,null,null,null,null,0,{"$error":"#DIV/0!"},-512,{"$error":"#DIV/0!"},{"$error":"#DIV/0!"}]
[null,null,null,"DIVAR IP 7000 R2 16x6TB + 4x DIVAR IP 6000 R2 8x8TB",null,null,"RAID 5",0,{"$f":"IF(G743=\"RAID 5\",(((15-H743)*5586))+(4*(((7-H743)*7448))),(((14-H743)*5586))+(4*(((6-H743)*7448))))","v":292334},{"$f":"(16*6)+(4*(8*8))","v":352},0,{"$f":"475+(4*550)","v":2675},{"$f":"128+(4*128)","v":640},{"$error":"#DIV/0!"},0,285.482421875,{"$error":"#DIV/0!"},0,0,0,0,0,{"$error":"#DIV/0!"},{"$error":"#DIV/0!"},null,null,null,null,null,null,null,null,0,{"$error":"#DIV/0!"},-640,{"$error":"#DIV/0!"},{"$error":"#DIV/0!"}]
[null,null,null,"DIVAR IP 7000 R2 16x6TB + 1x DIVAR IP 6000 R2 3U 16x8TB",null,null,"RAID 5",0,{"$f":"IF(G744=\"RAID 5\",(((15-H744)*5586))+(1*(((15-H744)*7448))),(((14-H744)*5586))+(1*(((14-H744)*7448))))","v":195510},{"$f":"(16*6)+(1*(16*8))","v":224},0,{"$f":"475+(1*550)","v":1025},{"$f":"128+(1*128)","v":256},{"$error":"#DIV/0!"},0,190.927734375,{"$error":"#DIV/0!"},0,0,0,0,0,{"$error":"#DIV/0!"},{"$error":"#DIV/0!"},null,null,null,null,null,null,null,null,0,{"$error":"#DIV/0!"},-256,{"$error":"#DIV/0!"},{"$error":"#DIV/0!"}]
[null,null,null,"DIVAR IP 7000 R2 16x6TB + 2x DIVAR IP 6000 R2 3U 16x8TB",null,null,"RAID 5",0,{"$f":"IF(G745=\"RAID 5\",(((15-H745)*5586))+(2*(((15-H745)*7448))),(((14-H745)*5586))+(2*(((14-H745)*7448))))","v":307230},{"$f":"(16*6)+(2*(16*8))","v":352},0,{"$f":"475+(2*550)","v":1575},{"$f":"128+(2*128)","v":384},{"$error":"#DIV/0!"},0,300.029296875,{"$error":"#DIV/0!"},0,0,0,0,0,{"$error":"#DIV/0!"},{"$error":"#DIV/0!"},null,null,null,null,null,null,null,null,0,{"$error":"#DIV/0!"},-384,{"$error":"#DIV/0!"},{"$error":"#DIV/0!"}]
[null,null,null,"DIVAR IP 7000 R2 16x6TB + 3x DIVAR IP 6000 R2 3U 16x8TB",null,null,"RAID 5",0,{"$f":"IF(G746=\"RAID 5\",(((15-H746)*5586))+(3*(((15-H746)*7448))),(((14-H746)*5586))+(3*(((14-H746)*7448))))","v":418950},{"$f":"(16*6)+(3*(16*8))","v":480},0,{"$f":"475+(3*550)","v":2125},{"$f":"128+(3*128)","v":512},{"$error":"#DIV/0!"},0,409.130859375,{"$error":"#DIV/0!"},0,0,0,0,0,{"$error":"#DIV/0!"},{"$f":"IF(AND(IF($N746<=$L746,TRUE,FALSE),IF($V746<=$R746,TRUE,FALSE),OR(W746=\"True\",$W$579=\"No\"),IF($A$586=\"False\",IF(O746=1,TRUE,FALSE),TRUE)),\"<-- fits project\",\"\")","v":{"$error":"#DIV/0!"}},null,null,null,null,null,null,null,null,0,{"$error":"#DIV/0!"},-512,{"$error":"#DIV/0!"},{"$error":"#DIV/0!"}]
[null,null,null,"DIVAR IP 7000 R2 16x6TB + 4x DIVAR IP 6000 R2 3U 16x8TB",null,null,"RAID 5",0,{"$f":"IF(G747=\"RAID 5\",(((15-H747)*5586))+(4*(((15-H747)*7448))),(((14-H747)*5586))+(4*(((14-H747)*7448))))","v":530670},{"$f":"(16*6)+(4*(16*8))","v":608},0,{"$f":"475+(4*550)","v":2675},{"$f":"128+(4*128)","v":640},{"$error":"#DIV/0!"},0,518.232421875,{"$error":"#DIV/0!"},0,0,0,0,0,{"$error":"#DIV/0!"},{"$error":"#DIV/0!"},null,null,null,null,null,null,null,null,0,{"$error":"#DIV/0!"},-640,{"$error":"#DIV/0!"},{"$error":"#DIV/0!"}]
[null,null,null,"DIVAR IP 7000 R2 16x8TB + 1x DIVAR IP 6000 R2 8x3TB",null,null,"RAID 5",0,{"$f":"IF(G748=\"RAID 5\",(((15-H748)*7448))+(1*(((7-H748)*2793))),(((14-H748)*7448))+(1*(((6-H748)*2793))))","v":131271},{"$f":"(16*8)+(1*(8*3))","v":152},0,{"$f":"475+(1*550)","v":1025},256,{"$error":"#DIV/0!"},0,128.1943359375,{"$error":"#DIV/0!"},0,0,0,0,0,{"$error":"#DIV/0!"},{"$error":"#DIV/0!"},null,null,null,null,null,null,null,null,{"$f":"AF748*O748","v":0},{"$f":"AG748/$AG$563","v":{"$error":"#DIV/0!"}},-256,{"$error":"#DIV/0!"},{"$error":"#DIV/0!"}]
[null,null,null,"DIVAR IP 7000 R2 16x8TB + 2x DIVAR IP 6000 R2 8x3TB",null,null,"RAID 5",0,{"$f":"IF(G749=\"RAID 5\",(((15-H749)*7448))+(2*(((7-H749)*2793))),(((14-H749)*7448))+(2*(((6-H749)*2793))))","v":150822},{"$f":"(16*8)+(2*(8*3))","v":176},0,{"$f":"475+(2*550)","v":1575},384,{"$error":"#DIV/0!"},0,147.287109375,{"$error":"#DIV/0!"},0,0,0,0,0,{"$error":"#DIV/0!"},{"$error":"#DIV/0!"},null,null,null,null,null,null,null,null,0,{"$error":"#DIV/0!"},-384,{"$error":"#DIV/0!"},{"$error":"#DIV/0!"}]
[null,null,null,"DIVAR IP 7000 R2 16x8TB + 3x DIVAR IP 6000 R2 8x3TB",null,null,"RAID 5",0,{"$f":"IF(G750=\"RAID 5\",(((15-H750)*7448))+(3*(((7-H750)*2793))),(((14-H750)*7448))+(3*(((6-H750)*2793))))","v":170373},{"$f":"(16*8)+(3*(8*3))","v":200},0,{"$f":"475+(3*550)","v":2125},512,{"$error":"#DIV/0!"},0,166.3798828125,{"$error":"#DIV/0!"},0,0,0,0,0,{"$error":"#DIV/0!"},{"$error":"#DIV/0!"},null,null,null,null,null,null,null,null,0,{"$error":"#DIV/0!"},-512,{"$error":"#DIV/0!"},{"$error":"#DIV/0!"}]
[null,null,null,"DIVAR IP 7000 R2 16x8TB + 4x DIVAR IP 6000 R2 8x3TB",null,null,"RAID 5",0,{"$f":"IF(G751=\"RAID 5\",(((15-H751)*7448))+(4*(((7-H751)*2793))),(((14-H751)*7448))+(4*(((6-H751)*2793))))","v":189924},{"$f":"(16*8)+(4*(8*3))","v":224},0,{"$f":"475+(4*550)","v":2675},640,{"$error":"#DIV/0!"},0,185.47265625,{"$error":"#DIV/0!"},0,0,0,0,0,{"$error":"#DIV/0!"},{"$error":"#DIV/0!"},null,null,null,null,null,null,null,null,0,{"$error":"#DIV/0!"},-640,{"$error":"#DIV/0!"},{"$error":"#DIV/0!"}]
[null,null,null,"DIVAR IP 7000 R2 16x8TB + 1x DIVAR IP 6000 R2 3U 16x3TB",null,null,"RAID 5",0,{"$f":"IF(G752=\"RAID 5\",(((15-H752)*7448))+(1*(((15-H752)*2793))),(((14-H752)*7448))+(1*(((14-H752)*2793))))","v":153615},{"$f":"(16*8)+(1*(16*3))","v":176},0,{"$f":"475+(1*550)","v":1025},256,{"$error":"#DIV/0!"},0,150.0146484375,{"$f":"AH752","v":{"$error":"#DIV/0!"}},0,0,0,0,0,{"$error":"#DIV/0!"},{"$error":"#DIV/0!"},null,null,null,null,null,null,null,null,0,{"$error":"#DIV/0!"},-256,{"$error":"#DIV/0!"},{"$error":"#DIV/0!"}]
[null,null,null,"DIVAR IP 7000 R2 16x8TB + 2x DIVAR IP 6000 R2 3U 16x3TB",null,null,"RAID 5",0,{"$f":"IF(G753=\"RAID 5\",(((15-H753)*7448))+(2*(((15-H753)*2793))),(((14-H753)*7448))+(2*(((14-H753)*2793))))","v":195510},{"$f":"(16*8)+(2*(16*3))","v":224},0,{"$f":"475+(2*550)","v":1575},384,{"$error":"#DIV/0!"},0,190.927734375,{"$error":"#DIV/0!"},0,0,0,0,0,{"$error":"#DIV/0!"},{"$error":"#DIV/0!"},null,null,null,null,null,null,null,null,0,{"$error":"#DIV/0!"},-384,{"$error":"#DIV/0!"},{"$error":"#DIV/0!"}]
[null,null,null,"DIVAR IP 7000 R2 16x8TB + 3x DIVAR IP 6000 R2 3U 16x3TB",null,null,"RAID 5",0,{"$f":"IF(G754=\"RAID 5\",(((15-H754)*7448))+(3*(((15-H754)*2793))),(((14-H754)*7448))+(3*(((14-H754)*2793))))","v":237405},{"$f":"(16*8)+(3*(16*3))","v":272},0,{"$f":"475+(3*550)","v":2125},512,{"$f":"$I$574/O754","v":{"$error":"#DIV/0!"}},{"$f":"ROUNDUP($G$574/I754,0)","v":0},{"$f":"(1-(($G$574/$I754)-INT($G$574/$I754)))*I754/1024","v":231.8408203125},{"$error":"#DIV/0!"},0,0,0,0,0,{"$error":"#DIV/0!"},{"$error":"#DIV/0!"},null,null,null,null,null,null,null,null,0,{"$error":"#DIV/0!"},-512,{"$f":"IF(O754>1,$I$574/(O754-1),$I$574/O754)","v":{"$error":"#DIV/0!"}},{"$error":"#DIV/0!"}]
[null,null,null,"DIVAR IP 7000 R2 16x8TB + 4x DIVAR IP 6000 R2 3U 16x3TB",null,null,"RAID 5",0,{"$f":"IF(G755=\"RAID 5\",(((15-H755)*7448))+(4*(((15-H755)*2793))),(((14-H755)*7448))+(4*(((14-H755)*2793))))","v":279300},{"$f":"(16*8)+(4*(16*3))","v":320},0,{"$f":"475+(4*550)","v":2675},640,{"$error":"#DIV/0!"},0,272.75390625,{"$error":"#DIV/0!"},0,0,0,0,0,{"$error":"#DIV/0!"},{"$error":"#DIV/0!"},null,null,null,null,null,null,null,null,0,{"$error":"#DIV/0!"},-640,{"$error":"#DIV/0!"},{"$error":"#DIV/0!"}]
[null,null,null,"DIVAR IP 7000 R2 16x8TB + 1x DIVAR IP 6000 R2 8x4TB",null,null,"RAID 5",0,{"$f":"IF(G756=\"RAID 5\",(((15-H756)*7448))+(1*(((7-H756)*3723))),(((14-H756)*7448))+(1*(((6-H756)*3723))))","v":137781},{"$f":"(16*8)+(1*(8*4))","v":160},0,{"$f":"475+(1*550)","v":1025},256,{"$error":"#DIV/0!"},0,134.5517578125,{"$error":"#DIV/0!"},0,0,0,0,0,{"$error":"#DIV/0!"},{"$error":"#DIV/0!"},null,null,null,null,null,null,null,null,0,{"$error":"#DIV/0!"},-256,{"$error":"#DIV/0!"},{"$error":"#DIV/0!"}]
[null,null,null,"DIVAR IP 7000 R2 16x8TB + 2x DIVAR IP 6000 R2 8x4TB",null,null,"RAID 5",0,{"$f":"IF(G757=\"RAID 5\",(((15-H757)*7448))+(2*(((7-H757)*3723))),(((14-H757)*7448))+(2*(((6-H757)*3723))))","v":163842},{"$f":"(16*8)+(2*(8*4))","v":192},0,{"$f":"475+(2*550)","v":1575},384,{"$error":"#DIV/0!"},0,160.001953125,{"$error":"#DIV/0!"},0,0,0,0,0,{"$error":"#DIV/0!"},{"$error":"#DIV/0!"},null,null,null,null,null,null,null,null,0,{"$error":"#DIV/0!"},-384,{"$error":"#DIV/0!"},{"$error":"#DIV/0!"}]
[null,null,null,"DIVAR IP 7000 R2 16x8TB + 3x DIVAR IP 6000 R2 8x4TB",null,null,"RAID 5",0,{"$f":"IF(G758=\"RAID 5\",(((15-H758)*7448))+(3*(((7-H758)*3723))),(((14-H758)*7448))+(3*(((6-H758)*3723))))","v":189903},{"$f":"(16*8)+(3*(8*4))","v":224},0,{"$f":"475+(3*550)","v":2125},512,{"$error":"#DIV/0!"},0,185.4521484375,{"$error":"#DIV/0!"},0,0,0,0,0,{"$error":"#DIV/0!"},{"$error":"#DIV/0!"},null,null,null,null,null,null,null,null,0,{"$error":"#DIV/0!"},-512,{"$error":"#DIV/0!"},{"$error":"#DIV/0!"}]
[null,null,null,"DIVAR IP 7000 R2 16x8TB + 4x DIVAR IP 6000 R2 8x4TB",null,null,"RAID 5",0,{"$f":"IF(G759=\"RAID 5\",(((15-H759)*7448))+(4*(((7-H759)*3723))),(((14-H759)*7448))+(4*(((6-H759)*3723))))","v":215964},{"$f":"(16*8)+(4*(8*4))","v":256},0,{"$f":"475+(4*550)","v":2675},640,{"$error":"#DIV/0!"},0,210.90234375,{"$error":"#DIV/0!"},0,0,0,0,0,{"$error":"#DIV/0!"},{"$error":"#DIV/0!"},null,null,null,null,null,null,null,null,0,{"$error":"#DIV/0!"},-640,{"$error":"#DIV/0!"},{"$error":"#DIV/0!"}]
[null,null,null,"DIVAR IP 7000 R2 16x8TB + 1x DIVAR IP 6000 R2 3U 16x4TB",null,null,"RAID 5",0,{"$f":"IF(G760=\"RAID 5\",(((15-H760)*7448))+(1*(((15-H760)*3723))),(((14-H760)*7448))+(1*(((14-H760)*3723))))","v":167565},{"$f":"(16*8)+(1*(16*4))","v":192},0,{"$f":"475+(1*550)","v":1025},256,{"$error":"#DIV/0!"},0,163.6376953125,{"$error":"#DIV/0!"},0,0,0,{"$f":"$S$259*MIN(O760,$S$260)","v":0},0,{"$error":"#DIV/0!"},{"$error":"#DIV/0!"},null,null,null,null,null,null,null,null,0,{"$error":"#DIV/0!"},-256,{"$error":"#DIV/0!"},{"$error":"#DIV/0!"}]
[null,null,null,"DIVAR IP 7000 R2 16x8TB + 2x DIVAR IP 6000 R2 3U 16x4TB",null,null,"RAID 5",0,{"$f":"IF(G761=\"RAID 5\",(((15-H761)*7448))+(2*(((15-H761)*3723))),(((14-H761)*7448))+(2*(((14-H761)*3723))))","v":223410},{"$f":"(16*8)+(2*(16*4))","v":256},0,{"$f":"475+(2*550)","v":1575},384,{"$error":"#DIV/0!"},0,218.173828125,{"$error":"#DIV/0!"},0,0,0,0,0,{"$error":"#DIV/0!"},{"$error":"#DIV/0!"},null,null,null,null,null,null,null,null,0,{"$error":"#DIV/0!"},-384,{"$error":"#DIV/0!"},{"$error":"#DIV/0!"}]
[null,null,null,"DIVAR IP 7000 R2 16x8TB + 3x DIVAR IP 6000 R2 3U 16x4TB",null,null,"RAID 5",0,{"$f":"IF(G762=\"RAID 5\",(((15-H762)*7448))+(3*(((15-H762)*3723))),(((14-H762)*7448))+(3*(((14-H762)*3723))))","v":279255},{"$f":"(16*8)+(3*(16*4))","v":320},0,{"$f":"475+(3*550)","v":2125},512,{"$error":"#DIV/0!"},0,272.7099609375,{"$error":"#DIV/0!"},0,0,0,0,0,{"$error":"#DIV/0!"},{"$error":"#DIV/0!"},null,null,null,null,null,null,null,null,0,{"$error":"#DIV/0!"},-512,{"$error":"#DIV/0!"},{"$error":"#DIV/0!"}]
[null,null,null,"DIVAR IP 7000 R2 16x8TB + 4x DIVAR IP 6000 R2 3U 16x4TB",null,null,"RAID 5",0,{"$f":"IF(G763=\"RAID 5\",(((15-H763)*7448))+(4*(((15-H763)*3723))),(((14-H763)*7448))+(4*(((14-H763)*3723))))","v":335100},{"$f":"(16*8)+(4*(16*4))","v":384},0,{"$f":"475+(4*550)","v":2675},640,{"$error":"#DIV/0!"},0,327.24609375,{"$error":"#DIV/0!"},0,0,0,0,0,{"$error":"#DIV/0!"},{"$error":"#DIV/0!"},null,null,null,null,null,null,null,null,0,{"$error":"#DIV/0!"},-640,{"$error":"#DIV/0!"},{"$error":"#DIV/0!"}]
[null,null,null,"DIVAR IP 7000 R2 16x8TB + 1x DIVAR IP 6000 R2 8x6TB",null,null,"RAID 5",0,{"$f":"IF(G764=\"RAID 5\",(((15-H764)*7448))+(1*(((7-H764)*5586))),(((14-H764)*7448))+(1*(((6-H764)*5586))))","v":150822},{"$f":"(16*8)+(1*(8*6))","v":176},0,{"$f":"475+(1*550)","v":1025},256,{"$error":"#DIV/0!"},0,147.287109375,{"$error":"#DIV/0!"},0,0,0,0,0,{"$error":"#DIV/0!"},{"$error":"#DIV/0!"},null,null,null,null,null,null,null,null,0,{"$error":"#DIV/0!"},-256,{"$error":"#DIV/0!"},{"$error":"#DIV/0!"}]
[null,null,null,"DIVAR IP 7000 R2 16x8TB + 2x DIVAR IP 6000 R2 8x6TB",null,null,"RAID 5",0,{"$f":"IF(G765=\"RAID 5\",(((15-H765)*7448))+(2*(((7-H765)*5586))),(((14-H765)*7448))+(2*(((6-H765)*5586))))","v":189924},{"$f":"(16*8)+(2*(8*6))","v":224},0,{"$f":"475+(2*550)","v":1575},384,{"$error":"#DIV/0!"},0,185.47265625,{"$error":"#DIV/0!"},0,0,0,0,0,{"$error":"#DIV/0!"},{"$error":"#DIV/0!"},null,null,null,null,null,null,null,null,0,{"$error":"#DIV/0!"},-384,{"$error":"#DIV/0!"},{"$error":"#DIV/0!"}]
[null,null,null,"DIVAR IP 7000 R2 16x8TB + 3x DIVAR IP 6000 R2 8x6TB",null,null,"RAID 5",0,{"$f":"IF(G766=\"RAID 5\",(((15-H766)*7448))+(3*(((7-H766)*5586))),(((14-H766)*7448))+(3*(((6-H766)*5586))))","v":229026},{"$f":"(16*8)+(3*(8*6))","v":272},0,{"$f":"475+(3*550)","v":2125},512,{"$error":"#DIV/0!"},0,223.658203125,{"$error":"#DIV/0!"},0,0,0,0,0,{"$error":"#DIV/0!"},{"$error":"#DIV/0!"},null,null,null,null,null,null,null,null,0,{"$error":"#DIV/0!"},-512,{"$error":"#DIV/0!"},{"$error":"#DIV/0!"}]
[null,null,null,"DIVAR IP 7000 R2 16x8TB + 4x DIVAR IP 6000 R2 8x6TB",null,null,"RAID 5",0,{"$f":"IF(G767=\"RAID 5\",(((15-H767)*7448))+(4*(((7-H767)*5586))),(((14-H767)*7448))+(4*(((6-H767)*5586))))","v":268128},{"$f":"(16*8)+(4*(8*6))","v":320},0,{"$f":"475+(4*550)","v":2675},640,{"$error":"#DIV/0!"},0,261.84375,{"$error":"#DIV/0!"},0,0,0,0,0,{"$error":"#DIV/0!"},{"$error":"#DIV/0!"},null,null,null,null,null,null,null,null,0,{"$error":"#DIV/0!"},-640,{"$error":"#DIV/0!"},{"$error":"#DIV/0!"}]
[null,null,null,"DIVAR IP 7000 R2 16x8TB + 1x DIVAR IP 6000 R2 3U 16x6TB",null,null,"RAID 5",0,{"$f":"IF(G768=\"RAID 5\",(((15-H768)*7448))+(1*(((15-H768)*5586))),(((14-H768)*7448))+(1*(((14-H768)*5586))))","v":195510},{"$f":"(16*8)+(1*(16*6))","v":224},0,{"$f":"475+(1*550)","v":1025},256,{"$error":"#DIV/0!"},0,190.927734375,{"$error":"#DIV/0!"},0,0,0,0,0,{"$error":"#DIV/0!"},{"$error":"#DIV/0!"},null,null,null,null,null,null,null,null,0,{"$error":"#DIV/0!"},-256,{"$error":"#DIV/0!"},{"$error":"#DIV/0!"}]
[null,null,null,"DIVAR IP 7000 R2 16x8TB + 2x DIVAR IP 6000 R2 3U 16x6TB",null,null,"RAID 5",0,{"$f":"IF(G769=\"RAID 5\",(((15-H769)*7448))+(2*(((15-H769)*5586))),(((14-H769)*7448))+(2*(((14-H769)*5586))))","v":279300},{"$f":"(16*8)+(2*(16*6))","v":320},0,{"$f":"475+(2*550)","v":1575},384,{"$error":"#DIV/0!"},0,272.75390625,{"$error":"#DIV/0!"},0,0,0,0,0,{"$error":"#DIV/0!"},{"$error":"#DIV/0!"},null,null,null,null,null,null,null,null,0,{"$error":"#DIV/0!"},-384,{"$error":"#DIV/0!"},{"$error":"#DIV/0!"}]
[null,null,null,"DIVAR IP 7000 R2 16x8TB + 3x DIVAR IP 6000 R2 3U 16x6TB",null,null,"RAID 5",0,{"$f":"IF(G770=\"RAID 5\",(((15-H770)*7448))+(3*(((15-H770)*5586))),(((14-H770)*7448))+(3*(((14-H770)*5586))))","v":363090},{"$f":"(16*8)+(3*(16*6))","v":416},0,{"$f":"475+(3*550)","v":2125},512,{"$error":"#DIV/0!"},0,354.580078125,{"$error":"#DIV/0!"},0,0,0,0,0,{"$error":"#DIV/0!"},{"$error":"#DIV/0!"},null,null,null,null,null,null,null,null,0,{"$error":"#DIV/0!"},-512,{"$error":"#DIV/0!"},{"$error":"#DIV/0!"}]
[null,null,null,"DIVAR IP 7000 R2 16x8TB + 4x DIVAR IP 6000 R2 3U 16x6TB",null,null,"RAID 5",0,{"$f":"IF(G771=\"RAID 5\",(((15-H771)*7448))+(4*(((15-H771)*5586))),(((14-H771)*7448))+(4*(((14-H771)*5586))))","v":446880},{"$f":"(16*8)+(4*(16*6))","v":512},0,{"$f":"475+(4*550)","v":2675},640,{"$error":"#DIV/0!"},0,436.40625,{"$error":"#DIV/0!"},0,0,0,0,0,{"$error":"#DIV/0!"},{"$error":"#DIV/0!"},null,null,null,null,null,null,null,null,0,{"$error":"#DIV/0!"},-640,{"$error":"#DIV/0!"},{"$error":"#DIV/0!"}]
[null,null,null,"DIVAR IP 7000 R2 16x8TB + 1x DIVAR IP 6000 R2 8x8TB",null,null,"RAID 5",0,{"$f":"IF(G772=\"RAID 5\",(((15-H772)*7448))+(1*(((7-H772)*7448))),(((14-H772)*7448))+(1*(((6-H772)*7448))))","v":163856},{"$f":"(16*8)+(1*(8*8))","v":192},{"$f":"O772*J772","v":0},{"$f":"475+(1*550)","v":1025},256,{"$error":"#DIV/0!"},0,160.015625,{"$error":"#DIV/0!"},{"$f":"O772*M772","v":0},0,{"$f":"O772*1*MAX($N$1528,1)","v":0},0,0,{"$error":"#DIV/0!"},{"$error":"#DIV/0!"},null,null,null,null,null,null,null,null,0,{"$error":"#DIV/0!"},{"$f":"(O772-1)*M772","v":-256},{"$error":"#DIV/0!"},{"$error":"#DIV/0!"}]
[null,null,null,"DIVAR IP 7000 R2 16x8TB + 2x DIVAR IP 6000 R2 8x8TB",null,null,"RAID 5",0,{"$f":"IF(G773=\"RAID 5\",(((15-H773)*7448))+(2*(((7-H773)*7448))),(((14-H773)*7448))+(2*(((6-H773)*7448))))","v":215992},{"$f":"(16*8)+(2*(8*8))","v":256},0,{"$f":"475+(2*550)","v":1575},384,{"$error":"#DIV/0!"},0,210.9296875,{"$error":"#DIV/0!"},0,0,0,0,0,{"$error":"#DIV/0!"},{"$error":"#DIV/0!"},null,null,null,null,null,null,null,null,0,{"$error":"#DIV/0!"},-384,{"$error":"#DIV/0!"},{"$error":"#DIV/0!"}]
[null,null,null,"DIVAR IP 7000 R2 16x8TB + 3x DIVAR IP 6000 R2 8x8TB",null,null,"RAID 5",0,{"$f":"IF(G774=\"RAID 5\",(((15-H774)*7448))+(3*(((7-H774)*7448))),(((14-H774)*7448))+(3*(((6-H774)*7448))))","v":268128},{"$f":"(16*8)+(3*(8*8))","v":320},0,{"$f":"475+(3*550)","v":2125},512,{"$error":"#DIV/0!"},0,261.84375,{"$error":"#DIV/0!"},0,0,0,0,0,{"$error":"#DIV/0!"},{"$error":"#DIV/0!"},null,null,null,null,null,null,null,null,0,{"$error":"#DIV/0!"},-512,{"$error":"#DIV/0!"},{"$error":"#DIV/0!"}]
[null,null,null,"DIVAR IP 7000 R2 16x8TB + 4x DIVAR IP 6000 R2 8x8TB",null,null,"RAID 5",0,{"$f":"IF(G775=\"RAID 5\",(((15-H775)*7448))+(4*(((7-H775)*7448))),(((14-H775)*7448))+(4*(((6-H775)*7448))))","v":320264},{"$f":"(16*8)+(4*(8*8))","v":384},0,{"$f":"475+(4*550)","v":2675},640,{"$error":"#DIV/0!"},0,312.7578125,{"$error":"#DIV/0!"},0,0,0,0,0,{"$error":"#DIV/0!"},{"$error":"#DIV/0!"},null,null,null,null,null,null,null,null,0,{"$error":"#DIV/0!"},-640,{"$error":"#DIV/0!"},{"$error":"#DIV/0!"}]
[null,null,null,"DIVAR IP 7000 R2 16x8TB + 1x DIVAR IP 6000 R2 3U 16x8TB",null,null,"RAID 5",0,{"$f":"IF(G776=\"RAID 5\",(((15-H776)*7448))+(1*(((15-H776)*7448))),(((14-H776)*7448))+(1*(((14-H776)*7448))))","v":223440},{"$f":"(16*8)+(1*(16*8))","v":256},0,{"$f":"475+(1*550)","v":1025},{"$f":"128+(1*128)","v":256},{"$error":"#DIV/0!"},0,218.203125,{"$error":"#DIV/0!"},0,0,0,0,0,{"$error":"#DIV/0!"},{"$error":"#DIV/0!"},null,null,null,null,null,null,null,null,0,{"$error":"#DIV/0!"},-256,{"$error":"#DIV/0!"},{"$error":"#DIV/0!"}]
[null,null,null,"DIVAR IP 7000 R2 16x8TB + 2x DIVAR IP 6000 R2 3U 16x8TB",null,null,"RAID 5",0,{"$f":"IF(G777=\"RAID 5\",(((15-H777)*7448))+(2*(((15-H777)*7448))),(((14-H777)*7448))+(2*(((14-H777)*7448))))","v":335160},{"$f":"(16*8)+(2*(16*8))","v":384},0,{"$f":"475+(2*550)","v":1575},{"$f":"128+(2*128)","v":384},{"$error":"#DIV/0!"},0,327.3046875,{"$error":"#DIV/0!"},0,0,0,0,0,{"$error":"#DIV/0!"},{"$error":"#DIV/0!"},null,null,null,null,null,null,null,null,0,{"$error":"#DIV/0!"},-384,{"$error":"#DIV/0!"},{"$error":"#DIV/0!"}]
[null,null,null,"DIVAR IP 7000 R2 16x8TB + 3x DIVAR IP 6000 R2 3U 16x8TB",null,null,"RAID 5",0,{"$f":"IF(G778=\"RAID 5\",(((15-H778)*7448))+(3*(((15-H778)*7448))),(((14-H778)*7448))+(3*(((14-H778)*7448))))","v":446880},{"$f":"(16*8)+(3*(16*8))","v":512},0,{"$f":"475+(3*550)","v":2125},{"$f":"128+(3*128)","v":512},{"$error":"#DIV/0!"},0,436.40625,{"$error":"#DIV/0!"},0,0,0,0,0,{"$error":"#DIV/0!"},{"$f":"IF(AND(IF($N778<=$L778,TRUE,FALSE),IF($V778<=$R778,TRUE,FALSE),OR(W778=\"True\",$W$579=\"No\"),IF($A$586=\"False\",IF(O778=1,TRUE,FALSE),TRUE)),\"<-- fits project\",\"\")","v":{"$error":"#DIV/0!"}},null,null,null,null,null,null,null,null,0,{"$error":"#DIV/0!"},-512,{"$error":"#DIV/0!"},{"$error":"#DIV/0!"}]
[null,null,null,"DIVAR IP 7000 R2 16x8TB + 4x DIVAR IP 6000 R2 3U 16x8TB",null,null,"RAID 5",0,{"$f":"IF(G779=\"RAID 5\",(((15-H779)*7448))+(4*(((15-H779)*7448))),(((14-H779)*7448))+(4*(((14-H779)*7448))))","v":558600},{"$f":"(16*8)+(4*(16*8))","v":640},0,{"$f":"475+(4*550)","v":2675},{"$f":"128+(4*128)","v":640},{"$error":"#DIV/0!"},0,545.5078125,{"$error":"#DIV/0!"},0,0,0,0,0,{"$error":"#DIV/0!"},{"$error":"#DIV/0!"},null,null,null,null,null,null,null,null,0,{"$error":"#DIV/0!"},-640,{"$error":"#DIV/0!"},{"$error":"#DIV/0!"}]
[null,"Target only mode","3TB","DIVAR IP 6000 R2 4x3TB",null,"DIP-6183-4HD","RAID 5",0,8375,12,0,550,256,{"$f":"I574/O780","v":{"$error":"#DIV/0!"}},{"$f":"ROUNDUP(G574/I780,0)","v":0},{"$f":"(1-((G574/$I780)-INT(G574/$I780)))*I780/1024","v":8.1787109375},{"$error":"#DIV/0!"},0,0,0,0,{"$f":"SUM(S780,T780,U780)","v":0},{"$error":"#DIV/0!"},{"$f":"IF(AND(IF($N780<=$L780,TRUE,FALSE),IF($V780<=$R780,TRUE,FALSE),OR(W780=\"True\",W579=\"No\")),\"<-- fits project\",\"\")","v":{"$error":"#DIV/0!"}},null,null,null,null,null,null,null,2.5696156064817242,{"$f":"AF780*O780","v":0},{"$f":"AG780/AG880","v":{"$error":"#DIV/0!"}},-256,{"$f":"IF(O780>1,I574/(O780-1),I574/O780)","v":{"$error":"#DIV/0!"}},{"$error":"#DIV/0!"}]
[null,null,null,"DIVAR IP 6000 R2 8X3TB",null,"DIP-6183-8HD","RAID 5",0,{"$f":"IF(G781=\"RAID 5\",(7-H781)*2793,(6-H781)*2793)","v":19551},24,0,{"$f":"IF(G781=\"RAID 5\",550,475)","v":550},256,{"$f":"I574/O781","v":{"$error":"#DIV/0!"}},{"$f":"ROUNDUP(G574/I781,0)","v":0},{"$f":"(1-((G574/$I781)-INT(G574/$I781)))*I781/1024","v":19.0927734375},{"$error":"#DIV/0!"},0,0,0,0,0,{"$error":"#DIV/0!"},{"$f":"IF(AND(IF($N781<=$L781,TRUE,FALSE),IF($V781<=$R781,TRUE,FALSE),OR(W781=\"True\",W579=\"No\")),\"<-- fits project\",\"\")","v":{"$error":"#DIV/0!"}},null,null,null,null,null,null,null,3.4417772300592584,0,{"$f":"AG781/AG880","v":{"$error":"#DIV/0!"}},-256,{"$f":"IF(O781>1,I574/(O781-1),I574/O781)","v":{"$error":"#DIV/0!"}},{"$error":"#DIV/0!"},null,null,null,null,null,null,{"$f":"IF(G781=\"RAID 6\",0,0)","v":0},{"$f":"IF(G781=\"RAID 6\",0,1)","v":1}]
[null,null,null,"DIVAR IP 6000 R2 3U 16x3TB",null,"DIP-61F3-16HD","RAID 5",0,{"$f":"IF(G782=\"RAID 5\",(15-H782)*2792,(14-H782)*2792)","v":41880},48,0,{"$f":"IF(G782=\"RAID 5\",550,475)","v":550},256,{"$f":"I574/O782","v":{"$error":"#DIV/0!"}},{"$f":"ROUNDUP(G574/I782,0)","v":0},{"$f":"(1-((G574/$I782)-INT(G574/$I782)))*I782/1024","v":40.8984375},{"$error":"#DIV/0!"},0,0,0,0,0,{"$error":"#DIV/0!"},{"$f":"IF(AND(IF($N782<=$L782,TRUE,FALSE),IF($V782<=$R782,TRUE,FALSE),OR(W782=\"True\",W579=\"No\")),\"<-- fits project\",\"\")","v":{"$error":"#DIV/0!"}},null,null,null,null,null,null,null,5.213304315905396,0,{"$f":"AG782/AG880","v":{"$error":"#DIV/0!"}},-256,{"$f":"IF(O782>1,I574/(O782-1),I574/O782)","v":{"$error":"#DIV/0!"}},{"$error":"#DIV/0!"},null,null,null,null,null,null,{"$f":"IF(G782=\"RAID 6\",0,0)","v":0},{"$f":"IF(G782=\"RAID 6\",0,1)","v":1}]
[null,null,"4TB","DIVAR IP 6000 R2 4x4TB",null,"DIP-6184-4HD","RAID 5",0,11170,16,0,550,256,{"$f":"I574/O783","v":{"$error":"#DIV/0!"}},{"$f":"ROUNDUP(G574/I783,0)","v":0},{"$f":"(1-((G574/$I783)-INT(G574/$I783)))*I783/1024","v":10.908203125},{"$error":"#DIV/0!"},0,0,0,0,0,{"$error":"#DIV/0!"},{"$f":"IF(AND(IF($N783<=$L783,TRUE,FALSE),IF($V783<=$R783,TRUE,FALSE),OR(W783=\"True\",W579=\"No\")),\"<-- fits project\",\"\")","v":{"$error":"#DIV/0!"}},null,null,null,null,null,null,null,2.6866248885625885,0,{"$f":"AG783/AG880","v":{"$error":"#DIV/0!"}},-256,{"$f":"IF(O783>1,I574/(O783-1),I574/O783)","v":{"$error":"#DIV/0!"}},{"$error":"#DIV/0!"}]
[null,null,null,"DIVAR IP 6000 R2 8x4TB",null,"DIP-6184-8HD","RAID 5",0,{"$f":"IF(G784=\"RAID 5\",(7-H784)*3723,(6-H784)*3723)","v":26061},32,0,{"$f":"IF(G784=\"RAID 5\",550,475)","v":550},256,{"$f":"I574/O784","v":{"$error":"#DIV/0!"}},{"$f":"ROUNDUP(G574/I784,0)","v":0},{"$f":"(1-((G574/$I784)-INT(G574/$I784)))*I784/1024","v":25.4501953125},{"$error":"#DIV/0!"},0,0,0,0,0,{"$error":"#DIV/0!"},{"$f":"IF(AND(IF($N784<=$L784,TRUE,FALSE),IF($V784<=$R784,TRUE,FALSE),OR(W784=\"True\",W579=\"No\")),\"<-- fits project\",\"\")","v":{"$error":"#DIV/0!"}},null,null,null,null,null,null,null,3.6403980282133306,0,{"$f":"AG784/AG880","v":{"$error":"#DIV/0!"}},-256,{"$f":"IF(O784>1,I574/(O784-1),I574/O784)","v":{"$error":"#DIV/0!"}},{"$error":"#DIV/0!"},null,null,null,null,null,null,{"$f":"IF(G784=\"RAID 6\",0,0)","v":0},{"$f":"IF(G784=\"RAID 6\",0,1)","v":1}]
[null,null,null,"DIVAR IP 6000 R2 3U 16x4TB",null,"DIP-61F4-16HD","RAID 5",0,{"$f":"IF(G785=\"RAID 5\",(15-H785)*3723,(14-H785)*3723)","v":55845},64,0,{"$f":"IF(G785=\"RAID 5\",550,475)","v":550},256,{"$f":"$I$574/O785","v":{"$error":"#DIV/0!"}},{"$f":"ROUNDUP($G$574/I785,0)","v":0},{"$f":"(1-(($G$574/$I785)-INT($G$574/$I785)))*I785/1024","v":54.5361328125},{"$error":"#DIV/0!"},0,0,0,0,0,{"$error":"#DIV/0!"},{"$f":"IF(AND(IF($N785<=$L785,TRUE,FALSE),IF($V785<=$R785,TRUE,FALSE),OR(W785=\"True\",$W$579=\"No\")),\"<-- fits project\",\"\")","v":{"$error":"#DIV/0!"}},null,null,null,null,null,null,null,5.5250013110283707,0,{"$f":"AG785/$AG$880","v":{"$error":"#DIV/0!"}},-256,{"$f":"IF(O785>1,$I$574/(O785-1),$I$574/O785)","v":{"$error":"#DIV/0!"}},{"$error":"#DIV/0!"},null,null,null,null,null,null,{"$f":"IF(G785=\"RAID 6\",0,0)","v":0},{"$f":"IF(G785=\"RAID 6\",0,1)","v":1}]
[null,null,"6TB","DIVAR IP 6000 R2 8X6TB",null,"DIP-6186-8HD","RAID 5",0,{"$f":"IF(G786=\"RAID 5\",(7-H786)*5586,(6-H786)*5586)","v":39102},{"$f":"8*6","v":48},0,{"$f":"IF(G786=\"RAID 5\",550,475)","v":550},256,{"$f":"$I$574/O786","v":{"$error":"#DIV/0!"}},{"$f":"ROUNDUP($G$574/I786,0)","v":0},{"$f":"(1-(($G$574/$I786)-INT($G$574/$I786)))*I786/1024","v":38.185546875},{"$error":"#DIV/0!"},0,0,0,0,0,{"$error":"#DIV/0!"},{"$f":"IF(AND(IF($N786<=$L786,TRUE,FALSE),IF($V786<=$R786,TRUE,FALSE),OR(W786=\"True\",$W$579=\"No\")),\"<-- fits project\",\"\")","v":{"$error":"#DIV/0!"}},null,null,null,null,null,null,null,null,0,{"$f":"AG786/$AG$880","v":{"$error":"#DIV/0!"}},-256,{"$f":"IF(O786>1,$I$574/(O786-1),$I$574/O786)","v":{"$error":"#DIV/0!"}},{"$error":"#DIV/0!"}]
[null,null,null,"DIVAR IP 6000 R2 3U 16x6TB",null,"DIP-61F6-16HD","RAID 5",0,{"$f":"IF(G787=\"RAID 5\",(15-H787)*5586,(14-H787)*5586)","v":83790},{"$f":"16*6","v":96},0,550,256,{"$f":"$I$574/O787","v":{"$error":"#DIV/0!"}},{"$f":"ROUNDUP($G$574/I787,0)","v":0},{"$f":"(1-(($G$574/$I787)-INT($G$574/$I787)))*I787/1024","v":81.826171875},{"$error":"#DIV/0!"},0,0,0,{"$f":"$S$259*MIN(O787,$S$260)","v":0},0,{"$error":"#DIV/0!"},{"$f":"IF(AND(IF($N787<=$L787,TRUE,FALSE),IF($V787<=$R787,TRUE,FALSE),OR(W787=\"True\",$W$579=\"No\")),\"<-- fits project\",\"\")","v":{"$error":"#DIV/0!"}},null,null,null,null,null,null,null,null,0,{"$f":"AG787/$AG$880","v":{"$error":"#DIV/0!"}},-256,{"$f":"IF(O787>1,$I$574/(O787-1),$I$574/O787)","v":{"$error":"#DIV/0!"}},{"$f":"IF(X787=\"<-- fits project\",D787,\"\")","v":{"$error":"#DIV/0!"}}]
[null,null,"8TB","DIVAR IP 6000 R2 8X8TB",null,"DIP-6188-8HD","RAID 5",0,{"$f":"IF(G788=\"RAID 5\",(7-H788)*7448,(6-H788)*7448)","v":52136},{"$f":"8*8","v":64},0,550,256,{"$f":"$I$574/O788","v":{"$error":"#DIV/0!"}},{"$f":"ROUNDUP($G$574/I788,0)","v":0},{"$f":"(1-(($G$574/$I788)-INT($G$574/$I788)))*I788/1024","v":50.9140625},{"$error":"#DIV/0!"},0,0,0,0,0,{"$error":"#DIV/0!"},{"$f":"IF(AND(IF($N788<=$L788,TRUE,FALSE),IF($V788<=$R788,TRUE,FALSE),OR(W788=\"True\",$W$579=\"No\")),\"<-- fits project\",\"\")","v":{"$error":"#DIV/0!"}},null,null,null,null,null,null,null,null,0,{"$f":"AG788/$AG$880","v":{"$error":"#DIV/0!"}},-256,{"$f":"IF(O788>1,$I$574/(O788-1),$I$574/O788)","v":{"$error":"#DIV/0!"}},{"$error":"#DIV/0!"}]
[null,null,null,"DIVAR IP 6000 R2 3U 16x8TB",null,"DIP-61F8-16HD","RAID 5",0,{"$f":"IF(G789=\"RAID 5\",(15-H789)*7448,(14-H789)*7448)","v":111720},{"$f":"16*8","v":128},0,550,256,{"$f":"$I$574/O789","v":{"$error":"#DIV/0!"}},{"$f":"ROUNDUP($G$574/I789,0)","v":0},{"$f":"(1-(($G$574/$I789)-INT($G$574/$I789)))*I789/1024","v":109.1015625},{"$error":"#DIV/0!"},0,0,0,0,0,{"$error":"#DIV/0!"},{"$f":"IF(AND(IF($N789<=$L789,TRUE,FALSE),IF($V789<=$R789,TRUE,FALSE),OR(W789=\"True\",$W$579=\"No\")),\"<-- fits project\",\"\")","v":{"$error":"#DIV/0!"}},null,null,null,null,null,null,null,null,0,{"$f":"AG789/$AG$880","v":{"$error":"#DIV/0!"}},-256,{"$f":"IF(O789>1,$I$574/(O789-1),$I$574/O789)","v":{"$error":"#DIV/0!"}},{"$error":"#DIV/0!"}]
[0,null,null,"EOL E-Series Base Unit, 12 x 2 TB",null,"DSA-N2E7X2-12AT","RAID 5",0,{"$f":"IF(G790=\"RAID 5\",(11-H790)*1862,(10-H790)*1862)","v":20482},24,0,1050,800,{"$f":"I574/O790","v":{"$error":"#DIV/0!"}},{"$f":"ROUNDUP(G574/I790,0)","v":0},{"$f":"(1-((G574/$I790)-INT(G574/$I790)))*I790/1024","v":20.001953125},{"$error":"#DIV/0!"},0,0,0,{"$f":"$S$259*MIN(O790,S577)","v":0},0,{"$error":"#DIV/0!"},{"$f":"IF(AND(IF($N790<=$L790,TRUE,FALSE),IF($V790<=$R790,TRUE,FALSE),OR(W790=\"True\",W579=\"No\")),\"<-- fits project\",\"\")","v":{"$error":"#DIV/0!"}},null,null,null,null,null,null,null,5.1923278619749329,0,{"$f":"AG790/AG880","v":{"$error":"#DIV/0!"}},-800,{"$f":"IF(O790>1,I574/(O790-1),I574/O790)","v":{"$error":"#DIV/0!"}},{"$f":"IF(X790=\"<-- fits project\",D790,\"\")","v":{"$error":"#DIV/0!"}}]
[1,null,null,"EOL E-Series Base + 1x Expansion Unit, 24x2TB",null,"DSA‑N2E7X2‑12AT + 1x DSX‑N1D6X2‑12AT","RAID 5",0,{"$f":"IF(G791=\"RAID 5\",(11-H791)*1862,(10-H791)*1862)+IF(G791=\"RAID 5\",(11-H791)*1862,(10-H791)*1862)*A791","v":40964},48,0,1050,800,{"$f":"I574/O791","v":{"$error":"#DIV/0!"}},{"$f":"ROUNDUP(G574/I791,0)","v":0},{"$f":"(1-((G574/$I791)-INT(G574/$I791)))*I791/1024","v":40.00390625},{"$error":"#DIV/0!"},0,0,0,{"$f":"$S$259*MIN(O791,S577)","v":0},0,{"$error":"#DIV/0!"},{"$f":"IF(AND(IF($N791<=$L791,TRUE,FALSE),IF($V791<=$R791,TRUE,FALSE),OR(W791=\"True\",W579=\"No\")),\"<-- fits project\",\"\")","v":{"$error":"#DIV/0!"}},null,null,null,null,null,null,null,10.031005820965966,0,{"$f":"AG791/AG880","v":{"$error":"#DIV/0!"}},-800,{"$f":"IF(O791>1,I574/(O791-1),I574/O791)","v":{"$error":"#DIV/0!"}},{"$error":"#DIV/0!"}]
[2,null,null,"EOL E-Series Base + 2x Expansion Unit, 36x2TB",null,"DSA‑N2E7X2‑12AT + 2x DSX‑N1D6X2‑12AT","RAID 5",0,61446,72,0,1050,800,{"$f":"I574/O792","v":{"$error":"#DIV/0!"}},{"$f":"ROUNDUP(G574/I792,0)","v":0},{"$f":"(1-((G574/$I792)-INT(G574/$I792)))*I792/1024","v":60.005859375},{"$error":"#DIV/0!"},0,0,0,{"$f":"$S$259*MIN(O792,S577)","v":0},0,{"$error":"#DIV/0!"},{"$f":"IF(AND(IF($N792<=$L792,TRUE,FALSE),IF($V792<=$R792,TRUE,FALSE),OR(W792=\"True\",W579=\"No\")),\"<-- fits project\",\"\")","v":{"$error":"#DIV/0!"}},null,null,null,null,null,null,null,15.223333682940899,0,{"$f":"AG792/AG880","v":{"$error":"#DIV/0!"}},-800,{"$f":"IF(O792>1,I574/(O792-1),I574/O792)","v":{"$error":"#DIV/0!"}},{"$error":"#DIV/0!"}]
[3,null,null,"EOL E-Series Base + 3x Expansion Unit, 48x2TB",null,"DSA‑N2E7X2‑12AT + 3x DSX‑N1D6X2‑12AT","RAID 5",0,81928,92,0,1050,800,{"$f":"I574/O793","v":{"$error":"#DIV/0!"}},{"$f":"ROUNDUP(G574/I793,0)","v":0},{"$f":"(1-((G574/$I793)-INT(G574/$I793)))*I793/1024","v":80.0078125},{"$error":"#DIV/0!"},0,0,0,{"$f":"$S$259*MIN(O793,S577)","v":0},0,{"$error":"#DIV/0!"},{"$f":"IF(AND(IF($N793<=$L793,TRUE,FALSE),IF($V793<=$R793,TRUE,FALSE),OR(W793=\"True\",W579=\"No\")),\"<-- fits project\",\"\")","v":{"$error":"#DIV/0!"}},null,null,null,null,null,null,null,20.415661544915832,0,{"$f":"AG793/AG880","v":{"$error":"#DIV/0!"}},-800,{"$f":"IF(O793>1,I574/(O793-1),I574/O793)","v":{"$error":"#DIV/0!"}},{"$error":"#DIV/0!"}]
[4,null,null,"EOL E-Series Base + 4x Expansion Unit, 60x2TB",null,"DSA‑N2E7X2‑12AT + 4x DSX‑N1D6X2‑12AT","RAID 5",0,102410,120,0,1050,800,{"$f":"I574/O794","v":{"$error":"#DIV/0!"}},{"$f":"ROUNDUP(G574/I794,0)","v":0},{"$f":"(1-((G574/$I794)-INT(G574/$I794)))*I794/1024","v":100.009765625},{"$error":"#DIV/0!"},0,0,0,{"$f":"$S$259*MIN(O794,S577)","v":0},0,{"$error":"#DIV/0!"},{"$f":"IF(AND(IF($N794<=$L794,TRUE,FALSE),IF($V794<=$R794,TRUE,FALSE),OR(W794=\"True\",W579=\"No\")),\"<-- fits project\",\"\")","v":{"$error":"#DIV/0!"}},null,null,null,null,null,null,null,25.607989406890766,0,{"$f":"AG794/AG880","v":{"$error":"#DIV/0!"}},-800,{"$f":"IF(O794>1,I574/(O794-1),I574/O794)","v":{"$error":"#DIV/0!"}},{"$error":"#DIV/0!"}]
[5,null,null,"EOL E-Series Base + 5x Expansion Unit, 72x2TB",null,"DSA‑N2E7X2‑12AT + 5x DSX‑N1D6X2‑12AT","RAID 5",0,122892,144,0,1050,800,{"$f":"I574/O795","v":{"$error":"#DIV/0!"}},{"$f":"ROUNDUP(G574/I795,0)","v":0},{"$f":"(1-((G574/$I795)-INT(G574/$I795)))*I795/1024","v":120.01171875},{"$error":"#DIV/0!"},0,0,0,{"$f":"$S$259*MIN(O795,S577)","v":0},0,{"$error":"#DIV/0!"},{"$f":"IF(AND(IF($N795<=$L795,TRUE,FALSE),IF($V795<=$R795,TRUE,FALSE),OR(W795=\"True\",W579=\"No\")),\"<-- fits project\",\"\")","v":{"$error":"#DIV/0!"}},null,null,null,null,null,null,null,30.800317268865697,0,{"$f":"AG795/AG880","v":{"$error":"#DIV/0!"}},-800,{"$f":"IF(O795>1,I574/(O795-1),I574/O795)","v":{"$error":"#DIV/0!"}},{"$error":"#DIV/0!"}]
[6,null,null,"EOL E-Series Base + 6x Expansion Unit, 84x2TB",null,"DSA‑N2E7X2‑12AT + 6x DSX‑N1D6X2‑12AT","RAID 5",0,143374,168,0,1050,800,{"$f":"I574/O796","v":{"$error":"#DIV/0!"}},{"$f":"ROUNDUP(G574/I796,0)","v":0},{"$f":"(1-((G574/$I796)-INT(G574/$I796)))*I796/1024","v":140.013671875},{"$error":"#DIV/0!"},0,0,0,{"$f":"$S$259*MIN(O796,S577)","v":0},0,{"$error":"#DIV/0!"},{"$f":"IF(AND(IF($N796<=$L796,TRUE,FALSE),IF($V796<=$R796,TRUE,FALSE),OR(W796=\"True\",W579=\"No\")),\"<-- fits project\",\"\")","v":{"$error":"#DIV/0!"}},null,null,null,null,null,null,null,35.992645130840629,0,{"$f":"AG796/AG880","v":{"$error":"#DIV/0!"}},-800,{"$f":"IF(O796>1,I574/(O796-1),I574/O796)","v":{"$error":"#DIV/0!"}},{"$error":"#DIV/0!"}]
[7,null,null,"EOL E-Series Base + 7x Expansion Unit, 96x2TB",null,"DSA‑N2E7X2‑12AT + 7x DSX‑N1D6X2‑12AT","RAID 5",0,163856,192,0,1050,800,{"$f":"I574/O797","v":{"$error":"#DIV/0!"}},{"$f":"ROUNDUP(G574/I797,0)","v":0},{"$f":"(1-((G574/$I797)-INT(G574/$I797)))*I797/1024","v":160.015625},{"$f":"AH797","v":{"$error":"#DIV/0!"}},0,0,0,{"$f":"$S$259*MIN(O797,S577)","v":0},{"$f":"SUM(S797,T797,U797)","v":0},{"$error":"#DIV/0!"},{"$f":"IF(AND(IF($N797<=$L797,TRUE,FALSE),IF($V797<=$R797,TRUE,FALSE),OR(W797=\"True\",W579=\"No\")),\"<-- fits project\",\"\")","v":{"$error":"#DIV/0!"}},null,null,null,null,null,null,null,41.184972992815567,0,{"$f":"AG797/AG880","v":{"$error":"#DIV/0!"}},-800,{"$f":"IF(O797>1,I574/(O797-1),I574/O797)","v":{"$error":"#DIV/0!"}},{"$error":"#DIV/0!"}]
[0,null,"3TB","EOL E-Series Base Unit, 12 x 3 TB",null,"DSA‑N2E7X3‑12AT","RAID 5",0,{"$f":"IF(G798=\"RAID 5\",(11-H798)*2794,(10-H798)*2794)","v":30734},36,0,650,800,{"$f":"I574/O798","v":{"$error":"#DIV/0!"}},{"$f":"ROUNDUP(G574/I798,0)","v":0},{"$f":"(1-((G574/$I798)-INT(G574/$I798)))*I798/1024","v":30.013671875},{"$f":"AH798","v":{"$error":"#DIV/0!"}},0,0,0,{"$f":"$S$259*MIN(O798,S577)","v":0},{"$f":"SUM(S798,T798,U798)","v":0},{"$error":"#DIV/0!"},{"$f":"IF(AND(IF($N798<=$L798,TRUE,FALSE),IF($V798<=$R798,TRUE,FALSE),OR(W798=\"True\",W579=\"No\")),\"<-- fits project\",\"\")","v":{"$error":"#DIV/0!"}},null,null,null,null,null,null,null,6.2624547695212129,0,{"$f":"AG798/AG880","v":{"$error":"#DIV/0!"}},-800,{"$f":"IF(O798>1,I574/(O798-1),I574/O798)","v":{"$error":"#DIV/0!"}},{"$error":"#DIV/0!"}]
[1,null,null,"EOL E-Series Base + 1x Expansion Unit, 24x3TB",null,"DSA‑N2E7X3‑12AT + 1x DSX‑N1D6X3‑12AT","RAID 5",0,{"$f":"IF(G799=\"RAID 5\",(11-H799)*2794,(10-H799)*2794)+IF(G799=\"RAID 5\",(11-H799)*2794,(10-H799)*2794)*A799","v":61468},{"$f":"36+A799*36","v":72},0,1050,800,{"$f":"I574/O799","v":{"$error":"#DIV/0!"}},{"$f":"ROUNDUP(G574/I799,0)","v":0},{"$f":"(1-((G574/$I799)-INT(G574/$I799)))*I799/1024","v":60.02734375},{"$error":"#DIV/0!"},0,0,0,{"$f":"$S$259*MIN(O799,S577)","v":0},0,{"$error":"#DIV/0!"},{"$f":"IF(AND(IF($N799<=$L799,TRUE,FALSE),IF($V799<=$R799,TRUE,FALSE),OR(W799=\"True\",W579=\"No\")),\"<-- fits project\",\"\")","v":{"$error":"#DIV/0!"}},null,null,null,null,null,null,null,11.704533536105721,0,{"$f":"AG799/AG880","v":{"$error":"#DIV/0!"}},-800,{"$f":"IF(O799>1,I574/(O799-1),I574/O799)","v":{"$error":"#DIV/0!"}},{"$error":"#DIV/0!"}]
[2,null,null,"EOL E-Series Base + 2x Expansion Unit, 36x3TB",null,"DSA‑N2E7X3‑12AT + 2x DSX‑N1D6X3‑12AT","RAID 5",0,92202,108,0,1050,800,{"$f":"I574/O800","v":{"$error":"#DIV/0!"}},{"$f":"ROUNDUP(G574/I800,0)","v":0},{"$f":"(1-((G574/$I800)-INT(G574/$I800)))*I800/1024","v":90.041015625},{"$error":"#DIV/0!"},0,0,0,{"$f":"$S$259*MIN(O800,S577)","v":0},0,{"$error":"#DIV/0!"},{"$f":"IF(AND(IF($N800<=$L800,TRUE,FALSE),IF($V800<=$R800,TRUE,FALSE),OR(W800=\"True\",W579=\"No\")),\"<-- fits project\",\"\")","v":{"$error":"#DIV/0!"}},null,null,null,null,null,null,null,17.966988305626934,0,{"$f":"AG800/AG880","v":{"$error":"#DIV/0!"}},-800,{"$f":"IF(O800>1,I574/(O800-1),I574/O800)","v":{"$error":"#DIV/0!"}},{"$error":"#DIV/0!"}]
[3,null,null,"EOL E-Series Base + 3x Expansion Unit, 48X3TB",null,"DSA‑N2E7X3‑12AT + 3x DSX‑N1D6X3‑12AT","RAID 5",0,122936,144,0,1050,800,{"$f":"I574/O801","v":{"$error":"#DIV/0!"}},{"$f":"ROUNDUP(G574/I801,0)","v":0},{"$f":"(1-((G574/$I801)-INT(G574/$I801)))*I801/1024","v":120.0546875},{"$error":"#DIV/0!"},0,0,0,{"$f":"$S$259*MIN(O801,S577)","v":0},0,{"$error":"#DIV/0!"},{"$f":"IF(AND(IF($N801<=$L801,TRUE,FALSE),IF($V801<=$R801,TRUE,FALSE),OR(W801=\"True\",W579=\"No\")),\"<-- fits project\",\"\")","v":{"$error":"#DIV/0!"}},null,null,null,null,null,null,null,24.229443075148147,0,{"$f":"AG801/AG880","v":{"$error":"#DIV/0!"}},-800,{"$f":"IF(O801>1,I574/(O801-1),I574/O801)","v":{"$error":"#DIV/0!"}},{"$error":"#DIV/0!"}]
[4,null,null,"EOL E-Series Base + 4x Expansion Unit, 60x3TB",null,"DSA‑N2E7X3‑12AT + 4x DSX‑N1D6X3‑12AT","RAID 5",0,153670,180,0,1050,800,{"$f":"I574/O802","v":{"$error":"#DIV/0!"}},{"$f":"ROUNDUP(G574/I802,0)","v":0},{"$f":"(1-((G574/$I802)-INT(G574/$I802)))*I802/1024","v":150.068359375},{"$error":"#DIV/0!"},0,0,0,{"$f":"$S$259*MIN(O802,S577)","v":0},0,{"$error":"#DIV/0!"},{"$f":"IF(AND(IF($N802<=$L802,TRUE,FALSE),IF($V802<=$R802,TRUE,FALSE),OR(W802=\"True\",W579=\"No\")),\"<-- fits project\",\"\")","v":{"$error":"#DIV/0!"}},null,null,null,null,null,null,null,30.49189784466936,0,{"$f":"AG802/AG880","v":{"$error":"#DIV/0!"}},-800,{"$f":"IF(O802>1,I574/(O802-1),I574/O802)","v":{"$error":"#DIV/0!"}},{"$error":"#DIV/0!"}]
[5,null,null,"EOL E-Series Base + 5x Expansion Unit, 72x3TB",null,"DSA‑N2E7X3‑12AT + 5x DSX‑N1D6X3‑12AT","RAID 5",0,184404,216,0,1050,800,{"$f":"I574/O803","v":{"$error":"#DIV/0!"}},{"$f":"ROUNDUP(G574/I803,0)","v":0},{"$f":"(1-((G574/$I803)-INT(G574/$I803)))*I803/1024","v":180.08203125},{"$error":"#DIV/0!"},0,{"$f":"IF($O803>7,OFFSET($I$255,0,$L$574),OFFSET($I$248,O803-1,$L$574,1,1))","v":0},0,{"$f":"$S$259*MIN(O803,S577)","v":0},0,{"$f":"IF(AND(IF($AJ803<=$L803,TRUE,FALSE),IF($V803<=$AI803,TRUE,FALSE)),\"True\",\"\")","v":{"$error":"#DIV/0!"}},{"$f":"IF(AND(IF($N803<=$L803,TRUE,FALSE),IF($V803<=$R803,TRUE,FALSE),OR(W803=\"True\",W579=\"No\")),\"<-- fits project\",\"\")","v":{"$error":"#DIV/0!"}},null,null,null,null,null,null,null,36.754352614190573,0,{"$f":"AG803/AG880","v":{"$error":"#DIV/0!"}},-800,{"$f":"IF(O803>1,I574/(O803-1),I574/O803)","v":{"$error":"#DIV/0!"}},{"$error":"#DIV/0!"}]
[6,null,null,"EOL E-Series Base + 6x Expansion Unit, 84x3TB",null,"DSA‑N2E7X3‑12AT + 6x DSX‑N1D6X3‑12AT","RAID 5",0,215138,252,0,1050,800,{"$f":"I574/O804","v":{"$error":"#DIV/0!"}},{"$f":"ROUNDUP(G574/I804,0)","v":0},{"$f":"(1-((G574/$I804)-INT(G574/$I804)))*I804/1024","v":210.095703125},{"$error":"#DIV/0!"},0,0,0,{"$f":"$S$259*MIN(O804,S577)","v":0},0,{"$error":"#DIV/0!"},{"$f":"IF(AND(IF($N804<=$L804,TRUE,FALSE),IF($V804<=$R804,TRUE,FALSE),OR(W804=\"True\",W579=\"No\")),\"<-- fits project\",\"\")","v":{"$error":"#DIV/0!"}},null,null,null,null,null,null,null,43.016807383711786,0,{"$f":"AG804/AG880","v":{"$error":"#DIV/0!"}},-800,{"$f":"IF(O804>1,I574/(O804-1),I574/O804)","v":{"$error":"#DIV/0!"}},{"$error":"#DIV/0!"}]
[7,null,null,"EOL E-Series Base + 7x Expansion Unit, 96x3TB",null,"DSA‑N2E7X3‑12AT + 7x DSX‑N1D6X3‑12AT","RAID 5",0,245872,288,0,1050,800,{"$f":"I574/O805","v":{"$error":"#DIV/0!"}},{"$f":"ROUNDUP(G574/I805,0)","v":0},{"$f":"(1-((G574/$I805)-INT(G574/$I805)))*I805/1024","v":240.109375},{"$f":"AH805","v":{"$error":"#DIV/0!"}},0,0,0,{"$f":"$S$259*MIN(O805,S577)","v":0},0,{"$error":"#DIV/0!"},{"$f":"IF(AND(IF($N805<=$L805,TRUE,FALSE),IF($V805<=$R805,TRUE,FALSE),OR(W805=\"True\",W579=\"No\")),\"<-- fits project\",\"\")","v":{"$error":"#DIV/0!"}},null,null,null,null,null,null,null,49.279262153232999,0,{"$f":"AG805/AG880","v":{"$error":"#DIV/0!"}},-800,{"$f":"IF(O805>1,I574/(O805-1),I574/O805)","v":{"$error":"#DIV/0!"}},{"$error":"#DIV/0!"}]
[0,null,"4TB","EOL E-Series Base Unit, 12 x 4 TB",null,"DSA‑N2E7X4‑12AT","RAID 5",0,{"$f":"IF(G806=\"RAID 5\",(11-H806)*3725,(10-H806)*3725)","v":40975},48,0,650,800,{"$f":"I574/O806","v":{"$error":"#DIV/0!"}},{"$f":"ROUNDUP(G574/I806,0)","v":0},{"$f":"(1-((G574/$I806)-INT(G574/$I806)))*I806/1024","v":40.0146484375},{"$f":"AH806","v":{"$error":"#DIV/0!"}},0,0,0,{"$f":"$S$259*MIN(O806,S577)","v":0},0,{"$error":"#DIV/0!"},{"$f":"IF(AND(IF($N806<=$L806,TRUE,FALSE),IF($V806<=$R806,TRUE,FALSE),OR(W806=\"True\",W579=\"No\")),\"<-- fits project\",\"\")","v":{"$error":"#DIV/0!"}},null,null,null,null,null,null,null,7.1516597619172479,0,{"$f":"AG806/AG880","v":{"$error":"#DIV/0!"}},-800,{"$f":"IF(O806>1,I574/(O806-1),I574/O806)","v":{"$error":"#DIV/0!"}},{"$error":"#DIV/0!"}]
[1,null,null,"EOL E-Series Base + 1x Expansion Unit, 24x4TB",null,"DSA‑N2E7X4‑12AT + 1x DSX‑N1D6X4‑12AT","RAID 5",0,{"$f":"IF(G807=\"RAID 5\",(11-H807)*3725,(10-H807)*3725)+IF(G807=\"RAID 5\",(11-H807)*3725,(10-H807)*3725)*A807","v":81950},{"$f":"48+A807*48","v":96},0,1050,800,{"$f":"I574/O807","v":{"$error":"#DIV/0!"}},{"$f":"ROUNDUP(G574/I807,0)","v":0},{"$f":"(1-((G574/$I807)-INT(G574/$I807)))*I807/1024","v":80.029296875},{"$error":"#DIV/0!"},0,0,0,{"$f":"$S$259*MIN(O807,S577)","v":0},0,{"$error":"#DIV/0!"},{"$f":"IF(AND(IF($N807<=$L807,TRUE,FALSE),IF($V807<=$R807,TRUE,FALSE),OR(W807=\"True\",W579=\"No\")),\"<-- fits project\",\"\")","v":{"$error":"#DIV/0!"}},null,null,null,null,null,null,null,13.428535843515654,0,{"$f":"AG807/AG880","v":{"$error":"#DIV/0!"}},-800,{"$f":"IF(O807>1,I574/(O807-1),I574/O807)","v":{"$error":"#DIV/0!"}},{"$error":"#DIV/0!"}]
[2,null,null,"EOL E-Series Base + 2x Expansion Unit, 36x4TB",null,"DSA‑N2E7X4‑12AT + 2x DSX‑N1D6X4‑12AT","RAID 5",0,122925,144,0,1050,800,{"$f":"I574/O808","v":{"$error":"#DIV/0!"}},{"$f":"ROUNDUP(G574/I808,0)","v":0},{"$f":"(1-((G574/$I808)-INT(G574/$I808)))*I808/1024","v":120.0439453125},{"$error":"#DIV/0!"},0,0,0,{"$f":"$S$259*MIN(O808,S577)","v":0},0,{"$error":"#DIV/0!"},{"$f":"IF(AND(IF($N808<=$L808,TRUE,FALSE),IF($V808<=$R808,TRUE,FALSE),OR(W808=\"True\",W579=\"No\")),\"<-- fits project\",\"\")","v":{"$error":"#DIV/0!"}},null,null,null,null,null,null,null,20.580195605432902,0,{"$f":"AG808/AG880","v":{"$error":"#DIV/0!"}},-800,{"$f":"IF(O808>1,I574/(O808-1),I574/O808)","v":{"$error":"#DIV/0!"}},{"$error":"#DIV/0!"}]
[3,null,null,"EOL E-Series Base + 3x Expansion Unit, 48x4TB",null,"DSA‑N2E7X4‑12AT + 3x DSX‑N1D6X4‑12AT","RAID 5",0,163900,192,0,1050,800,{"$f":"I574/O809","v":{"$error":"#DIV/0!"}},{"$f":"ROUNDUP(G574/I809,0)","v":0},{"$f":"(1-((G574/$I809)-INT(G574/$I809)))*I809/1024","v":160.05859375},{"$error":"#DIV/0!"},0,0,0,{"$f":"$S$259*MIN(O809,S577)","v":0},0,{"$error":"#DIV/0!"},{"$f":"IF(AND(IF($N809<=$L809,TRUE,FALSE),IF($V809<=$R809,TRUE,FALSE),OR(W809=\"True\",W579=\"No\")),\"<-- fits project\",\"\")","v":{"$error":"#DIV/0!"}},null,null,null,null,null,null,null,27.73185536735015,{"$f":"AF809*O809","v":0},{"$f":"AG809/AG880","v":{"$error":"#DIV/0!"}},-800,{"$f":"IF(O809>1,I574/(O809-1),I574/O809)","v":{"$error":"#DIV/0!"}},{"$error":"#DIV/0!"}]
[4,null,null,"EOL E-Series Base + 4x Expansion Unit, 60x4TB",null,"DSA‑N2E7X4‑12AT + 4x DSX‑N1D6X4‑12AT","RAID 5",0,204875,240,0,1050,800,{"$f":"I574/O810","v":{"$error":"#DIV/0!"}},{"$f":"ROUNDUP(G574/I810,0)","v":0},{"$f":"(1-((G574/$I810)-INT(G574/$I810)))*I810/1024","v":200.0732421875},{"$error":"#DIV/0!"},0,0,0,{"$f":"$S$259*MIN(O810,S577)","v":0},0,{"$error":"#DIV/0!"},{"$f":"IF(AND(IF($N810<=$L810,TRUE,FALSE),IF($V810<=$R810,TRUE,FALSE),OR(W810=\"True\",W579=\"No\")),\"<-- fits project\",\"\")","v":{"$error":"#DIV/0!"}},null,null,null,null,null,null,null,34.883515129267401,0,{"$f":"AG810/AG880","v":{"$error":"#DIV/0!"}},-800,{"$f":"IF(O810>1,I574/(O810-1),I574/O810)","v":{"$error":"#DIV/0!"}},{"$error":"#DIV/0!"}]
[5,null,null,"EOL E-Series Base + 5x Expansion Unit, 72x4TB",null,"DSA‑N2E7X4‑12AT + 5x DSX‑N1D6X4‑12AT","RAID 5",0,245850,288,0,1050,800,{"$f":"I574/O811","v":{"$error":"#DIV/0!"}},{"$f":"ROUNDUP(G574/I811,0)","v":0},{"$f":"(1-((G574/$I811)-INT(G574/$I811)))*I811/1024","v":240.087890625},{"$error":"#DIV/0!"},0,0,0,{"$f":"$S$259*MIN(O811,S577)","v":0},0,{"$error":"#DIV/0!"},{"$f":"IF(AND(IF($N811<=$L811,TRUE,FALSE),IF($V811<=$R811,TRUE,FALSE),OR(W811=\"True\",W579=\"No\")),\"<-- fits project\",\"\")","v":{"$error":"#DIV/0!"}},null,null,null,null,null,null,null,42.035174891184646,0,{"$f":"AG811/AG880","v":{"$error":"#DIV/0!"}},-800,{"$f":"IF(O811>1,I574/(O811-1),I574/O811)","v":{"$error":"#DIV/0!"}},{"$error":"#DIV/0!"}]
[6,null,null,"EOL E-Series Base + 6x Expansion Unit, 84x4TB",null,"DSA‑N2E7X4‑12AT + 6x DSX‑N1D6X4‑12AT","RAID 5",0,286825,336,0,1050,800,{"$f":"I574/O812","v":{"$error":"#DIV/0!"}},{"$f":"ROUNDUP(G574/I812,0)","v":0},{"$f":"(1-((G574/$I812)-INT(G574/$I812)))*I812/1024","v":280.1025390625},{"$error":"#DIV/0!"},0,0,0,{"$f":"$S$259*MIN(O812,S577)","v":0},0,{"$error":"#DIV/0!"},{"$f":"IF(AND(IF($N812<=$L812,TRUE,FALSE),IF($V812<=$R812,TRUE,FALSE),OR(W812=\"True\",W579=\"No\")),\"<-- fits project\",\"\")","v":{"$error":"#DIV/0!"}},null,null,null,null,null,null,null,49.186834653101897,0,{"$f":"AG812/AG880","v":{"$error":"#DIV/0!"}},-800,{"$f":"IF(O812>1,I574/(O812-1),I574/O812)","v":{"$error":"#DIV/0!"}},{"$error":"#DIV/0!"}]
[7,null,null,"EOL E-Series Base + 7x Expansion Unit, 96x4TB",null,"DSA‑N2E7X4‑12AT + 7x DSX‑N1D6X4‑12AT","RAID 5",0,327800,384,0,1050,800,{"$f":"I574/O813","v":{"$error":"#DIV/0!"}},{"$f":"ROUNDUP(G574/I813,0)","v":0},{"$f":"(1-((G574/$I813)-INT(G574/$I813)))*I813/1024","v":320.1171875},{"$error":"#DIV/0!"},0,0,0,{"$f":"$S$259*MIN(O813,S577)","v":0},{"$f":"SUM(S813,T813,U813)","v":0},{"$error":"#DIV/0!"},{"$f":"IF(AND(IF($N813<=$L813,TRUE,FALSE),IF($V813<=$R813,TRUE,FALSE),OR(W813=\"True\",W579=\"No\")),\"<-- fits project\",\"\")","v":{"$error":"#DIV/0!"}},null,null,null,null,null,null,null,56.338494415019142,0,{"$f":"AG813/AG880","v":{"$error":"#DIV/0!"}},-800,{"$f":"IF(O813>1,I574/(O813-1),I574/O813)","v":{"$error":"#DIV/0!"}},{"$error":"#DIV/0!"}]
[0,null,"6TB","EOL E-Series Base Unit, 12 x 6 TB",null,"DSA‑N2E7X6‑12AT","RAID 5",0,{"$f":"IF(G814=\"RAID 5\",(11-H814)*5586,(10-H814)*5586)","v":61446},72,0,650,800,{"$f":"I574/O814","v":{"$error":"#DIV/0!"}},{"$f":"ROUNDUP(G574/I814,0)","v":0},{"$f":"(1-((G574/$I814)-INT(G574/$I814)))*I814/1024","v":60.005859375},{"$error":"#DIV/0!"},0,0,0,{"$f":"$S$259*MIN(O814,S577)","v":0},{"$f":"SUM(S814,T814,U814)","v":0},{"$error":"#DIV/0!"},{"$f":"IF(AND(IF($N814<=$L814,TRUE,FALSE),IF($V814<=$R814,TRUE,FALSE),OR(W814=\"True\",W579=\"No\")),\"<-- fits project\",\"\")","v":{"$error":"#DIV/0!"}},null,null,null,null,null,null,null,10.810739944412397,0,{"$f":"AG814/AG880","v":{"$error":"#DIV/0!"}},-800,{"$f":"IF(O814>1,I574/(O814-1),I574/O814)","v":{"$error":"#DIV/0!"}},{"$error":"#DIV/0!"}]
[1,null,null,"EOL E-Series Base + 1x Expansion Unit, 24x6TB",null,"DSA-N2E7X6-12AT + 1x DSX-N1D6X6-12AT","RAID 5",0,{"$f":"IF(G815=\"RAID 5\",(11-H815)*5586,(10-H815)*5586)+IF(G815=\"RAID 5\",(11-H815)*5586,(10-H815)*5586)*A815","v":122892},{"$f":"72+A815*72","v":144},0,1050,800,{"$f":"I574/O815","v":{"$error":"#DIV/0!"}},{"$f":"ROUNDUP(G574/I815,0)","v":0},{"$f":"(1-((G574/$I815)-INT(G574/$I815)))*I815/1024","v":120.01171875},{"$error":"#DIV/0!"},0,0,0,{"$f":"$S$259*MIN(O815,S577)","v":0},0,{"$error":"#DIV/0!"},{"$f":"IF(AND(IF($N815<=$L815,TRUE,FALSE),IF($V815<=$R815,TRUE,FALSE),OR(W815=\"True\",W579=\"No\")),\"<-- fits project\",\"\")","v":{"$error":"#DIV/0!"}},null,null,null,null,null,null,null,20.194097750275315,0,{"$f":"AG815/AG880","v":{"$error":"#DIV/0!"}},-800,{"$f":"IF(O815>1,I574/(O815-1),I574/O815)","v":{"$error":"#DIV/0!"}},{"$error":"#DIV/0!"}]
[2,null,null,"EOL E-Series Base + 2x Expansion Unit, 36x6TB",null,"DSA-N2E7X6-12AT + 2x DSX-N1D6X6-12AT","RAID 5",0,184338,216,0,1050,800,{"$f":"I574/O816","v":{"$error":"#DIV/0!"}},{"$f":"ROUNDUP(G574/I816,0)","v":0},{"$f":"(1-((G574/$I816)-INT(G574/$I816)))*I816/1024","v":180.017578125},{"$error":"#DIV/0!"},0,0,0,{"$f":"$S$259*MIN(O816,S577)","v":0},0,{"$error":"#DIV/0!"},{"$f":"IF(AND(IF($N816<=$L816,TRUE,FALSE),IF($V816<=$R816,TRUE,FALSE),OR(W816=\"True\",W579=\"No\")),\"<-- fits project\",\"\")","v":{"$error":"#DIV/0!"}},null,null,null,null,null,null,null,31.004837694687712,0,{"$f":"AG816/AG880","v":{"$error":"#DIV/0!"}},-800,{"$f":"IF(O816>1,I574/(O816-1),I574/O816)","v":{"$error":"#DIV/0!"}},{"$error":"#DIV/0!"}]
[3,null,null,"EOL E-Series Base + 3x Expansion Unit, 48x6TB",null,"DSA-N2E7X6-12AT + 3x DSX-N1D6X6-12AT","RAID 5",0,245784,288,0,1050,800,{"$f":"I574/O817","v":{"$error":"#DIV/0!"}},{"$f":"ROUNDUP(G574/I817,0)","v":0},{"$f":"(1-((G574/$I817)-INT(G574/$I817)))*I817/1024","v":240.0234375},{"$error":"#DIV/0!"},0,0,0,{"$f":"$S$259*MIN(O817,S577)","v":0},0,{"$error":"#DIV/0!"},{"$f":"IF(AND(IF($N817<=$L817,TRUE,FALSE),IF($V817<=$R817,TRUE,FALSE),OR(W817=\"True\",W579=\"No\")),\"<-- fits project\",\"\")","v":{"$error":"#DIV/0!"}},null,null,null,null,null,null,null,41.815577639100113,0,{"$f":"AG817/AG880","v":{"$error":"#DIV/0!"}},-800,{"$f":"IF(O817>1,I574/(O817-1),I574/O817)","v":{"$error":"#DIV/0!"}},{"$error":"#DIV/0!"}]
[4,null,null,"EOL E-Series Base + 4x Expansion Unit, 60x6TB",null,"DSA-N2E7X6-12AT + 4x DSX-N1D6X6-12AT","RAID 5",0,307230,360,0,1050,800,{"$f":"I574/O818","v":{"$error":"#DIV/0!"}},{"$f":"ROUNDUP(G574/I818,0)","v":0},{"$f":"(1-((G574/$I818)-INT(G574/$I818)))*I818/1024","v":300.029296875},{"$error":"#DIV/0!"},0,0,0,{"$f":"$S$259*MIN(O818,S577)","v":0},0,{"$error":"#DIV/0!"},{"$f":"IF(AND(IF($N818<=$L818,TRUE,FALSE),IF($V818<=$R818,TRUE,FALSE),OR(W818=\"True\",W579=\"No\")),\"<-- fits project\",\"\")","v":{"$error":"#DIV/0!"}},null,null,null,null,null,null,null,52.62631758351251,0,{"$f":"AG818/AG880","v":{"$error":"#DIV/0!"}},-800,{"$f":"IF(O818>1,I574/(O818-1),I574/O818)","v":{"$error":"#DIV/0!"}},{"$error":"#DIV/0!"}]
[5,null,null,"EOL E-Series Base + 5x Expansion Unit, 72x6TB",null,"DSA-N2E7X6-12AT + 5x DSX-N1D6X6-12AT","RAID 5",0,368676,432,0,1050,800,{"$f":"I574/O819","v":{"$error":"#DIV/0!"}},{"$f":"ROUNDUP(G574/I819,0)","v":0},{"$f":"(1-((G574/$I819)-INT(G574/$I819)))*I819/1024","v":360.03515625},{"$error":"#DIV/0!"},0,0,0,{"$f":"$S$259*MIN(O819,S577)","v":0},0,{"$error":"#DIV/0!"},{"$f":"IF(AND(IF($N819<=$L819,TRUE,FALSE),IF($V819<=$R819,TRUE,FALSE),OR(W819=\"True\",W579=\"No\")),\"<-- fits project\",\"\")","v":{"$error":"#DIV/0!"}},null,null,null,null,null,null,null,63.437057527924907,0,{"$f":"AG819/AG880","v":{"$error":"#DIV/0!"}},-800,{"$f":"IF(O819>1,I574/(O819-1),I574/O819)","v":{"$error":"#DIV/0!"}},{"$error":"#DIV/0!"}]
[6,null,null,"EOL E-Series Base + 6x Expansion Unit, 84x6TB",null,"DSA-N2E7X6-12AT + 6x DSX-N1D6X6-12AT","RAID 5",0,430122,504,0,1050,800,{"$f":"I574/O820","v":{"$error":"#DIV/0!"}},{"$f":"ROUNDUP(G574/I820,0)","v":0},{"$f":"(1-((G574/$I820)-INT(G574/$I820)))*I820/1024","v":420.041015625},{"$error":"#DIV/0!"},0,0,0,{"$f":"$S$259*MIN(O820,S577)","v":0},0,{"$error":"#DIV/0!"},{"$f":"IF(AND(IF($N820<=$L820,TRUE,FALSE),IF($V820<=$R820,TRUE,FALSE),OR(W820=\"True\",W579=\"No\")),\"<-- fits project\",\"\")","v":{"$error":"#DIV/0!"}},null,null,null,null,null,null,null,74.247797472337297,0,{"$f":"AG820/AG880","v":{"$error":"#DIV/0!"}},-800,{"$f":"IF(O820>1,I574/(O820-1),I574/O820)","v":{"$error":"#DIV/0!"}},{"$error":"#DIV/0!"}]
[7,null,null,"EOL E-Series Base + 7x Expansion Unit, 96x6TB",null,"DSA-N2E7X6-12AT + 7x DSX-N1D6X6-12AT","RAID 5",0,491568,576,0,1050,800,{"$f":"$I$574/O821","v":{"$error":"#DIV/0!"}},{"$f":"ROUNDUP($G$574/I821,0)","v":0},{"$f":"(1-(($G$574/$I821)-INT($G$574/$I821)))*I821/1024","v":480.046875},{"$error":"#DIV/0!"},0,0,0,{"$f":"$S$259*MIN(O821,S577)","v":0},{"$f":"SUM(S821,T821,U821)","v":0},{"$error":"#DIV/0!"},{"$f":"IF(AND(IF($N821<=$L821,TRUE,FALSE),IF($V821<=$R821,TRUE,FALSE),OR(W821=\"True\",$W$579=\"No\")),\"<-- fits project\",\"\")","v":{"$error":"#DIV/0!"}},null,null,null,null,null,null,null,85.058537416749701,0,{"$f":"AG821/$AG$880","v":{"$error":"#DIV/0!"}},-800,{"$f":"IF(O821>1,$I$574/(O821-1),$I$574/O821)","v":{"$error":"#DIV/0!"}},{"$f":"IF(X821=\"<-- fits project\",D821,\"\")","v":{"$error":"#DIV/0!"}}]
[0,null,"8 TB","EOL E-Series Base Unit, 12 x 8 TB",null,"DSA‑N2E7X8‑12AT","RAID 5",0,{"$f":"IF(G822=\"RAID 5\",(11-H822)*7448,(10-H822)*7448)","v":81928},96,0,650,800,{"$error":"#DIV/0!"},0,80.0078125,{"$error":"#DIV/0!"},0,0,0,0,{"$f":"SUM(S822,T822,U822)","v":0},{"$error":"#DIV/0!"},{"$error":"#DIV/0!"},null,null,null,null,null,null,null,null,0,{"$error":"#DIV/0!"},-800,{"$error":"#DIV/0!"},{"$error":"#DIV/0!"}]
[1,null,null,"EOL E-Series Base + 1x Expansion Unit, 24x8TB",null,"DSA-N2E7X8-12AT + 1x DSX-N1D6X8-12AT","RAID 5",0,{"$f":"IF(G823=\"RAID 5\",(11-H823)*7448,(10-H823)*7448)+IF(G823=\"RAID 5\",(11-H823)*7448,(10-H823)*7448)*A823","v":163856},{"$f":"96+A823*96","v":192},0,1050,800,{"$error":"#DIV/0!"},0,160.015625,{"$error":"#DIV/0!"},0,0,0,0,0,{"$error":"#DIV/0!"},{"$error":"#DIV/0!"},null,null,null,null,null,null,null,null,0,{"$error":"#DIV/0!"},-800,{"$error":"#DIV/0!"},{"$error":"#DIV/0!"}]
[2,null,null,"EOL E-Series Base + 2x Expansion Unit, 36x8TB",null,"DSA-N2E7X8-12AT + 2x DSX-N1D6X8-12AT","RAID 5",0,245784,288,0,1050,800,{"$error":"#DIV/0!"},0,240.0234375,{"$error":"#DIV/0!"},0,0,0,0,0,{"$error":"#DIV/0!"},{"$error":"#DIV/0!"},null,null,null,null,null,null,null,null,0,{"$error":"#DIV/0!"},-800,{"$error":"#DIV/0!"},{"$error":"#DIV/0!"}]
[3,null,null,"EOL E-Series Base + 3x Expansion Unit, 48x8TB",null,"DSA-N2E7X8-12AT + 3x DSX-N1D6X8-12AT","RAID 5",0,327712,384,0,1050,800,{"$error":"#DIV/0!"},0,320.03125,{"$error":"#DIV/0!"},0,0,0,0,0,{"$error":"#DIV/0!"},{"$error":"#DIV/0!"},null,null,null,null,null,null,null,null,0,{"$error":"#DIV/0!"},-800,{"$error":"#DIV/0!"},{"$error":"#DIV/0!"}]
[4,null,null,"EOL E-Series Base + 4x Expansion Unit, 60x8TB",null,"DSA-N2E7X8-12AT + 4x DSX-N1D6X8-12AT","RAID 5",0,409640,480,0,1050,800,{"$error":"#DIV/0!"},0,400.0390625,{"$error":"#DIV/0!"},0,0,0,0,0,{"$error":"#DIV/0!"},{"$error":"#DIV/0!"},null,null,null,null,null,null,null,null,0,{"$error":"#DIV/0!"},-800,{"$error":"#DIV/0!"},{"$error":"#DIV/0!"}]
[5,null,null,"EOL E-Series Base + 5x Expansion Unit, 72x8TB",null,"DSA-N2E7X8-12AT + 5x DSX-N1D6X8-12AT","RAID 5",0,491568,576,0,1050,800,{"$error":"#DIV/0!"},0,480.046875,{"$error":"#DIV/0!"},0,0,0,0,0,{"$error":"#DIV/0!"},{"$error":"#DIV/0!"},null,null,null,null,null,null,null,null,0,{"$error":"#DIV/0!"},-800,{"$error":"#DIV/0!"},{"$error":"#DIV/0!"}]
[6,null,null,"EOL E-Series Base + 6x Expansion Unit, 84x8TB",null,"DSA-N2E7X8-12AT + 6x DSX-N1D6X8-12AT","RAID 5",0,573496,672,0,1050,800,{"$error":"#DIV/0!"},0,560.0546875,{"$error":"#DIV/0!"},0,0,0,0,0,{"$error":"#DIV/0!"},{"$error":"#DIV/0!"},null,null,null,null,null,null,null,null,0,{"$error":"#DIV/0!"},-800,{"$error":"#DIV/0!"},{"$error":"#DIV/0!"}]
[7,null,null,"EOL E-Series Base + 7x Expansion Unit, 96x8TB",null,"DSA-N2E7X8-12AT + 7x DSX-N1D6X8-12AT","RAID 5",0,655424,768,0,1050,800,{"$error":"#DIV/0!"},0,640.0625,{"$error":"#DIV/0!"},0,0,0,0,0,{"$error":"#DIV/0!"},{"$error":"#DIV/0!"},null,null,null,null,null,null,null,null,0,{"$error":"#DIV/0!"},-800,{"$error":"#DIV/0!"},{"$error":"#DIV/0!"}]
[0,null,"3TB HD","EOL E-Series dual ctrl base Unit, 12x3TB",null,"DSA-N2C7X3-12AT","RAID 5",0,{"$f":"IF(G830=\"RAID 5\",(11-H830)*2794,(10-H830)*2794)+IF(G830=\"RAID 5\",(55-H830*5)*2794,(50-H830*5)*2794)*A830","v":30734},36,0,1300,1600,{"$f":"I574/O830","v":{"$error":"#DIV/0!"}},{"$f":"ROUNDUP(G574/I830,0)","v":0},{"$f":"(1-((G574/$I830)-INT(G574/$I830)))*I830/1024","v":30.013671875},{"$error":"#DIV/0!"},0,0,0,{"$f":"$S$259*MIN(O830,S577)","v":0},{"$f":"SUM(S830,T830,U830)","v":0},{"$error":"#DIV/0!"},{"$f":"IF(AND(IF($N830<=$L830,TRUE,FALSE),IF($V830<=$R830,TRUE,FALSE),OR(W830=\"True\",W579=\"No\")),\"<-- fits project\",\"\")","v":{"$error":"#DIV/0!"}},null,null,null,null,null,null,null,8.9598956421416958,0,{"$f":"AG830/AG880","v":{"$error":"#DIV/0!"}},-1600,{"$f":"IF(O830>1,I574/(O830-1),I574/O830)","v":{"$error":"#DIV/0!"}},{"$error":"#DIV/0!"}]
[1,null,null,"EOL E-Series dual ctrl Base + 1x 60 HDD Exp, 12x3TB+60x3TB",null,"DSA-N2C7X3-12AT + 1x DSX-N6D6X3-60AT","RAID 5",0,{"$f":"IF(G831=\"RAID 5\",(11-H831)*2794,(10-H831)*2794)+IF(G831=\"RAID 5\",(55-H831)*2794,(50-H831)*2794)*A831","v":184404},216,0,2100,1600,{"$f":"I574/O831","v":{"$error":"#DIV/0!"}},{"$f":"ROUNDUP(G574/I831,0)","v":0},{"$f":"(1-((G574/$I831)-INT(G574/$I831)))*I831/1024","v":180.08203125},{"$error":"#DIV/0!"},0,0,0,{"$f":"$S$259*MIN(O831,S577)","v":0},0,{"$error":"#DIV/0!"},{"$f":"IF(AND(IF($N831<=$L831,TRUE,FALSE),IF($V831<=$R831,TRUE,FALSE),OR(W831=\"True\",W579=\"No\")),\"<-- fits project\",\"\")","v":{"$error":"#DIV/0!"}},null,null,null,null,null,null,null,38.915255126120933,0,{"$f":"AG831/AG880","v":{"$error":"#DIV/0!"}},-1600,{"$f":"IF(O831>1,I574/(O831-1),I574/O831)","v":{"$error":"#DIV/0!"}},{"$error":"#DIV/0!"}]
[2,null,null,"EOL E-Series dual ctrl Base + 2x 60 HDD Exp, 12x3TB+120x3TB",null,"DSA-N2C7X3-12AT + 2x DSX-N6D6X3-60AT","RAID 5",0,{"$f":"IF(G832=\"RAID 5\",(11-H832)*2794,(10-H832)*2794)+IF(G832=\"RAID 5\",(55-H832)*2794,(50-H832)*2794)*A832","v":338074},396,0,2100,1600,{"$f":"I574/O832","v":{"$error":"#DIV/0!"}},{"$f":"ROUNDUP(G574/I832,0)","v":0},{"$f":"(1-((G574/$I832)-INT(G574/$I832)))*I832/1024","v":330.150390625},{"$error":"#DIV/0!"},0,0,0,{"$f":"$S$259*MIN(O832,S577)","v":0},0,{"$error":"#DIV/0!"},{"$f":"IF(AND(IF($N832<=$L832,TRUE,FALSE),IF($V832<=$R832,TRUE,FALSE),OR(W832=\"True\",W579=\"No\")),\"<-- fits project\",\"\")","v":{"$error":"#DIV/0!"}},null,null,null,null,null,null,null,47.875150768262628,0,{"$f":"AG832/AG880","v":{"$error":"#DIV/0!"}},-1600,{"$f":"IF(O832>1,I574/(O832-1),I574/O832)","v":{"$error":"#DIV/0!"}},{"$error":"#DIV/0!"}]
[3,null,null,"EOL E-Series dual ctrl Base + 3x 60 HDD Exp, 12x3TB+180x3TB",null,"DSA-N2C7X3-12AT + 3x DSX-N6D6X3-60AT","RAID 5",0,{"$f":"IF(G833=\"RAID 5\",(11-H833)*2794,(10-H833)*2794)+IF(G833=\"RAID 5\",(55-H833)*2794,(50-H833)*2794)*A833","v":491744},574,0,2100,1600,{"$f":"I574/O833","v":{"$error":"#DIV/0!"}},{"$f":"ROUNDUP(G574/I833,0)","v":0},{"$f":"(1-((G574/$I833)-INT(G574/$I833)))*I833/1024","v":480.21875},{"$error":"#DIV/0!"},0,0,0,{"$f":"$S$259*MIN(O833,S577)","v":0},0,{"$error":"#DIV/0!"},{"$f":"IF(AND(IF($N833<=$L833,TRUE,FALSE),IF($V833<=$R833,TRUE,FALSE),OR(W833=\"True\",W579=\"No\")),\"<-- fits project\",\"\")","v":{"$error":"#DIV/0!"}},null,null,null,null,null,null,null,56.835046410404324,0,{"$f":"AG833/AG880","v":{"$error":"#DIV/0!"}},-1600,{"$f":"IF(O833>1,I574/(O833-1),I574/O833)","v":{"$error":"#DIV/0!"}},{"$error":"#DIV/0!"}]
[0,null,"4TB HD","EOL E-Series dual ctrl base Unit, 12x4TB",null,"DSA-N2C7X4-12AT","RAID 5",0,{"$f":"IF(G834=\"RAID 5\",(11-H834)*3725,(10-H834)*3725)+IF(G834=\"RAID 5\",(55-H834*5)*3725,(50-H834*5)*3725)*A834","v":40975},48,0,1300,1600,{"$f":"I574/O834","v":{"$error":"#DIV/0!"}},{"$f":"ROUNDUP(G574/I834,0)","v":0},{"$f":"(1-((G574/$I834)-INT(G574/$I834)))*I834/1024","v":40.0146484375},{"$error":"#DIV/0!"},0,0,0,{"$f":"$S$259*MIN(O834,S577)","v":0},0,{"$error":"#DIV/0!"},{"$f":"IF(AND(IF($N834<=$L834,TRUE,FALSE),IF($V834<=$R834,TRUE,FALSE),OR(W834=\"True\",W579=\"No\")),\"<-- fits project\",\"\")","v":{"$error":"#DIV/0!"}},null,null,null,null,null,null,null,9.6406471236037543,0,{"$f":"AG834/AG880","v":{"$error":"#DIV/0!"}},-1600,{"$f":"IF(O834>1,I574/(O834-1),I574/O834)","v":{"$error":"#DIV/0!"}},{"$error":"#DIV/0!"}]
[1,null,null,"EOL E-Series dual ctrl Base + 1x 60 HDD Exp, 12x4TB+60x4TB",null,"DSA-N2C7X4-12AT + 1x DSX-N6D6X4-60AT","RAID 5",0,{"$f":"IF(G835=\"RAID 5\",(11-H835)*3725,(10-H835)*3725)+IF(G835=\"RAID 5\",(55-H835)*3725,(50-H835)*3725)*A835","v":245850},288,{"$f":"O835*J835","v":0},2100,1600,{"$f":"I574/O835","v":{"$error":"#DIV/0!"}},{"$f":"ROUNDUP(G574/I835,0)","v":0},{"$f":"(1-((G574/$I835)-INT(G574/$I835)))*I835/1024","v":240.087890625},{"$error":"#DIV/0!"},{"$f":"O835*M835","v":0},0,0,{"$f":"$S$259*MIN(O835,S577)","v":0},0,{"$error":"#DIV/0!"},{"$f":"IF(AND(IF($N835<=$L835,TRUE,FALSE),IF($V835<=$R835,TRUE,FALSE),OR(W835=\"True\",W579=\"No\")),\"<-- fits project\",\"\")","v":{"$error":"#DIV/0!"}},null,null,null,null,null,null,null,44.790956526299233,0,{"$f":"AG835/AG880","v":{"$error":"#DIV/0!"}},{"$f":"(O835-1)*M835","v":-1600},{"$f":"IF(O835>1,I574/(O835-1),I574/O835)","v":{"$error":"#DIV/0!"}},{"$error":"#DIV/0!"}]
[2,null,null,"EOL E-Series dual ctrl Base + 2x 60 HDD Exp, 12x4TB+120x4TB",null,"DSA-N2C7X4-12AT + 2x DSX-N6D6X4-60AT","RAID 5",0,{"$f":"IF(G836=\"RAID 5\",(11-H836)*3725,(10-H836)*3725)+IF(G836=\"RAID 5\",(55-H836)*3725,(50-H836)*3725)*A836","v":450725},528,0,2100,1600,{"$f":"I574/O836","v":{"$error":"#DIV/0!"}},{"$f":"ROUNDUP(G574/I836,0)","v":0},{"$f":"(1-((G574/$I836)-INT(G574/$I836)))*I836/1024","v":440.1611328125},{"$error":"#DIV/0!"},0,0,{"$f":"O836*1*MAX($N$1528,1)","v":0},{"$f":"$S$259*MIN(O836,S577)","v":0},0,{"$error":"#DIV/0!"},{"$f":"IF(AND(IF($N836<=$L836,TRUE,FALSE),IF($V836<=$R836,TRUE,FALSE),OR(W836=\"True\",W579=\"No\")),\"<-- fits project\",\"\")","v":{"$error":"#DIV/0!"}},null,null,null,null,null,null,null,54.431603649902982,0,{"$f":"AG836/AG880","v":{"$error":"#DIV/0!"}},-1600,{"$f":"IF(O836>1,I574/(O836-1),I574/O836)","v":{"$error":"#DIV/0!"}},{"$error":"#DIV/0!"}]
[3,null,null,"EOL E-Series dual ctrl Base + 3x 60 HDD Exp, 12x4TB+180x4TB",null,"DSA-N2C7X4-12AT + 3x DSX-N6D6X4-60AT","RAID 5",0,{"$f":"IF(G837=\"RAID 5\",(11-H837)*3725,(10-H837)*3725)+IF(G837=\"RAID 5\",(55-H837)*3725,(50-H837)*3725)*A837","v":655600},768,0,2100,1600,{"$f":"I574/O837","v":{"$error":"#DIV/0!"}},{"$f":"ROUNDUP(G574/I837,0)","v":0},{"$f":"(1-((G574/$I837)-INT(G574/$I837)))*I837/1024","v":640.234375},{"$error":"#DIV/0!"},0,0,0,{"$f":"$S$259*MIN(O837,S577)","v":0},0,{"$error":"#DIV/0!"},{"$f":"IF(AND(IF($N837<=$L837,TRUE,FALSE),IF($V837<=$R837,TRUE,FALSE),OR(W837=\"True\",W579=\"No\")),\"<-- fits project\",\"\")","v":{"$error":"#DIV/0!"}},null,null,null,null,null,null,null,64.072250773506738,0,{"$f":"AG837/AG880","v":{"$error":"#DIV/0!"}},-1600,{"$f":"IF(O837>1,I574/(O837-1),I574/O837)","v":{"$error":"#DIV/0!"}},{"$error":"#DIV/0!"}]
[0,null,"6TB HD","EOL E-Series dual ctrl base Unit, 12x6TB",null,"DSA-N2C7X4-12AT","RAID 5",0,{"$f":"IF(G838=\"RAID 5\",(11-H838)*5588,(10-H838)*5588)+IF(G838=\"RAID 5\",(55-H838*5)*5588,(50-H838*5)*5588)*A838","v":61468},72,0,1300,1600,{"$f":"I574/O838","v":{"$error":"#DIV/0!"}},{"$f":"ROUNDUP(G574/I838,0)","v":0},{"$f":"(1-((G574/$I838)-INT(G574/$I838)))*I838/1024","v":60.02734375},{"$error":"#DIV/0!"},0,0,0,{"$f":"$S$259*MIN(O838,S577)","v":0},0,{"$error":"#DIV/0!"},{"$f":"IF(AND(IF($N838<=$L838,TRUE,FALSE),IF($V838<=$R838,TRUE,FALSE),OR(W838=\"True\",W579=\"No\")),\"<-- fits project\",\"\")","v":{"$error":"#DIV/0!"}},null,null,null,null,null,null,null,14.549137343332109,0,{"$f":"AG838/AG880","v":{"$error":"#DIV/0!"}},-1600,{"$f":"IF(O838>1,I574/(O838-1),I574/O838)","v":{"$error":"#DIV/0!"}},{"$error":"#DIV/0!"}]
[1,null,null,"EOL E-Series dual ctrl Base + 1x 60 HDD Exp, 12x6TB+60x6TB",null,"DSA-N2C7X6-12AT + 1x DSX-N6D6X6-60AT","RAID 5",0,{"$f":"IF(G839=\"RAID 5\",(11-H839)*5588,(10-H839)*5588)+IF(G839=\"RAID 5\",(55-H839)*5588,(50-H839)*5588)*A839","v":368808},432,0,2100,1600,{"$f":"I574/O839","v":{"$error":"#DIV/0!"}},{"$f":"ROUNDUP(G574/I839,0)","v":0},{"$f":"(1-((G574/$I839)-INT(G574/$I839)))*I839/1024","v":360.1640625},{"$error":"#DIV/0!"},0,0,0,{"$f":"$S$259*MIN(O839,S577)","v":0},0,{"$error":"#DIV/0!"},{"$f":"IF(AND(IF($N839<=$L839,TRUE,FALSE),IF($V839<=$R839,TRUE,FALSE),OR(W839=\"True\",W579=\"No\")),\"<-- fits project\",\"\")","v":{"$error":"#DIV/0!"}},null,null,null,null,null,null,null,67.1056426661073,0,{"$f":"AG839/AG880","v":{"$error":"#DIV/0!"}},-1600,{"$f":"IF(O839>1,I574/(O839-1),I574/O839)","v":{"$error":"#DIV/0!"}},{"$error":"#DIV/0!"}]
[2,null,null,"EOL E-Series dual ctrl Base + 2x 60 HDD Exp, 12x6TB+120x6TB",null,"DSA-N2C7X6-12AT + 2x DSX-N6D6X6-60AT","RAID 5",0,{"$f":"IF(G840=\"RAID 5\",(11-H840)*5588,(10-H840)*5588)+IF(G840=\"RAID 5\",(55-H840)*5588,(50-H840)*5588)*A840","v":676148},792,0,2100,1600,{"$f":"I574/O840","v":{"$error":"#DIV/0!"}},{"$f":"ROUNDUP(G574/I840,0)","v":0},{"$f":"(1-((G574/$I840)-INT(G574/$I840)))*I840/1024","v":660.30078125},{"$error":"#DIV/0!"},0,0,0,{"$f":"$S$259*MIN(O840,S577)","v":0},0,{"$error":"#DIV/0!"},{"$f":"IF(AND(IF($N840<=$L840,TRUE,FALSE),IF($V840<=$R840,TRUE,FALSE),OR(W840=\"True\",W579=\"No\")),\"<-- fits project\",\"\")","v":{"$error":"#DIV/0!"}},null,null,null,null,null,null,null,81.654780009439406,0,{"$f":"AG840/AG880","v":{"$error":"#DIV/0!"}},-1600,{"$f":"IF(O840>1,I574/(O840-1),I574/O840)","v":{"$error":"#DIV/0!"}},{"$error":"#DIV/0!"}]
[3,null,null,"EOL E-Series dual ctrl Base + 3x 60 HDD Exp, 12x6TB+180x6TB",null,"DSA-N2C7X6-12AT + 3x DSX-N6D6X6-60AT","RAID 5",0,{"$f":"IF(G841=\"RAID 5\",(11-H841)*5588,(10-H841)*5588)+IF(G841=\"RAID 5\",(55-H841)*5588,(50-H841)*5588)*A841","v":983488},1152,0,2100,1600,{"$f":"$I$574/O841","v":{"$error":"#DIV/0!"}},{"$f":"ROUNDUP($G$574/I841,0)","v":0},{"$f":"(1-(($G$574/$I841)-INT($G$574/$I841)))*I841/1024","v":960.4375},{"$error":"#DIV/0!"},0,0,0,{"$f":"$S$259*MIN(O841,S577)","v":0},0,{"$error":"#DIV/0!"},{"$f":"IF(AND(IF($N841<=$L841,TRUE,FALSE),IF($V841<=$R841,TRUE,FALSE),OR(W841=\"True\",$W$579=\"No\")),\"<-- fits project\",\"\")","v":{"$error":"#DIV/0!"}},null,null,null,null,null,null,null,96.203917352771512,0,{"$f":"AG841/$AG$880","v":{"$error":"#DIV/0!"}},-1600,{"$f":"IF(O841>1,$I$574/(O841-1),$I$574/O841)","v":{"$error":"#DIV/0!"}},{"$error":"#DIV/0!"}]
[0,null,"8 TB HD","EOL E-Series dual ctrl base Unit, 12x8TB",null,"DSA-N2C7X8-12AT","RAID 5",0,{"$f":"IF(G842=\"RAID 5\",(11-H842)*7448,(10-H842)*7448)+IF(G842=\"RAID 5\",(55-H842*5)*7448,(50-H842*5)*7448)*A842","v":81928},96,0,1300,1600,{"$f":"$I$574/O842","v":{"$error":"#DIV/0!"}},{"$f":"ROUNDUP($G$574/I842,0)","v":0},{"$f":"(1-(($G$574/$I842)-INT($G$574/$I842)))*I842/1024","v":80.0078125},{"$error":"#DIV/0!"},0,0,0,{"$f":"$S$259*MIN(O842,S578)","v":0},0,{"$error":"#DIV/0!"},{"$f":"IF(AND(IF($N842<=$L842,TRUE,FALSE),IF($V842<=$R842,TRUE,FALSE),OR(W842=\"True\",$W$579=\"No\")),\"<-- fits project\",\"\")","v":{"$error":"#DIV/0!"}},null,null,null,null,null,null,null,null,0,{"$f":"AG842/$AG$880","v":{"$error":"#DIV/0!"}},-1600,{"$f":"IF(O842>1,$I$574/(O842-1),$I$574/O842)","v":{"$error":"#DIV/0!"}},{"$error":"#DIV/0!"}]
[1,null,null,"EOL E-Series dual ctrl Base + 1x 60 HDD Exp, 12x8TB+60x8TB",null,"DSA-N2C7X8-12AT + 1x DSX-N6D6X8-60AT","RAID 5",0,{"$f":"IF(G843=\"RAID 5\",(11-H843)*7448,(10-H843)*7448)+IF(G843=\"RAID 5\",(55-H843)*7448,(50-H843)*7448)*A843","v":491568},{"$f":"96+(60*8)","v":576},0,2100,1600,{"$f":"$I$574/O843","v":{"$error":"#DIV/0!"}},{"$f":"ROUNDUP($G$574/I843,0)","v":0},{"$f":"(1-(($G$574/$I843)-INT($G$574/$I843)))*I843/1024","v":480.046875},{"$error":"#DIV/0!"},0,0,0,{"$f":"$S$259*MIN(O843,S579)","v":0},0,{"$error":"#DIV/0!"},{"$f":"IF(AND(IF($N843<=$L843,TRUE,FALSE),IF($V843<=$R843,TRUE,FALSE),OR(W843=\"True\",$W$579=\"No\")),\"<-- fits project\",\"\")","v":{"$error":"#DIV/0!"}},null,null,null,null,null,null,null,null,0,{"$f":"AG843/$AG$880","v":{"$error":"#DIV/0!"}},-1600,{"$f":"IF(O843>1,$I$574/(O843-1),$I$574/O843)","v":{"$error":"#DIV/0!"}},{"$error":"#DIV/0!"}]
[2,null,null,"EOL E-Series dual ctrl Base + 2x 60 HDD Exp, 12x8TB+120x8TB",null,"DSA-N2C7X8-12AT + 2x DSX-N6D6X8-60AT","RAID 5",0,{"$f":"IF(G844=\"RAID 5\",(11-H844)*7448,(10-H844)*7448)+IF(G844=\"RAID 5\",(55-H844)*7448,(50-H844)*7448)*A844","v":901208},{"$f":"96+(120*8)","v":1056},0,2100,1600,{"$f":"$I$574/O844","v":{"$error":"#DIV/0!"}},{"$f":"ROUNDUP($G$574/I844,0)","v":0},{"$f":"(1-(($G$574/$I844)-INT($G$574/$I844)))*I844/1024","v":880.0859375},{"$error":"#DIV/0!"},0,0,0,{"$f":"$S$259*MIN(O844,S580)","v":0},0,{"$error":"#DIV/0!"},{"$f":"IF(AND(IF($N844<=$L844,TRUE,FALSE),IF($V844<=$R844,TRUE,FALSE),OR(W844=\"True\",$W$579=\"No\")),\"<-- fits project\",\"\")","v":{"$error":"#DIV/0!"}},null,null,null,null,null,null,null,null,0,{"$f":"AG844/$AG$880","v":{"$error":"#DIV/0!"}},-1600,{"$f":"IF(O844>1,$I$574/(O844-1),$I$574/O844)","v":{"$error":"#DIV/0!"}},{"$error":"#DIV/0!"}]
[3,null,null,"EOL E-Series dual ctrl Base + 3x 60 HDD Exp, 12x8TB+180x8TB",null,"DSA-N2C7X8-12AT + 3x DSX-N6D6X8-60AT","RAID 5",0,{"$f":"IF(G845=\"RAID 5\",(11-H845)*7448,(10-H845)*7448)+IF(G845=\"RAID 5\",(55-H845)*7448,(50-H845)*7448)*A845","v":1310848},{"$f":"96+(180*8)","v":1536},0,2100,1600,{"$f":"$I$574/O845","v":{"$error":"#DIV/0!"}},{"$f":"ROUNDUP($G$574/I845,0)","v":0},{"$f":"(1-(($G$574/$I845)-INT($G$574/$I845)))*I845/1024","v":1280.125},{"$error":"#DIV/0!"},0,0,0,{"$f":"$S$259*MIN(O845,S581)","v":0},0,{"$error":"#DIV/0!"},{"$f":"IF(AND(IF($N845<=$L845,TRUE,FALSE),IF($V845<=$R845,TRUE,FALSE),OR(W845=\"True\",$W$579=\"No\")),\"<-- fits project\",\"\")","v":{"$error":"#DIV/0!"}},null,null,null,null,null,null,null,null,0,{"$f":"AG845/$AG$880","v":{"$error":"#DIV/0!"}},-1600,{"$f":"IF(O845>1,$I$574/(O845-1),$I$574/O845)","v":{"$error":"#DIV/0!"}},{"$error":"#DIV/0!"}]
[0,"NetApp E-Series E2800","4TB","E-Series Base Unit, 12 x 4 TB",null,"DSA-N2E8X4-12AT","RAID 5",0,{"$f":"IF(G846=\"RAID 5\",(11-H846)*3724,(10-H846)*3724)","v":40964},48,0,1250,800,{"$f":"$I$574/O846","v":{"$error":"#DIV/0!"}},{"$f":"ROUNDUP($G$574/I846,0)","v":0},{"$f":"(1-(($G$574/$I846)-INT($G$574/$I846)))*I846/1024","v":40.00390625},{"$error":"#DIV/0!"},0,0,0,{"$f":"$S$259*MIN(O846,S577)","v":0},0,{"$error":"#DIV/0!"},{"$f":"IF(AND(IF($N846<=$L846,TRUE,FALSE),IF($V846<=$R846,TRUE,FALSE),OR(W846=\"True\",$W$579=\"No\")),\"<-- fits project\",\"\")","v":{"$error":"#DIV/0!"}},null,null,null,null,null,null,null,null,0,{"$f":"AG846/$AG$880","v":{"$error":"#DIV/0!"}},-800,{"$f":"IF(O846>1,$I$574/(O846-1),$I$574/O846)","v":{"$error":"#DIV/0!"}},{"$error":"#DIV/0!"}]
[1,null,null,"E-Series Base + 1x Expansion Unit, 24x4TB",null,"DSA-N2E8X4-12AT + 1x DSX-N1D8X4-12AT","RAID 5",0,{"$f":"IF(G847=\"RAID 5\",(11-H847)*3724,(10-H847)*3724)+IF(G847=\"RAID 5\",(11-H847)*3724,(10-H847)*3724)*A847","v":81928},{"$f":"48+A847*48","v":96},0,1250,800,{"$error":"#DIV/0!"},0,80.0078125,{"$error":"#DIV/0!"},0,0,0,{"$f":"$S$259*MIN(O847,S577)","v":0},0,{"$error":"#DIV/0!"},{"$error":"#DIV/0!"},null,null,null,null,null,null,null,null,0,{"$error":"#DIV/0!"},-800,{"$error":"#DIV/0!"},{"$error":"#DIV/0!"}]
[2,null,null,"E-Series Base + 2x Expansion Unit, 36x4TB",null,"DSA-N2E8X4-12AT + 2x DSX-N1D8X4-12AT","RAID 5",0,122892,144,0,1250,800,{"$error":"#DIV/0!"},0,120.01171875,{"$error":"#DIV/0!"},0,0,0,{"$f":"$S$259*MIN(O848,S577)","v":0},0,{"$error":"#DIV/0!"},{"$error":"#DIV/0!"},null,null,null,null,null,null,null,null,0,{"$error":"#DIV/0!"},-800,{"$error":"#DIV/0!"},{"$error":"#DIV/0!"}]
[3,null,null,"E-Series Base + 3x Expansion Unit, 48x4TB",null,"DSA-N2E8X4-12AT + 3x DSX-N1D8X4-12AT","RAID 5",0,163856,192,0,1250,800,{"$error":"#DIV/0!"},0,160.015625,{"$error":"#DIV/0!"},0,0,0,{"$f":"$S$259*MIN(O849,S577)","v":0},0,{"$error":"#DIV/0!"},{"$error":"#DIV/0!"},null,null,null,null,null,null,null,null,0,{"$error":"#DIV/0!"},-800,{"$error":"#DIV/0!"},{"$error":"#DIV/0!"}]
[4,null,null,"E-Series Base + 4x Expansion Unit, 60x4TB",null,"DSA-N2E8X4-12AT + 4x DSX-N1D8X4-12AT","RAID 5",0,204820,240,0,1250,800,{"$error":"#DIV/0!"},0,200.01953125,{"$error":"#DIV/0!"},0,0,0,{"$f":"$S$259*MIN(O850,S577)","v":0},0,{"$error":"#DIV/0!"},{"$error":"#DIV/0!"},null,null,null,null,null,null,null,null,0,{"$error":"#DIV/0!"},-800,{"$error":"#DIV/0!"},{"$error":"#DIV/0!"}]
[5,null,null,"E-Series Base + 5x Expansion Unit, 72x4TB",null,"DSA-N2E8X4-12AT + 5x DSX-N1D8X4-12AT","RAID 5",0,245784,288,0,1250,800,{"$error":"#DIV/0!"},0,240.0234375,{"$error":"#DIV/0!"},0,0,0,{"$f":"$S$259*MIN(O851,S577)","v":0},0,{"$error":"#DIV/0!"},{"$error":"#DIV/0!"},null,null,null,null,null,null,null,null,0,{"$error":"#DIV/0!"},-800,{"$error":"#DIV/0!"},{"$error":"#DIV/0!"}]
[6,null,null,"E-Series Base + 6x Expansion Unit, 84x4TB",null,"DSA-N2E8X4-12AT + 6x DSX-N1D8X4-12AT","RAID 5",0,286748,336,0,1250,800,{"$error":"#DIV/0!"},0,280.02734375,{"$error":"#DIV/0!"},0,0,0,{"$f":"$S$259*MIN(O852,S577)","v":0},0,{"$error":"#DIV/0!"},{"$error":"#DIV/0!"},null,null,null,null,null,null,null,null,0,{"$error":"#DIV/0!"},-800,{"$error":"#DIV/0!"},{"$error":"#DIV/0!"}]
[7,null,null,"E-Series Base + 7x Expansion Unit, 96x4TB",null,"DSA-N2E8X4-12AT + 7x DSX-N1D8X4-12AT","RAID 5",0,327712,384,0,1250,800,{"$error":"#DIV/0!"},0,320.03125,{"$error":"#DIV/0!"},0,0,0,{"$f":"$S$259*MIN(O853,S577)","v":0},{"$f":"SUM(S853,T853,U853)","v":0},{"$error":"#DIV/0!"},{"$error":"#DIV/0!"},null,null,null,null,null,null,null,null,0,{"$error":"#DIV/0!"},-800,{"$error":"#DIV/0!"},{"$error":"#DIV/0!"}]
[0,null,"8 TB","E-Series Base Unit, 12 x 8 TB",null,"DSA‑N2E8X8‑12AT","RAID 5",0,{"$f":"IF(G854=\"RAID 5\",(11-H854)*7448,(10-H854)*7448)","v":81928},{"$f":"12*8","v":96},0,1250,800,{"$error":"#DIV/0!"},0,80.0078125,{"$error":"#DIV/0!"},0,0,0,{"$f":"$S$259*MIN(O854,S577)","v":0},{"$f":"SUM(S854,T854,U854)","v":0},{"$error":"#DIV/0!"},{"$error":"#DIV/0!"},null,null,null,null,null,null,null,null,0,{"$error":"#DIV/0!"},-800,{"$error":"#DIV/0!"},{"$error":"#DIV/0!"}]
[1,null,null,"E-Series Base + 1x Expansion Unit, 24x8TB",null,"DSA-N2E8X8-12AT + 1x DSX-N1D8X8-12AT","RAID 5",0,{"$f":"IF(G855=\"RAID 5\",(11-H855)*7448,(10-H855)*7448)+IF(G855=\"RAID 5\",(11-H855)*7448,(10-H855)*7448)*A855","v":163856},{"$f":"96+A855*96","v":192},0,1250,800,{"$error":"#DIV/0!"},0,160.015625,{"$error":"#DIV/0!"},0,0,0,{"$f":"$S$259*MIN(O855,S577)","v":0},0,{"$error":"#DIV/0!"},{"$error":"#DIV/0!"},null,null,null,null,null,null,null,null,0,{"$error":"#DIV/0!"},-800,{"$error":"#DIV/0!"},{"$error":"#DIV/0!"}]
[2,null,null,"E-Series Base + 2x Expansion Unit, 36x8TB",null,"DSA-N2E8X8-12AT + 2x DSX-N1D8X8-12AT","RAID 5",0,245784,288,0,1250,800,{"$error":"#DIV/0!"},0,240.0234375,{"$error":"#DIV/0!"},0,0,0,{"$f":"$S$259*MIN(O856,S577)","v":0},0,{"$error":"#DIV/0!"},{"$error":"#DIV/0!"},null,null,null,null,null,null,null,null,0,{"$error":"#DIV/0!"},-800,{"$error":"#DIV/0!"},{"$error":"#DIV/0!"}]
[3,null,null,"E-Series Base + 3x Expansion Unit, 48x8TB",null,"DSA-N2E8X8-12AT + 3x DSX-N1D8X8-12AT","RAID 5",0,327712,384,0,1250,800,{"$error":"#DIV/0!"},0,320.03125,{"$error":"#DIV/0!"},0,0,0,{"$f":"$S$259*MIN(O857,S577)","v":0},0,{"$error":"#DIV/0!"},{"$error":"#DIV/0!"},null,null,null,null,null,null,null,null,0,{"$error":"#DIV/0!"},-800,{"$error":"#DIV/0!"},{"$error":"#DIV/0!"}]
[4,null,null,"E-Series Base + 4x Expansion Unit, 60x8TB",null,"DSA-N2E8X8-12AT + 4x DSX-N1D8X8-12AT","RAID 5",0,409640,480,0,1250,800,{"$error":"#DIV/0!"},0,400.0390625,{"$error":"#DIV/0!"},0,0,0,{"$f":"$S$259*MIN(O858,S577)","v":0},0,{"$error":"#DIV/0!"},{"$error":"#DIV/0!"},null,null,null,null,null,null,null,null,0,{"$error":"#DIV/0!"},-800,{"$error":"#DIV/0!"},{"$error":"#DIV/0!"}]
[5,null,null,"E-Series Base + 5x Expansion Unit, 72x8TB",null,"DSA-N2E8X8-12AT + 5x DSX-N1D8X8-12AT","RAID 5",0,491568,576,0,1250,800,{"$error":"#DIV/0!"},0,480.046875,{"$error":"#DIV/0!"},0,0,0,{"$f":"$S$259*MIN(O859,S577)","v":0},0,{"$error":"#DIV/0!"},{"$error":"#DIV/0!"},null,null,null,null,null,null,null,null,0,{"$error":"#DIV/0!"},-800,{"$error":"#DIV/0!"},{"$error":"#DIV/0!"}]
[6,null,null,"E-Series Base + 6x Expansion Unit, 84x8TB",null,"DSA-N2E8X8-12AT + 6x DSX-N1D8X8-12AT","RAID 5",0,573496,672,0,1250,800,{"$error":"#DIV/0!"},0,560.0546875,{"$error":"#DIV/0!"},0,0,0,{"$f":"$S$259*MIN(O860,S577)","v":0},0,{"$error":"#DIV/0!"},{"$error":"#DIV/0!"},null,null,null,null,null,null,null,null,0,{"$error":"#DIV/0!"},-800,{"$error":"#DIV/0!"},{"$error":"#DIV/0!"}]
[7,null,null,"E-Series Base + 7x Expansion Unit, 96x8TB",null,"DSA-N2E8X8-12AT + 7x DSX-N1D8X8-12AT","RAID 5",0,655424,768,0,1250,800,{"$error":"#DIV/0!"},0,640.0625,{"$error":"#DIV/0!"},0,0,0,{"$f":"$S$259*MIN(O861,$S$260)","v":0},{"$f":"SUM(S861,T861,U861)","v":0},{"$error":"#DIV/0!"},{"$error":"#DIV/0!"},null,null,null,null,null,null,null,null,0,{"$error":"#DIV/0!"},-800,{"$error":"#DIV/0!"},{"$error":"#DIV/0!"}]
[0,null,"10 TB","E-Series Base Unit, 12 x 10 TB",null,"DSA‑N2E8XA‑12AT","RAID 5",0,{"$f":"IF(G862=\"RAID 5\",(11-H862)*9310,(10-H862)*9310)","v":102410},120,0,1250,800,{"$error":"#DIV/0!"},0,100.009765625,{"$error":"#DIV/0!"},0,0,0,{"$f":"$S$259*MIN(O862,$S$260)","v":0},{"$f":"SUM(S862,T862,U862)","v":0},{"$error":"#DIV/0!"},{"$error":"#DIV/0!"},null,null,null,null,null,null,null,null,0,{"$error":"#DIV/0!"},-800,{"$error":"#DIV/0!"},{"$error":"#DIV/0!"}]
[1,null,null,"E-Series Base + 1x Expansion Unit, 24x10TB",null,"DSA-N2E8XA-12AT + 1x DSX-N1D8XA-12AT","RAID 5",0,{"$f":"IF(G863=\"RAID 5\",(11-H863)*9310,(10-H863)*9310)+IF(G863=\"RAID 5\",(11-H863)*9310,(10-H863)*9310)*A863","v":204820},{"$f":"120+A863*120","v":240},0,1250,800,{"$error":"#DIV/0!"},0,200.01953125,{"$error":"#DIV/0!"},0,0,0,0,0,{"$error":"#DIV/0!"},{"$error":"#DIV/0!"},null,null,null,null,null,null,null,null,0,{"$error":"#DIV/0!"},-800,{"$error":"#DIV/0!"},{"$error":"#DIV/0!"}]
[2,null,null,"E-Series Base + 2x Expansion Unit, 36x10TB",null,"DSA-N2E8XA-12AT + 2x DSX-N1D8XA-12AT","RAID 5",0,307230,360,0,1250,800,{"$error":"#DIV/0!"},0,300.029296875,{"$error":"#DIV/0!"},0,0,0,0,0,{"$error":"#DIV/0!"},{"$error":"#DIV/0!"},null,null,null,null,null,null,null,null,0,{"$error":"#DIV/0!"},-800,{"$error":"#DIV/0!"},{"$error":"#DIV/0!"}]
[3,null,null,"E-Series Base + 3x Expansion Unit, 48x10TB",null,"DSA-N2E8XA-12AT + 3x DSX-N1D8XA-12AT","RAID 5",0,409640,480,0,1250,800,{"$error":"#DIV/0!"},0,400.0390625,{"$error":"#DIV/0!"},0,0,0,0,0,{"$error":"#DIV/0!"},{"$error":"#DIV/0!"},null,null,null,null,null,null,null,null,0,{"$error":"#DIV/0!"},-800,{"$error":"#DIV/0!"},{"$error":"#DIV/0!"}]
[4,null,null,"E-Series Base + 4x Expansion Unit, 60x10TB",null,"DSA-N2E8XA-12AT + 4x DSX-N1D8XA-12AT","RAID 5",0,512050,600,0,1250,800,{"$error":"#DIV/0!"},0,500.048828125,{"$error":"#DIV/0!"},0,0,0,0,0,{"$error":"#DIV/0!"},{"$error":"#DIV/0!"},null,null,null,null,null,null,null,null,0,{"$error":"#DIV/0!"},-800,{"$error":"#DIV/0!"},{"$error":"#DIV/0!"}]
[5,null,null,"E-Series Base + 5x Expansion Unit, 72x10TB",null,"DSA-N2E8XA-12AT + 5x DSX-N1D8XA-12AT","RAID 5",0,614460,720,0,1250,800,{"$error":"#DIV/0!"},0,600.05859375,{"$error":"#DIV/0!"},0,0,0,0,0,{"$error":"#DIV/0!"},{"$error":"#DIV/0!"},null,null,null,null,null,null,null,null,0,{"$error":"#DIV/0!"},-800,{"$error":"#DIV/0!"},{"$error":"#DIV/0!"}]
[6,null,null,"E-Series Base + 6x Expansion Unit, 84x10TB",null,"DSA-N2E8XA-12AT + 6x DSX-N1D8XA-12AT","RAID 5",0,716870,840,0,1250,800,{"$error":"#DIV/0!"},0,700.068359375,{"$error":"#DIV/0!"},0,0,0,0,0,{"$error":"#DIV/0!"},{"$error":"#DIV/0!"},null,null,null,null,null,null,null,null,0,{"$error":"#DIV/0!"},-800,{"$error":"#DIV/0!"},{"$error":"#DIV/0!"}]
[7,null,null,"E-Series Base + 7x Expansion Unit, 96x10TB",null,"DSA-N2E8XA-12AT + 7x DSX-N1D8XA-12AT","RAID 5",0,819280,960,0,1250,800,{"$error":"#DIV/0!"},0,800.078125,{"$error":"#DIV/0!"},0,0,0,0,0,{"$error":"#DIV/0!"},{"$error":"#DIV/0!"},null,null,null,null,null,null,null,null,0,{"$error":"#DIV/0!"},-800,{"$error":"#DIV/0!"},{"$error":"#DIV/0!"}]
[0,null,"4 TB","E-Series dual ctrl base Unit, 60x4TB",null,"DSA-N6C8X4-60AT","RAID 5",0,{"$f":"IF(G870=\"RAID 5\",(55-H870)*3724,(50-H870)*3724)+IF(G870=\"RAID 5\",(55-H870*5)*3724,(50-H870*5)*3724)*A870","v":204820},{"$f":"60*4","v":240},0,1250,800,{"$error":"#DIV/0!"},0,200.01953125,{"$error":"#DIV/0!"},0,0,0,{"$f":"$S$259*MIN(O870,S577)","v":0},0,{"$error":"#DIV/0!"},{"$error":"#DIV/0!"},null,null,null,null,null,null,null,null,0,{"$error":"#DIV/0!"},-800,{"$error":"#DIV/0!"},{"$error":"#DIV/0!"}]
[1,null,null,"E-Series dual ctrl Base + 1x 60 HDD Exp, 60x4TB+60x4TB",null,"DSA-N6C8X4-60AT + 1x DSX-N6D8X4-60AT","RAID 5",0,{"$f":"IF(G871=\"RAID 5\",(55-H871)*3724,(50-H871)*3724)+IF(G871=\"RAID 5\",(55-H871)*3724,(50-H871)*3724)*A871","v":409640},{"$f":"120*4","v":480},0,1250,800,{"$error":"#DIV/0!"},0,400.0390625,{"$error":"#DIV/0!"},0,0,0,{"$f":"$S$259*MIN(O871,S577)","v":0},0,{"$error":"#DIV/0!"},{"$error":"#DIV/0!"},null,null,null,null,null,null,null,null,0,{"$error":"#DIV/0!"},-800,{"$error":"#DIV/0!"},{"$error":"#DIV/0!"}]
[2,null,null,"E-Series dual ctrl Base + 2x 60 HDD Exp, 60x4TB+120x4TB",null,"DSA-N6C8X4-60AT + 2x DSX-N6D8X4-60AT","RAID 5",0,{"$f":"IF(G872=\"RAID 5\",(55-H872)*3724,(50-H872)*3724)+IF(G872=\"RAID 5\",(55-H872)*3724,(50-H872)*3724)*A872","v":614460},{"$f":"180*4","v":720},0,1250,800,{"$error":"#DIV/0!"},0,600.05859375,{"$error":"#DIV/0!"},0,0,0,{"$f":"$S$259*MIN(O872,S577)","v":0},0,{"$error":"#DIV/0!"},{"$error":"#DIV/0!"},null,null,null,null,null,null,null,null,0,{"$error":"#DIV/0!"},-800,{"$error":"#DIV/0!"},{"$error":"#DIV/0!"}]
[0,null,"8 TB","E-Series dual ctrl base Unit, 60x8TB",null,"DSA-N6C8X8-60AT","RAID 5",0,{"$f":"IF(G873=\"RAID 5\",(55-H873)*7448,(50-H873)*7448)+IF(G873=\"RAID 5\",(55-H873*5)*7448,(50-H873*5)*7448)*A873","v":409640},{"$f":"60*8","v":480},0,1250,800,{"$error":"#DIV/0!"},0,400.0390625,{"$error":"#DIV/0!"},0,0,0,{"$f":"$S$259*MIN(O873,S577)","v":0},0,{"$error":"#DIV/0!"},{"$error":"#DIV/0!"},null,null,null,null,null,null,null,null,0,{"$error":"#DIV/0!"},-800,{"$error":"#DIV/0!"},{"$error":"#DIV/0!"}]
[1,null,null,"E-Series dual ctrl Base + 1x 60 HDD Exp, 60x8TB+60x8TB",null,"DSA-N6C8X8-60AT + 1x DSX-N6D8X8-60AT","RAID 5",0,{"$f":"IF(G874=\"RAID 5\",(55-H874)*7448,(50-H874)*7448)+IF(G874=\"RAID 5\",(55-H874)*7448,(50-H874)*7448)*A874","v":819280},{"$f":"120*8","v":960},0,1250,800,{"$error":"#DIV/0!"},0,800.078125,{"$error":"#DIV/0!"},0,0,0,{"$f":"$S$259*MIN(O874,S577)","v":0},0,{"$error":"#DIV/0!"},{"$error":"#DIV/0!"},null,null,null,null,null,null,null,null,0,{"$error":"#DIV/0!"},-800,{"$error":"#DIV/0!"},{"$error":"#DIV/0!"}]
[2,null,null,"E-Series dual ctrl Base + 2x 60 HDD Exp, 60x8TB+120x8TB",null,"DSA-N6C8X8-60AT + 2x DSX-N6D8X8-60AT","RAID 5",0,{"$f":"IF(G875=\"RAID 5\",(55-H875)*7448,(50-H875)*7448)+IF(G875=\"RAID 5\",(55-H875)*7448,(50-H875)*7448)*A875","v":1228920},{"$f":"180*8","v":1440},0,1250,800,{"$error":"#DIV/0!"},0,1200.1171875,{"$error":"#DIV/0!"},0,0,0,{"$f":"$S$259*MIN(O875,S577)","v":0},0,{"$error":"#DIV/0!"},{"$error":"#DIV/0!"},null,null,null,null,null,null,null,null,0,{"$error":"#DIV/0!"},-800,{"$error":"#DIV/0!"},{"$error":"#DIV/0!"}]
[0,null,"10 TB","E-Series dual ctrl base Unit, 60x10TB",null,"DSA-N6C8XA-60AT","RAID 5",0,{"$f":"IF(G876=\"RAID 5\",(55-H876)*9310,(50-H876)*9310)+IF(G876=\"RAID 5\",(55-H876*5)*9310,(50-H876*5)*9310)*A876","v":512050},{"$f":"60*10","v":600},0,1250,800,{"$error":"#DIV/0!"},0,500.048828125,{"$error":"#DIV/0!"},0,0,0,{"$f":"$S$259*MIN(O876,$S$260)","v":0},0,{"$error":"#DIV/0!"},{"$error":"#DIV/0!"},null,null,null,null,null,null,null,null,0,{"$error":"#DIV/0!"},-800,{"$error":"#DIV/0!"},{"$error":"#DIV/0!"}]
[1,null,null,"E-Series dual ctrl Base + 1x 60 HDD Exp, 60x10TB+60x10TB",null,"DSA-N6C8XA-60AT + 1x DSX-N6D8XA-60AT","RAID 5",0,{"$f":"IF(G877=\"RAID 5\",(55-H877)*9310,(50-H877)*9310)+IF(G877=\"RAID 5\",(55-H877)*9310,(50-H877)*9310)*A877","v":1024100},{"$f":"120*10","v":1200},0,1250,800,{"$error":"#DIV/0!"},0,1000.09765625,{"$error":"#DIV/0!"},0,0,0,0,0,{"$error":"#DIV/0!"},{"$error":"#DIV/0!"},null,null,null,null,null,null,null,null,0,{"$error":"#DIV/0!"},-800,{"$error":"#DIV/0!"},{"$error":"#DIV/0!"}]
[2,null,null,"E-Series dual ctrl Base + 2x 60 HDD Exp, 60x10TB+120x10TB",null,"DSA-N6C8XA-60AT+ 2x DSX-N6D8XA-60AT","RAID 5",0,{"$f":"IF(G878=\"RAID 5\",(55-H878)*9310,(50-H878)*9310)+IF(G878=\"RAID 5\",(55-H878)*9310,(50-H878)*9310)*A878","v":1536150},{"$f":"180*10","v":1800},0,1250,800,{"$error":"#DIV/0!"},0,1500.146484375,{"$error":"#DIV/0!"},0,0,0,0,0,{"$error":"#DIV/0!"},{"$error":"#DIV/0!"},null,null,null,null,null,null,null,null,0,{"$error":"#DIV/0!"},-800,{"$error":"#DIV/0!"},{"$error":"#DIV/0!"}]
[null,null,0,"EOL FAS2020 Base Unit 6x1000GB",null,"DSA-N2B20-6AT","RAID 4",0,{"$f":"IF(G879=\"RAID 4\",(5-H879)*633,(4-H879)*633)+IF(G879=\"RAID 4\",(13-H879)*633,(12-H879)*633)*C879","v":3165},6,0,250,128,{"$f":"I574/O879","v":{"$error":"#DIV/0!"}},{"$f":"ROUNDUP(G574/I879,0)","v":0},{"$f":"(1-((G574/$I879)-INT(G574/$I879)))*I879/1024","v":3.0908203125},{"$error":"#DIV/0!"},0,0,0,{"$f":"$S$259*MIN(O879,$S$260)","v":0},0,{"$error":"#DIV/0!"},{"$f":"IF(AND(IF($N879<=$L879,TRUE,FALSE),IF($V879<=$R879,TRUE,FALSE),OR(W879=\"True\",W579=\"No\")),\"<-- fits project\",\"\")","v":{"$error":"#DIV/0!"}},null,null,null,null,null,null,null,2.7616058786512143,0,{"$f":"AG879/AG880","v":{"$error":"#DIV/0!"}},-128,{"$f":"IF(O879>1,I574/(O879-1),I574/O879)","v":{"$error":"#DIV/0!"}},{"$error":"#DIV/0!"}]
[null,null,0,"EOL FAS2020 Base Unit 12x1000GB",null,"DSA-N2B20-12AT","RAID DP",0,{"$f":"IF(G880=\"RAID 4\",(11-H880)*633,(10-H880)*633)+IF(G880=\"RAID 4\",(13-H880)*633,(12-H880)*633)*C880","v":6330},12,0,250,128,{"$f":"I574/O880","v":{"$error":"#DIV/0!"}},{"$f":"ROUNDUP(G574/I880,0)","v":0},{"$f":"(1-((G574/$I880)-INT(G574/$I880)))*I880/1024","v":6.181640625},{"$error":"#DIV/0!"},0,0,0,0,0,{"$error":"#DIV/0!"},{"$f":"IF(AND(IF($N880<=$L880,TRUE,FALSE),IF($V880<=$R880,TRUE,FALSE),OR(W880=\"True\",W579=\"No\")),\"<-- fits project\",\"\")","v":{"$error":"#DIV/0!"}},null,null,null,null,null,null,null,3.9632092663485237,0,{"$f":"AG880/AG880","v":{"$error":"#DIV/0!"}},-128,{"$f":"IF(O880>1,I574/(O880-1),I574/O880)","v":{"$error":"#DIV/0!"}},{"$error":"#DIV/0!"}]
[null,null,1,"EOL FAS2020 XStage1 26x1000GB",null,"DSA-N2B20-26AT","RAID DP",0,13926,26,0,250,128,{"$f":"I574/O881","v":{"$error":"#DIV/0!"}},{"$f":"ROUNDUP(G574/I881,0)","v":0},{"$f":"(1-((G574/$I881)-INT(G574/$I881)))*I881/1024","v":13.599609375},{"$error":"#DIV/0!"},0,0,0,0,0,{"$error":"#DIV/0!"},{"$f":"IF(AND(IF($N881<=$L881,TRUE,FALSE),IF($V881<=$R881,TRUE,FALSE),OR(W881=\"True\",W579=\"No\")),\"<-- fits project\",\"\")","v":{"$error":"#DIV/0!"}},null,null,null,null,null,null,null,8.3377962924117686,0,{"$f":"AG881/AG880","v":{"$error":"#DIV/0!"}},-128,{"$f":"IF(O881>1,I574/(O881-1),I574/O881)","v":{"$error":"#DIV/0!"}},{"$error":"#DIV/0!"}]
[null,null,2,"EOL FAS2020 XStage2 40x1000GB",null,"DSA-N2B20-40AT","RAID DP",0,21522,24,0,250,128,{"$f":"I574/O882","v":{"$error":"#DIV/0!"}},{"$f":"ROUNDUP(G574/I882,0)","v":0},{"$f":"(1-((G574/$I882)-INT(G574/$I882)))*I882/1024","v":21.017578125},{"$error":"#DIV/0!"},0,0,0,0,0,{"$error":"#DIV/0!"},{"$f":"IF(AND(IF($N882<=$L882,TRUE,FALSE),IF($V882<=$R882,TRUE,FALSE),OR(W882=\"True\",W579=\"No\")),\"<-- fits project\",\"\")","v":{"$error":"#DIV/0!"}},null,null,null,null,null,null,null,12.712383318475014,0,{"$f":"AG882/AG880","v":{"$error":"#DIV/0!"}},-128,{"$f":"IF(O882>1,I574/(O882-1),I574/O882)","v":{"$error":"#DIV/0!"}},{"$error":"#DIV/0!"}]
[null,null,0,"EOL FAS2040 Base Unit 12x1000GB",null,"DSA-N2B40-12AT","RAID DP",0,6330,12,0,400,256,{"$f":"I574/O883","v":{"$error":"#DIV/0!"}},{"$f":"ROUNDUP(G574/I883,0)","v":0},{"$f":"(1-((G574/$I883)-INT(G574/$I883)))*I883/1024","v":6.181640625},{"$error":"#DIV/0!"},0,0,0,0,0,{"$error":"#DIV/0!"},{"$f":"IF(AND(IF($N883<=$L883,TRUE,FALSE),IF($V883<=$R883,TRUE,FALSE),OR(W883=\"True\",W579=\"No\")),\"<-- fits project\",\"\")","v":{"$error":"#DIV/0!"}},null,null,null,null,null,null,null,5.4505283444333736,0,{"$f":"AG883/AG880","v":{"$error":"#DIV/0!"}},-256,{"$f":"IF(O883>1,I574/(O883-1),I574/O883)","v":{"$error":"#DIV/0!"}},{"$error":"#DIV/0!"}]
[null,null,1,"EOL FAS2040 Base + 1 x Expansion, 26x1TB",null,"DSA-N2B40-26AT","RAID DP",0,13926,26,0,400,256,{"$f":"I574/O884","v":{"$error":"#DIV/0!"}},{"$f":"ROUNDUP(G574/I884,0)","v":0},{"$f":"(1-((G574/$I884)-INT(G574/$I884)))*I884/1024","v":13.599609375},{"$error":"#DIV/0!"},0,0,0,0,0,{"$error":"#DIV/0!"},{"$f":"IF(AND(IF($N884<=$L884,TRUE,FALSE),IF($V884<=$R884,TRUE,FALSE),OR(W884=\"True\",W579=\"No\")),\"<-- fits project\",\"\")","v":{"$error":"#DIV/0!"}},null,null,null,null,null,null,null,9.8251153704966168,{"$f":"AF884*O884","v":0},{"$f":"AG884/AG880","v":{"$error":"#DIV/0!"}},-256,{"$f":"IF(O884>1,I574/(O884-1),I574/O884)","v":{"$error":"#DIV/0!"}},{"$error":"#DIV/0!"}]
[null,null,2,"EOL FAS2040 Base + 2 x Expansion, 40x1TB",null,"DSA-N2B40-40AT","RAID DP",0,21522,40,0,400,256,{"$f":"I574/O885","v":{"$error":"#DIV/0!"}},{"$f":"ROUNDUP(G574/I885,0)","v":0},{"$f":"(1-((G574/$I885)-INT(G574/$I885)))*I885/1024","v":21.017578125},{"$error":"#DIV/0!"},0,0,0,0,0,{"$error":"#DIV/0!"},{"$f":"IF(AND(IF($N885<=$L885,TRUE,FALSE),IF($V885<=$R885,TRUE,FALSE),OR(W885=\"True\",W579=\"No\")),\"<-- fits project\",\"\")","v":{"$error":"#DIV/0!"}},null,null,null,null,null,null,null,14.199702396559863,0,{"$f":"AG885/AG880","v":{"$error":"#DIV/0!"}},-256,{"$f":"IF(O885>1,I574/(O885-1),I574/O885)","v":{"$error":"#DIV/0!"}},{"$error":"#DIV/0!"}]
[null,null,4,"EOL FAS2040 Base + 4 x Expansion; 68x1TB",null,"DSA-N2B40-68AT","RAID DP",0,36714,68,0,400,256,{"$f":"I574/O886","v":{"$error":"#DIV/0!"}},{"$f":"ROUNDUP(G574/I886,0)","v":0},{"$f":"(1-((G574/$I886)-INT(G574/$I886)))*I886/1024","v":35.853515625},{"$error":"#DIV/0!"},0,0,0,0,0,{"$error":"#DIV/0!"},{"$f":"IF(AND(IF($N886<=$L886,TRUE,FALSE),IF($V886<=$R886,TRUE,FALSE),OR(W886=\"True\",W579=\"No\")),\"<-- fits project\",\"\")","v":{"$error":"#DIV/0!"}},null,null,null,null,null,null,null,22.948876448686352,0,{"$f":"AG886/AG880","v":{"$error":"#DIV/0!"}},-256,{"$f":"IF(O886>1,I574/(O886-1),I574/O886)","v":{"$error":"#DIV/0!"}},{"$error":"#DIV/0!"}]
[null,null,6,"EOL FAS2040 Base + 6 x Expansion; 96x1TB",null,"DSA-N2B40-96AT","RAID DP",0,51906,96,0,400,256,{"$f":"I574/O887","v":{"$error":"#DIV/0!"}},{"$f":"ROUNDUP(G574/I887,0)","v":0},{"$f":"(1-((G574/$I887)-INT(G574/$I887)))*I887/1024","v":50.689453125},{"$error":"#DIV/0!"},0,0,0,0,0,{"$error":"#DIV/0!"},{"$f":"IF(AND(IF($N887<=$L887,TRUE,FALSE),IF($V887<=$R887,TRUE,FALSE),OR(W887=\"True\",W579=\"No\")),\"<-- fits project\",\"\")","v":{"$error":"#DIV/0!"}},null,null,null,null,null,null,null,31.69805050081284,0,{"$f":"AG887/AG880","v":{"$error":"#DIV/0!"}},-256,{"$f":"IF(O887>1,I574/(O887-1),I574/O887)","v":{"$error":"#DIV/0!"}},{"$error":"#DIV/0!"}]
[null,null,null,"3th party (Project based/customized storage)",null,null,"RAID 6",0,16000,null,0,150,64,{"$f":"I574/O888","v":{"$error":"#DIV/0!"}},{"$f":"ROUNDUP(G574/I888,0)","v":0},{"$f":"(1-((G574/$I888)-INT(G574/$I888)))*I888/1024","v":15.625},"?",0,0,0,0,0,{"$error":"#DIV/0!"},{"$f":"IF(AND(IF($N888<=$L888,TRUE,FALSE),IF($V888<=$R888,TRUE,FALSE),OR(W888=\"True\",W579=\"No\")),\"<-- fits project\",\"\")","v":{"$error":"#DIV/0!"}},null,null,null,null,null,null,null,null,null,null,-64,{"$f":"IF(O888>1,I574/(O888-1),I574/O888)","v":{"$error":"#DIV/0!"}},{"$error":"#DIV/0!"}]
[]
[]
[]
[]
[]
[null,null,null,null,null,"Net storage",{"$f":"OFFSET($G$216,LEFT(RIGHT(D895,2),1),0)","v":0},"bandwidth",{"$f":"OFFSET($O$216,LEFT(RIGHT(D895,2),1),0)","v":0},null,"offset",0]
[null,null,null,"VRM 3 / POOL2:",null,"iSCSI array used","None",null,null,null,null,"Qty:",{"$f":"IFERROR(VLOOKUP(G895,D900:O1208,12,FALSE),0)","v":0},"Gross storage:",{"$f":"IFERROR(VLOOKUP(G895,D900:K1208,8,FALSE),0)","v":0},"Net \nstorage:",{"$f":"IFERROR((VLOOKUP(G895,D900:Q1208,6,FALSE)/1024)*VLOOKUP(G895,D900:Q1208,12,FALSE),0)","v":0},null,null,null,null,null,null,null,null,null,{"$f":"NOT(OR(G895=\"N.A.\",G895=\"\"))","v":true},{"$f":"IF(OR($M$1741=1,$M$1741=3),AA895,FALSE)","v":true},null,null,null,null,null,null,null,null,{"$f":"IF(ISERROR(VLOOKUP(G895,AK899:AK1208,1,FALSE)),TRUE,FALSE)","v":false}]
[null,null,null,null,null,null,null,null,null,null,null,null,null,null,null,null,null,"workstations:",0]
[null,null,null,null,null,null,null,null,null,null,null,null,null,null,null,null,null,"replay cameos active per workstation:",4]
[null,null,null,"iSCSI storage unit assessment              Provides an overview which one fits best",null,null,"RAID Level","Global spares","Net storage","Gross storage","Gross storage total","Available Bandwidth per array ","Available iSCSI sessions per array","Necessary bandwidth per array","Nr of arrays","Overcapacity last array","Pricepoint compared with FAS2020","Available iSCSI sessions total","Cameras / encoders iSCSI sessions","VRM iSCSI sessions","Replay iSCSI sessions","Total Worst case iSCSI sessions","N-1 capable",null,null,null,null,null,null,null,null,null,null,null,"Available iSCSI sessions N-1","Necessary bandwidth per array N-1"]
[null,null,null,null,null,null,null,null," [GiB]","[TB]","[TB]","[Mbps]",null,"[Mbps]","[Nr Arrays]","[TiB]","[%]"," [Nr Arrays x sessions]","[sessions]","[sessions]","[sessions]","[sessions]","No",null,null,null,null,null,null,null,null,"factor",null,null," [Nr Arrays -1 x sessions]","[Mbps]","None"]
[null,null,"Target Only mode","DIVAR IP 5000 1 x 2TB",null,null,"JBOD",0,1862,2,{"$f":"O900*J900","v":0},130,32,{"$f":"$I$894/O900","v":{"$error":"#DIV/0!"}},{"$f":"ROUNDUP(G894/I900,0)","v":0},{"$f":"(1-(($G$894/$I900)-INT($G$894/$I900)))*I900/1024","v":1.818359375},{"$f":"AH900","v":{"$error":"#DIV/0!"}},{"$f":"O900*M900","v":0},{"$f":"IF($O900>7,OFFSET($K$255,0,$L$894),OFFSET($K$248,O900-1,$L$894,1,1))","v":0},{"$f":"O900*1*MAX($N$1528,1)","v":0},{"$f":"$S$259*MIN(O900,$S$260)","v":0},{"$f":"SUM(S900,T900,U900)","v":0},{"$f":"IF(AND(IF($AJ900<=$L900,TRUE,FALSE),IF($V900<=$AI900,TRUE,FALSE)),\"True\",\"\")","v":{"$error":"#DIV/0!"}},{"$f":"IF(AND(IF($N900<=$L900,TRUE,FALSE),IF($V900<=$R900,TRUE,FALSE),OR(W900=\"True\",$W$579=\"No\")),\"<-- fits project\",\"\")","v":{"$error":"#DIV/0!"}},null,null,null,null,null,null,null,null,{"$f":"AF900*O900","v":0},{"$f":"AG900/$AG$563","v":{"$error":"#DIV/0!"}},{"$f":"(O900-1)*M900","v":-32},{"$f":"IF(O900>1,$I$894/(O900-1),$I$894/O900)","v":{"$error":"#DIV/0!"}},{"$f":"IF(X900=\"<-- fits project\",D900,\"\")","v":{"$error":"#DIV/0!"}}]
[null,null,null,"DIVAR IP 5000 2 x 2TB",null,null,"JBOD",0,{"$f":"IF(G901=\"JBOD\",((2)*1862),((1)*1862))","v":3724},4,0,{"$f":"IF(G901=\"JBOD\",220,90)","v":220},32,{"$error":"#DIV/0!"},{"$f":"ROUNDUP(G894/I901,0)","v":0},3.63671875,{"$error":"#DIV/0!"},0,0,0,0,0,{"$error":"#DIV/0!"},{"$error":"#DIV/0!"},null,null,null,null,null,null,null,null,0,{"$error":"#DIV/0!"},-32,{"$error":"#DIV/0!"},{"$error":"#DIV/0!"}]
[null,null,null,"DIVAR IP 5000 4 x 2TB",null,null,"JBOD",0,{"$f":"IF(G902=\"JBOD\",((4)*1862),((2)*1864))","v":7448},8,0,{"$f":"IF(G902=\"JBOD\",310,200)","v":310},32,{"$error":"#DIV/0!"},{"$f":"ROUNDUP(G894/I902,0)","v":0},7.2734375,{"$error":"#DIV/0!"},0,0,0,0,0,{"$error":"#DIV/0!"},{"$error":"#DIV/0!"},null,null,null,null,null,null,null,null,0,{"$error":"#DIV/0!"},-32,{"$error":"#DIV/0!"},{"$error":"#DIV/0!"}]
[null,null,null,"DIVAR IP 5000 1 x 4TB",null,null,"JBOD",0,3724,4,0,130,32,{"$error":"#DIV/0!"},{"$f":"ROUNDUP(G894/I903,0)","v":0},3.63671875,{"$error":"#DIV/0!"},0,0,0,0,0,{"$error":"#DIV/0!"},{"$error":"#DIV/0!"},null,null,null,null,null,null,null,null,0,{"$error":"#DIV/0!"},-32,{"$error":"#DIV/0!"},{"$error":"#DIV/0!"}]
[null,null,null,"DIVAR IP 5000 2 x 4TB",null,null,"JBOD",0,{"$f":"IF(G904=\"JBOD\",((2)*3724),((1)*3724))","v":7448},8,0,{"$f":"IF(G904=\"JBOD\",220,90)","v":220},32,{"$error":"#DIV/0!"},{"$f":"ROUNDUP(G894/I904,0)","v":0},7.2734375,{"$error":"#DIV/0!"},0,0,0,0,0,{"$error":"#DIV/0!"},{"$error":"#DIV/0!"},null,null,null,null,null,null,null,null,0,{"$error":"#DIV/0!"},-32,{"$error":"#DIV/0!"},{"$error":"#DIV/0!"}]
[null,null,null,"DIVAR IP 5000 4 x 4TB",null,null,"JBOD",0,{"$f":"IF(G905=\"JBOD\",((4)*3724),((2)*3724))","v":14896},16,0,{"$f":"IF(G905=\"JBOD\",310,200)","v":310},32,{"$error":"#DIV/0!"},{"$f":"ROUNDUP(G894/I905,0)","v":0},14.546875,{"$error":"#DIV/0!"},0,0,0,0,0,{"$error":"#DIV/0!"},{"$error":"#DIV/0!"},null,null,null,null,null,null,null,null,0,{"$error":"#DIV/0!"},-32,{"$error":"#DIV/0!"},{"$error":"#DIV/0!"}]
["False","Full BVMS Management systems","2TB","DIVAR IP 3000 2x2TB",null,"DIP-3042-2HD","JBOD",0,{"$f":"((2)*1864)-100","v":3628},4,0,100,32,{"$f":"I894/O906","v":{"$error":"#DIV/0!"}},{"$f":"ROUNDUP(G894/I906,0)","v":0},{"$f":"(1-((G894/$I906)-INT(G894/$I906)))*I906/1024","v":3.54296875},{"$f":"AH906","v":{"$error":"#DIV/0!"}},0,{"$f":"IF($O906>7,OFFSET($K$255,0,$L$894),OFFSET($K$248,O906-1,$L$894,1,1))/MIN(O906,2)","v":{"$error":"#DIV/0!"}},0,{"$f":"$S$259*MIN(O906,$S$260)","v":0},{"$f":"SUM(S906)","v":{"$error":"#DIV/0!"}},false,{"$f":"IF(AND(IF($N906<=$L906,TRUE,FALSE),IF($V906<=$R906,TRUE,FALSE),OR(W906=\"True\",$W$899=\"No\"),IF($A$906=\"False\",IF(O906=1,TRUE,FALSE),TRUE)),\"<-- fits project\",\"\")","v":{"$error":"#DIV/0!"}},null,null,null,null,null,null,null,0.57999999999999996,0,{"$f":"AG906/AG1200","v":{"$error":"#DIV/0!"}},-32,{"$f":"IF(O906>1,I894/(O906-1),I894/O906)","v":{"$error":"#DIV/0!"}},{"$error":"#DIV/0!"}]
[null,null,null,"DIVAR IP 3000 4x2TB",null,"DIP-3042-4HD","JBOD",0,{"$f":"((4)*1864)-100","v":7356},8,0,120,32,{"$f":"I894/O907","v":{"$error":"#DIV/0!"}},{"$f":"ROUNDUP(G894/I907,0)","v":0},{"$f":"(1-((G894/$I907)-INT(G894/$I907)))*I907/1024","v":7.18359375},{"$f":"AH907","v":{"$error":"#DIV/0!"}},0,{"$f":"IF($O907>7,OFFSET($K$255,0,$L$894),OFFSET($K$248,O907-1,$L$894,1,1))/MIN(O907,2)","v":{"$error":"#DIV/0!"}},0,{"$f":"$S$259*MIN(O907,$S$260)","v":0},{"$error":"#DIV/0!"},false,{"$error":"#DIV/0!"},null,null,null,null,null,null,null,0.74,0,{"$f":"AG907/AG1200","v":{"$error":"#DIV/0!"}},-32,{"$f":"IF(O907>1,I894/(O907-1),I894/O907)","v":{"$error":"#DIV/0!"}},{"$error":"#DIV/0!"}]
[null,null,null,"DIVAR IP 3000 4x2TB + 1x DIVAR IP 2000 2x2TB",null,null,"JBOD",0,{"$f":"(((4)*1864)-100)+(((2)*1864)-100)","v":10984},12,0,220,48,{"$f":"I894/O908","v":{"$error":"#DIV/0!"}},{"$f":"ROUNDUP(G894/I908,0)","v":0},{"$f":"(1-((G894/$I908)-INT(G894/$I908)))*I908/1024","v":10.7265625},{"$f":"AH908","v":{"$error":"#DIV/0!"}},0,{"$f":"IF($O908>7,OFFSET($K$255,0,$L$894),OFFSET($K$248,O908-1,$L$894,1,1))","v":0},0,{"$f":"$S$259*MIN(O908,$S$260)","v":0},0,{"$f":"IF(AND(IF($AJ908<=$L908,TRUE,FALSE),IF($V908<=$AI908,TRUE,FALSE)),\"True\",\"\")","v":{"$error":"#DIV/0!"}},{"$error":"#DIV/0!"},null,null,null,null,null,null,null,1.32,0,{"$f":"AG908/AG1200","v":{"$error":"#DIV/0!"}},-48,{"$f":"IF(O908>1,I894/(O908-1),I894/O908)","v":{"$error":"#DIV/0!"}},{"$error":"#DIV/0!"}]
["Allow >1 Divar IP 3000/7000 systems:",null,null,"DIVAR IP 3000 4x2TB + 1x DIVAR IP 2000 4x2TB",null,null,"JBOD",0,{"$f":"2*(((4)*1864)-100)","v":14712},16,0,220,48,{"$f":"I894/O909","v":{"$error":"#DIV/0!"}},{"$f":"ROUNDUP(G894/I909,0)","v":0},{"$f":"(1-((G894/$I909)-INT(G894/$I909)))*I909/1024","v":14.3671875},{"$f":"AH909","v":{"$error":"#DIV/0!"}},0,{"$f":"IF($O909>7,OFFSET($K$255,0,$L$894),OFFSET($K$248,O909-1,$L$894,1,1))","v":0},0,{"$f":"$S$259*MIN(O909,$S$260)","v":0},0,{"$f":"IF(AND(IF($AJ909<=$L909,TRUE,FALSE),IF($V909<=$AI909,TRUE,FALSE)),\"True\",\"\")","v":{"$error":"#DIV/0!"}},{"$error":"#DIV/0!"},null,null,null,null,null,null,null,1.48,0,{"$f":"AG909/AG1200","v":{"$error":"#DIV/0!"}},-48,{"$f":"IF(O909>1,I894/(O909-1),I894/O909)","v":{"$error":"#DIV/0!"}},{"$error":"#DIV/0!"}]
[null,null,"3TB","DIVAR IP 3000 2x3TB",null,"DIP-3043-2HD","JBOD",0,{"$f":"((2-H910)*2794)-100","v":5488},6,0,100,32,{"$f":"I894/O910","v":{"$error":"#DIV/0!"}},{"$f":"ROUNDUP(G894/I910,0)","v":0},{"$f":"(1-((G894/$I910)-INT(G894/$I910)))*I910/1024","v":5.359375},{"$error":"#DIV/0!"},0,{"$f":"IF($O910>7,OFFSET($K$255,0,$L$894),OFFSET($K$248,O910-1,$L$894,1,1))/MIN(O910,2)","v":{"$error":"#DIV/0!"}},0,0,{"$f":"SUM(S910)","v":{"$error":"#DIV/0!"}},false,{"$error":"#DIV/0!"},null,null,null,null,null,null,null,{"$f":"0.77022916775919*1.3","v":1.001297918086947},0,{"$f":"AG910/AG1200","v":{"$error":"#DIV/0!"}},-32,{"$f":"IF(O910>1,I894/(O910-1),I894/O910)","v":{"$error":"#DIV/0!"}},{"$error":"#DIV/0!"}]
[null,null,null,"DIVAR IP 3000 4x3TB",null,"DIP-3043-4HD","JBOD",0,{"$f":"((4-H911)*2794)-100","v":11076},12,0,120,32,{"$f":"I894/O911","v":{"$error":"#DIV/0!"}},{"$f":"ROUNDUP(G894/I911,0)","v":0},{"$f":"(1-((G894/$I911)-INT(G894/$I911)))*I911/1024","v":10.81640625},{"$error":"#DIV/0!"},0,{"$f":"IF($O911>7,OFFSET($K$255,0,$L$894),OFFSET($K$248,O911-1,$L$894,1,1))/MIN(O911,2)","v":{"$error":"#DIV/0!"}},0,0,{"$f":"SUM(S911)","v":{"$error":"#DIV/0!"}},false,{"$error":"#DIV/0!"},null,null,null,null,null,null,null,{"$f":"0.917719859457759*1.3","v":1.1930358172950868},0,{"$f":"AG911/AG1200","v":{"$error":"#DIV/0!"}},-32,{"$f":"IF(O911>1,I894/(O911-1),I894/O911)","v":{"$error":"#DIV/0!"}},{"$error":"#DIV/0!"}]
[null,null,null,"DIVAR IP 3000 4x3TB + 1x DIVAR IP 2000 2x3TB",null,null,"JBOD",0,{"$f":"(((4)*2794)-100)+(((2)*2794)-100)","v":16564},18,0,220,48,{"$f":"I894/O912","v":{"$error":"#DIV/0!"}},{"$f":"ROUNDUP(G894/I912,0)","v":0},{"$f":"(1-((G894/$I912)-INT(G894/$I912)))*I912/1024","v":16.17578125},{"$error":"#DIV/0!"},0,{"$f":"IF($O912>7,OFFSET($K$255,0,$L$894),OFFSET($K$248,O912-1,$L$894,1,1))","v":0},0,0,{"$f":"SUM(S912)","v":0},{"$f":"IF(AND(IF($AJ912<=$L912,TRUE,FALSE),IF($V912<=$AI912,TRUE,FALSE)),\"True\",\"\")","v":{"$error":"#DIV/0!"}},{"$error":"#DIV/0!"},null,null,null,null,null,null,null,{"$f":"1.47490691698568*1.3","v":1.9173789920813842},0,{"$f":"AG912/AG1200","v":{"$error":"#DIV/0!"}},-48,{"$f":"IF(O912>1,I894/(O912-1),I894/O912)","v":{"$error":"#DIV/0!"}},{"$error":"#DIV/0!"}]
[null,null,null,"DIVAR IP 3000 4x3TB + 1x DIVAR IP 2000 4x3TB",null,null,"JBOD",0,{"$f":"2*(((4)*2794)-100)","v":22152},24,0,220,48,{"$f":"$I$894/O913","v":{"$error":"#DIV/0!"}},{"$f":"ROUNDUP($G$894/I913,0)","v":0},{"$f":"(1-(($G$894/$I913)-INT($G$894/$I913)))*I913/1024","v":21.6328125},{"$error":"#DIV/0!"},0,{"$f":"IF($O913>7,OFFSET($K$255,0,$L$894),OFFSET($K$248,O913-1,$L$894,1,1))","v":0},0,0,{"$f":"SUM(S913)","v":0},{"$f":"IF(AND(IF($AJ913<=$L913,TRUE,FALSE),IF($V913<=$AI913,TRUE,FALSE)),\"True\",\"\")","v":{"$error":"#DIV/0!"}},{"$error":"#DIV/0!"},null,null,null,null,null,null,null,{"$f":"1.68794902721695*1.3","v":2.1943337353820351},0,{"$f":"AG913/$AG$1200","v":{"$error":"#DIV/0!"}},-48,{"$f":"IF(O913>1,$I$894/(O913-1),$I$894/O913)","v":{"$error":"#DIV/0!"}},{"$error":"#DIV/0!"}]
[null,null,null,"DIVAR IP 7000 R2 4X3TB",null,null,"RAID 5",0,8375,12,0,475,128,{"$error":"#DIV/0!"},0,8.1787109375,{"$error":"#DIV/0!"},0,{"$f":"IF($O914>7,OFFSET($K$255,0,$L$894),OFFSET($K$248,O914-1,$L$894,1,1))/MIN(O914,2)","v":{"$error":"#DIV/0!"}},0,0,{"$f":"SUM(S914)","v":{"$error":"#DIV/0!"}},false,{"$error":"#DIV/0!"},null,null,null,null,null,null,null,null,0,{"$error":"#DIV/0!"},-128,{"$error":"#DIV/0!"},{"$error":"#DIV/0!"}]
[null,null,null,"DIVAR IP 7000 R2 8X3TB",null,null,"RAID 5",0,{"$f":"IF(G915=\"RAID 5\",(7-H915)*2793,(6-H915)*2793)","v":19551},24,0,475,128,{"$error":"#DIV/0!"},0,19.0927734375,{"$error":"#DIV/0!"},0,{"$error":"#DIV/0!"},0,0,{"$error":"#DIV/0!"},false,{"$error":"#DIV/0!"},null,null,null,null,null,null,null,null,0,{"$error":"#DIV/0!"},-128,{"$error":"#DIV/0!"},{"$error":"#DIV/0!"},null,null,null,null,null,null,{"$f":"IF(G915=\"RAID 6\",0,0)","v":0},{"$f":"IF(G915=\"RAID 6\",0,1)","v":1}]
[null,null,null,"DIVAR IP 7000 R2 16X3TB",null,null,"RAID 5",0,{"$f":"IF(G916=\"RAID 5\",(15-H916)*2793,(14-H916)*2793)","v":41895},48,0,475,128,{"$error":"#DIV/0!"},0,40.9130859375,{"$error":"#DIV/0!"},0,{"$error":"#DIV/0!"},0,0,{"$error":"#DIV/0!"},false,{"$error":"#DIV/0!"},null,null,null,null,null,null,null,null,0,{"$error":"#DIV/0!"},-128,{"$error":"#DIV/0!"},{"$f":"IF(X916=\"<-- fits project\",D916,\"\")","v":{"$error":"#DIV/0!"}},null,null,null,null,null,null,0,1]
[null,null,"6TB","DIVAR IP 7000 R2 8X6TB",null,null,"RAID 5",0,{"$f":"IF(G917=\"RAID 5\",(7-H917)*5586,(6-H917)*5586)","v":39102},{"$f":"8*6","v":48},0,475,128,{"$error":"#DIV/0!"},0,38.185546875,{"$error":"#DIV/0!"},0,{"$error":"#DIV/0!"},0,0,{"$error":"#DIV/0!"},false,{"$error":"#DIV/0!"},null,null,null,null,null,null,null,null,0,{"$error":"#DIV/0!"},-128,{"$error":"#DIV/0!"},{"$error":"#DIV/0!"},null,null,null,null,null,null,0,1]
[null,null,null,"DIVAR IP 7000 R2 16X6TB",null,null,"RAID 5",0,{"$f":"IF(G918=\"RAID 5\",(15-H918)*5586,(14-H918)*5586)","v":83790},{"$f":"16*6","v":96},0,475,128,{"$error":"#DIV/0!"},0,81.826171875,{"$error":"#DIV/0!"},0,{"$error":"#DIV/0!"},0,0,{"$error":"#DIV/0!"},false,{"$error":"#DIV/0!"},null,null,null,null,null,null,null,null,0,{"$error":"#DIV/0!"},-128,{"$error":"#DIV/0!"},{"$error":"#DIV/0!"},null,null,null,null,null,null,0,1]
[null,null,"8TB","DIVAR IP 7000 R2 8X8TB",null,null,"RAID 5",0,{"$f":"IF(G919=\"RAID 5\",(7-H919)*7448,(6-H919)*7448)","v":52136},{"$f":"8*8","v":64},0,475,128,{"$error":"#DIV/0!"},0,50.9140625,{"$error":"#DIV/0!"},0,{"$error":"#DIV/0!"},0,0,{"$error":"#DIV/0!"},false,{"$error":"#DIV/0!"},null,null,null,null,null,null,null,null,0,{"$error":"#DIV/0!"},-128,{"$error":"#DIV/0!"},{"$error":"#DIV/0!"},null,null,null,null,null,null,0,1]
[null,null,null,"DIVAR IP 7000 R2 16X8TB",null,null,"RAID 5",0,{"$f":"IF(G920=\"RAID 5\",(15-H920)*7448,(14-H920)*7448)","v":111720},{"$f":"16*8","v":128},0,475,128,{"$error":"#DIV/0!"},0,109.1015625,{"$error":"#DIV/0!"},0,{"$error":"#DIV/0!"},0,0,{"$error":"#DIV/0!"},false,{"$error":"#DIV/0!"},null,null,null,null,null,null,null,null,0,{"$error":"#DIV/0!"},-128,{"$error":"#DIV/0!"},{"$error":"#DIV/0!"},null,null,null,null,null,null,0,1]
[null,null,"3TB","DIVAR IP 7000 R2 8X3TB + 1x DIVAR IP 6000 R2 8X3TB",null,null,"RAID 5",0,{"$f":"IF(G921=\"RAID 5\",2*(((7-H921)*2793)),2*(((6-H921)*2793)))","v":39102},48,0,{"$f":"475+550","v":1025},{"$f":"128+128","v":256},{"$error":"#DIV/0!"},0,38.185546875,{"$error":"#DIV/0!"},0,{"$f":"IF($O921>7,OFFSET($K$255,0,$L$894),OFFSET($K$248,O921-1,$L$894,1,1))","v":0},0,0,0,{"$f":"IF(AND(IF($AJ921<=$L921,TRUE,FALSE),IF($V921<=$AI921,TRUE,FALSE)),\"True\",\"\")","v":{"$error":"#DIV/0!"}},{"$error":"#DIV/0!"},null,null,null,null,null,null,null,null,0,{"$error":"#DIV/0!"},-256,{"$error":"#DIV/0!"},{"$error":"#DIV/0!"}]
[null,null,null,"DIVAR IP 7000 R2 8X3TB + 2x DIVAR IP 6000 R2 8X3TB",null,null,"RAID 5",0,{"$f":"IF(G922=\"RAID 5\",3*(((7-H922)*2793)),3*(((6-H922)*2793)))","v":58653},{"$f":"24*3","v":72},0,{"$f":"475+(2*550)","v":1575},{"$f":"128+(2*128)","v":384},{"$error":"#DIV/0!"},0,57.2783203125,{"$error":"#DIV/0!"},0,0,0,0,0,{"$error":"#DIV/0!"},{"$error":"#DIV/0!"},null,null,null,null,null,null,null,null,0,{"$error":"#DIV/0!"},-384,{"$error":"#DIV/0!"},{"$error":"#DIV/0!"}]
[null,null,null,"DIVAR IP 7000 R2 8X3TB + 3x DIVAR IP 6000 R2 8X3TB",null,null,"RAID 5",0,{"$f":"IF(G923=\"RAID 5\",4*(((7-H923)*2793)),4*(((6-H923)*2793)))","v":78204},{"$f":"32*3","v":96},0,{"$f":"475+(3*550)","v":2125},{"$f":"128+(3*128)","v":512},{"$error":"#DIV/0!"},0,76.37109375,{"$error":"#DIV/0!"},0,0,0,0,0,{"$error":"#DIV/0!"},{"$error":"#DIV/0!"},null,null,null,null,null,null,null,null,0,{"$error":"#DIV/0!"},-512,{"$error":"#DIV/0!"},{"$error":"#DIV/0!"}]
[null,null,null,"DIVAR IP 7000 R2 8X3TB + 4x DIVAR IP 6000 R2 8X3TB",null,null,"RAID 5",0,{"$f":"IF(G924=\"RAID 5\",5*(((7-H924)*2793)),5*(((6-H924)*2793)))","v":97755},{"$f":"40*3","v":120},0,{"$f":"475+(4*550)","v":2675},{"$f":"128+(4*128)","v":640},{"$error":"#DIV/0!"},0,95.4638671875,{"$error":"#DIV/0!"},0,0,0,0,0,{"$error":"#DIV/0!"},{"$error":"#DIV/0!"},null,null,null,null,null,null,null,null,0,{"$error":"#DIV/0!"},-640,{"$error":"#DIV/0!"},{"$error":"#DIV/0!"}]
[null,null,null,"DIVAR IP 7000 R2 8X3TB + 1x DIVAR IP 6000 R2 3U 16x3TB",null,null,"RAID 5",0,{"$f":"IF(G925=\"RAID 5\",(((7-H925)*2792))+(1*(((15-H925)*2792))),(((6-H925)*2792))+(1*(((14-H925)*2792))))","v":61424},{"$f":"(16+8)*3","v":72},0,{"$f":"475+(1*550)","v":1025},{"$f":"128+(2*128)","v":384},{"$error":"#DIV/0!"},0,59.984375,{"$error":"#DIV/0!"},0,0,0,0,0,{"$error":"#DIV/0!"},{"$error":"#DIV/0!"},null,null,null,null,null,null,null,null,0,{"$error":"#DIV/0!"},-384,{"$error":"#DIV/0!"},{"$error":"#DIV/0!"}]
[null,null,null,"DIVAR IP 7000 R2 8X3TB + 2x DIVAR IP 6000 R2 3U 16x3TB",null,null,"RAID 5",0,{"$f":"IF(G926=\"RAID 5\",(((7-H926)*2792))+(2*(((15-H926)*2792))),(((6-H926)*2792))+(2*(((14-H926)*2792))))","v":103304},{"$f":"(2*16+8)*3","v":120},0,{"$f":"475+(2*550)","v":1575},{"$f":"128+(2*128)","v":384},{"$error":"#DIV/0!"},0,100.8828125,{"$error":"#DIV/0!"},0,0,0,0,0,{"$error":"#DIV/0!"},{"$error":"#DIV/0!"},null,null,null,null,null,null,null,null,0,{"$error":"#DIV/0!"},-384,{"$error":"#DIV/0!"},{"$error":"#DIV/0!"}]
[null,null,null,"DIVAR IP 7000 R2 8X3TB + 3x DIVAR IP 6000 R2 3U 16x3TB",null,null,"RAID 5",0,{"$f":"IF(G927=\"RAID 5\",(((7-H927)*2792))+(3*(((15-H927)*2792))),(((6-H927)*2792))+(3*(((14-H927)*2792))))","v":145184},{"$f":"(3*16+8)*3","v":168},0,{"$f":"475+(3*550)","v":2125},{"$f":"128+(2*128)","v":384},{"$error":"#DIV/0!"},0,141.78125,{"$error":"#DIV/0!"},0,0,0,0,0,{"$error":"#DIV/0!"},{"$error":"#DIV/0!"},null,null,null,null,null,null,null,null,0,{"$error":"#DIV/0!"},-384,{"$error":"#DIV/0!"},{"$error":"#DIV/0!"}]
[null,null,null,"DIVAR IP 7000 R2 8X3TB + 4x DIVAR IP 6000 R2 3U 16x3TB",null,null,"RAID 5",0,{"$f":"IF(G928=\"RAID 5\",(((7-H928)*2792))+(4*(((15-H928)*2792))),(((6-H928)*2792))+(4*(((14-H928)*2792))))","v":187064},{"$f":"(4*16+8)*3","v":216},0,{"$f":"475+(4*550)","v":2675},{"$f":"128+(2*128)","v":384},{"$error":"#DIV/0!"},0,182.6796875,{"$error":"#DIV/0!"},0,0,0,0,0,{"$error":"#DIV/0!"},{"$error":"#DIV/0!"},null,null,null,null,null,null,null,null,0,{"$error":"#DIV/0!"},-384,{"$error":"#DIV/0!"},{"$error":"#DIV/0!"}]
[null,null,null,"DIVAR IP 7000 R2 4X4TB",null,null,"RAID 5",0,11170,16,0,475,128,{"$error":"#DIV/0!"},0,10.908203125,{"$error":"#DIV/0!"},0,{"$f":"IF($O929>7,OFFSET($K$255,0,$L$894),OFFSET($K$248,O929-1,$L$894,1,1))/MIN(O929,2)","v":{"$error":"#DIV/0!"}},0,0,{"$error":"#DIV/0!"},false,{"$error":"#DIV/0!"},null,null,null,null,null,null,null,null,0,{"$error":"#DIV/0!"},-128,{"$error":"#DIV/0!"},{"$error":"#DIV/0!"}]
[null,null,null,"DIVAR IP 7000 R2 8X4TB",null,null,"RAID 5",0,{"$f":"IF(G930=\"RAID 5\",(7-H930)*3723,(6-H930)*3723)","v":26061},32,0,475,128,{"$error":"#DIV/0!"},0,25.4501953125,{"$error":"#DIV/0!"},0,{"$f":"IF($O930>7,OFFSET($K$255,0,$L$894),OFFSET($K$248,O930-1,$L$894,1,1))/MIN(O930,2)","v":{"$error":"#DIV/0!"}},0,0,{"$error":"#DIV/0!"},false,{"$error":"#DIV/0!"},null,null,null,null,null,null,null,null,0,{"$error":"#DIV/0!"},-128,{"$error":"#DIV/0!"},{"$error":"#DIV/0!"},null,null,null,null,null,null,{"$f":"IF(G930=\"RAID 6\",0,0)","v":0},{"$f":"IF(G930=\"RAID 6\",0,1)","v":1}]
[null,null,null,"DIVAR IP 7000 R2 16X4TB",null,null,"RAID 5",0,{"$f":"IF(G931=\"RAID 5\",(15-H931)*3723,(14-H931)*3723)","v":55845},64,0,475,128,{"$error":"#DIV/0!"},0,54.5361328125,{"$error":"#DIV/0!"},0,{"$f":"IF($O931>7,OFFSET($K$255,0,$L$894),OFFSET($K$248,O931-1,$L$894,1,1))/MIN(O931,2)","v":{"$error":"#DIV/0!"}},0,0,{"$error":"#DIV/0!"},false,{"$error":"#DIV/0!"},null,null,null,null,null,null,null,null,0,{"$error":"#DIV/0!"},-128,{"$error":"#DIV/0!"},{"$error":"#DIV/0!"},null,null,null,null,null,null,{"$f":"IF(G931=\"RAID 6\",0,0)","v":0},{"$f":"IF(G931=\"RAID 6\",0,1)","v":1}]
[null,null,"4TB","DIVAR IP 7000 R2 8X4TB + 1x DIVAR IP 6000 R2 8X4TB",null,null,"RAID 5",0,{"$f":"IF(G932=\"RAID 5\",2*((7-H932)*3723),2*((6-H932)*3723))","v":52122},{"$f":"16*4","v":64},0,{"$f":"475+550","v":1025},{"$f":"128+128","v":256},{"$error":"#DIV/0!"},0,50.900390625,{"$error":"#DIV/0!"},0,{"$f":"IF($O932>7,OFFSET($K$255,0,$L$894),OFFSET($K$248,O932-1,$L$894,1,1))","v":0},0,0,0,{"$f":"IF(AND(IF($AJ932<=$L932,TRUE,FALSE),IF($V932<=$AI932,TRUE,FALSE)),\"True\",\"\")","v":{"$error":"#DIV/0!"}},{"$error":"#DIV/0!"},null,null,null,null,null,null,null,null,0,{"$error":"#DIV/0!"},-256,{"$error":"#DIV/0!"},{"$error":"#DIV/0!"}]
[null,null,null,"DIVAR IP 7000 R2 8X4TB + 2x DIVAR IP 6000 R2 8X4TB",null,null,"RAID 5",0,{"$f":"IF(G933=\"RAID 5\",3*((7-H933)*3723),3*((6-H933)*3723))","v":78183},{"$f":"24*4","v":96},0,{"$f":"475+(2*550)","v":1575},{"$f":"128+(2*128)","v":384},{"$error":"#DIV/0!"},0,76.3505859375,{"$error":"#DIV/0!"},0,0,0,0,0,{"$error":"#DIV/0!"},{"$error":"#DIV/0!"},null,null,null,null,null,null,null,null,0,{"$error":"#DIV/0!"},-384,{"$error":"#DIV/0!"},{"$error":"#DIV/0!"}]
[null,null,null,"DIVAR IP 7000 R2 8X4TB + 3x DIVAR IP 6000 R2 8X4TB",null,null,"RAID 5",0,{"$f":"IF(G934=\"RAID 5\",4*((7-H934)*3723),4*((6-H934)*3723))","v":104244},{"$f":"32*4","v":128},0,{"$f":"475+(3*550)","v":2125},{"$f":"128+(3*128)","v":512},{"$error":"#DIV/0!"},0,101.80078125,{"$error":"#DIV/0!"},0,0,0,0,0,{"$error":"#DIV/0!"},{"$error":"#DIV/0!"},null,null,null,null,null,null,null,null,0,{"$error":"#DIV/0!"},-512,{"$error":"#DIV/0!"},{"$error":"#DIV/0!"}]
[null,null,null,"DIVAR IP 7000 R2 8X4TB + 4x DIVAR IP 6000 R2 8X4TB",null,null,"RAID 5",0,{"$f":"IF(G935=\"RAID 5\",5*((7-H935)*3723),5*((6-H935)*3723))","v":130305},{"$f":"40*4","v":160},0,{"$f":"475+(4*550)","v":2675},{"$f":"128+(4*128)","v":640},{"$error":"#DIV/0!"},0,127.2509765625,{"$error":"#DIV/0!"},0,0,0,0,0,{"$error":"#DIV/0!"},{"$error":"#DIV/0!"},null,null,null,null,null,null,null,null,0,{"$error":"#DIV/0!"},-640,{"$error":"#DIV/0!"},{"$error":"#DIV/0!"}]
[null,null,null,"DIVAR IP 7000 R2 8X4TB + 1x DIVAR IP 6000 R2 3U 16x4TB",null,null,"RAID 5",0,{"$f":"IF(G936=\"RAID 5\",(((7-H936)*3723))+(1*(((15-H936)*3723))),(((6-H936)*3723))+(1*(((15-H936)*3723))))","v":81906},{"$f":"(16+8)*4","v":96},0,{"$f":"475+(1*550)","v":1025},{"$f":"128+(1*128)","v":256},{"$error":"#DIV/0!"},0,79.986328125,{"$error":"#DIV/0!"},0,0,0,0,0,{"$error":"#DIV/0!"},{"$error":"#DIV/0!"},null,null,null,null,null,null,null,null,0,{"$error":"#DIV/0!"},-256,{"$error":"#DIV/0!"},{"$error":"#DIV/0!"}]
[null,null,null,"DIVAR IP 7000 R2 8X4TB + 2x DIVAR IP 6000 R2 3U 16x4TB",null,null,"RAID 5",0,{"$f":"IF(G937=\"RAID 5\",(((7-H937)*3723))+(2*(((15-H937)*3723))),(((6-H937)*3723))+(2*(((15-H937)*3723))))","v":137751},{"$f":"(2*16+8)*4","v":160},0,{"$f":"475+(2*550)","v":1575},{"$f":"128+(2*128)","v":384},{"$error":"#DIV/0!"},0,134.5224609375,{"$error":"#DIV/0!"},0,0,0,0,0,{"$error":"#DIV/0!"},{"$error":"#DIV/0!"},null,null,null,null,null,null,null,null,0,{"$error":"#DIV/0!"},-384,{"$error":"#DIV/0!"},{"$error":"#DIV/0!"}]
[null,null,null,"DIVAR IP 7000 R2 8X4TB + 3x DIVAR IP 6000 R2 3U 16x4TB",null,null,"RAID 5",0,{"$f":"IF(G938=\"RAID 5\",(((7-H938)*3723))+(3*(((15-H938)*3723))),(((6-H938)*3723))+(3*(((15-H938)*3723))))","v":193596},{"$f":"(3*16+8)*4","v":224},0,{"$f":"475+(3*550)","v":2125},{"$f":"128+(3*128)","v":512},{"$error":"#DIV/0!"},0,189.05859375,{"$error":"#DIV/0!"},0,0,0,0,0,{"$error":"#DIV/0!"},{"$f":"IF(AND(IF($N938<=$L938,TRUE,FALSE),IF($V938<=$R938,TRUE,FALSE),OR(W938=\"True\",$W$899=\"No\"),IF($A$906=\"False\",IF(O938=1,TRUE,FALSE),TRUE)),\"<-- fits project\",\"\")","v":{"$error":"#DIV/0!"}},null,null,null,null,null,null,null,null,0,{"$error":"#DIV/0!"},-512,{"$error":"#DIV/0!"},{"$error":"#DIV/0!"}]
[null,null,null,"DIVAR IP 7000 R2 8X4TB + 4x DIVAR IP 6000 R2 3U 16x4TB",null,null,"RAID 5",0,{"$f":"IF(G939=\"RAID 5\",(((7-H939)*3723))+(4*(((15-H939)*3723))),(((6-H939)*3723))+(4*(((15-H939)*3723))))","v":249441},{"$f":"(4*16+8)*4","v":288},0,{"$f":"475+(4*550)","v":2675},{"$f":"128+(4*128)","v":640},{"$error":"#DIV/0!"},0,243.5947265625,{"$error":"#DIV/0!"},0,0,0,0,0,{"$error":"#DIV/0!"},{"$error":"#DIV/0!"},null,null,null,null,null,null,null,null,0,{"$error":"#DIV/0!"},-640,{"$error":"#DIV/0!"},{"$error":"#DIV/0!"}]
[null,null,null,"DIVAR IP 7000 R2 16X3TB + 1x DIVAR IP 6000 R2 8x4TB",null,null,"RAID 5",0,{"$f":"IF(G940=\"RAID 5\",(((15-H940)*2792))+(1*(((7-H940)*3723))),(((14-H940)*2792))+(1*(((6-H940)*3723))))","v":67941},{"$f":"(16*3)+(1*(8*4))","v":80},0,{"$f":"475+(1*550)","v":1025},{"$f":"128+(1*128)","v":256},{"$error":"#DIV/0!"},0,66.3486328125,{"$error":"#DIV/0!"},0,0,0,0,0,{"$error":"#DIV/0!"},{"$error":"#DIV/0!"},null,null,null,null,null,null,null,null,{"$f":"AF940*O940","v":0},{"$f":"AG940/$AG$563","v":{"$error":"#DIV/0!"}},-256,{"$error":"#DIV/0!"},{"$error":"#DIV/0!"}]
[null,null,null,"DIVAR IP 7000 R2 16X3TB + 2x DIVAR IP 6000 R2 8x4TB",null,null,"RAID 5",0,{"$f":"IF(G941=\"RAID 5\",(((15-H941)*2792))+(2*(((7-H941)*3723))),(((14-H941)*2792))+(2*(((6-H941)*3723))))","v":94002},{"$f":"(16*3)+(2*(8*4))","v":112},0,{"$f":"475+(2*550)","v":1575},{"$f":"128+(2*128)","v":384},{"$error":"#DIV/0!"},0,91.798828125,{"$error":"#DIV/0!"},0,0,0,0,0,{"$error":"#DIV/0!"},{"$error":"#DIV/0!"},null,null,null,null,null,null,null,null,0,{"$error":"#DIV/0!"},-384,{"$error":"#DIV/0!"},{"$error":"#DIV/0!"}]
[null,null,null,"DIVAR IP 7000 R2 16X3TB + 3x \tDIVAR IP 6000 R2 8x4TB",null,null,"RAID 5",0,{"$f":"IF(G942=\"RAID 5\",(((15-H942)*2792))+(3*(((7-H942)*3723))),(((14-H942)*2792))+(3*(((6-H942)*3723))))","v":120063},{"$f":"(16*3)+(3*(8*4))","v":144},0,{"$f":"475+(3*550)","v":2125},{"$f":"128+(3*128)","v":512},{"$error":"#DIV/0!"},0,117.2490234375,{"$error":"#DIV/0!"},0,0,0,0,0,{"$error":"#DIV/0!"},{"$error":"#DIV/0!"},null,null,null,null,null,null,null,null,0,{"$error":"#DIV/0!"},-512,{"$error":"#DIV/0!"},{"$error":"#DIV/0!"}]
[null,null,null,"DIVAR IP 7000 R2 16X3TB + 4x \tDIVAR IP 6000 R2 8x4TB",null,null,"RAID 5",0,{"$f":"IF(G943=\"RAID 5\",(((15-H943)*2792))+(4*(((7-H943)*3723))),(((14-H943)*2792))+(4*(((6-H943)*3723))))","v":146124},{"$f":"(16*3)+(4*(8*4))","v":176},0,{"$f":"475+(4*550)","v":2675},{"$f":"128+(4*128)","v":640},{"$error":"#DIV/0!"},0,142.69921875,{"$error":"#DIV/0!"},0,0,0,0,0,{"$error":"#DIV/0!"},{"$error":"#DIV/0!"},null,null,null,null,null,null,null,null,0,{"$error":"#DIV/0!"},-640,{"$error":"#DIV/0!"},{"$error":"#DIV/0!"}]
[null,null,null,"DIVAR IP 7000 R2 16X3TB + 1x \tDIVAR IP 6000 R2 3U 16x3TB",null,null,"RAID 5",0,{"$f":"IF(G944=\"RAID 5\",(((15-H944)*2792))+(1*(((15-H944)*2792))),(((14-H944)*2792))+(1*(((14-H944)*2792))))","v":83760},{"$f":"(16*3)+(1*(16*3))","v":96},0,{"$f":"475+(1*550)","v":1025},{"$f":"128+(1*128)","v":256},{"$error":"#DIV/0!"},0,81.796875,{"$error":"#DIV/0!"},0,0,0,0,0,{"$error":"#DIV/0!"},{"$error":"#DIV/0!"},null,null,null,null,null,null,null,null,0,{"$error":"#DIV/0!"},-256,{"$error":"#DIV/0!"},{"$error":"#DIV/0!"}]
[null,null,null,"DIVAR IP 7000 R2 16X3TB + 2x \tDIVAR IP 6000 R2 3U 16x3TB",null,null,"RAID 5",0,{"$f":"IF(G945=\"RAID 5\",(((15-H945)*2792))+(2*(((15-H945)*2792))),(((14-H945)*2792))+(2*(((14-H945)*2792))))","v":125640},{"$f":"(16*3)+(2*(16*3))","v":144},0,{"$f":"475+(2*550)","v":1575},{"$f":"128+(2*128)","v":384},{"$f":"$I$894/O945","v":{"$error":"#DIV/0!"}},{"$f":"ROUNDUP($G$894/I945,0)","v":0},{"$f":"(1-(($G$894/$I945)-INT($G$894/$I945)))*I945/1024","v":122.6953125},{"$error":"#DIV/0!"},0,0,0,0,0,{"$error":"#DIV/0!"},{"$error":"#DIV/0!"},null,null,null,null,null,null,null,null,0,{"$error":"#DIV/0!"},-384,{"$f":"IF(O945>1,$I$894/(O945-1),$I$894/O945)","v":{"$error":"#DIV/0!"}},{"$error":"#DIV/0!"}]
[null,null,null,"DIVAR IP 7000 R2 16X3TB + 3x \tDIVAR IP 6000 R2 3U 16x3TB",null,null,"RAID 5",0,{"$f":"IF(G946=\"RAID 5\",(((15-H946)*2792))+(3*(((15-H946)*2792))),(((14-H946)*2792))+(3*(((14-H946)*2792))))","v":167520},{"$f":"(16*3)+(3*(16*3))","v":192},0,{"$f":"475+(3*550)","v":2125},{"$f":"128+(3*128)","v":512},{"$error":"#DIV/0!"},0,163.59375,{"$error":"#DIV/0!"},0,0,0,0,0,{"$error":"#DIV/0!"},{"$error":"#DIV/0!"},null,null,null,null,null,null,null,null,0,{"$error":"#DIV/0!"},-512,{"$error":"#DIV/0!"},{"$error":"#DIV/0!"}]
[null,null,null,"DIVAR IP 7000 R2 16X3TB + 4x \tDIVAR IP 6000 R2 3U 16x3TB",null,null,"RAID 5",0,{"$f":"IF(G947=\"RAID 5\",(((15-H947)*2792))+(4*(((15-H947)*2792))),(((14-H947)*2792))+(4*(((14-H947)*2792))))","v":209400},{"$f":"(16*3)+(4*(16*3))","v":240},0,{"$f":"475+(4*550)","v":2675},{"$f":"128+(4*128)","v":640},{"$error":"#DIV/0!"},0,204.4921875,{"$error":"#DIV/0!"},0,0,0,0,0,{"$error":"#DIV/0!"},{"$error":"#DIV/0!"},null,null,null,null,null,null,null,null,0,{"$error":"#DIV/0!"},-640,{"$error":"#DIV/0!"},{"$error":"#DIV/0!"}]
[null,null,null,"DIVAR IP 7000 R2 16X3TB + 1x \tDIVAR IP 6000 R2 3U 16x4TB",null,null,"RAID 5",0,{"$f":"IF(G948=\"RAID 5\",(((15-H948)*2792))+(1*(((15-H948)*3723))),(((14-H948)*2792))+(1*(((14-H948)*3723))))","v":97725},{"$f":"(16*3)+(1*(16*4))","v":112},0,{"$f":"475+(1*550)","v":1025},{"$f":"128+(1*128)","v":256},{"$error":"#DIV/0!"},0,95.4345703125,{"$error":"#DIV/0!"},0,0,0,0,0,{"$error":"#DIV/0!"},{"$error":"#DIV/0!"},null,null,null,null,null,null,null,null,0,{"$error":"#DIV/0!"},-256,{"$error":"#DIV/0!"},{"$error":"#DIV/0!"}]
[null,null,null,"DIVAR IP 7000 R2 16X3TB + 2x \tDIVAR IP 6000 R2 3U 16x4TB",null,null,"RAID 5",0,{"$f":"IF(G949=\"RAID 5\",(((15-H949)*2792))+(2*(((15-H949)*3723))),(((14-H949)*2792))+(2*(((14-H949)*3723))))","v":153570},{"$f":"(16*3)+(2*(16*4))","v":176},0,{"$f":"475+(2*550)","v":1575},{"$f":"128+(2*128)","v":384},{"$error":"#DIV/0!"},0,149.970703125,{"$error":"#DIV/0!"},0,0,0,0,0,{"$error":"#DIV/0!"},{"$error":"#DIV/0!"},null,null,null,null,null,null,null,null,0,{"$error":"#DIV/0!"},-384,{"$error":"#DIV/0!"},{"$error":"#DIV/0!"}]
[null,null,null,"DIVAR IP 7000 R2 16X3TB + 3x \tDIVAR IP 6000 R2 3U 16x4TB",null,null,"RAID 5",0,{"$f":"IF(G950=\"RAID 5\",(((15-H950)*2792))+(3*(((15-H950)*3723))),(((14-H950)*2792))+(3*(((14-H950)*3723))))","v":209415},{"$f":"(16*3)+(3*(16*4))","v":240},0,{"$f":"475+(3*550)","v":2125},{"$f":"128+(3*128)","v":512},{"$error":"#DIV/0!"},0,204.5068359375,{"$error":"#DIV/0!"},0,0,0,0,0,{"$error":"#DIV/0!"},{"$error":"#DIV/0!"},null,null,null,null,null,null,null,null,0,{"$error":"#DIV/0!"},-512,{"$error":"#DIV/0!"},{"$error":"#DIV/0!"}]
[null,null,null,"DIVAR IP 7000 R2 16X3TB + 4x DIVAR IP 6000 R2 3U 16x4TB",null,null,"RAID 5",0,{"$f":"IF(G951=\"RAID 5\",(((15-H951)*2792))+(4*(((15-H951)*3723))),(((14-H951)*2792))+(4*(((14-H951)*3723))))","v":265260},{"$f":"(16*3)+(4*(16*4))","v":304},0,{"$f":"475+(4*550)","v":2675},{"$f":"128+(4*128)","v":640},{"$error":"#DIV/0!"},0,259.04296875,{"$error":"#DIV/0!"},0,0,0,0,0,{"$error":"#DIV/0!"},{"$error":"#DIV/0!"},null,null,null,null,null,null,null,null,0,{"$error":"#DIV/0!"},-640,{"$error":"#DIV/0!"},{"$error":"#DIV/0!"}]
[null,null,null,"DIVAR IP 7000 R2 8X4TB + 1x DIVAR IP 6000 R2 8X3TB",null,null,"RAID 5",0,{"$f":"IF(G952=\"RAID 5\",(((7-H952)*3723))+(1*(((7-H952)*2792))),(((6-H952)*3723))+(1*(((6-H952)*2792))))","v":45605},{"$f":"(8*4)+(1*(8*3))","v":56},0,{"$f":"475+(1*550)","v":1025},{"$f":"128+(1*128)","v":256},{"$error":"#DIV/0!"},0,44.5361328125,{"$error":"#DIV/0!"},0,0,0,0,0,{"$error":"#DIV/0!"},{"$error":"#DIV/0!"},null,null,null,null,null,null,null,null,0,{"$error":"#DIV/0!"},-256,{"$error":"#DIV/0!"},{"$f":"IF(X952=\"<-- fits project\",D952,\"\")","v":{"$error":"#DIV/0!"}}]
[null,null,null,"DIVAR IP 7000 R2 8X4TB + 2x DIVAR IP 6000 R2 8X3TB",null,null,"RAID 5",0,{"$f":"IF(G953=\"RAID 5\",(((7-H953)*3723))+(2*(((7-H953)*2792))),(((6-H953)*3723))+(2*(((6-H953)*2792))))","v":65149},{"$f":"(8*4)+(2*(8*3))","v":80},0,{"$f":"475+(2*550)","v":1575},{"$f":"128+(2*128)","v":384},{"$error":"#DIV/0!"},0,63.6220703125,{"$error":"#DIV/0!"},0,0,0,0,0,{"$error":"#DIV/0!"},{"$error":"#DIV/0!"},null,null,null,null,null,null,null,null,0,{"$error":"#DIV/0!"},-384,{"$error":"#DIV/0!"},{"$error":"#DIV/0!"}]
[null,null,null,"DIVAR IP 7000 R2 8X4TB + 3x DIVAR IP 6000 R2 8X3TB",null,null,"RAID 5",0,{"$f":"IF(G954=\"RAID 5\",(((7-H954)*3723))+(3*(((7-H954)*2792))),(((6-H954)*3723))+(3*(((6-H954)*2792))))","v":84693},{"$f":"(8*4)+(3*(8*3))","v":104},0,{"$f":"475+(3*550)","v":2125},{"$f":"128+(3*128)","v":512},{"$error":"#DIV/0!"},0,82.7080078125,{"$error":"#DIV/0!"},0,0,0,0,0,{"$error":"#DIV/0!"},{"$error":"#DIV/0!"},null,null,null,null,null,null,null,null,0,{"$error":"#DIV/0!"},-512,{"$error":"#DIV/0!"},{"$error":"#DIV/0!"}]
[null,null,null,"DIVAR IP 7000 R2 8X4TB + 4x DIVAR IP 6000 R2 8X3TB",null,null,"RAID 5",0,{"$f":"IF(G955=\"RAID 5\",(((7-H955)*3723))+(4*(((7-H955)*2792))),(((6-H955)*3723))+(4*(((6-H955)*2792))))","v":104237},{"$f":"(8*4)+(4*(8*3))","v":128},0,{"$f":"475+(4*550)","v":2675},{"$f":"128+(4*128)","v":640},{"$error":"#DIV/0!"},0,101.7939453125,{"$error":"#DIV/0!"},0,0,0,0,0,{"$error":"#DIV/0!"},{"$error":"#DIV/0!"},null,null,null,null,null,null,null,null,0,{"$error":"#DIV/0!"},-640,{"$error":"#DIV/0!"},{"$error":"#DIV/0!"}]
[null,null,null,"DIVAR IP 7000 R2 8X4TB +  1x \tDIVAR IP 6000 R2 3U 16x3TB",null,null,"RAID 5",0,{"$f":"IF(G956=\"RAID 5\",(((7-H956)*3723))+(1*(((15-H956)*2792))),(((6-H956)*3723))+(1*(((14-H956)*2792))))","v":67941},{"$f":"(8*4)+(1*(16*3))","v":80},0,{"$f":"475+(1*550)","v":1025},{"$f":"128+(1*128)","v":256},{"$error":"#DIV/0!"},0,66.3486328125,{"$error":"#DIV/0!"},0,0,0,0,0,{"$error":"#DIV/0!"},{"$error":"#DIV/0!"},null,null,null,null,null,null,null,null,0,{"$error":"#DIV/0!"},-256,{"$error":"#DIV/0!"},{"$error":"#DIV/0!"}]
[null,null,null,"DIVAR IP 7000 R2 8X4TB +  2x \tDIVAR IP 6000 R2 3U 16x3TB",null,null,"RAID 5",0,{"$f":"IF(G957=\"RAID 5\",(((7-H957)*3723))+(2*(((15-H957)*2792))),(((6-H957)*3723))+(2*(((14-H957)*2792))))","v":109821},{"$f":"(8*4)+(2*(16*3))","v":128},0,{"$f":"475+(2*550)","v":1575},{"$f":"128+(2*128)","v":384},{"$error":"#DIV/0!"},0,107.2470703125,{"$error":"#DIV/0!"},0,0,0,0,0,{"$error":"#DIV/0!"},{"$error":"#DIV/0!"},null,null,null,null,null,null,null,null,0,{"$error":"#DIV/0!"},-384,{"$error":"#DIV/0!"},{"$error":"#DIV/0!"}]
[null,null,null,"DIVAR IP 7000 R2 8X4TB +  3x \tDIVAR IP 6000 R2 3U 16x3TB",null,null,"RAID 5",0,{"$f":"IF(G958=\"RAID 5\",(((7-H958)*3723))+(3*(((15-H958)*2792))),(((6-H958)*3723))+(3*(((14-H958)*2792))))","v":151701},{"$f":"(8*4)+(3*(16*3))","v":176},0,{"$f":"475+(3*550)","v":2125},{"$f":"128+(3*128)","v":512},{"$error":"#DIV/0!"},0,148.1455078125,{"$error":"#DIV/0!"},0,0,0,0,0,{"$error":"#DIV/0!"},{"$error":"#DIV/0!"},null,null,null,null,null,null,null,null,0,{"$error":"#DIV/0!"},-512,{"$error":"#DIV/0!"},{"$error":"#DIV/0!"}]
[null,null,null,"DIVAR IP 7000 R2 8X4TB +  4x \tDIVAR IP 6000 R2 3U 16x3TB",null,null,"RAID 5",0,{"$f":"IF(G959=\"RAID 5\",(((7-H959)*3723))+(4*(((15-H959)*2792))),(((6-H959)*3723))+(4*(((14-H959)*2792))))","v":193581},{"$f":"(8*4)+(4*(16*3))","v":224},0,{"$f":"475+(4*550)","v":2675},{"$f":"128+(4*128)","v":640},{"$error":"#DIV/0!"},0,189.0439453125,{"$error":"#DIV/0!"},0,0,0,0,0,{"$error":"#DIV/0!"},{"$error":"#DIV/0!"},null,null,null,null,null,null,null,null,0,{"$error":"#DIV/0!"},-640,{"$error":"#DIV/0!"},{"$error":"#DIV/0!"}]
[null,null,null,"DIVAR IP 7000 R2 16X4TB + 1x \tDIVAR IP 6000 R2 8x4TB",null,null,"RAID 5",0,{"$f":"IF(G960=\"RAID 5\",(((15-H960)*3723))+(1*(((7-H960)*3723))),(((14-H960)*3723))+(1*(((6-H960)*3723))))","v":81906},{"$f":"(16*4)+(1*(8*4))","v":96},0,{"$f":"475+(1*550)","v":1025},{"$f":"128+(1*128)","v":256},{"$error":"#DIV/0!"},0,79.986328125,{"$error":"#DIV/0!"},0,0,0,0,0,{"$error":"#DIV/0!"},{"$error":"#DIV/0!"},null,null,null,null,null,null,null,null,0,{"$error":"#DIV/0!"},-256,{"$error":"#DIV/0!"},{"$error":"#DIV/0!"}]
[null,null,null,"DIVAR IP 7000 R2 16X4TB + 2x \tDIVAR IP 6000 R2 8x4TB",null,null,"RAID 5",0,{"$f":"IF(G961=\"RAID 5\",(((15-H961)*3723))+(2*(((7-H961)*3723))),(((14-H961)*3723))+(2*(((6-H961)*3723))))","v":107967},{"$f":"(16*4)+(2*(8*4))","v":128},0,{"$f":"475+(2*550)","v":1575},{"$f":"128+(2*128)","v":384},{"$error":"#DIV/0!"},0,105.4365234375,{"$error":"#DIV/0!"},0,0,0,0,0,{"$error":"#DIV/0!"},{"$error":"#DIV/0!"},null,null,null,null,null,null,null,null,0,{"$error":"#DIV/0!"},-384,{"$error":"#DIV/0!"},{"$error":"#DIV/0!"}]
[null,null,null,"DIVAR IP 7000 R2 16X4TB + 3x \tDIVAR IP 6000 R2 8x4TB",null,null,"RAID 5",0,{"$f":"IF(G962=\"RAID 5\",(((15-H962)*3723))+(3*(((7-H962)*3723))),(((14-H962)*3723))+(3*(((6-H962)*3723))))","v":134028},{"$f":"(16*4)+(3*(8*4))","v":160},0,{"$f":"475+(3*550)","v":2125},{"$f":"128+(3*128)","v":512},{"$error":"#DIV/0!"},0,130.88671875,{"$error":"#DIV/0!"},0,0,0,0,0,{"$error":"#DIV/0!"},{"$error":"#DIV/0!"},null,null,null,null,null,null,null,null,0,{"$error":"#DIV/0!"},-512,{"$error":"#DIV/0!"},{"$error":"#DIV/0!"}]
[null,null,null,"DIVAR IP 7000 R2 16X4TB + 4x \tDIVAR IP 6000 R2 8x4TB",null,null,"RAID 5",0,{"$f":"IF(G963=\"RAID 5\",(((15-H963)*3723))+(4*(((7-H963)*3723))),(((14-H963)*3723))+(4*(((6-H963)*3723))))","v":160089},{"$f":"(16*4)+(4*(8*4))","v":192},0,{"$f":"475+(4*550)","v":2675},{"$f":"128+(4*128)","v":640},{"$error":"#DIV/0!"},0,156.3369140625,{"$error":"#DIV/0!"},0,0,0,0,0,{"$error":"#DIV/0!"},{"$error":"#DIV/0!"},null,null,null,null,null,null,null,null,0,{"$error":"#DIV/0!"},-640,{"$error":"#DIV/0!"},{"$error":"#DIV/0!"}]
[null,null,null,"DIVAR IP 7000 R2 16X4TB + 1x \tDIVAR IP 6000 R2 3U 16x3TB",null,null,"RAID 5",0,{"$f":"IF(G964=\"RAID 5\",(((15-H964)*3723))+(1*(((15-H964)*2792))),(((14-H964)*3723))+(1*(((14-H964)*2792))))","v":97725},{"$f":"(16*4)+(1*(16*3))","v":112},{"$f":"O964*J964","v":0},{"$f":"475+(1*550)","v":1025},{"$f":"128+(1*128)","v":256},{"$error":"#DIV/0!"},0,95.4345703125,{"$error":"#DIV/0!"},{"$f":"O964*M964","v":0},0,{"$f":"O964*1*MAX($N$1528,1)","v":0},0,0,{"$error":"#DIV/0!"},{"$error":"#DIV/0!"},null,null,null,null,null,null,null,null,0,{"$error":"#DIV/0!"},{"$f":"(O964-1)*M964","v":-256},{"$error":"#DIV/0!"},{"$error":"#DIV/0!"}]
[null,null,null,"DIVAR IP 7000 R2 16X4TB + 2x \tDIVAR IP 6000 R2 3U 16x3TB",null,null,"RAID 5",0,{"$f":"IF(G965=\"RAID 5\",(((15-H965)*3723))+(2*(((15-H965)*2792))),(((14-H965)*3723))+(2*(((14-H965)*2792))))","v":139605},{"$f":"(16*4)+(2*(16*3))","v":160},0,{"$f":"475+(2*550)","v":1575},{"$f":"128+(2*128)","v":384},{"$error":"#DIV/0!"},0,136.3330078125,{"$error":"#DIV/0!"},0,0,0,0,0,{"$error":"#DIV/0!"},{"$error":"#DIV/0!"},null,null,null,null,null,null,null,null,0,{"$error":"#DIV/0!"},-384,{"$error":"#DIV/0!"},{"$error":"#DIV/0!"}]
[null,null,null,"DIVAR IP 7000 R2 16X4TB + 3x \tDIVAR IP 6000 R2 3U 16x3TB",null,null,"RAID 5",0,{"$f":"IF(G966=\"RAID 5\",(((15-H966)*3723))+(3*(((15-H966)*2792))),(((14-H966)*3723))+(3*(((14-H966)*2792))))","v":181485},{"$f":"(16*4)+(3*(16*3))","v":208},0,{"$f":"475+(3*550)","v":2125},{"$f":"128+(3*128)","v":512},{"$error":"#DIV/0!"},0,177.2314453125,{"$error":"#DIV/0!"},0,0,0,0,0,{"$error":"#DIV/0!"},{"$error":"#DIV/0!"},null,null,null,null,null,null,null,null,0,{"$error":"#DIV/0!"},-512,{"$error":"#DIV/0!"},{"$error":"#DIV/0!"}]
[null,null,null,"DIVAR IP 7000 R2 16X4TB + 4x \tDIVAR IP 6000 R2 3U 16x3TB",null,null,"RAID 5",0,{"$f":"IF(G967=\"RAID 5\",(((15-H967)*3723))+(4*(((15-H967)*2792))),(((14-H967)*3723))+(4*(((14-H967)*2792))))","v":223365},{"$f":"(16*4)+(4*(16*3))","v":256},0,{"$f":"475+(4*550)","v":2675},{"$f":"128+(4*128)","v":640},{"$error":"#DIV/0!"},0,218.1298828125,{"$error":"#DIV/0!"},0,0,0,0,0,{"$error":"#DIV/0!"},{"$error":"#DIV/0!"},null,null,null,null,null,null,null,null,0,{"$error":"#DIV/0!"},-640,{"$error":"#DIV/0!"},{"$error":"#DIV/0!"}]
[null,null,null,"DIVAR IP 7000 R2 16X4TB + 1x \tDIVAR IP 6000 R2 3U 16x4TB",null,null,"RAID 5",0,{"$f":"IF(G968=\"RAID 5\",(((15-H968)*3723))+(1*(((15-H968)*3723))),(((14-H968)*3723))+(1*(((14-H968)*3723))))","v":111690},{"$f":"(16*4)+(1*(16*4))","v":128},0,{"$f":"475+(1*550)","v":1025},{"$f":"128+(1*128)","v":256},{"$error":"#DIV/0!"},0,109.072265625,{"$error":"#DIV/0!"},0,0,0,0,0,{"$error":"#DIV/0!"},{"$error":"#DIV/0!"},null,null,null,null,null,null,null,null,0,{"$error":"#DIV/0!"},-256,{"$error":"#DIV/0!"},{"$error":"#DIV/0!"}]
[null,null,null,"DIVAR IP 7000 R2 16X4TB + 2x \tDIVAR IP 6000 R2 3U 16x4TB",null,null,"RAID 5",0,{"$f":"IF(G969=\"RAID 5\",(((15-H969)*3723))+(2*(((15-H969)*3723))),(((14-H969)*3723))+(2*(((14-H969)*3723))))","v":167535},{"$f":"(16*4)+(2*(16*4))","v":192},0,{"$f":"475+(2*550)","v":1575},{"$f":"128+(2*128)","v":384},{"$error":"#DIV/0!"},0,163.6083984375,{"$error":"#DIV/0!"},0,0,0,0,0,{"$error":"#DIV/0!"},{"$error":"#DIV/0!"},null,null,null,null,null,null,null,null,0,{"$error":"#DIV/0!"},-384,{"$error":"#DIV/0!"},{"$error":"#DIV/0!"}]
[null,null,null,"DIVAR IP 7000 R2 16X4TB + 3x \tDIVAR IP 6000 R2 3U 16x4TB",null,null,"RAID 5",0,{"$f":"IF(G970=\"RAID 5\",(((15-H970)*3723))+(3*(((15-H970)*3723))),(((14-H970)*3723))+(3*(((14-H970)*3723))))","v":223380},{"$f":"(16*4)+(3*(16*4))","v":256},0,{"$f":"475+(3*550)","v":2125},{"$f":"128+(3*128)","v":512},{"$error":"#DIV/0!"},0,218.14453125,{"$error":"#DIV/0!"},0,0,0,0,0,{"$error":"#DIV/0!"},{"$f":"IF(AND(IF($N970<=$L970,TRUE,FALSE),IF($V970<=$R970,TRUE,FALSE),OR(W970=\"True\",$W$899=\"No\"),IF($A$906=\"False\",IF(O970=1,TRUE,FALSE),TRUE)),\"<-- fits project\",\"\")","v":{"$error":"#DIV/0!"}},null,null,null,null,null,null,null,null,0,{"$error":"#DIV/0!"},-512,{"$error":"#DIV/0!"},{"$error":"#DIV/0!"}]
[null,null,null,"DIVAR IP 7000 R2 16X4TB + 4x \tDIVAR IP 6000 R2 3U 16x4TB",null,null,"RAID 5",0,{"$f":"IF(G971=\"RAID 5\",(((15-H971)*3723))+(4*(((15-H971)*3723))),(((14-H971)*3723))+(4*(((14-H971)*3723))))","v":279225},{"$f":"(16*4)+(4*(16*4))","v":320},0,{"$f":"475+(4*550)","v":2675},{"$f":"128+(4*128)","v":640},{"$error":"#DIV/0!"},0,272.6806640625,{"$error":"#DIV/0!"},0,0,0,0,0,{"$error":"#DIV/0!"},{"$error":"#DIV/0!"},null,null,null,null,null,null,null,null,0,{"$error":"#DIV/0!"},-640,{"$error":"#DIV/0!"},{"$error":"#DIV/0!"}]
[null,null,null,"DIVAR IP 7000 R2 8X6TB + 1x DIVAR IP 6000 R2 8x3TB",null,null,"RAID 5",0,{"$f":"IF(G972=\"RAID 5\",(((7-H972)*5586))+(1*(((7-H972)*2793))),(((6-H972)*5586))+(1*(((6-H972)*2793))))","v":58653},{"$f":"(8*6)+(1*(8*3))","v":72},0,{"$f":"475+(1*550)","v":1025},{"$f":"128+(1*128)","v":256},{"$error":"#DIV/0!"},0,57.2783203125,{"$error":"#DIV/0!"},0,0,0,0,0,{"$error":"#DIV/0!"},{"$error":"#DIV/0!"},null,null,null,null,null,null,null,null,0,{"$error":"#DIV/0!"},-256,{"$error":"#DIV/0!"},{"$error":"#DIV/0!"}]
[null,null,null,"DIVAR IP 7000 R2 8X6TB + 2x DIVAR IP 6000 R2 8x3TB",null,null,"RAID 5",0,{"$f":"IF(G973=\"RAID 5\",(((7-H973)*5586))+(2*(((7-H973)*2793))),(((6-H973)*5586))+(2*(((6-H973)*2793))))","v":78204},{"$f":"(8*6)+(2*(8*3))","v":96},0,{"$f":"475+(2*550)","v":1575},{"$f":"128+(2*128)","v":384},{"$error":"#DIV/0!"},0,76.37109375,{"$error":"#DIV/0!"},0,0,0,0,0,{"$error":"#DIV/0!"},{"$error":"#DIV/0!"},null,null,null,null,null,null,null,null,0,{"$error":"#DIV/0!"},-384,{"$error":"#DIV/0!"},{"$error":"#DIV/0!"}]
[null,null,null,"DIVAR IP 7000 R2 8X6TB + 3x DIVAR IP 6000 R2 8x3TB",null,null,"RAID 5",0,{"$f":"IF(G974=\"RAID 5\",(((7-H974)*5586))+(3*(((7-H974)*2793))),(((6-H974)*5586))+(3*(((6-H974)*2793))))","v":97755},{"$f":"(8*6)+(3*(8*3))","v":120},0,{"$f":"475+(3*550)","v":2125},{"$f":"128+(3*128)","v":512},{"$error":"#DIV/0!"},0,95.4638671875,{"$error":"#DIV/0!"},0,0,0,0,0,{"$error":"#DIV/0!"},{"$error":"#DIV/0!"},null,null,null,null,null,null,null,null,0,{"$error":"#DIV/0!"},-512,{"$error":"#DIV/0!"},{"$error":"#DIV/0!"}]
[null,null,null,"DIVAR IP 7000 R2 8X6TB + 4x DIVAR IP 6000 R2 8x3TB",null,null,"RAID 5",0,{"$f":"IF(G975=\"RAID 5\",(((7-H975)*5586))+(4*(((7-H975)*2793))),(((6-H975)*5586))+(4*(((6-H975)*2793))))","v":117306},{"$f":"(8*6)+(4*(8*3))","v":144},0,{"$f":"475+(4*550)","v":2675},{"$f":"128+(4*128)","v":640},{"$error":"#DIV/0!"},0,114.556640625,{"$error":"#DIV/0!"},0,0,0,0,0,{"$error":"#DIV/0!"},{"$error":"#DIV/0!"},null,null,null,null,null,null,null,null,0,{"$error":"#DIV/0!"},-640,{"$error":"#DIV/0!"},{"$error":"#DIV/0!"}]
[null,null,null,"DIVAR IP 7000 R2 8X6TB + 1x DIVAR IP 6000 R2 3U 16x3TB",null,null,"RAID 5",0,{"$f":"IF(G976=\"RAID 5\",(((7-H976)*5586))+(1*(((15-H976)*2793))),(((6-H976)*5586))+(1*(((14-H976)*2793))))","v":80997},{"$f":"(8*6)+(1*(16*3))","v":96},0,{"$f":"475+(1*550)","v":1025},{"$f":"128+(1*128)","v":256},{"$error":"#DIV/0!"},0,79.0986328125,{"$error":"#DIV/0!"},0,0,0,0,0,{"$error":"#DIV/0!"},{"$error":"#DIV/0!"},null,null,null,null,null,null,null,null,0,{"$error":"#DIV/0!"},-256,{"$error":"#DIV/0!"},{"$error":"#DIV/0!"}]
[null,null,null,"DIVAR IP 7000 R2 8X6TB + 2x DIVAR IP 6000 R2 3U 16x3TB",null,null,"RAID 5",0,{"$f":"IF(G977=\"RAID 5\",(((7-H977)*5586))+(2*(((15-H977)*2793))),(((6-H977)*5586))+(2*(((14-H977)*2793))))","v":122892},{"$f":"(8*6)+(2*(16*3))","v":144},0,{"$f":"475+(2*550)","v":1575},{"$f":"128+(2*128)","v":384},{"$f":"$I$894/O977","v":{"$error":"#DIV/0!"}},{"$f":"ROUNDUP($G$894/I977,0)","v":0},{"$f":"(1-(($G$894/$I977)-INT($G$894/$I977)))*I977/1024","v":120.01171875},{"$error":"#DIV/0!"},0,0,0,0,0,{"$error":"#DIV/0!"},{"$error":"#DIV/0!"},null,null,null,null,null,null,null,null,0,{"$error":"#DIV/0!"},-384,{"$f":"IF(O977>1,$I$894/(O977-1),$I$894/O977)","v":{"$error":"#DIV/0!"}},{"$error":"#DIV/0!"}]
[null,null,null,"DIVAR IP 7000 R2 8X6TB + 3x DIVAR IP 6000 R2 3U 16x3TB",null,null,"RAID 5",0,{"$f":"IF(G978=\"RAID 5\",(((7-H978)*5586))+(3*(((15-H978)*2793))),(((6-H978)*5586))+(3*(((14-H978)*2793))))","v":164787},{"$f":"(8*6)+(3*(16*3))","v":192},0,{"$f":"475+(3*550)","v":2125},{"$f":"128+(3*128)","v":512},{"$error":"#DIV/0!"},0,160.9248046875,{"$error":"#DIV/0!"},0,0,0,0,{"$f":"SUM(S978)","v":0},{"$error":"#DIV/0!"},{"$error":"#DIV/0!"},null,null,null,null,null,null,null,null,0,{"$error":"#DIV/0!"},-512,{"$error":"#DIV/0!"},{"$error":"#DIV/0!"}]
[null,null,null,"DIVAR IP 7000 R2 8X6TB + 4x DIVAR IP 6000 R2 3U 16x3TB",null,null,"RAID 5",0,{"$f":"IF(G979=\"RAID 5\",(((7-H979)*5586))+(4*(((15-H979)*2793))),(((6-H979)*5586))+(4*(((14-H979)*2793))))","v":206682},{"$f":"(8*6)+(4*(16*3))","v":240},0,{"$f":"475+(4*550)","v":2675},{"$f":"128+(4*128)","v":640},{"$error":"#DIV/0!"},0,201.837890625,{"$error":"#DIV/0!"},0,0,0,0,0,{"$error":"#DIV/0!"},{"$error":"#DIV/0!"},null,null,null,null,null,null,null,null,0,{"$error":"#DIV/0!"},-640,{"$error":"#DIV/0!"},{"$error":"#DIV/0!"}]
[null,null,null,"DIVAR IP 7000 R2 8X6TB + 1x DIVAR IP 6000 R2 8X4TB",null,null,"RAID 5",0,{"$f":"IF(G980=\"RAID 5\",(((7-H980)*5586))+(1*(((7-H980)*3723))),(((6-H980)*5586))+(1*(((7-H980)*3723))))","v":65163},{"$f":"(8*6)+(1*(8*4))","v":80},0,{"$f":"475+(1*550)","v":1025},{"$f":"128+(1*128)","v":256},{"$error":"#DIV/0!"},0,63.6357421875,{"$error":"#DIV/0!"},0,0,0,0,0,{"$error":"#DIV/0!"},{"$error":"#DIV/0!"},null,null,null,null,null,null,null,null,0,{"$error":"#DIV/0!"},-256,{"$error":"#DIV/0!"},{"$error":"#DIV/0!"}]
[null,null,null,"DIVAR IP 7000 R2 8X6TB + 2x DIVAR IP 6000 R2 8X4TB",null,null,"RAID 5",0,{"$f":"IF(G981=\"RAID 5\",(((7-H981)*5586))+(2*(((7-H981)*3723))),(((6-H981)*5586))+(2*(((7-H981)*3723))))","v":91224},{"$f":"(8*6)+(2*(8*4))","v":112},0,{"$f":"475+(2*550)","v":1575},{"$f":"128+(2*128)","v":384},{"$error":"#DIV/0!"},0,89.0859375,{"$error":"#DIV/0!"},0,0,0,0,0,{"$error":"#DIV/0!"},{"$error":"#DIV/0!"},null,null,null,null,null,null,null,null,0,{"$error":"#DIV/0!"},-384,{"$error":"#DIV/0!"},{"$error":"#DIV/0!"}]
[null,null,null,"DIVAR IP 7000 R2 8X6TB + 3x DIVAR IP 6000 R2 8X4TB",null,null,"RAID 5",0,{"$f":"IF(G982=\"RAID 5\",(((7-H982)*5586))+(3*(((7-H982)*3723))),(((6-H982)*5586))+(3*(((7-H982)*3723))))","v":117285},{"$f":"(8*6)+(3*(8*4))","v":144},0,{"$f":"475+(3*550)","v":2125},{"$f":"128+(3*128)","v":512},{"$error":"#DIV/0!"},0,114.5361328125,{"$error":"#DIV/0!"},0,0,0,0,0,{"$error":"#DIV/0!"},{"$error":"#DIV/0!"},null,null,null,null,null,null,null,null,0,{"$error":"#DIV/0!"},-512,{"$error":"#DIV/0!"},{"$error":"#DIV/0!"}]
[null,null,null,"DIVAR IP 7000 R2 8X6TB + 4x DIVAR IP 6000 R2 8X4TB",null,null,"RAID 5",0,{"$f":"IF(G983=\"RAID 5\",(((7-H983)*5586))+(4*(((7-H983)*3723))),(((6-H983)*5586))+(4*(((7-H983)*3723))))","v":143346},{"$f":"(8*6)+(4*(8*4))","v":176},0,{"$f":"475+(4*550)","v":2675},{"$f":"128+(4*128)","v":640},{"$error":"#DIV/0!"},0,139.986328125,{"$error":"#DIV/0!"},0,0,0,0,0,{"$error":"#DIV/0!"},{"$error":"#DIV/0!"},null,null,null,null,null,null,null,null,0,{"$error":"#DIV/0!"},-640,{"$error":"#DIV/0!"},{"$error":"#DIV/0!"}]
[null,null,null,"DIVAR IP 7000 R2 8X6TB + 1x DIVAR IP 6000 R2 3U 16x4TB",null,null,"RAID 5",0,{"$f":"IF(G984=\"RAID 5\",(((7-H984)*5586))+(1*(((15-H984)*3723))),(((6-H984)*5586))+(1*(((14-H984)*3723))))","v":94947},{"$f":"(8*6)+(1*(16*4))","v":112},0,{"$f":"475+(1*550)","v":1025},{"$f":"128+(1*128)","v":256},{"$error":"#DIV/0!"},0,92.7216796875,{"$error":"#DIV/0!"},0,0,0,0,0,{"$error":"#DIV/0!"},{"$error":"#DIV/0!"},null,null,null,null,null,null,null,null,0,{"$error":"#DIV/0!"},-256,{"$error":"#DIV/0!"},{"$error":"#DIV/0!"}]
[null,null,null,"DIVAR IP 7000 R2 8X6TB + 2x DIVAR IP 6000 R2 3U 16x4TB",null,null,"RAID 5",0,{"$f":"IF(G985=\"RAID 5\",(((7-H985)*5586))+(2*(((15-H985)*3723))),(((6-H985)*5586))+(2*(((14-H985)*3723))))","v":150792},{"$f":"(8*6)+(2*(16*4))","v":176},0,{"$f":"475+(2*550)","v":1575},{"$f":"128+(2*128)","v":384},{"$error":"#DIV/0!"},0,147.2578125,{"$error":"#DIV/0!"},0,0,0,0,0,{"$error":"#DIV/0!"},{"$error":"#DIV/0!"},null,null,null,null,null,null,null,null,0,{"$error":"#DIV/0!"},-384,{"$error":"#DIV/0!"},{"$error":"#DIV/0!"}]
[null,null,null,"DIVAR IP 7000 R2 8X6TB + 3x DIVAR IP 6000 R2 3U 16x4TB",null,null,"RAID 5",0,{"$f":"IF(G986=\"RAID 5\",(((7-H986)*5586))+(3*(((15-H986)*3723))),(((6-H986)*5586))+(3*(((14-H986)*3723))))","v":206637},{"$f":"(8*6)+(3*(16*4))","v":240},0,{"$f":"475+(3*550)","v":2125},{"$f":"128+(3*128)","v":512},{"$error":"#DIV/0!"},0,201.7939453125,{"$error":"#DIV/0!"},0,0,0,0,0,{"$error":"#DIV/0!"},{"$error":"#DIV/0!"},null,null,null,null,null,null,null,null,0,{"$error":"#DIV/0!"},-512,{"$error":"#DIV/0!"},{"$error":"#DIV/0!"}]
[null,null,null,"DIVAR IP 7000 R2 8X6TB + 4x DIVAR IP 6000 R2 3U 16x4TB",null,null,"RAID 5",0,{"$f":"IF(G987=\"RAID 5\",(((7-H987)*5586))+(4*(((15-H987)*3723))),(((6-H987)*5586))+(4*(((14-H987)*3723))))","v":262482},{"$f":"(8*6)+(4*(16*4))","v":304},0,{"$f":"475+(4*550)","v":2675},{"$f":"128+(4*128)","v":640},{"$error":"#DIV/0!"},0,256.330078125,{"$error":"#DIV/0!"},0,0,0,0,0,{"$error":"#DIV/0!"},{"$error":"#DIV/0!"},null,null,null,null,null,null,null,null,0,{"$error":"#DIV/0!"},-640,{"$error":"#DIV/0!"},{"$error":"#DIV/0!"}]
[null,null,null,"DIVAR IP 7000 R2 8X6TB + 1x DIVAR IP 6000 R2 8x6TB",null,null,"RAID 5",0,{"$f":"IF(G988=\"RAID 5\",(((7-H988)*5586))+(1*(((7-H988)*5586))),(((6-H988)*5586))+(1*(((6-H988)*5586))))","v":78204},{"$f":"(8*6)+(1*(8*6))","v":96},0,{"$f":"475+(1*550)","v":1025},{"$f":"128+(1*128)","v":256},{"$error":"#DIV/0!"},0,76.37109375,{"$error":"#DIV/0!"},0,0,0,0,0,{"$error":"#DIV/0!"},{"$error":"#DIV/0!"},null,null,null,null,null,null,null,null,0,{"$error":"#DIV/0!"},-256,{"$error":"#DIV/0!"},{"$error":"#DIV/0!"}]
[null,null,null,"DIVAR IP 7000 R2 8X6TB + 2x DIVAR IP 6000 R2 8x6TB",null,null,"RAID 5",0,{"$f":"IF(G989=\"RAID 5\",(((7-H989)*5586))+(2*(((7-H989)*5586))),(((6-H989)*5586))+(2*(((6-H989)*5586))))","v":117306},{"$f":"(8*6)+(2*(8*6))","v":144},0,{"$f":"475+(2*550)","v":1575},{"$f":"128+(2*128)","v":384},{"$error":"#DIV/0!"},0,114.556640625,{"$error":"#DIV/0!"},0,0,0,0,0,{"$error":"#DIV/0!"},{"$error":"#DIV/0!"},null,null,null,null,null,null,null,null,0,{"$error":"#DIV/0!"},-384,{"$error":"#DIV/0!"},{"$error":"#DIV/0!"}]
[null,null,null,"DIVAR IP 7000 R2 8X6TB + 3x DIVAR IP 6000 R2 8x6TB",null,null,"RAID 5",0,{"$f":"IF(G990=\"RAID 5\",(((7-H990)*5586))+(3*(((7-H990)*5586))),(((6-H990)*5586))+(3*(((6-H990)*5586))))","v":156408},{"$f":"(8*6)+(3*(8*6))","v":192},0,{"$f":"475+(3*550)","v":2125},{"$f":"128+(3*128)","v":512},{"$error":"#DIV/0!"},0,152.7421875,{"$error":"#DIV/0!"},0,0,0,0,0,{"$error":"#DIV/0!"},{"$error":"#DIV/0!"},null,null,null,null,null,null,null,null,0,{"$error":"#DIV/0!"},-512,{"$error":"#DIV/0!"},{"$error":"#DIV/0!"}]
[null,null,null,"DIVAR IP 7000 R2 8X6TB + 4x DIVAR IP 6000 R2 8x6TB",null,null,"RAID 5",0,{"$f":"IF(G991=\"RAID 5\",(((7-H991)*5586))+(4*(((7-H991)*5586))),(((6-H991)*5586))+(4*(((6-H991)*5586))))","v":195510},{"$f":"(8*6)+(4*(8*6))","v":240},0,{"$f":"475+(4*550)","v":2675},{"$f":"128+(4*128)","v":640},{"$error":"#DIV/0!"},0,190.927734375,{"$error":"#DIV/0!"},0,0,0,0,0,{"$error":"#DIV/0!"},{"$error":"#DIV/0!"},null,null,null,null,null,null,null,null,0,{"$error":"#DIV/0!"},-640,{"$error":"#DIV/0!"},{"$error":"#DIV/0!"}]
[null,null,null,"DIVAR IP 7000 R2 8X6TB + 1x DIVAR IP 6000 R2 3U 16x6TB",null,null,"RAID 5",0,{"$f":"IF(G992=\"RAID 5\",(((7-H992)*5586))+(1*(((15-H992)*5586))),(((6-H992)*5586))+(1*(((14-H992)*5586))))","v":122892},{"$f":"(8*6)+(1*(16*6))","v":144},0,{"$f":"475+(1*550)","v":1025},{"$f":"128+(1*128)","v":256},{"$error":"#DIV/0!"},0,120.01171875,{"$error":"#DIV/0!"},0,0,0,0,0,{"$error":"#DIV/0!"},{"$error":"#DIV/0!"},null,null,null,null,null,null,null,null,0,{"$error":"#DIV/0!"},-256,{"$error":"#DIV/0!"},{"$error":"#DIV/0!"}]
[null,null,null,"DIVAR IP 7000 R2 8X6TB + 2x DIVAR IP 6000 R2 3U 16x6TB",null,null,"RAID 5",0,{"$f":"IF(G993=\"RAID 5\",(((7-H993)*5586))+(2*(((15-H993)*5586))),(((6-H993)*5586))+(2*(((14-H993)*5586))))","v":206682},{"$f":"(8*6)+(2*(16*6))","v":240},0,{"$f":"475+(2*550)","v":1575},{"$f":"128+(2*128)","v":384},{"$error":"#DIV/0!"},0,201.837890625,{"$error":"#DIV/0!"},0,0,0,0,0,{"$error":"#DIV/0!"},{"$error":"#DIV/0!"},null,null,null,null,null,null,null,null,0,{"$error":"#DIV/0!"},-384,{"$error":"#DIV/0!"},{"$error":"#DIV/0!"}]
[null,null,null,"DIVAR IP 7000 R2 8X6TB + 3x DIVAR IP 6000 R2 3U 16x6TB",null,null,"RAID 5",0,{"$f":"IF(G994=\"RAID 5\",(((7-H994)*5586))+(3*(((15-H994)*5586))),(((6-H994)*5586))+(3*(((14-H994)*5586))))","v":290472},{"$f":"(8*6)+(3*(16*6))","v":336},0,{"$f":"475+(3*550)","v":2125},{"$f":"128+(3*128)","v":512},{"$error":"#DIV/0!"},0,283.6640625,{"$error":"#DIV/0!"},0,0,0,0,0,{"$error":"#DIV/0!"},{"$error":"#DIV/0!"},null,null,null,null,null,null,null,null,0,{"$error":"#DIV/0!"},-512,{"$error":"#DIV/0!"},{"$error":"#DIV/0!"}]
[null,null,null,"DIVAR IP 7000 R2 8X6TB + 4x DIVAR IP 6000 R2 3U 16x6TB",null,null,"RAID 5",0,{"$f":"IF(G995=\"RAID 5\",(((7-H995)*5586))+(4*(((15-H995)*5586))),(((6-H995)*5586))+(4*(((14-H995)*5586))))","v":374262},{"$f":"(8*6)+(4*(16*6))","v":432},0,{"$f":"475+(4*550)","v":2675},{"$f":"128+(4*128)","v":640},{"$error":"#DIV/0!"},0,365.490234375,{"$error":"#DIV/0!"},0,0,0,0,0,{"$error":"#DIV/0!"},{"$error":"#DIV/0!"},null,null,null,null,null,null,null,null,0,{"$error":"#DIV/0!"},-640,{"$error":"#DIV/0!"},{"$error":"#DIV/0!"}]
[null,null,null,"DIVAR IP 7000 R2 8X6TB + 1x DIVAR IP 6000 R2 8x8TB",null,null,"RAID 5",0,{"$f":"IF(G996=\"RAID 5\",(((7-H996)*5586))+(1*(((7-H996)*7448))),(((6-H996)*5586))+(1*(((6-H996)*7448))))","v":91238},{"$f":"(8*6)+(1*(8*8))","v":112},0,{"$f":"475+(1*550)","v":1025},{"$f":"128+(1*128)","v":256},{"$error":"#DIV/0!"},0,89.099609375,{"$error":"#DIV/0!"},0,{"$f":"IF($O996>7,OFFSET($K$255,0,$L$894),OFFSET($K$248,O996-1,$L$894,1,1))","v":0},0,0,0,{"$f":"IF(AND(IF($AJ996<=$L996,TRUE,FALSE),IF($V996<=$AI996,TRUE,FALSE)),\"True\",\"\")","v":{"$error":"#DIV/0!"}},{"$error":"#DIV/0!"},null,null,null,null,null,null,null,null,0,{"$error":"#DIV/0!"},-256,{"$error":"#DIV/0!"},{"$error":"#DIV/0!"}]
[null,null,null,"DIVAR IP 7000 R2 8X6TB + 2x DIVAR IP 6000 R2 8x8TB",null,null,"RAID 5",0,{"$f":"IF(G997=\"RAID 5\",(((7-H997)*5586))+(2*(((7-H997)*7448))),(((6-H997)*5586))+(2*(((6-H997)*7448))))","v":143374},{"$f":"(8*6)+(2*(8*8))","v":176},0,{"$f":"475+(2*550)","v":1575},{"$f":"128+(2*128)","v":384},{"$error":"#DIV/0!"},0,140.013671875,{"$error":"#DIV/0!"},0,0,0,0,0,{"$error":"#DIV/0!"},{"$error":"#DIV/0!"},null,null,null,null,null,null,null,null,0,{"$error":"#DIV/0!"},-384,{"$error":"#DIV/0!"},{"$error":"#DIV/0!"}]
[null,null,null,"DIVAR IP 7000 R2 8X6TB + 3x DIVAR IP 6000 R2 8x8TB",null,null,"RAID 5",0,{"$f":"IF(G998=\"RAID 5\",(((7-H998)*5586))+(3*(((7-H998)*7448))),(((6-H998)*5586))+(3*(((6-H998)*7448))))","v":195510},{"$f":"(8*6)+(3*(8*8))","v":240},0,{"$f":"475+(3*550)","v":2125},{"$f":"128+(3*128)","v":512},{"$error":"#DIV/0!"},0,190.927734375,{"$error":"#DIV/0!"},0,0,0,0,0,{"$error":"#DIV/0!"},{"$error":"#DIV/0!"},null,null,null,null,null,null,null,null,0,{"$error":"#DIV/0!"},-512,{"$error":"#DIV/0!"},{"$error":"#DIV/0!"}]
[null,null,null,"DIVAR IP 7000 R2 8X6TB + 4x DIVAR IP 6000 R2 8x8TB",null,null,"RAID 5",0,{"$f":"IF(G999=\"RAID 5\",(((7-H999)*5586))+(4*(((7-H999)*7448))),(((6-H999)*5586))+(4*(((6-H999)*7448))))","v":247646},{"$f":"(8*6)+(4*(8*8))","v":304},0,{"$f":"475+(4*550)","v":2675},{"$f":"128+(4*128)","v":640},{"$error":"#DIV/0!"},0,241.841796875,{"$error":"#DIV/0!"},0,0,0,0,0,{"$error":"#DIV/0!"},{"$error":"#DIV/0!"},null,null,null,null,null,null,null,null,0,{"$error":"#DIV/0!"},-640,{"$error":"#DIV/0!"},{"$error":"#DIV/0!"}]
[null,null,null,"DIVAR IP 7000 R2 8X6TB + 1x DIVAR IP 6000 R2 3U 16x8TB",null,null,"RAID 5",0,{"$f":"IF(G1000=\"RAID 5\",(((7-H1000)*5586))+(1*(((15-H1000)*7448))),(((6-H1000)*5586))+(1*(((14-H1000)*7448))))","v":150822},{"$f":"(8*6)+(1*(16*8))","v":176},0,{"$f":"475+(1*550)","v":1025},{"$f":"128+(1*128)","v":256},{"$error":"#DIV/0!"},0,147.287109375,{"$error":"#DIV/0!"},0,0,0,0,0,{"$error":"#DIV/0!"},{"$error":"#DIV/0!"},null,null,null,null,null,null,null,null,0,{"$error":"#DIV/0!"},-256,{"$error":"#DIV/0!"},{"$error":"#DIV/0!"}]
[null,null,null,"DIVAR IP 7000 R2 8X6TB + 2x DIVAR IP 6000 R2 3U 16x8TB",null,null,"RAID 5",0,{"$f":"IF(G1001=\"RAID 5\",(((7-H1001)*5586))+(2*(((15-H1001)*7448))),(((6-H1001)*5586))+(2*(((14-H1001)*7448))))","v":262542},{"$f":"(8*6)+(2*(16*8))","v":304},0,{"$f":"475+(2*550)","v":1575},{"$f":"128+(2*128)","v":384},{"$error":"#DIV/0!"},0,256.388671875,{"$error":"#DIV/0!"},0,0,0,0,0,{"$error":"#DIV/0!"},{"$error":"#DIV/0!"},null,null,null,null,null,null,null,null,0,{"$error":"#DIV/0!"},-384,{"$error":"#DIV/0!"},{"$error":"#DIV/0!"}]
[null,null,null,"DIVAR IP 7000 R2 8X6TB + 3x DIVAR IP 6000 R2 3U 16x8TB",null,null,"RAID 5",0,{"$f":"IF(G1002=\"RAID 5\",(((7-H1002)*5586))+(3*(((15-H1002)*7448))),(((6-H1002)*5586))+(3*(((14-H1002)*7448))))","v":374262},{"$f":"(8*6)+(3*(16*8))","v":432},0,{"$f":"475+(3*550)","v":2125},{"$f":"128+(3*128)","v":512},{"$error":"#DIV/0!"},0,365.490234375,{"$error":"#DIV/0!"},0,0,0,0,0,{"$error":"#DIV/0!"},{"$f":"IF(AND(IF($N1002<=$L1002,TRUE,FALSE),IF($V1002<=$R1002,TRUE,FALSE),OR(W1002=\"True\",$W$899=\"No\"),IF($A$906=\"False\",IF(O1002=1,TRUE,FALSE),TRUE)),\"<-- fits project\",\"\")","v":{"$error":"#DIV/0!"}},null,null,null,null,null,null,null,null,0,{"$error":"#DIV/0!"},-512,{"$error":"#DIV/0!"},{"$error":"#DIV/0!"}]
[null,null,null,"DIVAR IP 7000 R2 8X6TB + 4x DIVAR IP 6000 R2 3U 16x8TB",null,null,"RAID 5",0,{"$f":"IF(G1003=\"RAID 5\",(((7-H1003)*5586))+(4*(((15-H1003)*7448))),(((6-H1003)*5586))+(4*(((14-H1003)*7448))))","v":485982},{"$f":"(8*6)+(4*(16*8))","v":560},0,{"$f":"475+(4*550)","v":2675},{"$f":"128+(4*128)","v":640},{"$error":"#DIV/0!"},0,474.591796875,{"$error":"#DIV/0!"},0,0,0,0,0,{"$error":"#DIV/0!"},{"$error":"#DIV/0!"},null,null,null,null,null,null,null,null,0,{"$error":"#DIV/0!"},-640,{"$error":"#DIV/0!"},{"$error":"#DIV/0!"}]
[null,null,null,"DIVAR IP 7000 R2 8x8TB + 1x DIVAR IP 6000 R2 8x3TB",null,null,"RAID 5",0,{"$f":"IF(G1004=\"RAID 5\",(((7-H1004)*7448))+(1*(((7-H1004)*2793))),(((6-H1004)*7448))+(1*(((6-H1004)*2793))))","v":71687},{"$f":"(8*8)+(1*(8*3))","v":88},0,{"$f":"475+(1*550)","v":1025},{"$f":"128+(1*128)","v":256},{"$error":"#DIV/0!"},0,70.0068359375,{"$f":"AH1004","v":{"$error":"#DIV/0!"}},0,0,0,0,0,{"$error":"#DIV/0!"},{"$error":"#DIV/0!"},null,null,null,null,null,null,null,null,{"$f":"AF1004*O1004","v":0},{"$f":"AG1004/$AG$563","v":{"$error":"#DIV/0!"}},-256,{"$error":"#DIV/0!"},{"$error":"#DIV/0!"}]
[null,null,null,"DIVAR IP 7000 R2 8x8TB + 2x DIVAR IP 6000 R2 8x3TB",null,null,"RAID 5",0,{"$f":"IF(G1005=\"RAID 5\",(((7-H1005)*7448))+(2*(((7-H1005)*2793))),(((6-H1005)*7448))+(2*(((6-H1005)*2793))))","v":91238},{"$f":"(8*8)+(2*(8*3))","v":112},0,{"$f":"475+(2*550)","v":1575},{"$f":"128+(2*128)","v":384},{"$error":"#DIV/0!"},0,89.099609375,{"$error":"#DIV/0!"},0,0,0,0,0,{"$error":"#DIV/0!"},{"$error":"#DIV/0!"},null,null,null,null,null,null,null,null,0,{"$error":"#DIV/0!"},-384,{"$error":"#DIV/0!"},{"$error":"#DIV/0!"}]
[null,null,null,"DIVAR IP 7000 R2 8x8TB + 3x DIVAR IP 6000 R2 8x3TB",null,null,"RAID 5",0,{"$f":"IF(G1006=\"RAID 5\",(((7-H1006)*7448))+(3*(((7-H1006)*2793))),(((6-H1006)*7448))+(3*(((6-H1006)*2793))))","v":110789},{"$f":"(8*8)+(3*(8*3))","v":136},0,{"$f":"475+(3*550)","v":2125},{"$f":"128+(3*128)","v":512},{"$error":"#DIV/0!"},0,108.1923828125,{"$error":"#DIV/0!"},0,0,0,0,0,{"$error":"#DIV/0!"},{"$error":"#DIV/0!"},null,null,null,null,null,null,null,null,0,{"$error":"#DIV/0!"},-512,{"$error":"#DIV/0!"},{"$error":"#DIV/0!"}]
[null,null,null,"DIVAR IP 7000 R2 8x8TB + 4x DIVAR IP 6000 R2 8x3TB",null,null,"RAID 5",0,{"$f":"IF(G1007=\"RAID 5\",(((7-H1007)*7448))+(4*(((7-H1007)*2793))),(((6-H1007)*7448))+(4*(((6-H1007)*2793))))","v":130340},{"$f":"(8*8)+(4*(8*3))","v":160},0,{"$f":"475+(4*550)","v":2675},{"$f":"128+(4*128)","v":640},{"$error":"#DIV/0!"},0,127.28515625,{"$error":"#DIV/0!"},0,0,0,0,0,{"$error":"#DIV/0!"},{"$error":"#DIV/0!"},null,null,null,null,null,null,null,null,0,{"$error":"#DIV/0!"},-640,{"$error":"#DIV/0!"},{"$error":"#DIV/0!"}]
[null,null,null,"DIVAR IP 7000 R2 8x8TB + 1x DIVAR IP 6000 R2 3U 16x3TB",null,null,"RAID 5",0,{"$f":"IF(G1008=\"RAID 5\",(((7-H1008)*7448))+(1*(((15-H1008)*2793))),(((6-H1008)*7448))+(1*(((14-H1008)*2793))))","v":94031},{"$f":"(8*8)+(1*(16*3))","v":112},0,{"$f":"475+(1*550)","v":1025},{"$f":"128+(1*128)","v":256},{"$error":"#DIV/0!"},0,91.8271484375,{"$error":"#DIV/0!"},0,0,0,0,0,{"$error":"#DIV/0!"},{"$error":"#DIV/0!"},null,null,null,null,null,null,null,null,0,{"$error":"#DIV/0!"},-256,{"$error":"#DIV/0!"},{"$error":"#DIV/0!"}]
[null,null,null,"DIVAR IP 7000 R2 8x8TB + 2x DIVAR IP 6000 R2 3U 16x3TB",null,null,"RAID 5",0,{"$f":"IF(G1009=\"RAID 5\",(((7-H1009)*7448))+(2*(((15-H1009)*2793))),(((6-H1009)*7448))+(2*(((14-H1009)*2793))))","v":135926},{"$f":"(8*8)+(2*(16*3))","v":160},0,{"$f":"475+(2*550)","v":1575},{"$f":"128+(2*128)","v":384},{"$f":"$I$894/O1009","v":{"$error":"#DIV/0!"}},{"$f":"ROUNDUP($G$894/I1009,0)","v":0},{"$f":"(1-(($G$894/$I1009)-INT($G$894/$I1009)))*I1009/1024","v":132.740234375},{"$error":"#DIV/0!"},0,0,0,0,0,{"$error":"#DIV/0!"},{"$error":"#DIV/0!"},null,null,null,null,null,null,null,null,0,{"$error":"#DIV/0!"},-384,{"$f":"IF(O1009>1,$I$894/(O1009-1),$I$894/O1009)","v":{"$error":"#DIV/0!"}},{"$error":"#DIV/0!"}]
[null,null,null,"DIVAR IP 7000 R2 8x8TB + 3x DIVAR IP 6000 R2 3U 16x3TB",null,null,"RAID 5",0,{"$f":"IF(G1010=\"RAID 5\",(((7-H1010)*7448))+(3*(((15-H1010)*2793))),(((6-H1010)*7448))+(3*(((14-H1010)*2793))))","v":177821},{"$f":"(8*8)+(3*(16*3))","v":208},0,{"$f":"475+(3*550)","v":2125},{"$f":"128+(3*128)","v":512},{"$error":"#DIV/0!"},0,173.6533203125,{"$error":"#DIV/0!"},0,0,0,0,0,{"$error":"#DIV/0!"},{"$error":"#DIV/0!"},null,null,null,null,null,null,null,null,0,{"$error":"#DIV/0!"},-512,{"$error":"#DIV/0!"},{"$error":"#DIV/0!"}]
[null,null,null,"DIVAR IP 7000 R2 8x8TB + 4x DIVAR IP 6000 R2 3U 16x3TB",null,null,"RAID 5",0,{"$f":"IF(G1011=\"RAID 5\",(((7-H1011)*7448))+(4*(((15-H1011)*2793))),(((6-H1011)*7448))+(4*(((14-H1011)*2793))))","v":219716},{"$f":"(8*8)+(4*(16*3))","v":256},0,{"$f":"475+(4*550)","v":2675},{"$f":"128+(4*128)","v":640},{"$error":"#DIV/0!"},0,214.56640625,{"$error":"#DIV/0!"},0,0,0,0,0,{"$error":"#DIV/0!"},{"$error":"#DIV/0!"},null,null,null,null,null,null,null,null,0,{"$error":"#DIV/0!"},-640,{"$error":"#DIV/0!"},{"$error":"#DIV/0!"}]
[null,null,null,"DIVAR IP 7000 R2 8x8TB + 1x DIVAR IP 6000 R2 8X4TB",null,null,"RAID 5",0,{"$f":"IF(G1012=\"RAID 5\",(((7-H1012)*7448))+(1*(((7-H1012)*3723))),(((6-H1012)*7448))+(1*(((6-H1012)*3723))))","v":78197},{"$f":"(8*8)+(1*(8*4))","v":96},0,{"$f":"475+(1*550)","v":1025},{"$f":"128+(1*128)","v":256},{"$error":"#DIV/0!"},0,76.3642578125,{"$error":"#DIV/0!"},0,0,0,{"$f":"$S$259*MIN(O1012,$S$260)","v":0},0,{"$error":"#DIV/0!"},{"$error":"#DIV/0!"},null,null,null,null,null,null,null,null,0,{"$error":"#DIV/0!"},-256,{"$error":"#DIV/0!"},{"$error":"#DIV/0!"}]
[null,null,null,"DIVAR IP 7000 R2 8x8TB + 2x DIVAR IP 6000 R2 8X4TB",null,null,"RAID 5",0,{"$f":"IF(G1013=\"RAID 5\",(((7-H1013)*7448))+(2*(((7-H1013)*3723))),(((6-H1013)*7448))+(2*(((6-H1013)*3723))))","v":104258},{"$f":"(8*8)+(2*(8*4))","v":128},0,{"$f":"475+(2*550)","v":1575},{"$f":"128+(2*128)","v":384},{"$error":"#DIV/0!"},0,101.814453125,{"$error":"#DIV/0!"},0,0,0,0,0,{"$error":"#DIV/0!"},{"$error":"#DIV/0!"},null,null,null,null,null,null,null,null,0,{"$error":"#DIV/0!"},-384,{"$error":"#DIV/0!"},{"$error":"#DIV/0!"}]
[null,null,null,"DIVAR IP 7000 R2 8x8TB + 3x DIVAR IP 6000 R2 8X4TB",null,null,"RAID 5",0,{"$f":"IF(G1014=\"RAID 5\",(((7-H1014)*7448))+(3*(((7-H1014)*3723))),(((6-H1014)*7448))+(3*(((6-H1014)*3723))))","v":130319},{"$f":"(8*8)+(3*(8*4))","v":160},0,{"$f":"475+(3*550)","v":2125},{"$f":"128+(3*128)","v":512},{"$error":"#DIV/0!"},0,127.2646484375,{"$error":"#DIV/0!"},0,0,0,0,0,{"$error":"#DIV/0!"},{"$error":"#DIV/0!"},null,null,null,null,null,null,null,null,0,{"$error":"#DIV/0!"},-512,{"$error":"#DIV/0!"},{"$error":"#DIV/0!"}]
[null,null,null,"DIVAR IP 7000 R2 8x8TB + 4x DIVAR IP 6000 R2 8X4TB",null,null,"RAID 5",0,{"$f":"IF(G1015=\"RAID 5\",(((7-H1015)*7448))+(4*(((7-H1015)*3723))),(((6-H1015)*7448))+(4*(((6-H1015)*3723))))","v":156380},{"$f":"(8*8)+(4*(8*4))","v":192},0,{"$f":"475+(4*550)","v":2675},{"$f":"128+(4*128)","v":640},{"$error":"#DIV/0!"},0,152.71484375,{"$error":"#DIV/0!"},0,0,0,0,0,{"$error":"#DIV/0!"},{"$error":"#DIV/0!"},null,null,null,null,null,null,null,null,0,{"$error":"#DIV/0!"},-640,{"$error":"#DIV/0!"},{"$error":"#DIV/0!"}]
[null,null,null,"DIVAR IP 7000 R2 8x8TB + 1x DIVAR IP 6000 R2 3U 16x4TB",null,null,"RAID 5",0,{"$f":"IF(G1016=\"RAID 5\",(((7-H1016)*7448))+(1*(((15-H1016)*3723))),(((6-H1016)*7448))+(1*(((14-H1016)*3723))))","v":107981},{"$f":"(8*8)+(1*(16*4))","v":128},0,{"$f":"475+(1*550)","v":1025},{"$f":"128+(1*128)","v":256},{"$error":"#DIV/0!"},0,105.4501953125,{"$error":"#DIV/0!"},0,0,0,0,0,{"$error":"#DIV/0!"},{"$error":"#DIV/0!"},null,null,null,null,null,null,null,null,0,{"$error":"#DIV/0!"},-256,{"$error":"#DIV/0!"},{"$error":"#DIV/0!"}]
[null,null,null,"DIVAR IP 7000 R2 8x8TB + 2x DIVAR IP 6000 R2 3U 16x4TB",null,null,"RAID 5",0,{"$f":"IF(G1017=\"RAID 5\",(((7-H1017)*7448))+(2*(((15-H1017)*3723))),(((6-H1017)*7448))+(2*(((14-H1017)*3723))))","v":163826},{"$f":"(8*8)+(2*(16*4))","v":192},0,{"$f":"475+(2*550)","v":1575},{"$f":"128+(2*128)","v":384},{"$error":"#DIV/0!"},0,159.986328125,{"$error":"#DIV/0!"},0,0,0,0,0,{"$error":"#DIV/0!"},{"$error":"#DIV/0!"},null,null,null,null,null,null,null,null,0,{"$error":"#DIV/0!"},-384,{"$error":"#DIV/0!"},{"$error":"#DIV/0!"}]
[null,null,null,"DIVAR IP 7000 R2 8x8TB + 3x DIVAR IP 6000 R2 3U 16x4TB",null,null,"RAID 5",0,{"$f":"IF(G1018=\"RAID 5\",(((7-H1018)*7448))+(3*(((15-H1018)*3723))),(((6-H1018)*7448))+(3*(((14-H1018)*3723))))","v":219671},{"$f":"(8*8)+(3*(16*4))","v":256},0,{"$f":"475+(3*550)","v":2125},{"$f":"128+(3*128)","v":512},{"$error":"#DIV/0!"},0,214.5224609375,{"$error":"#DIV/0!"},0,0,0,0,0,{"$error":"#DIV/0!"},{"$error":"#DIV/0!"},null,null,null,null,null,null,null,null,0,{"$error":"#DIV/0!"},-512,{"$error":"#DIV/0!"},{"$error":"#DIV/0!"}]
[null,null,null,"DIVAR IP 7000 R2 8x8TB + 4x DIVAR IP 6000 R2 3U 16x4TB",null,null,"RAID 5",0,{"$f":"IF(G1019=\"RAID 5\",(((7-H1019)*7448))+(4*(((15-H1019)*3723))),(((6-H1019)*7448))+(4*(((14-H1019)*3723))))","v":275516},{"$f":"(8*8)+(4*(16*4))","v":320},0,{"$f":"475+(4*550)","v":2675},{"$f":"128+(4*128)","v":640},{"$error":"#DIV/0!"},0,269.05859375,{"$error":"#DIV/0!"},0,0,0,0,0,{"$error":"#DIV/0!"},{"$error":"#DIV/0!"},null,null,null,null,null,null,null,null,0,{"$error":"#DIV/0!"},-640,{"$error":"#DIV/0!"},{"$error":"#DIV/0!"}]
[null,null,null,"DIVAR IP 7000 R2 8x8TB + 1x DIVAR IP 6000 R2 8x6TB",null,null,"RAID 5",0,{"$f":"IF(G1020=\"RAID 5\",(((7-H1020)*7448))+(1*(((7-H1020)*5586))),(((6-H1020)*7448))+(1*(((6-H1020)*5586))))","v":91238},{"$f":"(8*8)+(1*(8*6))","v":112},0,{"$f":"475+(1*550)","v":1025},{"$f":"128+(1*128)","v":256},{"$error":"#DIV/0!"},0,89.099609375,{"$error":"#DIV/0!"},0,0,0,0,0,{"$error":"#DIV/0!"},{"$error":"#DIV/0!"},null,null,null,null,null,null,null,null,0,{"$error":"#DIV/0!"},-256,{"$error":"#DIV/0!"},{"$error":"#DIV/0!"}]
[null,null,null,"DIVAR IP 7000 R2 8x8TB + 2x DIVAR IP 6000 R2 8x6TB",null,null,"RAID 5",0,{"$f":"IF(G1021=\"RAID 5\",(((7-H1021)*7448))+(2*(((7-H1021)*5586))),(((6-H1021)*7448))+(2*(((6-H1021)*5586))))","v":130340},{"$f":"(8*8)+(2*(8*6))","v":160},0,{"$f":"475+(2*550)","v":1575},{"$f":"128+(2*128)","v":384},{"$error":"#DIV/0!"},0,127.28515625,{"$error":"#DIV/0!"},0,0,0,0,0,{"$error":"#DIV/0!"},{"$error":"#DIV/0!"},null,null,null,null,null,null,null,null,0,{"$error":"#DIV/0!"},-384,{"$error":"#DIV/0!"},{"$error":"#DIV/0!"}]
[null,null,null,"DIVAR IP 7000 R2 8x8TB + 3x DIVAR IP 6000 R2 8x6TB",null,null,"RAID 5",0,{"$f":"IF(G1022=\"RAID 5\",(((7-H1022)*7448))+(3*(((7-H1022)*5586))),(((6-H1022)*7448))+(3*(((6-H1022)*5586))))","v":169442},{"$f":"(8*8)+(3*(8*6))","v":208},0,{"$f":"475+(3*550)","v":2125},{"$f":"128+(3*128)","v":512},{"$error":"#DIV/0!"},0,165.470703125,{"$error":"#DIV/0!"},0,0,0,0,0,{"$error":"#DIV/0!"},{"$error":"#DIV/0!"},null,null,null,null,null,null,null,null,0,{"$error":"#DIV/0!"},-512,{"$error":"#DIV/0!"},{"$error":"#DIV/0!"}]
[null,null,null,"DIVAR IP 7000 R2 8x8TB + 4x DIVAR IP 6000 R2 8x6TB",null,null,"RAID 5",0,{"$f":"IF(G1023=\"RAID 5\",(((7-H1023)*7448))+(4*(((7-H1023)*5586))),(((6-H1023)*7448))+(4*(((6-H1023)*5586))))","v":208544},{"$f":"(8*8)+(4*(8*6))","v":256},0,{"$f":"475+(4*550)","v":2675},{"$f":"128+(4*128)","v":640},{"$error":"#DIV/0!"},0,203.65625,{"$error":"#DIV/0!"},0,0,0,0,0,{"$error":"#DIV/0!"},{"$error":"#DIV/0!"},null,null,null,null,null,null,null,null,0,{"$error":"#DIV/0!"},-640,{"$error":"#DIV/0!"},{"$error":"#DIV/0!"}]
[null,null,null,"DIVAR IP 7000 R2 8x8TB + 1x DIVAR IP 6000 R2 3U 16x6TB",null,null,"RAID 5",0,{"$f":"IF(G1024=\"RAID 5\",(((7-H1024)*7448))+(1*(((15-H1024)*5586))),(((6-H1024)*7448))+(1*(((14-H1024)*5586))))","v":135926},{"$f":"(8*8)+(1*(16*6))","v":160},0,{"$f":"475+(1*550)","v":1025},{"$f":"128+(1*128)","v":256},{"$error":"#DIV/0!"},0,132.740234375,{"$error":"#DIV/0!"},0,0,0,0,0,{"$error":"#DIV/0!"},{"$error":"#DIV/0!"},null,null,null,null,null,null,null,null,0,{"$error":"#DIV/0!"},-256,{"$error":"#DIV/0!"},{"$error":"#DIV/0!"}]
[null,null,null,"DIVAR IP 7000 R2 8x8TB + 2x DIVAR IP 6000 R2 3U 16x6TB",null,null,"RAID 5",0,{"$f":"IF(G1025=\"RAID 5\",(((7-H1025)*7448))+(2*(((15-H1025)*5586))),(((6-H1025)*7448))+(2*(((14-H1025)*5586))))","v":219716},{"$f":"(8*8)+(2*(16*6))","v":256},0,{"$f":"475+(2*550)","v":1575},{"$f":"128+(2*128)","v":384},{"$error":"#DIV/0!"},0,214.56640625,{"$error":"#DIV/0!"},0,0,0,0,0,{"$error":"#DIV/0!"},{"$error":"#DIV/0!"},null,null,null,null,null,null,null,null,0,{"$error":"#DIV/0!"},-384,{"$error":"#DIV/0!"},{"$error":"#DIV/0!"}]
[null,null,null,"DIVAR IP 7000 R2 8x8TB + 3x DIVAR IP 6000 R2 3U 16x6TB",null,null,"RAID 5",0,{"$f":"IF(G1026=\"RAID 5\",(((7-H1026)*7448))+(3*(((15-H1026)*5586))),(((6-H1026)*7448))+(3*(((14-H1026)*5586))))","v":303506},{"$f":"(8*8)+(3*(16*6))","v":352},0,{"$f":"475+(3*550)","v":2125},{"$f":"128+(3*128)","v":512},{"$error":"#DIV/0!"},0,296.392578125,{"$error":"#DIV/0!"},0,0,0,0,0,{"$error":"#DIV/0!"},{"$error":"#DIV/0!"},null,null,null,null,null,null,null,null,0,{"$error":"#DIV/0!"},-512,{"$error":"#DIV/0!"},{"$error":"#DIV/0!"}]
[null,null,null,"DIVAR IP 7000 R2 8x8TB + 4x DIVAR IP 6000 R2 3U 16x6TB",null,null,"RAID 5",0,{"$f":"IF(G1027=\"RAID 5\",(((7-H1027)*7448))+(4*(((15-H1027)*5586))),(((6-H1027)*7448))+(4*(((14-H1027)*5586))))","v":387296},{"$f":"(8*8)+(4*(16*6))","v":448},0,{"$f":"475+(4*550)","v":2675},{"$f":"128+(4*128)","v":640},{"$error":"#DIV/0!"},0,378.21875,{"$error":"#DIV/0!"},0,0,0,0,0,{"$error":"#DIV/0!"},{"$error":"#DIV/0!"},null,null,null,null,null,null,null,null,0,{"$error":"#DIV/0!"},-640,{"$error":"#DIV/0!"},{"$error":"#DIV/0!"}]
[null,null,null,"DIVAR IP 7000 R2 8x8TB + 1x DIVAR IP 6000 R2 8x8TB",null,null,"RAID 5",0,{"$f":"IF(G1028=\"RAID 5\",(((7-H1028)*7448))+(1*(((7-H1028)*7448))),(((6-H1028)*7448))+(1*(((6-H1028)*7448))))","v":104272},{"$f":"(8*8)+(1*(8*8))","v":128},{"$f":"O1028*J1028","v":0},{"$f":"475+(1*550)","v":1025},{"$f":"128+(1*128)","v":256},{"$error":"#DIV/0!"},0,101.828125,{"$error":"#DIV/0!"},{"$f":"O1028*M1028","v":0},0,{"$f":"O1028*1*MAX($N$1528,1)","v":0},0,0,{"$error":"#DIV/0!"},{"$error":"#DIV/0!"},null,null,null,null,null,null,null,null,0,{"$error":"#DIV/0!"},{"$f":"(O1028-1)*M1028","v":-256},{"$error":"#DIV/0!"},{"$error":"#DIV/0!"}]
[null,null,null,"DIVAR IP 7000 R2 8x8TB + 2x DIVAR IP 6000 R2 8x8TB",null,null,"RAID 5",0,{"$f":"IF(G1029=\"RAID 5\",(((7-H1029)*7448))+(2*(((7-H1029)*7448))),(((6-H1029)*7448))+(2*(((6-H1029)*7448))))","v":156408},{"$f":"(8*8)+(2*(8*8))","v":192},0,{"$f":"475+(2*550)","v":1575},{"$f":"128+(2*128)","v":384},{"$error":"#DIV/0!"},0,152.7421875,{"$error":"#DIV/0!"},0,0,0,0,0,{"$error":"#DIV/0!"},{"$error":"#DIV/0!"},null,null,null,null,null,null,null,null,0,{"$error":"#DIV/0!"},-384,{"$error":"#DIV/0!"},{"$error":"#DIV/0!"}]
[null,null,null,"DIVAR IP 7000 R2 8x8TB + 3x DIVAR IP 6000 R2 8x8TB",null,null,"RAID 5",0,{"$f":"IF(G1030=\"RAID 5\",(((7-H1030)*7448))+(3*(((7-H1030)*7448))),(((6-H1030)*7448))+(3*(((6-H1030)*7448))))","v":208544},{"$f":"(8*8)+(3*(8*8))","v":256},0,{"$f":"475+(3*550)","v":2125},{"$f":"128+(3*128)","v":512},{"$error":"#DIV/0!"},0,203.65625,{"$error":"#DIV/0!"},0,0,0,0,0,{"$error":"#DIV/0!"},{"$error":"#DIV/0!"},null,null,null,null,null,null,null,null,0,{"$error":"#DIV/0!"},-512,{"$error":"#DIV/0!"},{"$error":"#DIV/0!"}]
[null,null,null,"DIVAR IP 7000 R2 8x8TB + 4x DIVAR IP 6000 R2 8x8TB",null,null,"RAID 5",0,{"$f":"IF(G1031=\"RAID 5\",(((7-H1031)*7448))+(4*(((7-H1031)*7448))),(((6-H1031)*7448))+(4*(((6-H1031)*7448))))","v":260680},{"$f":"(8*8)+(4*(8*8))","v":320},0,{"$f":"475+(4*550)","v":2675},{"$f":"128+(4*128)","v":640},{"$error":"#DIV/0!"},0,254.5703125,{"$error":"#DIV/0!"},0,0,0,0,0,{"$error":"#DIV/0!"},{"$error":"#DIV/0!"},null,null,null,null,null,null,null,null,0,{"$error":"#DIV/0!"},-640,{"$error":"#DIV/0!"},{"$error":"#DIV/0!"}]
[null,null,null,"DIVAR IP 7000 R2 8x8TB + 1x DIVAR IP 6000 R2 3U 16x8TB",null,null,"RAID 5",0,{"$f":"IF(G1032=\"RAID 5\",(((7-H1032)*7448))+(1*(((15-H1032)*7448))),(((6-H1032)*7448))+(1*(((14-H1032)*7448))))","v":163856},{"$f":"(8*8)+(1*(16*8))","v":192},0,{"$f":"475+(1*550)","v":1025},{"$f":"128+(1*128)","v":256},{"$error":"#DIV/0!"},0,160.015625,{"$error":"#DIV/0!"},0,0,0,0,0,{"$error":"#DIV/0!"},{"$error":"#DIV/0!"},null,null,null,null,null,null,null,null,0,{"$error":"#DIV/0!"},-256,{"$error":"#DIV/0!"},{"$error":"#DIV/0!"}]
[null,null,null,"DIVAR IP 7000 R2 8x8TB + 2x DIVAR IP 6000 R2 3U 16x8TB",null,null,"RAID 5",0,{"$f":"IF(G1033=\"RAID 5\",(((7-H1033)*7448))+(2*(((15-H1033)*7448))),(((6-H1033)*7448))+(2*(((14-H1033)*7448))))","v":275576},{"$f":"(8*8)+(2*(16*8))","v":320},0,{"$f":"475+(2*550)","v":1575},{"$f":"128+(2*128)","v":384},{"$error":"#DIV/0!"},0,269.1171875,{"$error":"#DIV/0!"},0,0,0,0,0,{"$error":"#DIV/0!"},{"$error":"#DIV/0!"},null,null,null,null,null,null,null,null,0,{"$error":"#DIV/0!"},-384,{"$error":"#DIV/0!"},{"$error":"#DIV/0!"}]
[null,null,null,"DIVAR IP 7000 R2 8x8TB + 3x DIVAR IP 6000 R2 3U 16x8TB",null,null,"RAID 5",0,{"$f":"IF(G1034=\"RAID 5\",(((7-H1034)*7448))+(3*(((15-H1034)*7448))),(((6-H1034)*7448))+(3*(((14-H1034)*7448))))","v":387296},{"$f":"(8*8)+(3*(16*8))","v":448},0,{"$f":"475+(3*550)","v":2125},{"$f":"128+(3*128)","v":512},{"$error":"#DIV/0!"},0,378.21875,{"$error":"#DIV/0!"},0,0,0,0,0,{"$error":"#DIV/0!"},{"$f":"IF(AND(IF($N1034<=$L1034,TRUE,FALSE),IF($V1034<=$R1034,TRUE,FALSE),OR(W1034=\"True\",$W$899=\"No\"),IF($A$906=\"False\",IF(O1034=1,TRUE,FALSE),TRUE)),\"<-- fits project\",\"\")","v":{"$error":"#DIV/0!"}},null,null,null,null,null,null,null,null,0,{"$error":"#DIV/0!"},-512,{"$error":"#DIV/0!"},{"$error":"#DIV/0!"}]
[null,null,null,"DIVAR IP 7000 R2 8x8TB + 4x DIVAR IP 6000 R2 3U 16x8TB",null,null,"RAID 5",0,{"$f":"IF(G1035=\"RAID 5\",(((7-H1035)*7448))+(4*(((15-H1035)*7448))),(((6-H1035)*7448))+(4*(((14-H1035)*7448))))","v":499016},{"$f":"(8*8)+(4*(16*8))","v":576},0,{"$f":"475+(4*550)","v":2675},{"$f":"128+(4*128)","v":640},{"$error":"#DIV/0!"},0,487.3203125,{"$error":"#DIV/0!"},0,0,0,0,0,{"$error":"#DIV/0!"},{"$error":"#DIV/0!"},null,null,null,null,null,null,null,null,0,{"$error":"#DIV/0!"},-640,{"$error":"#DIV/0!"},{"$error":"#DIV/0!"}]
[null,null,null,"DIVAR IP 7000 R2 16x6TB + 1x DIVAR IP 6000 R2 8x3TB",null,null,"RAID 5",0,{"$f":"IF(G1036=\"RAID 5\",(((15-H1036)*5586))+(1*(((7-H1036)*2793))),(((14-H1036)*5586))+(1*(((6-H1036)*2793))))","v":103341},{"$f":"(16*6)+(1*(8*3))","v":120},0,{"$f":"475+(1*550)","v":1025},{"$f":"128+(1*128)","v":256},{"$error":"#DIV/0!"},0,100.9189453125,{"$error":"#DIV/0!"},0,0,0,0,0,{"$error":"#DIV/0!"},{"$error":"#DIV/0!"},null,null,null,null,null,null,null,null,0,{"$error":"#DIV/0!"},-256,{"$error":"#DIV/0!"},{"$error":"#DIV/0!"}]
[null,null,null,"DIVAR IP 7000 R2 16x6TB + 2x DIVAR IP 6000 R2 8x3TB",null,null,"RAID 5",0,{"$f":"IF(G1037=\"RAID 5\",(((15-H1037)*5586))+(2*(((7-H1037)*2793))),(((14-H1037)*5586))+(2*(((6-H1037)*2793))))","v":122892},{"$f":"(16*6)+(2*(8*3))","v":144},0,{"$f":"475+(2*550)","v":1575},{"$f":"128+(2*128)","v":384},{"$error":"#DIV/0!"},0,120.01171875,{"$error":"#DIV/0!"},0,0,0,0,0,{"$error":"#DIV/0!"},{"$error":"#DIV/0!"},null,null,null,null,null,null,null,null,0,{"$error":"#DIV/0!"},-384,{"$error":"#DIV/0!"},{"$error":"#DIV/0!"}]
[null,null,null,"DIVAR IP 7000 R2 16x6TB + 3x DIVAR IP 6000 R2 8x3TB",null,null,"RAID 5",0,{"$f":"IF(G1038=\"RAID 5\",(((15-H1038)*5586))+(3*(((7-H1038)*2793))),(((14-H1038)*5586))+(3*(((6-H1038)*2793))))","v":142443},{"$f":"(16*6)+(3*(8*3))","v":168},0,{"$f":"475+(3*550)","v":2125},{"$f":"128+(3*128)","v":512},{"$error":"#DIV/0!"},0,139.1044921875,{"$error":"#DIV/0!"},0,0,0,0,0,{"$error":"#DIV/0!"},{"$error":"#DIV/0!"},null,null,null,null,null,null,null,null,0,{"$error":"#DIV/0!"},-512,{"$error":"#DIV/0!"},{"$error":"#DIV/0!"}]
[null,null,null,"DIVAR IP 7000 R2 16x6TB + 4x DIVAR IP 6000 R2 8x3TB",null,null,"RAID 5",0,{"$f":"IF(G1039=\"RAID 5\",(((15-H1039)*5586))+(4*(((7-H1039)*2793))),(((14-H1039)*5586))+(4*(((6-H1039)*2793))))","v":161994},{"$f":"(16*6)+(4*(8*3))","v":192},0,{"$f":"475+(4*550)","v":2675},{"$f":"128+(4*128)","v":640},{"$error":"#DIV/0!"},0,158.197265625,{"$error":"#DIV/0!"},0,0,0,0,0,{"$error":"#DIV/0!"},{"$error":"#DIV/0!"},null,null,null,null,null,null,null,null,0,{"$error":"#DIV/0!"},-640,{"$error":"#DIV/0!"},{"$error":"#DIV/0!"}]
[null,null,null,"DIVAR IP 7000 R2 16x6TB + 1x DIVAR IP 6000 R2 3U 16x3TB",null,null,"RAID 5",0,{"$f":"IF(G1040=\"RAID 5\",(((15-H1040)*5586))+(1*(((15-H1040)*2793))),(((14-H1040)*5586))+(1*(((14-H1040)*2793))))","v":125685},{"$f":"(16*6)+(1*(16*3))","v":144},0,{"$f":"475+(1*550)","v":1025},{"$f":"128+(1*128)","v":256},{"$error":"#DIV/0!"},0,122.7392578125,{"$error":"#DIV/0!"},0,0,0,0,0,{"$error":"#DIV/0!"},{"$error":"#DIV/0!"},null,null,null,null,null,null,null,null,0,{"$error":"#DIV/0!"},-256,{"$error":"#DIV/0!"},{"$error":"#DIV/0!"}]
[null,null,null,"DIVAR IP 7000 R2 16x6TB + 2x DIVAR IP 6000 R2 3U 16x3TB",null,null,"RAID 5",0,{"$f":"IF(G1041=\"RAID 5\",(((15-H1041)*5586))+(2*(((15-H1041)*2793))),(((14-H1041)*5586))+(2*(((14-H1041)*2793))))","v":167580},{"$f":"(16*6)+(2*(16*3))","v":192},0,{"$f":"475+(2*550)","v":1575},{"$f":"128+(2*128)","v":384},{"$f":"$I$894/O1041","v":{"$error":"#DIV/0!"}},{"$f":"ROUNDUP($G$894/I1041,0)","v":0},{"$f":"(1-(($G$894/$I1041)-INT($G$894/$I1041)))*I1041/1024","v":163.65234375},{"$error":"#DIV/0!"},0,0,0,0,0,{"$error":"#DIV/0!"},{"$error":"#DIV/0!"},null,null,null,null,null,null,null,null,0,{"$error":"#DIV/0!"},-384,{"$f":"IF(O1041>1,$I$894/(O1041-1),$I$894/O1041)","v":{"$error":"#DIV/0!"}},{"$error":"#DIV/0!"}]
[null,null,null,"DIVAR IP 7000 R2 16x6TB + 3x DIVAR IP 6000 R2 3U 16x3TB",null,null,"RAID 5",0,{"$f":"IF(G1042=\"RAID 5\",(((15-H1042)*5586))+(3*(((15-H1042)*2793))),(((14-H1042)*5586))+(3*(((14-H1042)*2793))))","v":209475},{"$f":"(16*6)+(3*(16*3))","v":240},0,{"$f":"475+(3*550)","v":2125},{"$f":"128+(3*128)","v":512},{"$error":"#DIV/0!"},0,204.5654296875,{"$error":"#DIV/0!"},0,0,0,0,{"$f":"SUM(S1042)","v":0},{"$error":"#DIV/0!"},{"$error":"#DIV/0!"},null,null,null,null,null,null,null,null,0,{"$error":"#DIV/0!"},-512,{"$error":"#DIV/0!"},{"$error":"#DIV/0!"}]
[null,null,null,"DIVAR IP 7000 R2 16x6TB + 4x DIVAR IP 6000 R2 3U 16x3TB",null,null,"RAID 5",0,{"$f":"IF(G1043=\"RAID 5\",(((15-H1043)*5586))+(4*(((15-H1043)*2793))),(((14-H1043)*5586))+(4*(((14-H1043)*2793))))","v":251370},{"$f":"(16*6)+(4*(16*3))","v":288},0,{"$f":"475+(4*550)","v":2675},{"$f":"128+(4*128)","v":640},{"$error":"#DIV/0!"},0,245.478515625,{"$error":"#DIV/0!"},0,0,0,0,0,{"$error":"#DIV/0!"},{"$error":"#DIV/0!"},null,null,null,null,null,null,null,null,0,{"$error":"#DIV/0!"},-640,{"$error":"#DIV/0!"},{"$error":"#DIV/0!"}]
[null,null,null,"DIVAR IP 7000 R2 16x6TB + 1x DIVAR IP 6000 R2 8x4TB",null,null,"RAID 5",0,{"$f":"IF(G1044=\"RAID 5\",(((15-H1044)*5586))+(1*(((7-H1044)*3723))),(((14-H1044)*5586))+(1*(((6-H1044)*3723))))","v":109851},{"$f":"(16*6)+(1*(8*4))","v":128},0,{"$f":"475+(1*550)","v":1025},{"$f":"128+(1*128)","v":256},{"$error":"#DIV/0!"},0,107.2763671875,{"$error":"#DIV/0!"},0,0,0,0,0,{"$error":"#DIV/0!"},{"$error":"#DIV/0!"},null,null,null,null,null,null,null,null,0,{"$error":"#DIV/0!"},-256,{"$error":"#DIV/0!"},{"$error":"#DIV/0!"}]
[null,null,null,"DIVAR IP 7000 R2 16x6TB + 2x DIVAR IP 6000 R2 8x4TB",null,null,"RAID 5",0,{"$f":"IF(G1045=\"RAID 5\",(((15-H1045)*5586))+(2*(((7-H1045)*3723))),(((14-H1045)*5586))+(2*(((6-H1045)*3723))))","v":135912},{"$f":"(16*6)+(2*(8*4))","v":160},0,{"$f":"475+(2*550)","v":1575},{"$f":"128+(2*128)","v":384},{"$error":"#DIV/0!"},0,132.7265625,{"$error":"#DIV/0!"},0,0,0,0,0,{"$error":"#DIV/0!"},{"$error":"#DIV/0!"},null,null,null,null,null,null,null,null,0,{"$error":"#DIV/0!"},-384,{"$error":"#DIV/0!"},{"$error":"#DIV/0!"}]
[null,null,null,"DIVAR IP 7000 R2 16x6TB + 3x DIVAR IP 6000 R2 8x4TB",null,null,"RAID 5",0,{"$f":"IF(G1046=\"RAID 5\",(((15-H1046)*5586))+(3*(((7-H1046)*3723))),(((14-H1046)*5586))+(3*(((6-H1046)*3723))))","v":161973},{"$f":"(16*6)+(3*(8*4))","v":192},0,{"$f":"475+(3*550)","v":2125},{"$f":"128+(3*128)","v":512},{"$error":"#DIV/0!"},0,158.1767578125,{"$error":"#DIV/0!"},0,0,0,0,0,{"$error":"#DIV/0!"},{"$error":"#DIV/0!"},null,null,null,null,null,null,null,null,0,{"$error":"#DIV/0!"},-512,{"$error":"#DIV/0!"},{"$error":"#DIV/0!"}]
[null,null,null,"DIVAR IP 7000 R2 16x6TB + 4x DIVAR IP 6000 R2 8x4TB",null,null,"RAID 5",0,{"$f":"IF(G1047=\"RAID 5\",(((15-H1047)*5586))+(4*(((7-H1047)*3723))),(((14-H1047)*5586))+(4*(((6-H1047)*3723))))","v":188034},{"$f":"(16*6)+(4*(8*4))","v":224},0,{"$f":"475+(4*550)","v":2675},{"$f":"128+(4*128)","v":640},{"$error":"#DIV/0!"},0,183.626953125,{"$error":"#DIV/0!"},0,0,0,0,0,{"$error":"#DIV/0!"},{"$error":"#DIV/0!"},null,null,null,null,null,null,null,null,0,{"$error":"#DIV/0!"},-640,{"$error":"#DIV/0!"},{"$error":"#DIV/0!"}]
[null,null,null,"DIVAR IP 7000 R2 16x6TB + 1x DIVAR IP 6000 R2 3U 16x4TB",null,null,"RAID 5",0,{"$f":"IF(G1048=\"RAID 5\",(((15-H1048)*5586))+(1*(((15-H1048)*3723))),(((14-H1048)*5586))+(1*(((14-H1048)*3723))))","v":139635},{"$f":"(16*6)+(1*(16*4))","v":160},0,{"$f":"475+(1*550)","v":1025},{"$f":"128+(1*128)","v":256},{"$error":"#DIV/0!"},0,136.3623046875,{"$error":"#DIV/0!"},0,0,0,0,0,{"$error":"#DIV/0!"},{"$error":"#DIV/0!"},null,null,null,null,null,null,null,null,0,{"$error":"#DIV/0!"},-256,{"$error":"#DIV/0!"},{"$error":"#DIV/0!"}]
[null,null,null,"DIVAR IP 7000 R2 16x6TB + 2x DIVAR IP 6000 R2 3U 16x4TB",null,null,"RAID 5",0,{"$f":"IF(G1049=\"RAID 5\",(((15-H1049)*5586))+(2*(((15-H1049)*3723))),(((14-H1049)*5586))+(2*(((14-H1049)*3723))))","v":195480},{"$f":"(16*6)+(2*(16*4))","v":224},0,{"$f":"475+(2*550)","v":1575},{"$f":"128+(2*128)","v":384},{"$error":"#DIV/0!"},0,190.8984375,{"$error":"#DIV/0!"},0,0,0,0,0,{"$error":"#DIV/0!"},{"$error":"#DIV/0!"},null,null,null,null,null,null,null,null,0,{"$error":"#DIV/0!"},-384,{"$error":"#DIV/0!"},{"$error":"#DIV/0!"}]
[null,null,null,"DIVAR IP 7000 R2 16x6TB + 3x DIVAR IP 6000 R2 3U 16x4TB",null,null,"RAID 5",0,{"$f":"IF(G1050=\"RAID 5\",(((15-H1050)*5586))+(3*(((15-H1050)*3723))),(((14-H1050)*5586))+(3*(((14-H1050)*3723))))","v":251325},{"$f":"(16*6)+(3*(16*4))","v":288},0,{"$f":"475+(3*550)","v":2125},{"$f":"128+(3*128)","v":512},{"$error":"#DIV/0!"},0,245.4345703125,{"$error":"#DIV/0!"},0,0,0,0,0,{"$error":"#DIV/0!"},{"$error":"#DIV/0!"},null,null,null,null,null,null,null,null,0,{"$error":"#DIV/0!"},-512,{"$error":"#DIV/0!"},{"$error":"#DIV/0!"}]
[null,null,null,"DIVAR IP 7000 R2 16x6TB + 4x DIVAR IP 6000 R2 3U 16x4TB",null,null,"RAID 5",0,{"$f":"IF(G1051=\"RAID 5\",(((15-H1051)*5586))+(4*(((15-H1051)*3723))),(((14-H1051)*5586))+(4*(((14-H1051)*3723))))","v":307170},{"$f":"(16*6)+(4*(16*4))","v":352},0,{"$f":"475+(4*550)","v":2675},{"$f":"128+(4*128)","v":640},{"$error":"#DIV/0!"},0,299.970703125,{"$error":"#DIV/0!"},0,0,0,0,0,{"$error":"#DIV/0!"},{"$error":"#DIV/0!"},null,null,null,null,null,null,null,null,0,{"$error":"#DIV/0!"},-640,{"$error":"#DIV/0!"},{"$error":"#DIV/0!"}]
[null,null,null,"DIVAR IP 7000 R2 16x6TB + 1x DIVAR IP 6000 R2 8x6TB",null,null,"RAID 5",0,{"$f":"IF(G1052=\"RAID 5\",(((15-H1052)*5586))+(1*(((7-H1052)*5586))),(((14-H1052)*5586))+(1*(((6-H1052)*5586))))","v":122892},{"$f":"(16*6)+(1*(8*6))","v":144},0,{"$f":"475+(1*550)","v":1025},{"$f":"128+(1*128)","v":256},{"$error":"#DIV/0!"},0,120.01171875,{"$error":"#DIV/0!"},0,0,0,0,0,{"$error":"#DIV/0!"},{"$error":"#DIV/0!"},null,null,null,null,null,null,null,null,0,{"$error":"#DIV/0!"},-256,{"$error":"#DIV/0!"},{"$error":"#DIV/0!"}]
[null,null,null,"DIVAR IP 7000 R2 16x6TB + 2x DIVAR IP 6000 R2 8x6TB",null,null,"RAID 5",0,{"$f":"IF(G1053=\"RAID 5\",(((15-H1053)*5586))+(2*(((7-H1053)*5586))),(((14-H1053)*5586))+(2*(((6-H1053)*5586))))","v":161994},{"$f":"(16*6)+(2*(8*6))","v":192},0,{"$f":"475+(2*550)","v":1575},{"$f":"128+(2*128)","v":384},{"$error":"#DIV/0!"},0,158.197265625,{"$error":"#DIV/0!"},0,0,0,0,0,{"$error":"#DIV/0!"},{"$error":"#DIV/0!"},null,null,null,null,null,null,null,null,0,{"$error":"#DIV/0!"},-384,{"$error":"#DIV/0!"},{"$error":"#DIV/0!"}]
[null,null,null,"DIVAR IP 7000 R2 16x6TB + 3x DIVAR IP 6000 R2 8x6TB",null,null,"RAID 5",0,{"$f":"IF(G1054=\"RAID 5\",(((15-H1054)*5586))+(3*(((7-H1054)*5586))),(((14-H1054)*5586))+(3*(((6-H1054)*5586))))","v":201096},{"$f":"(16*6)+(3*(8*6))","v":240},0,{"$f":"475+(3*550)","v":2125},{"$f":"128+(3*128)","v":512},{"$error":"#DIV/0!"},0,196.3828125,{"$error":"#DIV/0!"},0,0,0,0,0,{"$error":"#DIV/0!"},{"$error":"#DIV/0!"},null,null,null,null,null,null,null,null,0,{"$error":"#DIV/0!"},-512,{"$error":"#DIV/0!"},{"$error":"#DIV/0!"}]
[null,null,null,"DIVAR IP 7000 R2 16x6TB + 4x DIVAR IP 6000 R2 8x6TB",null,null,"RAID 5",0,{"$f":"IF(G1055=\"RAID 5\",(((15-H1055)*5586))+(4*(((7-H1055)*5586))),(((14-H1055)*5586))+(4*(((6-H1055)*5586))))","v":240198},{"$f":"(16*6)+(4*(8*6))","v":288},0,{"$f":"475+(4*550)","v":2675},{"$f":"128+(4*128)","v":640},{"$error":"#DIV/0!"},0,234.568359375,{"$error":"#DIV/0!"},0,0,0,0,0,{"$error":"#DIV/0!"},{"$error":"#DIV/0!"},null,null,null,null,null,null,null,null,0,{"$error":"#DIV/0!"},-640,{"$error":"#DIV/0!"},{"$error":"#DIV/0!"}]
[null,null,null,"DIVAR IP 7000 R2 16x6TB + 1x DIVAR IP 6000 R2 3U 16x6TB",null,null,"RAID 5",0,{"$f":"IF(G1056=\"RAID 5\",(((15-H1056)*5586))+(1*(((15-H1056)*5586))),(((14-H1056)*5586))+(1*(((14-H1056)*5586))))","v":167580},{"$f":"(16*6)+(1*(16*6))","v":192},0,{"$f":"475+(1*550)","v":1025},{"$f":"128+(1*128)","v":256},{"$error":"#DIV/0!"},0,163.65234375,{"$error":"#DIV/0!"},0,0,0,0,0,{"$error":"#DIV/0!"},{"$error":"#DIV/0!"},null,null,null,null,null,null,null,null,0,{"$error":"#DIV/0!"},-256,{"$error":"#DIV/0!"},{"$error":"#DIV/0!"}]
[null,null,null,"DIVAR IP 7000 R2 16x6TB + 2x DIVAR IP 6000 R2 3U 16x6TB",null,null,"RAID 5",0,{"$f":"IF(G1057=\"RAID 5\",(((15-H1057)*5586))+(2*(((15-H1057)*5586))),(((14-H1057)*5586))+(2*(((14-H1057)*5586))))","v":251370},{"$f":"(16*6)+(2*(16*6))","v":288},0,{"$f":"475+(2*550)","v":1575},{"$f":"128+(2*128)","v":384},{"$error":"#DIV/0!"},0,245.478515625,{"$error":"#DIV/0!"},0,0,0,0,0,{"$error":"#DIV/0!"},{"$error":"#DIV/0!"},null,null,null,null,null,null,null,null,0,{"$error":"#DIV/0!"},-384,{"$error":"#DIV/0!"},{"$error":"#DIV/0!"}]
[null,null,null,"DIVAR IP 7000 R2 16x6TB + 3x DIVAR IP 6000 R2 3U 16x6TB",null,null,"RAID 5",0,{"$f":"IF(G1058=\"RAID 5\",(((15-H1058)*5586))+(3*(((15-H1058)*5586))),(((14-H1058)*5586))+(3*(((14-H1058)*5586))))","v":335160},{"$f":"(16*6)+(3*(16*6))","v":384},0,{"$f":"475+(3*550)","v":2125},{"$f":"128+(3*128)","v":512},{"$error":"#DIV/0!"},0,327.3046875,{"$error":"#DIV/0!"},0,0,0,0,0,{"$error":"#DIV/0!"},{"$error":"#DIV/0!"},null,null,null,null,null,null,null,null,0,{"$error":"#DIV/0!"},-512,{"$error":"#DIV/0!"},{"$error":"#DIV/0!"}]
[null,null,null,"DIVAR IP 7000 R2 16x6TB + 4x DIVAR IP 6000 R2 3U 16x6TB",null,null,"RAID 5",0,{"$f":"IF(G1059=\"RAID 5\",(((15-H1059)*5586))+(4*(((15-H1059)*5586))),(((14-H1059)*5586))+(4*(((14-H1059)*5586))))","v":418950},{"$f":"(16*6)+(4*(16*6))","v":480},0,{"$f":"475+(4*550)","v":2675},{"$f":"128+(4*128)","v":640},{"$error":"#DIV/0!"},0,409.130859375,{"$error":"#DIV/0!"},0,0,0,0,0,{"$error":"#DIV/0!"},{"$error":"#DIV/0!"},null,null,null,null,null,null,null,null,0,{"$error":"#DIV/0!"},-640,{"$error":"#DIV/0!"},{"$error":"#DIV/0!"}]
[null,null,null,"DIVAR IP 7000 R2 16x6TB + 1x DIVAR IP 6000 R2 8x8TB",null,null,"RAID 5",0,{"$f":"IF(G1060=\"RAID 5\",(((15-H1060)*5586))+(1*(((7-H1060)*7448))),(((14-H1060)*5586))+(1*(((6-H1060)*7448))))","v":135926},{"$f":"(16*6)+(1*(8*8))","v":160},0,{"$f":"475+(1*550)","v":1025},{"$f":"128+(1*128)","v":256},{"$error":"#DIV/0!"},0,132.740234375,{"$error":"#DIV/0!"},0,{"$f":"IF($O1060>7,OFFSET($K$255,0,$L$894),OFFSET($K$248,O1060-1,$L$894,1,1))","v":0},0,0,0,{"$f":"IF(AND(IF($AJ1060<=$L1060,TRUE,FALSE),IF($V1060<=$AI1060,TRUE,FALSE)),\"True\",\"\")","v":{"$error":"#DIV/0!"}},{"$error":"#DIV/0!"},null,null,null,null,null,null,null,null,0,{"$error":"#DIV/0!"},-256,{"$error":"#DIV/0!"},{"$error":"#DIV/0!"}]
[null,null,null,"DIVAR IP 7000 R2 16x6TB + 2x DIVAR IP 6000 R2 8x8TB",null,null,"RAID 5",0,{"$f":"IF(G1061=\"RAID 5\",(((15-H1061)*5586))+(2*(((7-H1061)*7448))),(((14-H1061)*5586))+(2*(((6-H1061)*7448))))","v":188062},{"$f":"(16*6)+(2*(8*8))","v":224},0,{"$f":"475+(2*550)","v":1575},{"$f":"128+(2*128)","v":384},{"$error":"#DIV/0!"},0,183.654296875,{"$error":"#DIV/0!"},0,0,0,0,0,{"$error":"#DIV/0!"},{"$error":"#DIV/0!"},null,null,null,null,null,null,null,null,0,{"$error":"#DIV/0!"},-384,{"$error":"#DIV/0!"},{"$error":"#DIV/0!"}]
[null,null,null,"DIVAR IP 7000 R2 16x6TB + 3x DIVAR IP 6000 R2 8x8TB",null,null,"RAID 5",0,{"$f":"IF(G1062=\"RAID 5\",(((15-H1062)*5586))+(3*(((7-H1062)*7448))),(((14-H1062)*5586))+(3*(((6-H1062)*7448))))","v":240198},{"$f":"(16*6)+(3*(8*8))","v":288},0,{"$f":"475+(3*550)","v":2125},{"$f":"128+(3*128)","v":512},{"$error":"#DIV/0!"},0,234.568359375,{"$error":"#DIV/0!"},0,0,0,0,0,{"$error":"#DIV/0!"},{"$error":"#DIV/0!"},null,null,null,null,null,null,null,null,0,{"$error":"#DIV/0!"},-512,{"$error":"#DIV/0!"},{"$error":"#DIV/0!"}]
[null,null,null,"DIVAR IP 7000 R2 16x6TB + 4x DIVAR IP 6000 R2 8x8TB",null,null,"RAID 5",0,{"$f":"IF(G1063=\"RAID 5\",(((15-H1063)*5586))+(4*(((7-H1063)*7448))),(((14-H1063)*5586))+(4*(((6-H1063)*7448))))","v":292334},{"$f":"(16*6)+(4*(8*8))","v":352},0,{"$f":"475+(4*550)","v":2675},{"$f":"128+(4*128)","v":640},{"$error":"#DIV/0!"},0,285.482421875,{"$error":"#DIV/0!"},0,0,0,0,0,{"$error":"#DIV/0!"},{"$error":"#DIV/0!"},null,null,null,null,null,null,null,null,0,{"$error":"#DIV/0!"},-640,{"$error":"#DIV/0!"},{"$error":"#DIV/0!"}]
[null,null,null,"DIVAR IP 7000 R2 16x6TB + 1x DIVAR IP 6000 R2 3U 16x8TB",null,null,"RAID 5",0,{"$f":"IF(G1064=\"RAID 5\",(((15-H1064)*5586))+(1*(((15-H1064)*7448))),(((14-H1064)*5586))+(1*(((14-H1064)*7448))))","v":195510},{"$f":"(16*6)+(1*(16*8))","v":224},0,{"$f":"475+(1*550)","v":1025},{"$f":"128+(1*128)","v":256},{"$error":"#DIV/0!"},0,190.927734375,{"$error":"#DIV/0!"},0,0,0,0,0,{"$error":"#DIV/0!"},{"$error":"#DIV/0!"},null,null,null,null,null,null,null,null,0,{"$error":"#DIV/0!"},-256,{"$error":"#DIV/0!"},{"$error":"#DIV/0!"}]
[null,null,null,"DIVAR IP 7000 R2 16x6TB + 2x DIVAR IP 6000 R2 3U 16x8TB",null,null,"RAID 5",0,{"$f":"IF(G1065=\"RAID 5\",(((15-H1065)*5586))+(2*(((15-H1065)*7448))),(((14-H1065)*5586))+(2*(((14-H1065)*7448))))","v":307230},{"$f":"(16*6)+(2*(16*8))","v":352},0,{"$f":"475+(2*550)","v":1575},{"$f":"128+(2*128)","v":384},{"$error":"#DIV/0!"},0,300.029296875,{"$error":"#DIV/0!"},0,0,0,0,0,{"$error":"#DIV/0!"},{"$error":"#DIV/0!"},null,null,null,null,null,null,null,null,0,{"$error":"#DIV/0!"},-384,{"$error":"#DIV/0!"},{"$error":"#DIV/0!"}]
[null,null,null,"DIVAR IP 7000 R2 16x6TB + 3x DIVAR IP 6000 R2 3U 16x8TB",null,null,"RAID 5",0,{"$f":"IF(G1066=\"RAID 5\",(((15-H1066)*5586))+(3*(((15-H1066)*7448))),(((14-H1066)*5586))+(3*(((14-H1066)*7448))))","v":418950},{"$f":"(16*6)+(3*(16*8))","v":480},0,{"$f":"475+(3*550)","v":2125},{"$f":"128+(3*128)","v":512},{"$error":"#DIV/0!"},0,409.130859375,{"$error":"#DIV/0!"},0,0,0,0,0,{"$error":"#DIV/0!"},{"$f":"IF(AND(IF($N1066<=$L1066,TRUE,FALSE),IF($V1066<=$R1066,TRUE,FALSE),OR(W1066=\"True\",$W$899=\"No\"),IF($A$906=\"False\",IF(O1066=1,TRUE,FALSE),TRUE)),\"<-- fits project\",\"\")","v":{"$error":"#DIV/0!"}},null,null,null,null,null,null,null,null,0,{"$error":"#DIV/0!"},-512,{"$error":"#DIV/0!"},{"$error":"#DIV/0!"}]
[null,null,null,"DIVAR IP 7000 R2 16x6TB + 4x DIVAR IP 6000 R2 3U 16x8TB",null,null,"RAID 5",0,{"$f":"IF(G1067=\"RAID 5\",(((15-H1067)*5586))+(4*(((15-H1067)*7448))),(((14-H1067)*5586))+(4*(((14-H1067)*7448))))","v":530670},{"$f":"(16*6)+(4*(16*8))","v":608},0,{"$f":"475+(4*550)","v":2675},{"$f":"128+(4*128)","v":640},{"$error":"#DIV/0!"},0,518.232421875,{"$error":"#DIV/0!"},0,0,0,0,0,{"$error":"#DIV/0!"},{"$error":"#DIV/0!"},null,null,null,null,null,null,null,null,0,{"$error":"#DIV/0!"},-640,{"$error":"#DIV/0!"},{"$error":"#DIV/0!"}]
[null,null,null,"DIVAR IP 7000 R2 16x8TB + 1x DIVAR IP 6000 R2 8x3TB",null,null,"RAID 5",0,{"$f":"IF(G1068=\"RAID 5\",(((15-H1068)*7448))+(1*(((7-H1068)*2793))),(((14-H1068)*7448))+(1*(((6-H1068)*2793))))","v":131271},{"$f":"(16*8)+(1*(8*3))","v":152},0,{"$f":"475+(1*550)","v":1025},256,{"$error":"#DIV/0!"},0,128.1943359375,{"$f":"AH1068","v":{"$error":"#DIV/0!"}},0,0,0,0,0,{"$error":"#DIV/0!"},{"$error":"#DIV/0!"},null,null,null,null,null,null,null,null,{"$f":"AF1068*O1068","v":0},{"$f":"AG1068/$AG$563","v":{"$error":"#DIV/0!"}},-256,{"$error":"#DIV/0!"},{"$error":"#DIV/0!"}]
[null,null,null,"DIVAR IP 7000 R2 16x8TB + 2x DIVAR IP 6000 R2 8x3TB",null,null,"RAID 5",0,{"$f":"IF(G1069=\"RAID 5\",(((15-H1069)*7448))+(2*(((7-H1069)*2793))),(((14-H1069)*7448))+(2*(((6-H1069)*2793))))","v":150822},{"$f":"(16*8)+(2*(8*3))","v":176},0,{"$f":"475+(2*550)","v":1575},384,{"$error":"#DIV/0!"},0,147.287109375,{"$error":"#DIV/0!"},0,0,0,0,0,{"$error":"#DIV/0!"},{"$error":"#DIV/0!"},null,null,null,null,null,null,null,null,0,{"$error":"#DIV/0!"},-384,{"$error":"#DIV/0!"},{"$error":"#DIV/0!"}]
[null,null,null,"DIVAR IP 7000 R2 16x8TB + 3x DIVAR IP 6000 R2 8x3TB",null,null,"RAID 5",0,{"$f":"IF(G1070=\"RAID 5\",(((15-H1070)*7448))+(3*(((7-H1070)*2793))),(((14-H1070)*7448))+(3*(((6-H1070)*2793))))","v":170373},{"$f":"(16*8)+(3*(8*3))","v":200},0,{"$f":"475+(3*550)","v":2125},512,{"$error":"#DIV/0!"},0,166.3798828125,{"$error":"#DIV/0!"},0,0,0,0,0,{"$error":"#DIV/0!"},{"$error":"#DIV/0!"},null,null,null,null,null,null,null,null,0,{"$error":"#DIV/0!"},-512,{"$error":"#DIV/0!"},{"$error":"#DIV/0!"}]
[null,null,null,"DIVAR IP 7000 R2 16x8TB + 4x DIVAR IP 6000 R2 8x3TB",null,null,"RAID 5",0,{"$f":"IF(G1071=\"RAID 5\",(((15-H1071)*7448))+(4*(((7-H1071)*2793))),(((14-H1071)*7448))+(4*(((6-H1071)*2793))))","v":189924},{"$f":"(16*8)+(4*(8*3))","v":224},0,{"$f":"475+(4*550)","v":2675},640,{"$error":"#DIV/0!"},0,185.47265625,{"$error":"#DIV/0!"},0,0,0,0,0,{"$error":"#DIV/0!"},{"$error":"#DIV/0!"},null,null,null,null,null,null,null,null,0,{"$error":"#DIV/0!"},-640,{"$error":"#DIV/0!"},{"$error":"#DIV/0!"}]
[null,null,null,"DIVAR IP 7000 R2 16x8TB + 1x DIVAR IP 6000 R2 3U 16x3TB",null,null,"RAID 5",0,{"$f":"IF(G1072=\"RAID 5\",(((15-H1072)*7448))+(1*(((15-H1072)*2793))),(((14-H1072)*7448))+(1*(((14-H1072)*2793))))","v":153615},{"$f":"(16*8)+(1*(16*3))","v":176},0,{"$f":"475+(1*550)","v":1025},256,{"$error":"#DIV/0!"},0,150.0146484375,{"$error":"#DIV/0!"},0,0,0,0,0,{"$error":"#DIV/0!"},{"$error":"#DIV/0!"},null,null,null,null,null,null,null,null,0,{"$error":"#DIV/0!"},-256,{"$error":"#DIV/0!"},{"$error":"#DIV/0!"}]
[null,null,null,"DIVAR IP 7000 R2 16x8TB + 2x DIVAR IP 6000 R2 3U 16x3TB",null,null,"RAID 5",0,{"$f":"IF(G1073=\"RAID 5\",(((15-H1073)*7448))+(2*(((15-H1073)*2793))),(((14-H1073)*7448))+(2*(((14-H1073)*2793))))","v":195510},{"$f":"(16*8)+(2*(16*3))","v":224},0,{"$f":"475+(2*550)","v":1575},384,{"$f":"$I$894/O1073","v":{"$error":"#DIV/0!"}},{"$f":"ROUNDUP($G$894/I1073,0)","v":0},{"$f":"(1-(($G$894/$I1073)-INT($G$894/$I1073)))*I1073/1024","v":190.927734375},{"$error":"#DIV/0!"},0,0,0,0,0,{"$error":"#DIV/0!"},{"$error":"#DIV/0!"},null,null,null,null,null,null,null,null,0,{"$error":"#DIV/0!"},-384,{"$f":"IF(O1073>1,$I$894/(O1073-1),$I$894/O1073)","v":{"$error":"#DIV/0!"}},{"$error":"#DIV/0!"}]
[null,null,null,"DIVAR IP 7000 R2 16x8TB + 3x DIVAR IP 6000 R2 3U 16x3TB",null,null,"RAID 5",0,{"$f":"IF(G1074=\"RAID 5\",(((15-H1074)*7448))+(3*(((15-H1074)*2793))),(((14-H1074)*7448))+(3*(((14-H1074)*2793))))","v":237405},{"$f":"(16*8)+(3*(16*3))","v":272},0,{"$f":"475+(3*550)","v":2125},512,{"$error":"#DIV/0!"},0,231.8408203125,{"$error":"#DIV/0!"},0,0,0,0,0,{"$error":"#DIV/0!"},{"$error":"#DIV/0!"},null,null,null,null,null,null,null,null,0,{"$error":"#DIV/0!"},-512,{"$error":"#DIV/0!"},{"$error":"#DIV/0!"}]
[null,null,null,"DIVAR IP 7000 R2 16x8TB + 4x DIVAR IP 6000 R2 3U 16x3TB",null,null,"RAID 5",0,{"$f":"IF(G1075=\"RAID 5\",(((15-H1075)*7448))+(4*(((15-H1075)*2793))),(((14-H1075)*7448))+(4*(((14-H1075)*2793))))","v":279300},{"$f":"(16*8)+(4*(16*3))","v":320},0,{"$f":"475+(4*550)","v":2675},640,{"$error":"#DIV/0!"},0,272.75390625,{"$error":"#DIV/0!"},0,0,0,0,0,{"$error":"#DIV/0!"},{"$error":"#DIV/0!"},null,null,null,null,null,null,null,null,0,{"$error":"#DIV/0!"},-640,{"$error":"#DIV/0!"},{"$error":"#DIV/0!"}]
[null,null,null,"DIVAR IP 7000 R2 16x8TB + 1x DIVAR IP 6000 R2 8x4TB",null,null,"RAID 5",0,{"$f":"IF(G1076=\"RAID 5\",(((15-H1076)*7448))+(1*(((7-H1076)*3723))),(((14-H1076)*7448))+(1*(((6-H1076)*3723))))","v":137781},{"$f":"(16*8)+(1*(8*4))","v":160},0,{"$f":"475+(1*550)","v":1025},256,{"$error":"#DIV/0!"},0,134.5517578125,{"$error":"#DIV/0!"},0,0,0,{"$f":"$S$259*MIN(O1076,$S$260)","v":0},0,{"$error":"#DIV/0!"},{"$error":"#DIV/0!"},null,null,null,null,null,null,null,null,0,{"$error":"#DIV/0!"},-256,{"$error":"#DIV/0!"},{"$error":"#DIV/0!"}]
[null,null,null,"DIVAR IP 7000 R2 16x8TB + 2x DIVAR IP 6000 R2 8x4TB",null,null,"RAID 5",0,{"$f":"IF(G1077=\"RAID 5\",(((15-H1077)*7448))+(2*(((7-H1077)*3723))),(((14-H1077)*7448))+(2*(((6-H1077)*3723))))","v":163842},{"$f":"(16*8)+(2*(8*4))","v":192},0,{"$f":"475+(2*550)","v":1575},384,{"$error":"#DIV/0!"},0,160.001953125,{"$error":"#DIV/0!"},0,0,0,0,0,{"$error":"#DIV/0!"},{"$error":"#DIV/0!"},null,null,null,null,null,null,null,null,0,{"$error":"#DIV/0!"},-384,{"$error":"#DIV/0!"},{"$error":"#DIV/0!"}]
[null,null,null,"DIVAR IP 7000 R2 16x8TB + 3x DIVAR IP 6000 R2 8x4TB",null,null,"RAID 5",0,{"$f":"IF(G1078=\"RAID 5\",(((15-H1078)*7448))+(3*(((7-H1078)*3723))),(((14-H1078)*7448))+(3*(((6-H1078)*3723))))","v":189903},{"$f":"(16*8)+(3*(8*4))","v":224},0,{"$f":"475+(3*550)","v":2125},512,{"$error":"#DIV/0!"},0,185.4521484375,{"$error":"#DIV/0!"},0,0,0,0,0,{"$error":"#DIV/0!"},{"$error":"#DIV/0!"},null,null,null,null,null,null,null,null,0,{"$error":"#DIV/0!"},-512,{"$error":"#DIV/0!"},{"$error":"#DIV/0!"}]
[null,null,null,"DIVAR IP 7000 R2 16x8TB + 4x DIVAR IP 6000 R2 8x4TB",null,null,"RAID 5",0,{"$f":"IF(G1079=\"RAID 5\",(((15-H1079)*7448))+(4*(((7-H1079)*3723))),(((14-H1079)*7448))+(4*(((6-H1079)*3723))))","v":215964},{"$f":"(16*8)+(4*(8*4))","v":256},0,{"$f":"475+(4*550)","v":2675},640,{"$error":"#DIV/0!"},0,210.90234375,{"$error":"#DIV/0!"},0,0,0,0,0,{"$error":"#DIV/0!"},{"$error":"#DIV/0!"},null,null,null,null,null,null,null,null,0,{"$error":"#DIV/0!"},-640,{"$error":"#DIV/0!"},{"$error":"#DIV/0!"}]
[null,null,null,"DIVAR IP 7000 R2 16x8TB + 1x DIVAR IP 6000 R2 3U 16x4TB",null,null,"RAID 5",0,{"$f":"IF(G1080=\"RAID 5\",(((15-H1080)*7448))+(1*(((15-H1080)*3723))),(((14-H1080)*7448))+(1*(((14-H1080)*3723))))","v":167565},{"$f":"(16*8)+(1*(16*4))","v":192},0,{"$f":"475+(1*550)","v":1025},256,{"$error":"#DIV/0!"},0,163.6376953125,{"$error":"#DIV/0!"},0,0,0,0,0,{"$error":"#DIV/0!"},{"$error":"#DIV/0!"},null,null,null,null,null,null,null,null,0,{"$error":"#DIV/0!"},-256,{"$error":"#DIV/0!"},{"$error":"#DIV/0!"}]
[null,null,null,"DIVAR IP 7000 R2 16x8TB + 2x DIVAR IP 6000 R2 3U 16x4TB",null,null,"RAID 5",0,{"$f":"IF(G1081=\"RAID 5\",(((15-H1081)*7448))+(2*(((15-H1081)*3723))),(((14-H1081)*7448))+(2*(((14-H1081)*3723))))","v":223410},{"$f":"(16*8)+(2*(16*4))","v":256},0,{"$f":"475+(2*550)","v":1575},384,{"$error":"#DIV/0!"},0,218.173828125,{"$error":"#DIV/0!"},0,0,0,0,0,{"$error":"#DIV/0!"},{"$error":"#DIV/0!"},null,null,null,null,null,null,null,null,0,{"$error":"#DIV/0!"},-384,{"$error":"#DIV/0!"},{"$error":"#DIV/0!"}]
[null,null,null,"DIVAR IP 7000 R2 16x8TB + 3x DIVAR IP 6000 R2 3U 16x4TB",null,null,"RAID 5",0,{"$f":"IF(G1082=\"RAID 5\",(((15-H1082)*7448))+(3*(((15-H1082)*3723))),(((14-H1082)*7448))+(3*(((14-H1082)*3723))))","v":279255},{"$f":"(16*8)+(3*(16*4))","v":320},0,{"$f":"475+(3*550)","v":2125},512,{"$error":"#DIV/0!"},0,272.7099609375,{"$error":"#DIV/0!"},0,0,0,0,0,{"$error":"#DIV/0!"},{"$error":"#DIV/0!"},null,null,null,null,null,null,null,null,0,{"$error":"#DIV/0!"},-512,{"$error":"#DIV/0!"},{"$error":"#DIV/0!"}]
[null,null,null,"DIVAR IP 7000 R2 16x8TB + 4x DIVAR IP 6000 R2 3U 16x4TB",null,null,"RAID 5",0,{"$f":"IF(G1083=\"RAID 5\",(((15-H1083)*7448))+(4*(((15-H1083)*3723))),(((14-H1083)*7448))+(4*(((14-H1083)*3723))))","v":335100},{"$f":"(16*8)+(4*(16*4))","v":384},0,{"$f":"475+(4*550)","v":2675},640,{"$error":"#DIV/0!"},0,327.24609375,{"$error":"#DIV/0!"},0,0,0,0,0,{"$error":"#DIV/0!"},{"$error":"#DIV/0!"},null,null,null,null,null,null,null,null,0,{"$error":"#DIV/0!"},-640,{"$error":"#DIV/0!"},{"$error":"#DIV/0!"}]
[null,null,null,"DIVAR IP 7000 R2 16x8TB + 1x DIVAR IP 6000 R2 8x6TB",null,null,"RAID 5",0,{"$f":"IF(G1084=\"RAID 5\",(((15-H1084)*7448))+(1*(((7-H1084)*5586))),(((14-H1084)*7448))+(1*(((6-H1084)*5586))))","v":150822},{"$f":"(16*8)+(1*(8*6))","v":176},0,{"$f":"475+(1*550)","v":1025},256,{"$error":"#DIV/0!"},0,147.287109375,{"$error":"#DIV/0!"},0,0,0,0,0,{"$error":"#DIV/0!"},{"$error":"#DIV/0!"},null,null,null,null,null,null,null,null,0,{"$error":"#DIV/0!"},-256,{"$error":"#DIV/0!"},{"$error":"#DIV/0!"}]
[null,null,null,"DIVAR IP 7000 R2 16x8TB + 2x DIVAR IP 6000 R2 8x6TB",null,null,"RAID 5",0,{"$f":"IF(G1085=\"RAID 5\",(((15-H1085)*7448))+(2*(((7-H1085)*5586))),(((14-H1085)*7448))+(2*(((6-H1085)*5586))))","v":189924},{"$f":"(16*8)+(2*(8*6))","v":224},0,{"$f":"475+(2*550)","v":1575},384,{"$error":"#DIV/0!"},0,185.47265625,{"$error":"#DIV/0!"},0,0,0,0,0,{"$error":"#DIV/0!"},{"$error":"#DIV/0!"},null,null,null,null,null,null,null,null,0,{"$error":"#DIV/0!"},-384,{"$error":"#DIV/0!"},{"$error":"#DIV/0!"}]
[null,null,null,"DIVAR IP 7000 R2 16x8TB + 3x DIVAR IP 6000 R2 8x6TB",null,null,"RAID 5",0,{"$f":"IF(G1086=\"RAID 5\",(((15-H1086)*7448))+(3*(((7-H1086)*5586))),(((14-H1086)*7448))+(3*(((6-H1086)*5586))))","v":229026},{"$f":"(16*8)+(3*(8*6))","v":272},0,{"$f":"475+(3*550)","v":2125},512,{"$error":"#DIV/0!"},0,223.658203125,{"$error":"#DIV/0!"},0,0,0,0,0,{"$error":"#DIV/0!"},{"$error":"#DIV/0!"},null,null,null,null,null,null,null,null,0,{"$error":"#DIV/0!"},-512,{"$error":"#DIV/0!"},{"$error":"#DIV/0!"}]
[null,null,null,"DIVAR IP 7000 R2 16x8TB + 4x DIVAR IP 6000 R2 8x6TB",null,null,"RAID 5",0,{"$f":"IF(G1087=\"RAID 5\",(((15-H1087)*7448))+(4*(((7-H1087)*5586))),(((14-H1087)*7448))+(4*(((6-H1087)*5586))))","v":268128},{"$f":"(16*8)+(4*(8*6))","v":320},0,{"$f":"475+(4*550)","v":2675},640,{"$error":"#DIV/0!"},0,261.84375,{"$error":"#DIV/0!"},0,0,0,0,0,{"$error":"#DIV/0!"},{"$error":"#DIV/0!"},null,null,null,null,null,null,null,null,0,{"$error":"#DIV/0!"},-640,{"$error":"#DIV/0!"},{"$error":"#DIV/0!"}]
[null,null,null,"DIVAR IP 7000 R2 16x8TB + 1x DIVAR IP 6000 R2 3U 16x6TB",null,null,"RAID 5",0,{"$f":"IF(G1088=\"RAID 5\",(((15-H1088)*7448))+(1*(((15-H1088)*5586))),(((14-H1088)*7448))+(1*(((14-H1088)*5586))))","v":195510},{"$f":"(16*8)+(1*(16*6))","v":224},0,{"$f":"475+(1*550)","v":1025},256,{"$error":"#DIV/0!"},0,190.927734375,{"$error":"#DIV/0!"},0,0,0,0,0,{"$error":"#DIV/0!"},{"$error":"#DIV/0!"},null,null,null,null,null,null,null,null,0,{"$error":"#DIV/0!"},-256,{"$error":"#DIV/0!"},{"$error":"#DIV/0!"}]
[null,null,null,"DIVAR IP 7000 R2 16x8TB + 2x DIVAR IP 6000 R2 3U 16x6TB",null,null,"RAID 5",0,{"$f":"IF(G1089=\"RAID 5\",(((15-H1089)*7448))+(2*(((15-H1089)*5586))),(((14-H1089)*7448))+(2*(((14-H1089)*5586))))","v":279300},{"$f":"(16*8)+(2*(16*6))","v":320},0,{"$f":"475+(2*550)","v":1575},384,{"$error":"#DIV/0!"},0,272.75390625,{"$error":"#DIV/0!"},0,0,0,0,0,{"$error":"#DIV/0!"},{"$error":"#DIV/0!"},null,null,null,null,null,null,null,null,0,{"$error":"#DIV/0!"},-384,{"$error":"#DIV/0!"},{"$error":"#DIV/0!"}]
[null,null,null,"DIVAR IP 7000 R2 16x8TB + 3x DIVAR IP 6000 R2 3U 16x6TB",null,null,"RAID 5",0,{"$f":"IF(G1090=\"RAID 5\",(((15-H1090)*7448))+(3*(((15-H1090)*5586))),(((14-H1090)*7448))+(3*(((14-H1090)*5586))))","v":363090},{"$f":"(16*8)+(3*(16*6))","v":416},0,{"$f":"475+(3*550)","v":2125},512,{"$error":"#DIV/0!"},0,354.580078125,{"$error":"#DIV/0!"},0,0,0,0,0,{"$error":"#DIV/0!"},{"$error":"#DIV/0!"},null,null,null,null,null,null,null,null,0,{"$error":"#DIV/0!"},-512,{"$error":"#DIV/0!"},{"$error":"#DIV/0!"}]
[null,null,null,"DIVAR IP 7000 R2 16x8TB + 4x DIVAR IP 6000 R2 3U 16x6TB",null,null,"RAID 5",0,{"$f":"IF(G1091=\"RAID 5\",(((15-H1091)*7448))+(4*(((15-H1091)*5586))),(((14-H1091)*7448))+(4*(((14-H1091)*5586))))","v":446880},{"$f":"(16*8)+(4*(16*6))","v":512},0,{"$f":"475+(4*550)","v":2675},640,{"$error":"#DIV/0!"},0,436.40625,{"$error":"#DIV/0!"},0,0,0,0,0,{"$error":"#DIV/0!"},{"$error":"#DIV/0!"},null,null,null,null,null,null,null,null,0,{"$error":"#DIV/0!"},-640,{"$error":"#DIV/0!"},{"$error":"#DIV/0!"}]
[null,null,null,"DIVAR IP 7000 R2 16x8TB + 1x DIVAR IP 6000 R2 8x8TB",null,null,"RAID 5",0,{"$f":"IF(G1092=\"RAID 5\",(((15-H1092)*7448))+(1*(((7-H1092)*7448))),(((14-H1092)*7448))+(1*(((6-H1092)*7448))))","v":163856},{"$f":"(16*8)+(1*(8*8))","v":192},{"$f":"O1092*J1092","v":0},{"$f":"475+(1*550)","v":1025},256,{"$error":"#DIV/0!"},0,160.015625,{"$error":"#DIV/0!"},{"$f":"O1092*M1092","v":0},0,{"$f":"O1092*1*MAX($N$1528,1)","v":0},0,0,{"$error":"#DIV/0!"},{"$error":"#DIV/0!"},null,null,null,null,null,null,null,null,0,{"$error":"#DIV/0!"},{"$f":"(O1092-1)*M1092","v":-256},{"$error":"#DIV/0!"},{"$error":"#DIV/0!"}]
[null,null,null,"DIVAR IP 7000 R2 16x8TB + 2x DIVAR IP 6000 R2 8x8TB",null,null,"RAID 5",0,{"$f":"IF(G1093=\"RAID 5\",(((15-H1093)*7448))+(2*(((7-H1093)*7448))),(((14-H1093)*7448))+(2*(((6-H1093)*7448))))","v":215992},{"$f":"(16*8)+(2*(8*8))","v":256},0,{"$f":"475+(2*550)","v":1575},384,{"$error":"#DIV/0!"},0,210.9296875,{"$error":"#DIV/0!"},0,0,0,0,0,{"$error":"#DIV/0!"},{"$error":"#DIV/0!"},null,null,null,null,null,null,null,null,0,{"$error":"#DIV/0!"},-384,{"$error":"#DIV/0!"},{"$error":"#DIV/0!"}]
[null,null,null,"DIVAR IP 7000 R2 16x8TB + 3x DIVAR IP 6000 R2 8x8TB",null,null,"RAID 5",0,{"$f":"IF(G1094=\"RAID 5\",(((15-H1094)*7448))+(3*(((7-H1094)*7448))),(((14-H1094)*7448))+(3*(((6-H1094)*7448))))","v":268128},{"$f":"(16*8)+(3*(8*8))","v":320},0,{"$f":"475+(3*550)","v":2125},512,{"$error":"#DIV/0!"},0,261.84375,{"$error":"#DIV/0!"},0,0,0,0,0,{"$error":"#DIV/0!"},{"$error":"#DIV/0!"},null,null,null,null,null,null,null,null,0,{"$error":"#DIV/0!"},-512,{"$error":"#DIV/0!"},{"$error":"#DIV/0!"}]
[null,null,null,"DIVAR IP 7000 R2 16x8TB + 4x DIVAR IP 6000 R2 8x8TB",null,null,"RAID 5",0,{"$f":"IF(G1095=\"RAID 5\",(((15-H1095)*7448))+(4*(((7-H1095)*7448))),(((14-H1095)*7448))+(4*(((6-H1095)*7448))))","v":320264},{"$f":"(16*8)+(4*(8*8))","v":384},0,{"$f":"475+(4*550)","v":2675},640,{"$error":"#DIV/0!"},0,312.7578125,{"$error":"#DIV/0!"},0,0,0,0,0,{"$error":"#DIV/0!"},{"$error":"#DIV/0!"},null,null,null,null,null,null,null,null,0,{"$error":"#DIV/0!"},-640,{"$error":"#DIV/0!"},{"$error":"#DIV/0!"}]
[null,null,null,"DIVAR IP 7000 R2 16x8TB + 1x DIVAR IP 6000 R2 3U 16x8TB",null,null,"RAID 5",0,{"$f":"IF(G1096=\"RAID 5\",(((15-H1096)*7448))+(1*(((15-H1096)*7448))),(((14-H1096)*7448))+(1*(((14-H1096)*7448))))","v":223440},{"$f":"(16*8)+(1*(16*8))","v":256},0,{"$f":"475+(1*550)","v":1025},{"$f":"128+(1*128)","v":256},{"$error":"#DIV/0!"},0,218.203125,{"$error":"#DIV/0!"},0,0,0,0,0,{"$error":"#DIV/0!"},{"$error":"#DIV/0!"},null,null,null,null,null,null,null,null,0,{"$error":"#DIV/0!"},-256,{"$error":"#DIV/0!"},{"$error":"#DIV/0!"}]
[null,null,null,"DIVAR IP 7000 R2 16x8TB + 2x DIVAR IP 6000 R2 3U 16x8TB",null,null,"RAID 5",0,{"$f":"IF(G1097=\"RAID 5\",(((15-H1097)*7448))+(2*(((15-H1097)*7448))),(((14-H1097)*7448))+(2*(((14-H1097)*7448))))","v":335160},{"$f":"(16*8)+(2*(16*8))","v":384},0,{"$f":"475+(2*550)","v":1575},{"$f":"128+(2*128)","v":384},{"$error":"#DIV/0!"},0,327.3046875,{"$error":"#DIV/0!"},0,0,0,0,0,{"$error":"#DIV/0!"},{"$error":"#DIV/0!"},null,null,null,null,null,null,null,null,0,{"$error":"#DIV/0!"},-384,{"$error":"#DIV/0!"},{"$error":"#DIV/0!"}]
[null,null,null,"DIVAR IP 7000 R2 16x8TB + 3x DIVAR IP 6000 R2 3U 16x8TB",null,null,"RAID 5",0,{"$f":"IF(G1098=\"RAID 5\",(((15-H1098)*7448))+(3*(((15-H1098)*7448))),(((14-H1098)*7448))+(3*(((14-H1098)*7448))))","v":446880},{"$f":"(16*8)+(3*(16*8))","v":512},0,{"$f":"475+(3*550)","v":2125},{"$f":"128+(3*128)","v":512},{"$error":"#DIV/0!"},0,436.40625,{"$error":"#DIV/0!"},0,0,0,0,0,{"$error":"#DIV/0!"},{"$f":"IF(AND(IF($N1098<=$L1098,TRUE,FALSE),IF($V1098<=$R1098,TRUE,FALSE),OR(W1098=\"True\",$W$899=\"No\"),IF($A$906=\"False\",IF(O1098=1,TRUE,FALSE),TRUE)),\"<-- fits project\",\"\")","v":{"$error":"#DIV/0!"}},null,null,null,null,null,null,null,null,0,{"$error":"#DIV/0!"},-512,{"$error":"#DIV/0!"},{"$error":"#DIV/0!"}]
[null,null,null,"DIVAR IP 7000 R2 16x8TB + 4x DIVAR IP 6000 R2 3U 16x8TB",null,null,"RAID 5",0,{"$f":"IF(G1099=\"RAID 5\",(((15-H1099)*7448))+(4*(((15-H1099)*7448))),(((14-H1099)*7448))+(4*(((14-H1099)*7448))))","v":558600},{"$f":"(16*8)+(4*(16*8))","v":640},0,{"$f":"475+(4*550)","v":2675},{"$f":"128+(4*128)","v":640},{"$error":"#DIV/0!"},0,545.5078125,{"$error":"#DIV/0!"},0,0,0,0,0,{"$error":"#DIV/0!"},{"$error":"#DIV/0!"},null,null,null,null,null,null,null,null,0,{"$error":"#DIV/0!"},-640,{"$error":"#DIV/0!"},{"$error":"#DIV/0!"}]
[null,"Target Only mode","3TB","DIVAR IP 6000 R2 4x3TB",null,"DIP-6183-4HD","RAID 5",0,8375,12,0,550,256,{"$f":"I894/O1100","v":{"$error":"#DIV/0!"}},{"$f":"ROUNDUP(G894/I1100,0)","v":0},{"$f":"(1-((G894/$I1100)-INT(G894/$I1100)))*I1100/1024","v":8.1787109375},{"$error":"#DIV/0!"},0,0,0,0,{"$f":"SUM(S1100,T1100,U1100)","v":0},{"$error":"#DIV/0!"},{"$f":"IF(AND(IF($N1100<=$L1100,TRUE,FALSE),IF($V1100<=$R1100,TRUE,FALSE),OR(W1100=\"True\",W899=\"No\")),\"<-- fits project\",\"\")","v":{"$error":"#DIV/0!"}},null,null,null,null,null,null,null,2.5696156064817242,{"$f":"AF1100*O1100","v":0},{"$f":"AG1100/AG1200","v":{"$error":"#DIV/0!"}},-256,{"$f":"IF(O1100>1,I894/(O1100-1),I894/O1100)","v":{"$error":"#DIV/0!"}},{"$error":"#DIV/0!"}]
[null,null,null,"DIVAR IP 6000 R2 8X3TB",null,"DIP-6183-8HD","RAID 5",0,{"$f":"IF(G1101=\"RAID 5\",(7-H1101)*2793,(6-H1101)*2793)","v":19551},24,0,{"$f":"IF(G1101=\"RAID 5\",550,475)","v":550},256,{"$f":"I894/O1101","v":{"$error":"#DIV/0!"}},{"$f":"ROUNDUP(G894/I1101,0)","v":0},{"$f":"(1-((G894/$I1101)-INT(G894/$I1101)))*I1101/1024","v":19.0927734375},{"$error":"#DIV/0!"},0,0,0,0,0,{"$error":"#DIV/0!"},{"$f":"IF(AND(IF($N1101<=$L1101,TRUE,FALSE),IF($V1101<=$R1101,TRUE,FALSE),OR(W1101=\"True\",W899=\"No\")),\"<-- fits project\",\"\")","v":{"$error":"#DIV/0!"}},null,null,null,null,null,null,null,3.4417772300592584,0,{"$f":"AG1101/AG1200","v":{"$error":"#DIV/0!"}},-256,{"$f":"IF(O1101>1,I894/(O1101-1),I894/O1101)","v":{"$error":"#DIV/0!"}},{"$error":"#DIV/0!"},null,null,null,null,null,null,{"$f":"IF(G1101=\"RAID 6\",0,0)","v":0},{"$f":"IF(G1101=\"RAID 6\",0,1)","v":1}]
[null,null,null,"DIVAR IP 6000 R2 3U 16x3TB",null,"DIP-61F3-16HD","RAID 5",0,{"$f":"IF(G1102=\"RAID 5\",(15-H1102)*2792,(14-H1102)*2792)","v":41880},48,0,{"$f":"IF(G1102=\"RAID 5\",550,475)","v":550},256,{"$f":"I894/O1102","v":{"$error":"#DIV/0!"}},{"$f":"ROUNDUP(G894/I1102,0)","v":0},{"$f":"(1-((G894/$I1102)-INT(G894/$I1102)))*I1102/1024","v":40.8984375},{"$error":"#DIV/0!"},0,0,0,0,0,{"$error":"#DIV/0!"},{"$f":"IF(AND(IF($N1102<=$L1102,TRUE,FALSE),IF($V1102<=$R1102,TRUE,FALSE),OR(W1102=\"True\",W899=\"No\")),\"<-- fits project\",\"\")","v":{"$error":"#DIV/0!"}},null,null,null,null,null,null,null,5.213304315905396,0,{"$f":"AG1102/AG1200","v":{"$error":"#DIV/0!"}},-256,{"$f":"IF(O1102>1,I894/(O1102-1),I894/O1102)","v":{"$error":"#DIV/0!"}},{"$error":"#DIV/0!"},null,null,null,null,null,null,{"$f":"IF(G1102=\"RAID 6\",0,0)","v":0},{"$f":"IF(G1102=\"RAID 6\",0,1)","v":1}]
[null,null,"4TB","DIVAR IP 6000 R2 4x4TB",null,"DIP-6184-4HD","RAID 5",0,11170,16,0,550,256,{"$f":"I894/O1103","v":{"$error":"#DIV/0!"}},{"$f":"ROUNDUP(G894/I1103,0)","v":0},{"$f":"(1-((G894/$I1103)-INT(G894/$I1103)))*I1103/1024","v":10.908203125},{"$error":"#DIV/0!"},0,0,0,0,0,{"$error":"#DIV/0!"},{"$f":"IF(AND(IF($N1103<=$L1103,TRUE,FALSE),IF($V1103<=$R1103,TRUE,FALSE),OR(W1103=\"True\",W899=\"No\")),\"<-- fits project\",\"\")","v":{"$error":"#DIV/0!"}},null,null,null,null,null,null,null,2.6866248885625885,0,{"$f":"AG1103/AG1200","v":{"$error":"#DIV/0!"}},-256,{"$f":"IF(O1103>1,I894/(O1103-1),I894/O1103)","v":{"$error":"#DIV/0!"}},{"$error":"#DIV/0!"}]
[null,null,null,"DIVAR IP 6000 R2 8x4TB",null,"DIP-6184-8HD","RAID 5",0,{"$f":"IF(G1104=\"RAID 5\",(7-H1104)*3723,(6-H1104)*3723)","v":26061},32,0,{"$f":"IF(G1104=\"RAID 5\",550,475)","v":550},256,{"$f":"I894/O1104","v":{"$error":"#DIV/0!"}},{"$f":"ROUNDUP(G894/I1104,0)","v":0},{"$f":"(1-((G894/$I1104)-INT(G894/$I1104)))*I1104/1024","v":25.4501953125},{"$error":"#DIV/0!"},0,0,0,0,0,{"$error":"#DIV/0!"},{"$f":"IF(AND(IF($N1104<=$L1104,TRUE,FALSE),IF($V1104<=$R1104,TRUE,FALSE),OR(W1104=\"True\",W899=\"No\")),\"<-- fits project\",\"\")","v":{"$error":"#DIV/0!"}},null,null,null,null,null,null,null,3.6403980282133306,0,{"$f":"AG1104/AG1200","v":{"$error":"#DIV/0!"}},-256,{"$f":"IF(O1104>1,I894/(O1104-1),I894/O1104)","v":{"$error":"#DIV/0!"}},{"$error":"#DIV/0!"},null,null,null,null,null,null,{"$f":"IF(G1104=\"RAID 6\",0,0)","v":0},{"$f":"IF(G1104=\"RAID 6\",0,1)","v":1}]
[null,null,null,"DIVAR IP 6000 R2 3U 16x4TB",null,"DIP-61F4-16HD","RAID 5",0,{"$f":"IF(G1105=\"RAID 5\",(15-H1105)*3723,(14-H1105)*3723)","v":55845},64,0,{"$f":"IF(G1105=\"RAID 5\",550,475)","v":550},256,{"$f":"$I$894/O1105","v":{"$error":"#DIV/0!"}},{"$f":"ROUNDUP($G$894/I1105,0)","v":0},{"$f":"(1-(($G$894/$I1105)-INT($G$894/$I1105)))*I1105/1024","v":54.5361328125},{"$error":"#DIV/0!"},0,0,0,0,0,{"$error":"#DIV/0!"},{"$f":"IF(AND(IF($N1105<=$L1105,TRUE,FALSE),IF($V1105<=$R1105,TRUE,FALSE),OR(W1105=\"True\",$W$899=\"No\")),\"<-- fits project\",\"\")","v":{"$error":"#DIV/0!"}},null,null,null,null,null,null,null,5.5250013110283707,0,{"$f":"AG1105/$AG$1200","v":{"$error":"#DIV/0!"}},-256,{"$f":"IF(O1105>1,$I$894/(O1105-1),$I$894/O1105)","v":{"$error":"#DIV/0!"}},{"$error":"#DIV/0!"},null,null,null,null,null,null,{"$f":"IF(G1105=\"RAID 6\",0,0)","v":0},{"$f":"IF(G1105=\"RAID 6\",0,1)","v":1}]
[null,null,"6TB","DIVAR IP 6000 R2 8X6TB",null,"DIP-6186-8HD","RAID 5",0,{"$f":"IF(G1106=\"RAID 5\",(7-H1106)*5586,(6-H1106)*5586)","v":39102},{"$f":"8*6","v":48},0,550,256,{"$f":"$I$894/O1106","v":{"$error":"#DIV/0!"}},{"$f":"ROUNDUP($G$894/I1106,0)","v":0},{"$f":"(1-(($G$894/$I1106)-INT($G$894/$I1106)))*I1106/1024","v":38.185546875},{"$error":"#DIV/0!"},0,0,0,0,0,{"$error":"#DIV/0!"},{"$f":"IF(AND(IF($N1106<=$L1106,TRUE,FALSE),IF($V1106<=$R1106,TRUE,FALSE),OR(W1106=\"True\",$W$899=\"No\")),\"<-- fits project\",\"\")","v":{"$error":"#DIV/0!"}},null,null,null,null,null,null,null,null,0,{"$f":"AG1106/$AG$1200","v":{"$error":"#DIV/0!"}},-256,{"$f":"IF(O1106>1,$I$894/(O1106-1),$I$894/O1106)","v":{"$error":"#DIV/0!"}},{"$error":"#DIV/0!"}]
[null,null,null,"DIVAR IP 6000 R2 3U 16x6TB",null,"DIP-61F6-16HD","RAID 5",0,{"$f":"IF(G1107=\"RAID 5\",(15-H1107)*5586,(14-H1107)*5586)","v":83790},{"$f":"16*6","v":96},0,550,256,{"$f":"$I$894/O1107","v":{"$error":"#DIV/0!"}},{"$f":"ROUNDUP($G$894/I1107,0)","v":0},{"$f":"(1-(($G$894/$I1107)-INT($G$894/$I1107)))*I1107/1024","v":81.826171875},{"$error":"#DIV/0!"},0,0,0,{"$f":"$S$259*MIN(O1107,$S$260)","v":0},0,{"$error":"#DIV/0!"},{"$f":"IF(AND(IF($N1107<=$L1107,TRUE,FALSE),IF($V1107<=$R1107,TRUE,FALSE),OR(W1107=\"True\",$W$899=\"No\")),\"<-- fits project\",\"\")","v":{"$error":"#DIV/0!"}},null,null,null,null,null,null,null,null,0,{"$f":"AG1107/$AG$1200","v":{"$error":"#DIV/0!"}},-256,{"$f":"IF(O1107>1,$I$894/(O1107-1),$I$894/O1107)","v":{"$error":"#DIV/0!"}},{"$f":"IF(X1107=\"<-- fits project\",D1107,\"\")","v":{"$error":"#DIV/0!"}}]
[null,null,"8TB","DIVAR IP 6000 R2 8X8TB",null,"DIP-6188-8HD","RAID 5",0,{"$f":"IF(G1108=\"RAID 5\",(7-H1108)*7448,(6-H1108)*7448)","v":52136},{"$f":"8*8","v":64},0,550,256,{"$f":"$I$894/O1108","v":{"$error":"#DIV/0!"}},{"$f":"ROUNDUP($G$894/I1108,0)","v":0},{"$f":"(1-(($G$894/$I1108)-INT($G$894/$I1108)))*I1108/1024","v":50.9140625},{"$error":"#DIV/0!"},0,0,0,0,0,{"$error":"#DIV/0!"},{"$f":"IF(AND(IF($N1108<=$L1108,TRUE,FALSE),IF($V1108<=$R1108,TRUE,FALSE),OR(W1108=\"True\",$W$899=\"No\")),\"<-- fits project\",\"\")","v":{"$error":"#DIV/0!"}},null,null,null,null,null,null,null,null,0,{"$f":"AG1108/$AG$1200","v":{"$error":"#DIV/0!"}},-256,{"$f":"IF(O1108>1,$I$894/(O1108-1),$I$894/O1108)","v":{"$error":"#DIV/0!"}},{"$error":"#DIV/0!"}]
[null,null,null,"DIVAR IP 6000 R2 3U 16x8TB",null,"DIP-61F8-16HD","RAID 5",0,{"$f":"IF(G1109=\"RAID 5\",(15-H1109)*7448,(14-H1109)*7448)","v":111720},{"$f":"16*8","v":128},0,550,256,{"$f":"$I$894/O1109","v":{"$error":"#DIV/0!"}},{"$f":"ROUNDUP($G$894/I1109,0)","v":0},{"$f":"(1-(($G$894/$I1109)-INT($G$894/$I1109)))*I1109/1024","v":109.1015625},{"$error":"#DIV/0!"},0,0,0,0,0,{"$error":"#DIV/0!"},{"$f":"IF(AND(IF($N1109<=$L1109,TRUE,FALSE),IF($V1109<=$R1109,TRUE,FALSE),OR(W1109=\"True\",$W$899=\"No\")),\"<-- fits project\",\"\")","v":{"$error":"#DIV/0!"}},null,null,null,null,null,null,null,null,0,{"$f":"AG1109/$AG$1200","v":{"$error":"#DIV/0!"}},-256,{"$f":"IF(O1109>1,$I$894/(O1109-1),$I$894/O1109)","v":{"$error":"#DIV/0!"}},{"$error":"#DIV/0!"}]
[0,null,null,"EOL E-Series Base Unit, 12 x 2 TB",null,"DSA-N2E7X2-12AT","RAID 5",0,{"$f":"IF(G1110=\"RAID 5\",(11-H1110)*1862,(10-H1110)*1862)","v":20482},24,0,1050,800,{"$f":"I894/O1110","v":{"$error":"#DIV/0!"}},{"$f":"ROUNDUP(G894/I1110,0)","v":0},{"$f":"(1-((G894/$I1110)-INT(G894/$I1110)))*I1110/1024","v":20.001953125},{"$error":"#DIV/0!"},0,0,0,{"$f":"$S$259*MIN(O1110,S897)","v":0},0,{"$error":"#DIV/0!"},{"$f":"IF(AND(IF($N1110<=$L1110,TRUE,FALSE),IF($V1110<=$R1110,TRUE,FALSE),OR(W1110=\"True\",W899=\"No\")),\"<-- fits project\",\"\")","v":{"$error":"#DIV/0!"}},null,null,null,null,null,null,null,5.1923278619749329,0,{"$f":"AG1110/AG1200","v":{"$error":"#DIV/0!"}},-800,{"$f":"IF(O1110>1,I894/(O1110-1),I894/O1110)","v":{"$error":"#DIV/0!"}},{"$f":"IF(X1110=\"<-- fits project\",D1110,\"\")","v":{"$error":"#DIV/0!"}}]
[1,null,null,"EOL E-Series Base + 1x Expansion Unit, 24x2TB",null,"DSA‑N2E7X2‑12AT + 1x DSX‑N1D6X2‑12AT","RAID 5",0,{"$f":"IF(G1111=\"RAID 5\",(11-H1111)*1862,(10-H1111)*1862)+IF(G1111=\"RAID 5\",(11-H1111)*1862,(10-H1111)*1862)*A1111","v":40964},48,0,1050,800,{"$f":"I894/O1111","v":{"$error":"#DIV/0!"}},{"$f":"ROUNDUP(G894/I1111,0)","v":0},{"$f":"(1-((G894/$I1111)-INT(G894/$I1111)))*I1111/1024","v":40.00390625},{"$error":"#DIV/0!"},0,0,0,{"$f":"$S$259*MIN(O1111,S897)","v":0},0,{"$error":"#DIV/0!"},{"$f":"IF(AND(IF($N1111<=$L1111,TRUE,FALSE),IF($V1111<=$R1111,TRUE,FALSE),OR(W1111=\"True\",W899=\"No\")),\"<-- fits project\",\"\")","v":{"$error":"#DIV/0!"}},null,null,null,null,null,null,null,10.031005820965966,0,{"$f":"AG1111/AG1200","v":{"$error":"#DIV/0!"}},-800,{"$f":"IF(O1111>1,I894/(O1111-1),I894/O1111)","v":{"$error":"#DIV/0!"}},{"$error":"#DIV/0!"}]
[2,null,null,"EOL E-Series Base + 2x Expansion Unit, 36x2TB",null,"DSA‑N2E7X2‑12AT + 2x DSX‑N1D6X2‑12AT","RAID 5",0,61446,72,0,1050,800,{"$f":"I894/O1112","v":{"$error":"#DIV/0!"}},{"$f":"ROUNDUP(G894/I1112,0)","v":0},{"$f":"(1-((G894/$I1112)-INT(G894/$I1112)))*I1112/1024","v":60.005859375},{"$error":"#DIV/0!"},0,0,0,{"$f":"$S$259*MIN(O1112,S897)","v":0},0,{"$error":"#DIV/0!"},{"$f":"IF(AND(IF($N1112<=$L1112,TRUE,FALSE),IF($V1112<=$R1112,TRUE,FALSE),OR(W1112=\"True\",W899=\"No\")),\"<-- fits project\",\"\")","v":{"$error":"#DIV/0!"}},null,null,null,null,null,null,null,15.223333682940899,0,{"$f":"AG1112/AG1200","v":{"$error":"#DIV/0!"}},-800,{"$f":"IF(O1112>1,I894/(O1112-1),I894/O1112)","v":{"$error":"#DIV/0!"}},{"$error":"#DIV/0!"}]
[3,null,null,"EOL E-Series Base + 3x Expansion Unit, 48x2TB",null,"DSA‑N2E7X2‑12AT + 3x DSX‑N1D6X2‑12AT","RAID 5",0,81928,92,0,1050,800,{"$f":"I894/O1113","v":{"$error":"#DIV/0!"}},{"$f":"ROUNDUP(G894/I1113,0)","v":0},{"$f":"(1-((G894/$I1113)-INT(G894/$I1113)))*I1113/1024","v":80.0078125},{"$error":"#DIV/0!"},0,0,0,{"$f":"$S$259*MIN(O1113,S897)","v":0},0,{"$error":"#DIV/0!"},{"$f":"IF(AND(IF($N1113<=$L1113,TRUE,FALSE),IF($V1113<=$R1113,TRUE,FALSE),OR(W1113=\"True\",W899=\"No\")),\"<-- fits project\",\"\")","v":{"$error":"#DIV/0!"}},null,null,null,null,null,null,null,20.415661544915832,0,{"$f":"AG1113/AG1200","v":{"$error":"#DIV/0!"}},-800,{"$f":"IF(O1113>1,I894/(O1113-1),I894/O1113)","v":{"$error":"#DIV/0!"}},{"$error":"#DIV/0!"}]
[4,null,null,"EOL E-Series Base + 4x Expansion Unit, 60x2TB",null,"DSA‑N2E7X2‑12AT + 4x DSX‑N1D6X2‑12AT","RAID 5",0,102410,120,0,1050,800,{"$f":"I894/O1114","v":{"$error":"#DIV/0!"}},{"$f":"ROUNDUP(G894/I1114,0)","v":0},{"$f":"(1-((G894/$I1114)-INT(G894/$I1114)))*I1114/1024","v":100.009765625},{"$error":"#DIV/0!"},0,0,0,{"$f":"$S$259*MIN(O1114,S897)","v":0},0,{"$error":"#DIV/0!"},{"$f":"IF(AND(IF($N1114<=$L1114,TRUE,FALSE),IF($V1114<=$R1114,TRUE,FALSE),OR(W1114=\"True\",W899=\"No\")),\"<-- fits project\",\"\")","v":{"$error":"#DIV/0!"}},null,null,null,null,null,null,null,25.607989406890766,0,{"$f":"AG1114/AG1200","v":{"$error":"#DIV/0!"}},-800,{"$f":"IF(O1114>1,I894/(O1114-1),I894/O1114)","v":{"$error":"#DIV/0!"}},{"$error":"#DIV/0!"}]
[5,null,null,"EOL E-Series Base + 5x Expansion Unit, 72x2TB",null,"DSA‑N2E7X2‑12AT + 5x DSX‑N1D6X2‑12AT","RAID 5",0,122892,144,0,1050,800,{"$f":"I894/O1115","v":{"$error":"#DIV/0!"}},{"$f":"ROUNDUP(G894/I1115,0)","v":0},{"$f":"(1-((G894/$I1115)-INT(G894/$I1115)))*I1115/1024","v":120.01171875},{"$error":"#DIV/0!"},0,0,0,{"$f":"$S$259*MIN(O1115,S897)","v":0},0,{"$error":"#DIV/0!"},{"$f":"IF(AND(IF($N1115<=$L1115,TRUE,FALSE),IF($V1115<=$R1115,TRUE,FALSE),OR(W1115=\"True\",W899=\"No\")),\"<-- fits project\",\"\")","v":{"$error":"#DIV/0!"}},null,null,null,null,null,null,null,30.800317268865697,0,{"$f":"AG1115/AG1200","v":{"$error":"#DIV/0!"}},-800,{"$f":"IF(O1115>1,I894/(O1115-1),I894/O1115)","v":{"$error":"#DIV/0!"}},{"$error":"#DIV/0!"}]
[6,null,null,"EOL E-Series Base + 6x Expansion Unit, 84x2TB",null,"DSA‑N2E7X2‑12AT + 6x DSX‑N1D6X2‑12AT","RAID 5",0,143374,168,0,1050,800,{"$f":"I894/O1116","v":{"$error":"#DIV/0!"}},{"$f":"ROUNDUP(G894/I1116,0)","v":0},{"$f":"(1-((G894/$I1116)-INT(G894/$I1116)))*I1116/1024","v":140.013671875},{"$error":"#DIV/0!"},0,0,0,{"$f":"$S$259*MIN(O1116,S897)","v":0},0,{"$error":"#DIV/0!"},{"$f":"IF(AND(IF($N1116<=$L1116,TRUE,FALSE),IF($V1116<=$R1116,TRUE,FALSE),OR(W1116=\"True\",W899=\"No\")),\"<-- fits project\",\"\")","v":{"$error":"#DIV/0!"}},null,null,null,null,null,null,null,35.992645130840629,0,{"$f":"AG1116/AG1200","v":{"$error":"#DIV/0!"}},-800,{"$f":"IF(O1116>1,I894/(O1116-1),I894/O1116)","v":{"$error":"#DIV/0!"}},{"$error":"#DIV/0!"}]
[7,null,null,"EOL E-Series Base + 7x Expansion Unit, 96x2TB",null,"DSA‑N2E7X2‑12AT + 7x DSX‑N1D6X2‑12AT","RAID 5",0,163856,192,0,1050,800,{"$f":"I894/O1117","v":{"$error":"#DIV/0!"}},{"$f":"ROUNDUP(G894/I1117,0)","v":0},{"$f":"(1-((G894/$I1117)-INT(G894/$I1117)))*I1117/1024","v":160.015625},{"$f":"AH1117","v":{"$error":"#DIV/0!"}},0,0,0,{"$f":"$S$259*MIN(O1117,S897)","v":0},{"$f":"SUM(S1117,T1117,U1117)","v":0},{"$error":"#DIV/0!"},{"$f":"IF(AND(IF($N1117<=$L1117,TRUE,FALSE),IF($V1117<=$R1117,TRUE,FALSE),OR(W1117=\"True\",W899=\"No\")),\"<-- fits project\",\"\")","v":{"$error":"#DIV/0!"}},null,null,null,null,null,null,null,41.184972992815567,0,{"$f":"AG1117/AG1200","v":{"$error":"#DIV/0!"}},-800,{"$f":"IF(O1117>1,I894/(O1117-1),I894/O1117)","v":{"$error":"#DIV/0!"}},{"$error":"#DIV/0!"}]
[0,null,"3TB","EOL E-Series Base Unit, 12 x 3 TB",null,"DSA‑N2E7X3‑12AT","RAID 5",0,{"$f":"IF(G1118=\"RAID 5\",(11-H1118)*2794,(10-H1118)*2794)","v":30734},36,0,650,800,{"$f":"I894/O1118","v":{"$error":"#DIV/0!"}},{"$f":"ROUNDUP(G894/I1118,0)","v":0},{"$f":"(1-((G894/$I1118)-INT(G894/$I1118)))*I1118/1024","v":30.013671875},{"$f":"AH1118","v":{"$error":"#DIV/0!"}},0,0,0,{"$f":"$S$259*MIN(O1118,S897)","v":0},{"$f":"SUM(S1118,T1118,U1118)","v":0},{"$error":"#DIV/0!"},{"$f":"IF(AND(IF($N1118<=$L1118,TRUE,FALSE),IF($V1118<=$R1118,TRUE,FALSE),OR(W1118=\"True\",W899=\"No\")),\"<-- fits project\",\"\")","v":{"$error":"#DIV/0!"}},null,null,null,null,null,null,null,6.2624547695212129,0,{"$f":"AG1118/AG1200","v":{"$error":"#DIV/0!"}},-800,{"$f":"IF(O1118>1,I894/(O1118-1),I894/O1118)","v":{"$error":"#DIV/0!"}},{"$error":"#DIV/0!"}]
[1,null,null,"EOL E-Series Base + 1x Expansion Unit, 24x3TB",null,"DSA‑N2E7X3‑12AT + 1x DSX‑N1D6X3‑12AT","RAID 5",0,{"$f":"IF(G1119=\"RAID 5\",(11-H1119)*2794,(10-H1119)*2794)+IF(G1119=\"RAID 5\",(11-H1119)*2794,(10-H1119)*2794)*A1119","v":61468},{"$f":"36+A1119*36","v":72},0,1050,800,{"$f":"I894/O1119","v":{"$error":"#DIV/0!"}},{"$f":"ROUNDUP(G894/I1119,0)","v":0},{"$f":"(1-((G894/$I1119)-INT(G894/$I1119)))*I1119/1024","v":60.02734375},{"$error":"#DIV/0!"},0,0,0,{"$f":"$S$259*MIN(O1119,S897)","v":0},0,{"$error":"#DIV/0!"},{"$f":"IF(AND(IF($N1119<=$L1119,TRUE,FALSE),IF($V1119<=$R1119,TRUE,FALSE),OR(W1119=\"True\",W899=\"No\")),\"<-- fits project\",\"\")","v":{"$error":"#DIV/0!"}},null,null,null,null,null,null,null,11.704533536105721,0,{"$f":"AG1119/AG1200","v":{"$error":"#DIV/0!"}},-800,{"$f":"IF(O1119>1,I894/(O1119-1),I894/O1119)","v":{"$error":"#DIV/0!"}},{"$error":"#DIV/0!"}]
[2,null,null,"EOL E-Series Base + 2x Expansion Unit, 36x3TB",null,"DSA‑N2E7X3‑12AT + 2x DSX‑N1D6X3‑12AT","RAID 5",0,92202,108,0,1050,800,{"$f":"I894/O1120","v":{"$error":"#DIV/0!"}},{"$f":"ROUNDUP(G894/I1120,0)","v":0},{"$f":"(1-((G894/$I1120)-INT(G894/$I1120)))*I1120/1024","v":90.041015625},{"$error":"#DIV/0!"},0,0,0,{"$f":"$S$259*MIN(O1120,S897)","v":0},0,{"$error":"#DIV/0!"},{"$f":"IF(AND(IF($N1120<=$L1120,TRUE,FALSE),IF($V1120<=$R1120,TRUE,FALSE),OR(W1120=\"True\",W899=\"No\")),\"<-- fits project\",\"\")","v":{"$error":"#DIV/0!"}},null,null,null,null,null,null,null,17.966988305626934,0,{"$f":"AG1120/AG1200","v":{"$error":"#DIV/0!"}},-800,{"$f":"IF(O1120>1,I894/(O1120-1),I894/O1120)","v":{"$error":"#DIV/0!"}},{"$error":"#DIV/0!"}]
[3,null,null,"EOL E-Series Base + 3x Expansion Unit, 48X3TB",null,"DSA‑N2E7X3‑12AT + 3x DSX‑N1D6X3‑12AT","RAID 5",0,122936,144,0,1050,800,{"$f":"I894/O1121","v":{"$error":"#DIV/0!"}},{"$f":"ROUNDUP(G894/I1121,0)","v":0},{"$f":"(1-((G894/$I1121)-INT(G894/$I1121)))*I1121/1024","v":120.0546875},{"$error":"#DIV/0!"},0,0,0,{"$f":"$S$259*MIN(O1121,S897)","v":0},0,{"$error":"#DIV/0!"},{"$f":"IF(AND(IF($N1121<=$L1121,TRUE,FALSE),IF($V1121<=$R1121,TRUE,FALSE),OR(W1121=\"True\",W899=\"No\")),\"<-- fits project\",\"\")","v":{"$error":"#DIV/0!"}},null,null,null,null,null,null,null,24.229443075148147,0,{"$f":"AG1121/AG1200","v":{"$error":"#DIV/0!"}},-800,{"$f":"IF(O1121>1,I894/(O1121-1),I894/O1121)","v":{"$error":"#DIV/0!"}},{"$error":"#DIV/0!"}]
[4,null,null,"EOL E-Series Base + 4x Expansion Unit, 60x3TB",null,"DSA‑N2E7X3‑12AT + 4x DSX‑N1D6X3‑12AT","RAID 5",0,153670,180,0,1050,800,{"$f":"I894/O1122","v":{"$error":"#DIV/0!"}},{"$f":"ROUNDUP(G894/I1122,0)","v":0},{"$f":"(1-((G894/$I1122)-INT(G894/$I1122)))*I1122/1024","v":150.068359375},{"$error":"#DIV/0!"},0,0,0,{"$f":"$S$259*MIN(O1122,S897)","v":0},0,{"$error":"#DIV/0!"},{"$f":"IF(AND(IF($N1122<=$L1122,TRUE,FALSE),IF($V1122<=$R1122,TRUE,FALSE),OR(W1122=\"True\",W899=\"No\")),\"<-- fits project\",\"\")","v":{"$error":"#DIV/0!"}},null,null,null,null,null,null,null,30.49189784466936,0,{"$f":"AG1122/AG1200","v":{"$error":"#DIV/0!"}},-800,{"$f":"IF(O1122>1,I894/(O1122-1),I894/O1122)","v":{"$error":"#DIV/0!"}},{"$error":"#DIV/0!"}]
[5,null,null,"EOL E-Series Base + 5x Expansion Unit, 72x3TB",null,"DSA‑N2E7X3‑12AT + 5x DSX‑N1D6X3‑12AT","RAID 5",0,184404,216,0,1050,800,{"$f":"I894/O1123","v":{"$error":"#DIV/0!"}},{"$f":"ROUNDUP(G894/I1123,0)","v":0},{"$f":"(1-((G894/$I1123)-INT(G894/$I1123)))*I1123/1024","v":180.08203125},{"$error":"#DIV/0!"},0,0,0,{"$f":"$S$259*MIN(O1123,S897)","v":0},0,{"$f":"IF(AND(IF($AJ1123<=$L1123,TRUE,FALSE),IF($V1123<=$AI1123,TRUE,FALSE)),\"True\",\"\")","v":{"$error":"#DIV/0!"}},{"$f":"IF(AND(IF($N1123<=$L1123,TRUE,FALSE),IF($V1123<=$R1123,TRUE,FALSE),OR(W1123=\"True\",W899=\"No\")),\"<-- fits project\",\"\")","v":{"$error":"#DIV/0!"}},null,null,null,null,null,null,null,36.754352614190573,0,{"$f":"AG1123/AG1200","v":{"$error":"#DIV/0!"}},-800,{"$f":"IF(O1123>1,I894/(O1123-1),I894/O1123)","v":{"$error":"#DIV/0!"}},{"$error":"#DIV/0!"}]
[6,null,null,"EOL E-Series Base + 6x Expansion Unit, 84x3TB",null,"DSA‑N2E7X3‑12AT + 6x DSX‑N1D6X3‑12AT","RAID 5",0,215138,252,0,1050,800,{"$f":"I894/O1124","v":{"$error":"#DIV/0!"}},{"$f":"ROUNDUP(G894/I1124,0)","v":0},{"$f":"(1-((G894/$I1124)-INT(G894/$I1124)))*I1124/1024","v":210.095703125},{"$error":"#DIV/0!"},0,{"$f":"IF($O1124>7,OFFSET($K$255,0,$L$894),OFFSET($K$248,O1124-1,$L$894,1,1))","v":0},0,{"$f":"$S$259*MIN(O1124,S897)","v":0},0,{"$error":"#DIV/0!"},{"$f":"IF(AND(IF($N1124<=$L1124,TRUE,FALSE),IF($V1124<=$R1124,TRUE,FALSE),OR(W1124=\"True\",W899=\"No\")),\"<-- fits project\",\"\")","v":{"$error":"#DIV/0!"}},null,null,null,null,null,null,null,43.016807383711786,0,{"$f":"AG1124/AG1200","v":{"$error":"#DIV/0!"}},-800,{"$f":"IF(O1124>1,I894/(O1124-1),I894/O1124)","v":{"$error":"#DIV/0!"}},{"$error":"#DIV/0!"}]
[7,null,null,"EOL E-Series Base + 7x Expansion Unit, 96x3TB",null,"DSA‑N2E7X3‑12AT + 7x DSX‑N1D6X3‑12AT","RAID 5",0,245872,288,0,1050,800,{"$f":"I894/O1125","v":{"$error":"#DIV/0!"}},{"$f":"ROUNDUP(G894/I1125,0)","v":0},{"$f":"(1-((G894/$I1125)-INT(G894/$I1125)))*I1125/1024","v":240.109375},{"$f":"AH1125","v":{"$error":"#DIV/0!"}},0,0,0,{"$f":"$S$259*MIN(O1125,S897)","v":0},0,{"$error":"#DIV/0!"},{"$f":"IF(AND(IF($N1125<=$L1125,TRUE,FALSE),IF($V1125<=$R1125,TRUE,FALSE),OR(W1125=\"True\",W899=\"No\")),\"<-- fits project\",\"\")","v":{"$error":"#DIV/0!"}},null,null,null,null,null,null,null,49.279262153232999,0,{"$f":"AG1125/AG1200","v":{"$error":"#DIV/0!"}},-800,{"$f":"IF(O1125>1,I894/(O1125-1),I894/O1125)","v":{"$error":"#DIV/0!"}},{"$error":"#DIV/0!"}]
[0,null,"4TB","EOL E-Series Base Unit, 12 x 4 TB",null,"DSA‑N2E7X4‑12AT","RAID 5",0,{"$f":"IF(G1126=\"RAID 5\",(11-H1126)*3725,(10-H1126)*3725)","v":40975},48,0,650,800,{"$f":"I894/O1126","v":{"$error":"#DIV/0!"}},{"$f":"ROUNDUP(G894/I1126,0)","v":0},{"$f":"(1-((G894/$I1126)-INT(G894/$I1126)))*I1126/1024","v":40.0146484375},{"$f":"AH1126","v":{"$error":"#DIV/0!"}},0,0,0,{"$f":"$S$259*MIN(O1126,S897)","v":0},0,{"$error":"#DIV/0!"},{"$f":"IF(AND(IF($N1126<=$L1126,TRUE,FALSE),IF($V1126<=$R1126,TRUE,FALSE),OR(W1126=\"True\",W899=\"No\")),\"<-- fits project\",\"\")","v":{"$error":"#DIV/0!"}},null,null,null,null,null,null,null,7.1516597619172479,0,{"$f":"AG1126/AG1200","v":{"$error":"#DIV/0!"}},-800,{"$f":"IF(O1126>1,I894/(O1126-1),I894/O1126)","v":{"$error":"#DIV/0!"}},{"$error":"#DIV/0!"}]
[1,null,null,"EOL E-Series Base + 1x Expansion Unit, 24x4TB",null,"DSA‑N2E7X4‑12AT + 1x DSX‑N1D6X4‑12AT","RAID 5",0,{"$f":"IF(G1127=\"RAID 5\",(11-H1127)*3725,(10-H1127)*3725)+IF(G1127=\"RAID 5\",(11-H1127)*3725,(10-H1127)*3725)*A1127","v":81950},{"$f":"48+A1127*48","v":96},0,1050,800,{"$f":"I894/O1127","v":{"$error":"#DIV/0!"}},{"$f":"ROUNDUP(G894/I1127,0)","v":0},{"$f":"(1-((G894/$I1127)-INT(G894/$I1127)))*I1127/1024","v":80.029296875},{"$error":"#DIV/0!"},0,0,0,{"$f":"$S$259*MIN(O1127,S897)","v":0},0,{"$error":"#DIV/0!"},{"$f":"IF(AND(IF($N1127<=$L1127,TRUE,FALSE),IF($V1127<=$R1127,TRUE,FALSE),OR(W1127=\"True\",W899=\"No\")),\"<-- fits project\",\"\")","v":{"$error":"#DIV/0!"}},null,null,null,null,null,null,null,13.428535843515654,0,{"$f":"AG1127/AG1200","v":{"$error":"#DIV/0!"}},-800,{"$f":"IF(O1127>1,I894/(O1127-1),I894/O1127)","v":{"$error":"#DIV/0!"}},{"$error":"#DIV/0!"}]
[2,null,null,"EOL E-Series Base + 2x Expansion Unit, 36x4TB",null,"DSA‑N2E7X4‑12AT + 2x DSX‑N1D6X4‑12AT","RAID 5",0,122925,144,0,1050,800,{"$f":"I894/O1128","v":{"$error":"#DIV/0!"}},{"$f":"ROUNDUP(G894/I1128,0)","v":0},{"$f":"(1-((G894/$I1128)-INT(G894/$I1128)))*I1128/1024","v":120.0439453125},{"$error":"#DIV/0!"},0,0,0,{"$f":"$S$259*MIN(O1128,S897)","v":0},0,{"$error":"#DIV/0!"},{"$f":"IF(AND(IF($N1128<=$L1128,TRUE,FALSE),IF($V1128<=$R1128,TRUE,FALSE),OR(W1128=\"True\",W899=\"No\")),\"<-- fits project\",\"\")","v":{"$error":"#DIV/0!"}},null,null,null,null,null,null,null,20.580195605432902,0,{"$f":"AG1128/AG1200","v":{"$error":"#DIV/0!"}},-800,{"$f":"IF(O1128>1,I894/(O1128-1),I894/O1128)","v":{"$error":"#DIV/0!"}},{"$error":"#DIV/0!"}]
[3,null,null,"EOL E-Series Base + 3x Expansion Unit, 48x4TB",null,"DSA‑N2E7X4‑12AT + 3x DSX‑N1D6X4‑12AT","RAID 5",0,163900,192,0,1050,800,{"$f":"I894/O1129","v":{"$error":"#DIV/0!"}},{"$f":"ROUNDUP(G894/I1129,0)","v":0},{"$f":"(1-((G894/$I1129)-INT(G894/$I1129)))*I1129/1024","v":160.05859375},{"$error":"#DIV/0!"},0,0,0,{"$f":"$S$259*MIN(O1129,S897)","v":0},0,{"$error":"#DIV/0!"},{"$f":"IF(AND(IF($N1129<=$L1129,TRUE,FALSE),IF($V1129<=$R1129,TRUE,FALSE),OR(W1129=\"True\",W899=\"No\")),\"<-- fits project\",\"\")","v":{"$error":"#DIV/0!"}},null,null,null,null,null,null,null,27.73185536735015,{"$f":"AF1129*O1129","v":0},{"$f":"AG1129/AG1200","v":{"$error":"#DIV/0!"}},-800,{"$f":"IF(O1129>1,I894/(O1129-1),I894/O1129)","v":{"$error":"#DIV/0!"}},{"$error":"#DIV/0!"}]
[4,null,null,"EOL E-Series Base + 4x Expansion Unit, 60x4TB",null,"DSA‑N2E7X4‑12AT + 4x DSX‑N1D6X4‑12AT","RAID 5",0,204875,240,0,1050,800,{"$f":"I894/O1130","v":{"$error":"#DIV/0!"}},{"$f":"ROUNDUP(G894/I1130,0)","v":0},{"$f":"(1-((G894/$I1130)-INT(G894/$I1130)))*I1130/1024","v":200.0732421875},{"$error":"#DIV/0!"},0,0,0,{"$f":"$S$259*MIN(O1130,S897)","v":0},0,{"$error":"#DIV/0!"},{"$f":"IF(AND(IF($N1130<=$L1130,TRUE,FALSE),IF($V1130<=$R1130,TRUE,FALSE),OR(W1130=\"True\",W899=\"No\")),\"<-- fits project\",\"\")","v":{"$error":"#DIV/0!"}},null,null,null,null,null,null,null,34.883515129267401,0,{"$f":"AG1130/AG1200","v":{"$error":"#DIV/0!"}},-800,{"$f":"IF(O1130>1,I894/(O1130-1),I894/O1130)","v":{"$error":"#DIV/0!"}},{"$error":"#DIV/0!"}]
[5,null,null,"EOL E-Series Base + 5x Expansion Unit, 72x4TB",null,"DSA‑N2E7X4‑12AT + 5x DSX‑N1D6X4‑12AT","RAID 5",0,245850,288,0,1050,800,{"$f":"I894/O1131","v":{"$error":"#DIV/0!"}},{"$f":"ROUNDUP(G894/I1131,0)","v":0},{"$f":"(1-((G894/$I1131)-INT(G894/$I1131)))*I1131/1024","v":240.087890625},{"$error":"#DIV/0!"},0,0,0,{"$f":"$S$259*MIN(O1131,S897)","v":0},0,{"$error":"#DIV/0!"},{"$f":"IF(AND(IF($N1131<=$L1131,TRUE,FALSE),IF($V1131<=$R1131,TRUE,FALSE),OR(W1131=\"True\",W899=\"No\")),\"<-- fits project\",\"\")","v":{"$error":"#DIV/0!"}},null,null,null,null,null,null,null,42.035174891184646,0,{"$f":"AG1131/AG1200","v":{"$error":"#DIV/0!"}},-800,{"$f":"IF(O1131>1,I894/(O1131-1),I894/O1131)","v":{"$error":"#DIV/0!"}},{"$error":"#DIV/0!"}]
[6,null,null,"EOL E-Series Base + 6x Expansion Unit, 84x4TB",null,"DSA‑N2E7X4‑12AT + 6x DSX‑N1D6X4‑12AT","RAID 5",0,286825,336,0,1050,800,{"$f":"I894/O1132","v":{"$error":"#DIV/0!"}},{"$f":"ROUNDUP(G894/I1132,0)","v":0},{"$f":"(1-((G894/$I1132)-INT(G894/$I1132)))*I1132/1024","v":280.1025390625},{"$error":"#DIV/0!"},0,0,0,{"$f":"$S$259*MIN(O1132,S897)","v":0},0,{"$error":"#DIV/0!"},{"$f":"IF(AND(IF($N1132<=$L1132,TRUE,FALSE),IF($V1132<=$R1132,TRUE,FALSE),OR(W1132=\"True\",W899=\"No\")),\"<-- fits project\",\"\")","v":{"$error":"#DIV/0!"}},null,null,null,null,null,null,null,49.186834653101897,0,{"$f":"AG1132/AG1200","v":{"$error":"#DIV/0!"}},-800,{"$f":"IF(O1132>1,I894/(O1132-1),I894/O1132)","v":{"$error":"#DIV/0!"}},{"$error":"#DIV/0!"}]
[7,null,null,"EOL E-Series Base + 7x Expansion Unit, 96x4TB",null,"DSA‑N2E7X4‑12AT + 7x DSX‑N1D6X4‑12AT","RAID 5",0,327800,384,0,1050,800,{"$f":"I894/O1133","v":{"$error":"#DIV/0!"}},{"$f":"ROUNDUP(G894/I1133,0)","v":0},{"$f":"(1-((G894/$I1133)-INT(G894/$I1133)))*I1133/1024","v":320.1171875},{"$error":"#DIV/0!"},0,0,0,{"$f":"$S$259*MIN(O1133,S897)","v":0},{"$f":"SUM(S1133,T1133,U1133)","v":0},{"$error":"#DIV/0!"},{"$f":"IF(AND(IF($N1133<=$L1133,TRUE,FALSE),IF($V1133<=$R1133,TRUE,FALSE),OR(W1133=\"True\",W899=\"No\")),\"<-- fits project\",\"\")","v":{"$error":"#DIV/0!"}},null,null,null,null,null,null,null,56.338494415019142,0,{"$f":"AG1133/AG1200","v":{"$error":"#DIV/0!"}},-800,{"$f":"IF(O1133>1,I894/(O1133-1),I894/O1133)","v":{"$error":"#DIV/0!"}},{"$error":"#DIV/0!"}]
[0,null,"6TB","EOL E-Series Base Unit, 12 x 6 TB",null,"DSA‑N2E7X6‑12AT","RAID 5",0,{"$f":"IF(G1134=\"RAID 5\",(11-H1134)*5586,(10-H1134)*5586)","v":61446},72,0,650,800,{"$f":"I894/O1134","v":{"$error":"#DIV/0!"}},{"$f":"ROUNDUP(G894/I1134,0)","v":0},{"$f":"(1-((G894/$I1134)-INT(G894/$I1134)))*I1134/1024","v":60.005859375},{"$error":"#DIV/0!"},0,0,0,{"$f":"$S$259*MIN(O1134,S897)","v":0},{"$f":"SUM(S1134,T1134,U1134)","v":0},{"$error":"#DIV/0!"},{"$f":"IF(AND(IF($N1134<=$L1134,TRUE,FALSE),IF($V1134<=$R1134,TRUE,FALSE),OR(W1134=\"True\",W899=\"No\")),\"<-- fits project\",\"\")","v":{"$error":"#DIV/0!"}},null,null,null,null,null,null,null,10.810739944412397,0,{"$f":"AG1134/AG1200","v":{"$error":"#DIV/0!"}},-800,{"$f":"IF(O1134>1,I894/(O1134-1),I894/O1134)","v":{"$error":"#DIV/0!"}},{"$error":"#DIV/0!"}]
[1,null,null,"EOL E-Series Base + 1x Expansion Unit, 24x6TB",null,"DSA-N2E7X6-12AT + 1x DSX-N1D6X6-12AT","RAID 5",0,{"$f":"IF(G1135=\"RAID 5\",(11-H1135)*5586,(10-H1135)*5586)+IF(G1135=\"RAID 5\",(11-H1135)*5586,(10-H1135)*5586)*A1135","v":122892},{"$f":"72+A1135*72","v":144},0,1050,800,{"$f":"I894/O1135","v":{"$error":"#DIV/0!"}},{"$f":"ROUNDUP(G894/I1135,0)","v":0},{"$f":"(1-((G894/$I1135)-INT(G894/$I1135)))*I1135/1024","v":120.01171875},{"$error":"#DIV/0!"},0,0,0,{"$f":"$S$259*MIN(O1135,S897)","v":0},0,{"$error":"#DIV/0!"},{"$f":"IF(AND(IF($N1135<=$L1135,TRUE,FALSE),IF($V1135<=$R1135,TRUE,FALSE),OR(W1135=\"True\",W899=\"No\")),\"<-- fits project\",\"\")","v":{"$error":"#DIV/0!"}},null,null,null,null,null,null,null,20.194097750275315,0,{"$f":"AG1135/AG1200","v":{"$error":"#DIV/0!"}},-800,{"$f":"IF(O1135>1,I894/(O1135-1),I894/O1135)","v":{"$error":"#DIV/0!"}},{"$error":"#DIV/0!"}]
[2,null,null,"EOL E-Series Base + 2x Expansion Unit, 36x6TB",null,"DSA-N2E7X6-12AT + 2x DSX-N1D6X6-12AT","RAID 5",0,184338,216,0,1050,800,{"$f":"I894/O1136","v":{"$error":"#DIV/0!"}},{"$f":"ROUNDUP(G894/I1136,0)","v":0},{"$f":"(1-((G894/$I1136)-INT(G894/$I1136)))*I1136/1024","v":180.017578125},{"$error":"#DIV/0!"},0,0,0,{"$f":"$S$259*MIN(O1136,S897)","v":0},0,{"$error":"#DIV/0!"},{"$f":"IF(AND(IF($N1136<=$L1136,TRUE,FALSE),IF($V1136<=$R1136,TRUE,FALSE),OR(W1136=\"True\",W899=\"No\")),\"<-- fits project\",\"\")","v":{"$error":"#DIV/0!"}},null,null,null,null,null,null,null,31.004837694687712,0,{"$f":"AG1136/AG1200","v":{"$error":"#DIV/0!"}},-800,{"$f":"IF(O1136>1,I894/(O1136-1),I894/O1136)","v":{"$error":"#DIV/0!"}},{"$error":"#DIV/0!"}]
[3,null,null,"EOL E-Series Base + 3x Expansion Unit, 48x6TB",null,"DSA-N2E7X6-12AT + 3x DSX-N1D6X6-12AT","RAID 5",0,245784,288,0,1050,800,{"$f":"I894/O1137","v":{"$error":"#DIV/0!"}},{"$f":"ROUNDUP(G894/I1137,0)","v":0},{"$f":"(1-((G894/$I1137)-INT(G894/$I1137)))*I1137/1024","v":240.0234375},{"$error":"#DIV/0!"},0,0,0,{"$f":"$S$259*MIN(O1137,S897)","v":0},0,{"$error":"#DIV/0!"},{"$f":"IF(AND(IF($N1137<=$L1137,TRUE,FALSE),IF($V1137<=$R1137,TRUE,FALSE),OR(W1137=\"True\",W899=\"No\")),\"<-- fits project\",\"\")","v":{"$error":"#DIV/0!"}},null,null,null,null,null,null,null,41.815577639100113,0,{"$f":"AG1137/AG1200","v":{"$error":"#DIV/0!"}},-800,{"$f":"IF(O1137>1,I894/(O1137-1),I894/O1137)","v":{"$error":"#DIV/0!"}},{"$error":"#DIV/0!"}]
[4,null,null,"EOL E-Series Base + 4x Expansion Unit, 60x6TB",null,"DSA-N2E7X6-12AT + 4x DSX-N1D6X6-12AT","RAID 5",0,307230,360,0,1050,800,{"$f":"I894/O1138","v":{"$error":"#DIV/0!"}},{"$f":"ROUNDUP(G894/I1138,0)","v":0},{"$f":"(1-((G894/$I1138)-INT(G894/$I1138)))*I1138/1024","v":300.029296875},{"$error":"#DIV/0!"},0,0,0,{"$f":"$S$259*MIN(O1138,S897)","v":0},0,{"$error":"#DIV/0!"},{"$f":"IF(AND(IF($N1138<=$L1138,TRUE,FALSE),IF($V1138<=$R1138,TRUE,FALSE),OR(W1138=\"True\",W899=\"No\")),\"<-- fits project\",\"\")","v":{"$error":"#DIV/0!"}},null,null,null,null,null,null,null,52.62631758351251,0,{"$f":"AG1138/AG1200","v":{"$error":"#DIV/0!"}},-800,{"$f":"IF(O1138>1,I894/(O1138-1),I894/O1138)","v":{"$error":"#DIV/0!"}},{"$error":"#DIV/0!"}]
[5,null,null,"EOL E-Series Base + 5x Expansion Unit, 72x6TB",null,"DSA-N2E7X6-12AT + 5x DSX-N1D6X6-12AT","RAID 5",0,368676,432,0,1050,800,{"$f":"I894/O1139","v":{"$error":"#DIV/0!"}},{"$f":"ROUNDUP(G894/I1139,0)","v":0},{"$f":"(1-((G894/$I1139)-INT(G894/$I1139)))*I1139/1024","v":360.03515625},{"$error":"#DIV/0!"},0,0,0,{"$f":"$S$259*MIN(O1139,S897)","v":0},0,{"$error":"#DIV/0!"},{"$f":"IF(AND(IF($N1139<=$L1139,TRUE,FALSE),IF($V1139<=$R1139,TRUE,FALSE),OR(W1139=\"True\",W899=\"No\")),\"<-- fits project\",\"\")","v":{"$error":"#DIV/0!"}},null,null,null,null,null,null,null,63.437057527924907,0,{"$f":"AG1139/AG1200","v":{"$error":"#DIV/0!"}},-800,{"$f":"IF(O1139>1,I894/(O1139-1),I894/O1139)","v":{"$error":"#DIV/0!"}},{"$error":"#DIV/0!"}]
[6,null,null,"EOL E-Series Base + 6x Expansion Unit, 84x6TB",null,"DSA-N2E7X6-12AT + 6x DSX-N1D6X6-12AT","RAID 5",0,430122,504,0,1050,800,{"$f":"I894/O1140","v":{"$error":"#DIV/0!"}},{"$f":"ROUNDUP(G894/I1140,0)","v":0},{"$f":"(1-((G894/$I1140)-INT(G894/$I1140)))*I1140/1024","v":420.041015625},{"$error":"#DIV/0!"},0,0,0,{"$f":"$S$259*MIN(O1140,S897)","v":0},0,{"$error":"#DIV/0!"},{"$f":"IF(AND(IF($N1140<=$L1140,TRUE,FALSE),IF($V1140<=$R1140,TRUE,FALSE),OR(W1140=\"True\",W899=\"No\")),\"<-- fits project\",\"\")","v":{"$error":"#DIV/0!"}},null,null,null,null,null,null,null,74.247797472337297,0,{"$f":"AG1140/AG1200","v":{"$error":"#DIV/0!"}},-800,{"$f":"IF(O1140>1,I894/(O1140-1),I894/O1140)","v":{"$error":"#DIV/0!"}},{"$error":"#DIV/0!"}]
[7,null,null,"EOL E-Series Base + 7x Expansion Unit, 96x6TB",null,"DSA-N2E7X6-12AT + 7x DSX-N1D6X6-12AT","RAID 5",0,491568,576,0,1050,800,{"$f":"$I$894/O1141","v":{"$error":"#DIV/0!"}},{"$f":"ROUNDUP($G$894/I1141,0)","v":0},{"$f":"(1-(($G$894/$I1141)-INT($G$894/$I1141)))*I1141/1024","v":480.046875},{"$error":"#DIV/0!"},0,0,0,{"$f":"$S$259*MIN(O1141,S897)","v":0},{"$f":"SUM(S1141,T1141,U1141)","v":0},{"$error":"#DIV/0!"},{"$f":"IF(AND(IF($N1141<=$L1141,TRUE,FALSE),IF($V1141<=$R1141,TRUE,FALSE),OR(W1141=\"True\",$W$899=\"No\")),\"<-- fits project\",\"\")","v":{"$error":"#DIV/0!"}},null,null,null,null,null,null,null,85.058537416749701,0,{"$f":"AG1141/$AG$1200","v":{"$error":"#DIV/0!"}},-800,{"$f":"IF(O1141>1,$I$894/(O1141-1),$I$894/O1141)","v":{"$error":"#DIV/0!"}},{"$f":"IF(X1141=\"<-- fits project\",D1141,\"\")","v":{"$error":"#DIV/0!"}}]
[0,null,"8 TB","EOL E-Series Base Unit, 12 x 8 TB",null,"DSA‑N2E7X8‑12AT","RAID 5",0,{"$f":"IF(G1142=\"RAID 5\",(11-H1142)*7448,(10-H1142)*7448)","v":81928},96,0,1050,800,{"$error":"#DIV/0!"},0,80.0078125,{"$error":"#DIV/0!"},0,0,0,0,{"$f":"SUM(S1142,T1142,U1142)","v":0},{"$error":"#DIV/0!"},{"$error":"#DIV/0!"},null,null,null,null,null,null,null,null,0,{"$error":"#DIV/0!"},-800,{"$error":"#DIV/0!"},{"$error":"#DIV/0!"}]
[1,null,null,"EOL E-Series Base + 1x Expansion Unit, 24x8TB",null,"DSA-N2E7X8-12AT + 1x DSX-N1D6X8-12AT","RAID 5",0,{"$f":"IF(G1143=\"RAID 5\",(11-H1143)*7448,(10-H1143)*7448)+IF(G1143=\"RAID 5\",(11-H1143)*7448,(10-H1143)*7448)*A1143","v":163856},{"$f":"96+A1143*96","v":192},0,1050,800,{"$error":"#DIV/0!"},0,160.015625,{"$error":"#DIV/0!"},0,0,0,0,0,{"$error":"#DIV/0!"},{"$error":"#DIV/0!"},null,null,null,null,null,null,null,null,0,{"$error":"#DIV/0!"},-800,{"$error":"#DIV/0!"},{"$error":"#DIV/0!"}]
[2,null,null,"EOL E-Series Base + 2x Expansion Unit, 36x8TB",null,"DSA-N2E7X8-12AT + 2x DSX-N1D6X8-12AT","RAID 5",0,245784,288,0,1050,800,{"$error":"#DIV/0!"},0,240.0234375,{"$error":"#DIV/0!"},0,0,0,0,0,{"$error":"#DIV/0!"},{"$error":"#DIV/0!"},null,null,null,null,null,null,null,null,0,{"$error":"#DIV/0!"},-800,{"$error":"#DIV/0!"},{"$error":"#DIV/0!"}]
[3,null,null,"EOL E-Series Base + 3x Expansion Unit, 48x8TB",null,"DSA-N2E7X8-12AT + 3x DSX-N1D6X8-12AT","RAID 5",0,327712,384,0,1050,800,{"$error":"#DIV/0!"},0,320.03125,{"$error":"#DIV/0!"},0,0,0,0,0,{"$error":"#DIV/0!"},{"$error":"#DIV/0!"},null,null,null,null,null,null,null,null,0,{"$error":"#DIV/0!"},-800,{"$error":"#DIV/0!"},{"$error":"#DIV/0!"}]
[4,null,null,"EOL E-Series Base + 4x Expansion Unit, 60x8TB",null,"DSA-N2E7X8-12AT + 4x DSX-N1D6X8-12AT","RAID 5",0,409640,480,0,1050,800,{"$error":"#DIV/0!"},0,400.0390625,{"$error":"#DIV/0!"},0,0,0,0,0,{"$error":"#DIV/0!"},{"$error":"#DIV/0!"},null,null,null,null,null,null,null,null,0,{"$error":"#DIV/0!"},-800,{"$error":"#DIV/0!"},{"$error":"#DIV/0!"}]
[5,null,null,"EOL E-Series Base + 5x Expansion Unit, 72x8TB",null,"DSA-N2E7X8-12AT + 5x DSX-N1D6X8-12AT","RAID 5",0,491568,576,0,1050,800,{"$error":"#DIV/0!"},0,480.046875,{"$error":"#DIV/0!"},0,0,0,0,0,{"$error":"#DIV/0!"},{"$error":"#DIV/0!"},null,null,null,null,null,null,null,null,0,{"$error":"#DIV/0!"},-800,{"$error":"#DIV/0!"},{"$error":"#DIV/0!"}]
[6,null,null,"EOL E-Series Base + 6x Expansion Unit, 84x8TB",null,"DSA-N2E7X8-12AT + 6x DSX-N1D6X8-12AT","RAID 5",0,573496,672,0,1050,800,{"$error":"#DIV/0!"},0,560.0546875,{"$error":"#DIV/0!"},0,0,0,0,0,{"$error":"#DIV/0!"},{"$error":"#DIV/0!"},null,null,null,null,null,null,null,null,0,{"$error":"#DIV/0!"},-800,{"$error":"#DIV/0!"},{"$error":"#DIV/0!"}]
[7,null,null,"EOL E-Series Base + 7x Expansion Unit, 96x8TB",null,"DSA-N2E7X8-12AT + 7x DSX-N1D6X8-12AT","RAID 5",0,655424,768,0,1050,800,{"$error":"#DIV/0!"},0,640.0625,{"$error":"#DIV/0!"},0,0,0,0,0,{"$error":"#DIV/0!"},{"$error":"#DIV/0!"},null,null,null,null,null,null,null,null,0,{"$error":"#DIV/0!"},-800,{"$error":"#DIV/0!"},{"$error":"#DIV/0!"}]
[0,null,"3TB HD","EOL E-Series dual ctrl base Unit, 12x3TB",null,"DSA-N2C7X3-12AT","RAID 5",0,{"$f":"IF(G1150=\"RAID 5\",(11-H1150)*2794,(10-H1150)*2794)+IF(G1150=\"RAID 5\",(55-H1150*5)*2794,(50-H1150*5)*2794)*A1150","v":30734},36,0,1300,1600,{"$f":"I894/O1150","v":{"$error":"#DIV/0!"}},{"$f":"ROUNDUP(G894/I1150,0)","v":0},{"$f":"(1-((G894/$I1150)-INT(G894/$I1150)))*I1150/1024","v":30.013671875},{"$error":"#DIV/0!"},0,0,0,{"$f":"$S$259*MIN(O1150,S897)","v":0},{"$f":"SUM(S1150,T1150,U1150)","v":0},{"$error":"#DIV/0!"},{"$f":"IF(AND(IF($N1150<=$L1150,TRUE,FALSE),IF($V1150<=$R1150,TRUE,FALSE),OR(W1150=\"True\",W899=\"No\")),\"<-- fits project\",\"\")","v":{"$error":"#DIV/0!"}},null,null,null,null,null,null,null,8.9598956421416958,0,{"$f":"AG1150/AG1200","v":{"$error":"#DIV/0!"}},-1600,{"$f":"IF(O1150>1,I894/(O1150-1),I894/O1150)","v":{"$error":"#DIV/0!"}},{"$error":"#DIV/0!"}]
[1,null,null,"EOL E-Series dual ctrl Base + 1x 60 HDD Exp, 12x3TB+60x3TB",null,"DSA-N2C7X3-12AT + 1x DSX-N6D6X3-60AT","RAID 5",0,{"$f":"IF(G1151=\"RAID 5\",(11-H1151)*2794,(10-H1151)*2794)+IF(G1151=\"RAID 5\",(55-H1151)*2794,(50-H1151)*2794)*A1151","v":184404},216,0,2100,1600,{"$f":"I894/O1151","v":{"$error":"#DIV/0!"}},{"$f":"ROUNDUP(G894/I1151,0)","v":0},{"$f":"(1-((G894/$I1151)-INT(G894/$I1151)))*I1151/1024","v":180.08203125},{"$error":"#DIV/0!"},0,0,0,{"$f":"$S$259*MIN(O1151,S897)","v":0},0,{"$error":"#DIV/0!"},{"$f":"IF(AND(IF($N1151<=$L1151,TRUE,FALSE),IF($V1151<=$R1151,TRUE,FALSE),OR(W1151=\"True\",W899=\"No\")),\"<-- fits project\",\"\")","v":{"$error":"#DIV/0!"}},null,null,null,null,null,null,null,38.915255126120933,0,{"$f":"AG1151/AG1200","v":{"$error":"#DIV/0!"}},-1600,{"$f":"IF(O1151>1,I894/(O1151-1),I894/O1151)","v":{"$error":"#DIV/0!"}},{"$error":"#DIV/0!"}]
[2,null,null,"EOL E-Series dual ctrl Base + 2x 60 HDD Exp, 12x3TB+120x3TB",null,"DSA-N2C7X3-12AT + 2x DSX-N6D6X3-60AT","RAID 5",0,{"$f":"IF(G1152=\"RAID 5\",(11-H1152)*2794,(10-H1152)*2794)+IF(G1152=\"RAID 5\",(55-H1152)*2794,(50-H1152)*2794)*A1152","v":338074},396,0,2100,1600,{"$f":"I894/O1152","v":{"$error":"#DIV/0!"}},{"$f":"ROUNDUP(G894/I1152,0)","v":0},{"$f":"(1-((G894/$I1152)-INT(G894/$I1152)))*I1152/1024","v":330.150390625},{"$error":"#DIV/0!"},0,0,0,{"$f":"$S$259*MIN(O1152,S897)","v":0},0,{"$error":"#DIV/0!"},{"$f":"IF(AND(IF($N1152<=$L1152,TRUE,FALSE),IF($V1152<=$R1152,TRUE,FALSE),OR(W1152=\"True\",W899=\"No\")),\"<-- fits project\",\"\")","v":{"$error":"#DIV/0!"}},null,null,null,null,null,null,null,47.875150768262628,0,{"$f":"AG1152/AG1200","v":{"$error":"#DIV/0!"}},-1600,{"$f":"IF(O1152>1,I894/(O1152-1),I894/O1152)","v":{"$error":"#DIV/0!"}},{"$error":"#DIV/0!"}]
[3,null,null,"EOL E-Series dual ctrl Base + 3x 60 HDD Exp, 12x3TB+180x3TB",null,"DSA-N2C7X3-12AT + 3x DSX-N6D6X3-60AT","RAID 5",0,{"$f":"IF(G1153=\"RAID 5\",(11-H1153)*2794,(10-H1153)*2794)+IF(G1153=\"RAID 5\",(55-H1153)*2794,(50-H1153)*2794)*A1153","v":491744},574,0,2100,1600,{"$f":"I894/O1153","v":{"$error":"#DIV/0!"}},{"$f":"ROUNDUP(G894/I1153,0)","v":0},{"$f":"(1-((G894/$I1153)-INT(G894/$I1153)))*I1153/1024","v":480.21875},{"$error":"#DIV/0!"},0,0,0,{"$f":"$S$259*MIN(O1153,S897)","v":0},0,{"$error":"#DIV/0!"},{"$f":"IF(AND(IF($N1153<=$L1153,TRUE,FALSE),IF($V1153<=$R1153,TRUE,FALSE),OR(W1153=\"True\",W899=\"No\")),\"<-- fits project\",\"\")","v":{"$error":"#DIV/0!"}},null,null,null,null,null,null,null,56.835046410404324,0,{"$f":"AG1153/AG1200","v":{"$error":"#DIV/0!"}},-1600,{"$f":"IF(O1153>1,I894/(O1153-1),I894/O1153)","v":{"$error":"#DIV/0!"}},{"$error":"#DIV/0!"}]
[0,null,"4TB HD","EOL E-Series dual ctrl base Unit, 12x4TB",null,"DSA-N2C7X4-12AT","RAID 5",0,{"$f":"IF(G1154=\"RAID 5\",(11-H1154)*3725,(10-H1154)*3725)+IF(G1154=\"RAID 5\",(55-H1154*5)*3725,(50-H1154*5)*3725)*A1154","v":40975},48,0,1300,1600,{"$f":"I894/O1154","v":{"$error":"#DIV/0!"}},{"$f":"ROUNDUP(G894/I1154,0)","v":0},{"$f":"(1-((G894/$I1154)-INT(G894/$I1154)))*I1154/1024","v":40.0146484375},{"$error":"#DIV/0!"},0,0,0,{"$f":"$S$259*MIN(O1154,S897)","v":0},0,{"$error":"#DIV/0!"},{"$f":"IF(AND(IF($N1154<=$L1154,TRUE,FALSE),IF($V1154<=$R1154,TRUE,FALSE),OR(W1154=\"True\",W899=\"No\")),\"<-- fits project\",\"\")","v":{"$error":"#DIV/0!"}},null,null,null,null,null,null,null,9.6406471236037543,0,{"$f":"AG1154/AG1200","v":{"$error":"#DIV/0!"}},-1600,{"$f":"IF(O1154>1,I894/(O1154-1),I894/O1154)","v":{"$error":"#DIV/0!"}},{"$error":"#DIV/0!"}]
[1,null,null,"EOL E-Series dual ctrl Base + 1x 60 HDD Exp, 12x4TB+60x4TB",null,"DSA-N2C7X4-12AT + 1x DSX-N6D6X4-60AT","RAID 5",0,{"$f":"IF(G1155=\"RAID 5\",(11-H1155)*3725,(10-H1155)*3725)+IF(G1155=\"RAID 5\",(55-H1155)*3725,(50-H1155)*3725)*A1155","v":245850},288,{"$f":"O1155*J1155","v":0},2100,1600,{"$f":"I894/O1155","v":{"$error":"#DIV/0!"}},{"$f":"ROUNDUP(G894/I1155,0)","v":0},{"$f":"(1-((G894/$I1155)-INT(G894/$I1155)))*I1155/1024","v":240.087890625},{"$error":"#DIV/0!"},{"$f":"O1155*M1155","v":0},0,0,{"$f":"$S$259*MIN(O1155,S897)","v":0},0,{"$error":"#DIV/0!"},{"$f":"IF(AND(IF($N1155<=$L1155,TRUE,FALSE),IF($V1155<=$R1155,TRUE,FALSE),OR(W1155=\"True\",W899=\"No\")),\"<-- fits project\",\"\")","v":{"$error":"#DIV/0!"}},null,null,null,null,null,null,null,44.790956526299233,0,{"$f":"AG1155/AG1200","v":{"$error":"#DIV/0!"}},{"$f":"(O1155-1)*M1155","v":-1600},{"$f":"IF(O1155>1,I894/(O1155-1),I894/O1155)","v":{"$error":"#DIV/0!"}},{"$error":"#DIV/0!"}]
[2,null,null,"EOL E-Series dual ctrl Base + 2x 60 HDD Exp, 12x4TB+120x4TB",null,"DSA-N2C7X4-12AT + 2x DSX-N6D6X4-60AT","RAID 5",0,{"$f":"IF(G1156=\"RAID 5\",(11-H1156)*3725,(10-H1156)*3725)+IF(G1156=\"RAID 5\",(55-H1156)*3725,(50-H1156)*3725)*A1156","v":450725},528,0,2100,1600,{"$f":"I894/O1156","v":{"$error":"#DIV/0!"}},{"$f":"ROUNDUP(G894/I1156,0)","v":0},{"$f":"(1-((G894/$I1156)-INT(G894/$I1156)))*I1156/1024","v":440.1611328125},{"$error":"#DIV/0!"},0,0,{"$f":"O1156*1*MAX($N$1528,1)","v":0},{"$f":"$S$259*MIN(O1156,S897)","v":0},0,{"$error":"#DIV/0!"},{"$f":"IF(AND(IF($N1156<=$L1156,TRUE,FALSE),IF($V1156<=$R1156,TRUE,FALSE),OR(W1156=\"True\",W899=\"No\")),\"<-- fits project\",\"\")","v":{"$error":"#DIV/0!"}},null,null,null,null,null,null,null,54.431603649902982,0,{"$f":"AG1156/AG1200","v":{"$error":"#DIV/0!"}},-1600,{"$f":"IF(O1156>1,I894/(O1156-1),I894/O1156)","v":{"$error":"#DIV/0!"}},{"$error":"#DIV/0!"}]
[3,null,null,"EOL E-Series dual ctrl Base + 3x 60 HDD Exp, 12x4TB+180x4TB",null,"DSA-N2C7X4-12AT + 3x DSX-N6D6X4-60AT","RAID 5",0,{"$f":"IF(G1157=\"RAID 5\",(11-H1157)*3725,(10-H1157)*3725)+IF(G1157=\"RAID 5\",(55-H1157)*3725,(50-H1157)*3725)*A1157","v":655600},768,0,2100,1600,{"$f":"I894/O1157","v":{"$error":"#DIV/0!"}},{"$f":"ROUNDUP(G894/I1157,0)","v":0},{"$f":"(1-((G894/$I1157)-INT(G894/$I1157)))*I1157/1024","v":640.234375},{"$error":"#DIV/0!"},0,0,0,{"$f":"$S$259*MIN(O1157,S897)","v":0},0,{"$error":"#DIV/0!"},{"$f":"IF(AND(IF($N1157<=$L1157,TRUE,FALSE),IF($V1157<=$R1157,TRUE,FALSE),OR(W1157=\"True\",W899=\"No\")),\"<-- fits project\",\"\")","v":{"$error":"#DIV/0!"}},null,null,null,null,null,null,null,64.072250773506738,0,{"$f":"AG1157/AG1200","v":{"$error":"#DIV/0!"}},-1600,{"$f":"IF(O1157>1,I894/(O1157-1),I894/O1157)","v":{"$error":"#DIV/0!"}},{"$error":"#DIV/0!"}]
[0,null,"6TB HD","EOL E-Series dual ctrl base Unit, 12x6TB",null,"DSA-N2C7X4-12AT","RAID 5",0,{"$f":"IF(G1158=\"RAID 5\",(11-H1158)*5588,(10-H1158)*5588)+IF(G1158=\"RAID 5\",(55-H1158*5)*5588,(50-H1158*5)*5588)*A1158","v":61468},72,0,1300,1600,{"$f":"I894/O1158","v":{"$error":"#DIV/0!"}},{"$f":"ROUNDUP(G894/I1158,0)","v":0},{"$f":"(1-((G894/$I1158)-INT(G894/$I1158)))*I1158/1024","v":60.02734375},{"$error":"#DIV/0!"},0,0,0,{"$f":"$S$259*MIN(O1158,S897)","v":0},0,{"$error":"#DIV/0!"},{"$f":"IF(AND(IF($N1158<=$L1158,TRUE,FALSE),IF($V1158<=$R1158,TRUE,FALSE),OR(W1158=\"True\",W899=\"No\")),\"<-- fits project\",\"\")","v":{"$error":"#DIV/0!"}},null,null,null,null,null,null,null,14.549137343332109,0,{"$f":"AG1158/AG1200","v":{"$error":"#DIV/0!"}},-1600,{"$f":"IF(O1158>1,I894/(O1158-1),I894/O1158)","v":{"$error":"#DIV/0!"}},{"$error":"#DIV/0!"}]
[1,null,null,"EOL E-Series dual ctrl Base + 1x 60 HDD Exp, 12x6TB+60x6TB",null,"DSA-N2C7X6-12AT + 1x DSX-N6D6X6-60AT","RAID 5",0,{"$f":"IF(G1159=\"RAID 5\",(11-H1159)*5588,(10-H1159)*5588)+IF(G1159=\"RAID 5\",(55-H1159)*5588,(50-H1159)*5588)*A1159","v":368808},432,0,2100,1600,{"$f":"I894/O1159","v":{"$error":"#DIV/0!"}},{"$f":"ROUNDUP(G894/I1159,0)","v":0},{"$f":"(1-((G894/$I1159)-INT(G894/$I1159)))*I1159/1024","v":360.1640625},{"$error":"#DIV/0!"},0,0,0,{"$f":"$S$259*MIN(O1159,S897)","v":0},0,{"$error":"#DIV/0!"},{"$f":"IF(AND(IF($N1159<=$L1159,TRUE,FALSE),IF($V1159<=$R1159,TRUE,FALSE),OR(W1159=\"True\",W899=\"No\")),\"<-- fits project\",\"\")","v":{"$error":"#DIV/0!"}},null,null,null,null,null,null,null,67.1056426661073,0,{"$f":"AG1159/AG1200","v":{"$error":"#DIV/0!"}},-1600,{"$f":"IF(O1159>1,I894/(O1159-1),I894/O1159)","v":{"$error":"#DIV/0!"}},{"$error":"#DIV/0!"}]
[2,null,null,"EOL E-Series dual ctrl Base + 2x 60 HDD Exp, 12x6TB+120x6TB",null,"DSA-N2C7X6-12AT + 2x DSX-N6D6X6-60AT","RAID 5",0,{"$f":"IF(G1160=\"RAID 5\",(11-H1160)*5588,(10-H1160)*5588)+IF(G1160=\"RAID 5\",(55-H1160)*5588,(50-H1160)*5588)*A1160","v":676148},792,0,2100,1600,{"$f":"I894/O1160","v":{"$error":"#DIV/0!"}},{"$f":"ROUNDUP(G894/I1160,0)","v":0},{"$f":"(1-((G894/$I1160)-INT(G894/$I1160)))*I1160/1024","v":660.30078125},{"$error":"#DIV/0!"},0,0,0,{"$f":"$S$259*MIN(O1160,S897)","v":0},0,{"$error":"#DIV/0!"},{"$f":"IF(AND(IF($N1160<=$L1160,TRUE,FALSE),IF($V1160<=$R1160,TRUE,FALSE),OR(W1160=\"True\",W899=\"No\")),\"<-- fits project\",\"\")","v":{"$error":"#DIV/0!"}},null,null,null,null,null,null,null,81.654780009439406,0,{"$f":"AG1160/AG1200","v":{"$error":"#DIV/0!"}},-1600,{"$f":"IF(O1160>1,I894/(O1160-1),I894/O1160)","v":{"$error":"#DIV/0!"}},{"$error":"#DIV/0!"}]
[3,null,null,"EOL E-Series dual ctrl Base + 3x 60 HDD Exp, 12x6TB+180x6TB",null,"DSA-N2C7X6-12AT + 3x DSX-N6D6X6-60AT","RAID 5",0,{"$f":"IF(G1161=\"RAID 5\",(11-H1161)*5588,(10-H1161)*5588)+IF(G1161=\"RAID 5\",(55-H1161)*5588,(50-H1161)*5588)*A1161","v":983488},1152,0,2100,1600,{"$f":"$I$894/O1161","v":{"$error":"#DIV/0!"}},{"$f":"ROUNDUP($G$894/I1161,0)","v":0},{"$f":"(1-(($G$894/$I1161)-INT($G$894/$I1161)))*I1161/1024","v":960.4375},{"$error":"#DIV/0!"},0,0,0,{"$f":"$S$259*MIN(O1161,S897)","v":0},0,{"$error":"#DIV/0!"},{"$f":"IF(AND(IF($N1161<=$L1161,TRUE,FALSE),IF($V1161<=$R1161,TRUE,FALSE),OR(W1161=\"True\",$W$899=\"No\")),\"<-- fits project\",\"\")","v":{"$error":"#DIV/0!"}},null,null,null,null,null,null,null,96.203917352771512,0,{"$f":"AG1161/$AG$1200","v":{"$error":"#DIV/0!"}},-1600,{"$f":"IF(O1161>1,$I$894/(O1161-1),$I$894/O1161)","v":{"$error":"#DIV/0!"}},{"$error":"#DIV/0!"}]
[0,null,"8 TB HD","EOL E-Series dual ctrl base Unit, 12x8TB",null,"DSA-N2C7X8-12AT","RAID 5",0,{"$f":"IF(G1162=\"RAID 5\",(11-H1162)*7448,(10-H1162)*7448)+IF(G1162=\"RAID 5\",(55-H1162*5)*7448,(50-H1162*5)*7448)*A1162","v":81928},96,0,1300,1600,{"$f":"$I$894/O1162","v":{"$error":"#DIV/0!"}},{"$f":"ROUNDUP($G$894/I1162,0)","v":0},{"$f":"(1-(($G$894/$I1162)-INT($G$894/$I1162)))*I1162/1024","v":80.0078125},{"$error":"#DIV/0!"},0,0,0,{"$f":"$S$259*MIN(O1162,S898)","v":0},0,{"$error":"#DIV/0!"},{"$f":"IF(AND(IF($N1162<=$L1162,TRUE,FALSE),IF($V1162<=$R1162,TRUE,FALSE),OR(W1162=\"True\",$W$899=\"No\")),\"<-- fits project\",\"\")","v":{"$error":"#DIV/0!"}},null,null,null,null,null,null,null,null,0,{"$f":"AG1162/$AG$1200","v":{"$error":"#DIV/0!"}},-1600,{"$f":"IF(O1162>1,$I$894/(O1162-1),$I$894/O1162)","v":{"$error":"#DIV/0!"}},{"$error":"#DIV/0!"}]
[1,null,null,"EOL E-Series dual ctrl Base + 1x 60 HDD Exp, 12x8TB+60x8TB",null,"DSA-N2C7X8-12AT + 1x DSX-N6D6X8-60AT","RAID 5",0,{"$f":"IF(G1163=\"RAID 5\",(11-H1163)*7448,(10-H1163)*7448)+IF(G1163=\"RAID 5\",(55-H1163)*7448,(50-H1163)*7448)*A1163","v":491568},{"$f":"96+(60*8)","v":576},0,2100,1600,{"$f":"$I$894/O1163","v":{"$error":"#DIV/0!"}},{"$f":"ROUNDUP($G$894/I1163,0)","v":0},{"$f":"(1-(($G$894/$I1163)-INT($G$894/$I1163)))*I1163/1024","v":480.046875},{"$error":"#DIV/0!"},0,0,0,{"$f":"$S$259*MIN(O1163,S899)","v":0},0,{"$error":"#DIV/0!"},{"$f":"IF(AND(IF($N1163<=$L1163,TRUE,FALSE),IF($V1163<=$R1163,TRUE,FALSE),OR(W1163=\"True\",$W$899=\"No\")),\"<-- fits project\",\"\")","v":{"$error":"#DIV/0!"}},null,null,null,null,null,null,null,null,0,{"$f":"AG1163/$AG$1200","v":{"$error":"#DIV/0!"}},-1600,{"$f":"IF(O1163>1,$I$894/(O1163-1),$I$894/O1163)","v":{"$error":"#DIV/0!"}},{"$error":"#DIV/0!"}]
[2,null,null,"EOL E-Series dual ctrl Base + 2x 60 HDD Exp, 12x8TB+120x8TB",null,"DSA-N2C7X8-12AT + 2x DSX-N6D6X8-60AT","RAID 5",0,{"$f":"IF(G1164=\"RAID 5\",(11-H1164)*7448,(10-H1164)*7448)+IF(G1164=\"RAID 5\",(55-H1164)*7448,(50-H1164)*7448)*A1164","v":901208},{"$f":"96+(120*8)","v":1056},0,2100,1600,{"$f":"$I$894/O1164","v":{"$error":"#DIV/0!"}},{"$f":"ROUNDUP($G$894/I1164,0)","v":0},{"$f":"(1-(($G$894/$I1164)-INT($G$894/$I1164)))*I1164/1024","v":880.0859375},{"$error":"#DIV/0!"},0,0,0,{"$f":"$S$259*MIN(O1164,S900)","v":0},0,{"$error":"#DIV/0!"},{"$f":"IF(AND(IF($N1164<=$L1164,TRUE,FALSE),IF($V1164<=$R1164,TRUE,FALSE),OR(W1164=\"True\",$W$899=\"No\")),\"<-- fits project\",\"\")","v":{"$error":"#DIV/0!"}},null,null,null,null,null,null,null,null,0,{"$f":"AG1164/$AG$1200","v":{"$error":"#DIV/0!"}},-1600,{"$f":"IF(O1164>1,$I$894/(O1164-1),$I$894/O1164)","v":{"$error":"#DIV/0!"}},{"$error":"#DIV/0!"}]
[3,null,null,"EOL E-Series dual ctrl Base + 3x 60 HDD Exp, 12x8TB+180x8TB",null,"DSA-N2C7X8-12AT + 3x DSX-N6D6X8-60AT","RAID 5",0,{"$f":"IF(G1165=\"RAID 5\",(11-H1165)*7448,(10-H1165)*7448)+IF(G1165=\"RAID 5\",(55-H1165)*7448,(50-H1165)*7448)*A1165","v":1310848},{"$f":"96+(180*8)","v":1536},0,2100,1600,{"$f":"$I$894/O1165","v":{"$error":"#DIV/0!"}},{"$f":"ROUNDUP($G$894/I1165,0)","v":0},{"$f":"(1-(($G$894/$I1165)-INT($G$894/$I1165)))*I1165/1024","v":1280.125},{"$error":"#DIV/0!"},0,0,0,{"$f":"$S$259*MIN(O1165,S901)","v":0},0,{"$error":"#DIV/0!"},{"$f":"IF(AND(IF($N1165<=$L1165,TRUE,FALSE),IF($V1165<=$R1165,TRUE,FALSE),OR(W1165=\"True\",$W$899=\"No\")),\"<-- fits project\",\"\")","v":{"$error":"#DIV/0!"}},null,null,null,null,null,null,null,null,0,{"$f":"AG1165/$AG$1200","v":{"$error":"#DIV/0!"}},-1600,{"$f":"IF(O1165>1,$I$894/(O1165-1),$I$894/O1165)","v":{"$error":"#DIV/0!"}},{"$error":"#DIV/0!"}]
[0,"NetApp E-Series E2800","4TB","E-Series Base Unit, 12 x 4 TB",null,"DSA-N2E8X4-12AT","RAID 5",0,{"$f":"IF(G1166=\"RAID 5\",(11-H1166)*3724,(10-H1166)*3724)","v":40964},48,0,1250,800,{"$f":"$I$894/O1166","v":{"$error":"#DIV/0!"}},{"$f":"ROUNDUP($G$894/I1166,0)","v":0},{"$f":"(1-(($G$894/$I1166)-INT($G$894/$I1166)))*I1166/1024","v":40.00390625},{"$error":"#DIV/0!"},0,{"$f":"IF($O1166>7,OFFSET($K$255,0,$L$894),OFFSET($K$248,O1166-1,$L$894,1,1))","v":0},0,{"$f":"$S$259*MIN(O1166,S897)","v":0},0,{"$error":"#DIV/0!"},{"$f":"IF(AND(IF($N1166<=$L1166,TRUE,FALSE),IF($V1166<=$R1166,TRUE,FALSE),OR(W1166=\"True\",$W$899=\"No\")),\"<-- fits project\",\"\")","v":{"$error":"#DIV/0!"}},null,null,null,null,null,null,null,7.1516597619172479,0,{"$f":"AG1166/$AG$1200","v":{"$error":"#DIV/0!"}},-800,{"$f":"IF(O1166>1,$I$894/(O1166-1),$I$894/O1166)","v":{"$error":"#DIV/0!"}},{"$error":"#DIV/0!"}]
[1,null,null,"E-Series Base + 1x Expansion Unit, 24x4TB",null,"DSA-N2E8X4-12AT + 1x DSX-N1D8X4-12AT","RAID 5",0,{"$f":"IF(G1167=\"RAID 5\",(11-H1167)*3724,(10-H1167)*3724)+IF(G1167=\"RAID 5\",(11-H1167)*3724,(10-H1167)*3724)*A1167","v":81928},{"$f":"48+A1167*48","v":96},0,1250,800,{"$error":"#DIV/0!"},0,80.0078125,{"$error":"#DIV/0!"},0,0,0,{"$f":"$S$259*MIN(O1167,S897)","v":0},0,{"$error":"#DIV/0!"},{"$error":"#DIV/0!"},null,null,null,null,null,null,null,13.428535843515654,0,{"$error":"#DIV/0!"},-800,{"$error":"#DIV/0!"},{"$error":"#DIV/0!"}]
[2,null,null,"E-Series Base + 2x Expansion Unit, 36x4TB",null,"DSA-N2E8X4-12AT + 2x DSX-N1D8X4-12AT","RAID 5",0,122892,144,0,1250,800,{"$error":"#DIV/0!"},0,120.01171875,{"$error":"#DIV/0!"},0,0,0,{"$f":"$S$259*MIN(O1168,S897)","v":0},0,{"$error":"#DIV/0!"},{"$error":"#DIV/0!"},null,null,null,null,null,null,null,20.580195605432902,0,{"$error":"#DIV/0!"},-800,{"$error":"#DIV/0!"},{"$error":"#DIV/0!"}]
[3,null,null,"E-Series Base + 3x Expansion Unit, 48x4TB",null,"DSA-N2E8X4-12AT + 3x DSX-N1D8X4-12AT","RAID 5",0,163856,192,0,1250,800,{"$error":"#DIV/0!"},0,160.015625,{"$error":"#DIV/0!"},0,0,0,{"$f":"$S$259*MIN(O1169,S897)","v":0},0,{"$error":"#DIV/0!"},{"$error":"#DIV/0!"},null,null,null,null,null,null,null,27.73185536735015,0,{"$error":"#DIV/0!"},-800,{"$error":"#DIV/0!"},{"$error":"#DIV/0!"}]
[4,null,null,"E-Series Base + 4x Expansion Unit, 60x4TB",null,"DSA-N2E8X4-12AT + 4x DSX-N1D8X4-12AT","RAID 5",0,204820,240,0,1250,800,{"$error":"#DIV/0!"},0,200.01953125,{"$error":"#DIV/0!"},0,0,0,{"$f":"$S$259*MIN(O1170,S897)","v":0},0,{"$error":"#DIV/0!"},{"$error":"#DIV/0!"},null,null,null,null,null,null,null,34.883515129267401,0,{"$error":"#DIV/0!"},-800,{"$error":"#DIV/0!"},{"$error":"#DIV/0!"}]
[5,null,null,"E-Series Base + 5x Expansion Unit, 72x4TB",null,"DSA-N2E8X4-12AT + 5x DSX-N1D8X4-12AT","RAID 5",0,245784,288,0,1250,800,{"$error":"#DIV/0!"},0,240.0234375,{"$error":"#DIV/0!"},0,0,0,{"$f":"$S$259*MIN(O1171,S897)","v":0},0,{"$error":"#DIV/0!"},{"$error":"#DIV/0!"},null,null,null,null,null,null,null,42.035174891184646,0,{"$error":"#DIV/0!"},-800,{"$error":"#DIV/0!"},{"$error":"#DIV/0!"}]
[6,null,null,"E-Series Base + 6x Expansion Unit, 84x4TB",null,"DSA-N2E8X4-12AT + 6x DSX-N1D8X4-12AT","RAID 5",0,286748,336,0,1250,800,{"$error":"#DIV/0!"},0,280.02734375,{"$error":"#DIV/0!"},0,0,0,{"$f":"$S$259*MIN(O1172,S897)","v":0},0,{"$error":"#DIV/0!"},{"$error":"#DIV/0!"},null,null,null,null,null,null,null,49.186834653101897,0,{"$error":"#DIV/0!"},-800,{"$error":"#DIV/0!"},{"$error":"#DIV/0!"}]
[7,null,null,"E-Series Base + 7x Expansion Unit, 96x4TB",null,"DSA-N2E8X4-12AT + 7x DSX-N1D8X4-12AT","RAID 5",0,327712,384,0,1250,800,{"$error":"#DIV/0!"},0,320.03125,{"$error":"#DIV/0!"},0,0,0,{"$f":"$S$259*MIN(O1173,S897)","v":0},{"$f":"SUM(S1173,T1173,U1173)","v":0},{"$error":"#DIV/0!"},{"$error":"#DIV/0!"},null,null,null,null,null,null,null,56.338494415019142,0,{"$error":"#DIV/0!"},-800,{"$error":"#DIV/0!"},{"$error":"#DIV/0!"}]
[0,null,"8 TB","E-Series Base Unit, 12 x 8 TB",null,"DSA‑N2E8X8‑12AT","RAID 5",0,{"$f":"IF(G1174=\"RAID 5\",(11-H1174)*7448,(10-H1174)*7448)","v":81928},{"$f":"12*8","v":96},0,1250,800,{"$error":"#DIV/0!"},0,80.0078125,{"$error":"#DIV/0!"},0,0,0,{"$f":"$S$259*MIN(O1174,S897)","v":0},{"$f":"SUM(S1174,T1174,U1174)","v":0},{"$error":"#DIV/0!"},{"$error":"#DIV/0!"},null,null,null,null,null,null,null,10.810739944412397,0,{"$error":"#DIV/0!"},-800,{"$error":"#DIV/0!"},{"$error":"#DIV/0!"}]
[1,null,null,"E-Series Base + 1x Expansion Unit, 24x8TB",null,"DSA-N2E8X8-12AT + 1x DSX-N1D8X8-12AT","RAID 5",0,{"$f":"IF(G1175=\"RAID 5\",(11-H1175)*7448,(10-H1175)*7448)+IF(G1175=\"RAID 5\",(11-H1175)*7448,(10-H1175)*7448)*A1175","v":163856},{"$f":"96+A1175*96","v":192},0,1250,800,{"$error":"#DIV/0!"},0,160.015625,{"$error":"#DIV/0!"},0,0,0,{"$f":"$S$259*MIN(O1175,S897)","v":0},0,{"$error":"#DIV/0!"},{"$error":"#DIV/0!"},null,null,null,null,null,null,null,20.194097750275315,0,{"$error":"#DIV/0!"},-800,{"$error":"#DIV/0!"},{"$error":"#DIV/0!"}]
[2,null,null,"E-Series Base + 2x Expansion Unit, 36x8TB",null,"DSA-N2E8X8-12AT + 2x DSX-N1D8X8-12AT","RAID 5",0,245784,288,0,1250,800,{"$error":"#DIV/0!"},0,240.0234375,{"$error":"#DIV/0!"},0,0,0,{"$f":"$S$259*MIN(O1176,S897)","v":0},0,{"$error":"#DIV/0!"},{"$error":"#DIV/0!"},null,null,null,null,null,null,null,31.004837694687712,0,{"$error":"#DIV/0!"},-800,{"$error":"#DIV/0!"},{"$error":"#DIV/0!"}]
[3,null,null,"E-Series Base + 3x Expansion Unit, 48x8TB",null,"DSA-N2E8X8-12AT + 3x DSX-N1D8X8-12AT","RAID 5",0,327712,384,0,1250,800,{"$error":"#DIV/0!"},0,320.03125,{"$error":"#DIV/0!"},0,0,0,{"$f":"$S$259*MIN(O1177,S897)","v":0},0,{"$error":"#DIV/0!"},{"$error":"#DIV/0!"},null,null,null,null,null,null,null,41.815577639100113,0,{"$error":"#DIV/0!"},-800,{"$error":"#DIV/0!"},{"$error":"#DIV/0!"}]
[4,null,null,"E-Series Base + 4x Expansion Unit, 60x8TB",null,"DSA-N2E8X8-12AT + 4x DSX-N1D8X8-12AT","RAID 5",0,409640,480,0,1250,800,{"$error":"#DIV/0!"},0,400.0390625,{"$error":"#DIV/0!"},0,0,0,{"$f":"$S$259*MIN(O1178,S897)","v":0},0,{"$error":"#DIV/0!"},{"$error":"#DIV/0!"},null,null,null,null,null,null,null,52.62631758351251,0,{"$error":"#DIV/0!"},-800,{"$error":"#DIV/0!"},{"$error":"#DIV/0!"}]
[5,null,null,"E-Series Base + 5x Expansion Unit, 72x8TB",null,"DSA-N2E8X8-12AT + 5x DSX-N1D8X8-12AT","RAID 5",0,491568,576,0,1250,800,{"$error":"#DIV/0!"},0,480.046875,{"$error":"#DIV/0!"},0,0,0,{"$f":"$S$259*MIN(O1179,S897)","v":0},0,{"$error":"#DIV/0!"},{"$error":"#DIV/0!"},null,null,null,null,null,null,null,63.437057527924907,0,{"$error":"#DIV/0!"},-800,{"$error":"#DIV/0!"},{"$error":"#DIV/0!"}]
[6,null,null,"E-Series Base + 6x Expansion Unit, 84x8TB",null,"DSA-N2E8X8-12AT + 6x DSX-N1D8X8-12AT","RAID 5",0,573496,672,0,1250,800,{"$error":"#DIV/0!"},0,560.0546875,{"$error":"#DIV/0!"},0,0,0,{"$f":"$S$259*MIN(O1180,S897)","v":0},0,{"$error":"#DIV/0!"},{"$error":"#DIV/0!"},null,null,null,null,null,null,null,74.247797472337297,0,{"$error":"#DIV/0!"},-800,{"$error":"#DIV/0!"},{"$error":"#DIV/0!"}]
[7,null,null,"E-Series Base + 7x Expansion Unit, 96x8TB",null,"DSA-N2E8X8-12AT + 7x DSX-N1D8X8-12AT","RAID 5",0,655424,768,0,1250,800,{"$error":"#DIV/0!"},0,640.0625,{"$error":"#DIV/0!"},0,0,0,{"$f":"$S$259*MIN(O1181,$S$260)","v":0},{"$f":"SUM(S1181,T1181,U1181)","v":0},{"$error":"#DIV/0!"},{"$error":"#DIV/0!"},null,null,null,null,null,null,null,85.058537416749701,0,{"$error":"#DIV/0!"},-800,{"$error":"#DIV/0!"},{"$error":"#DIV/0!"}]
[0,null,"10 TB","E-Series Base Unit, 12 x 10 TB",null,"DSA‑N2E8XA‑12AT","RAID 5",0,{"$f":"IF(G1182=\"RAID 5\",(11-H1182)*9310,(10-H1182)*9310)","v":102410},120,0,1250,800,{"$error":"#DIV/0!"},0,100.009765625,{"$error":"#DIV/0!"},0,0,0,{"$f":"$S$259*MIN(O1182,$S$260)","v":0},{"$f":"SUM(S1182,T1182,U1182)","v":0},{"$error":"#DIV/0!"},{"$error":"#DIV/0!"},null,null,null,null,null,null,null,null,0,{"$error":"#DIV/0!"},-800,{"$error":"#DIV/0!"},{"$error":"#DIV/0!"}]
[1,null,null,"E-Series Base + 1x Expansion Unit, 24x10TB",null,"DSA-N2E8XA-12AT + 1x DSX-N1D8XA-12AT","RAID 5",0,{"$f":"IF(G1183=\"RAID 5\",(11-H1183)*9310,(10-H1183)*9310)+IF(G1183=\"RAID 5\",(11-H1183)*9310,(10-H1183)*9310)*A1183","v":204820},{"$f":"120+A1183*120","v":240},0,1250,800,{"$error":"#DIV/0!"},0,200.01953125,{"$error":"#DIV/0!"},0,0,0,0,0,{"$error":"#DIV/0!"},{"$error":"#DIV/0!"},null,null,null,null,null,null,null,null,0,{"$error":"#DIV/0!"},-800,{"$error":"#DIV/0!"},{"$error":"#DIV/0!"}]
[2,null,null,"E-Series Base + 2x Expansion Unit, 36x10TB",null,"DSA-N2E8XA-12AT + 2x DSX-N1D8XA-12AT","RAID 5",0,307230,360,0,1250,800,{"$error":"#DIV/0!"},0,300.029296875,{"$error":"#DIV/0!"},0,0,0,0,0,{"$error":"#DIV/0!"},{"$error":"#DIV/0!"},null,null,null,null,null,null,null,null,0,{"$error":"#DIV/0!"},-800,{"$error":"#DIV/0!"},{"$error":"#DIV/0!"}]
[3,null,null,"E-Series Base + 3x Expansion Unit, 48x10TB",null,"DSA-N2E8XA-12AT + 3x DSX-N1D8XA-12AT","RAID 5",0,409640,480,0,1250,800,{"$error":"#DIV/0!"},0,400.0390625,{"$error":"#DIV/0!"},0,0,0,0,0,{"$error":"#DIV/0!"},{"$error":"#DIV/0!"},null,null,null,null,null,null,null,null,0,{"$error":"#DIV/0!"},-800,{"$error":"#DIV/0!"},{"$error":"#DIV/0!"}]
[4,null,null,"E-Series Base + 4x Expansion Unit, 60x10TB",null,"DSA-N2E8XA-12AT + 4x DSX-N1D8XA-12AT","RAID 5",0,512050,600,0,1250,800,{"$error":"#DIV/0!"},0,500.048828125,{"$error":"#DIV/0!"},0,0,0,0,0,{"$error":"#DIV/0!"},{"$error":"#DIV/0!"},null,null,null,null,null,null,null,null,0,{"$error":"#DIV/0!"},-800,{"$error":"#DIV/0!"},{"$error":"#DIV/0!"}]
[5,null,null,"E-Series Base + 5x Expansion Unit, 72x10TB",null,"DSA-N2E8XA-12AT + 5x DSX-N1D8XA-12AT","RAID 5",0,614460,720,0,1250,800,{"$error":"#DIV/0!"},0,600.05859375,{"$error":"#DIV/0!"},0,0,0,0,0,{"$error":"#DIV/0!"},{"$error":"#DIV/0!"},null,null,null,null,null,null,null,null,0,{"$error":"#DIV/0!"},-800,{"$error":"#DIV/0!"},{"$error":"#DIV/0!"}]
[6,null,null,"E-Series Base + 6x Expansion Unit, 84x10TB",null,"DSA-N2E8XA-12AT + 6x DSX-N1D8XA-12AT","RAID 5",0,716870,840,0,1250,800,{"$error":"#DIV/0!"},0,700.068359375,{"$error":"#DIV/0!"},0,0,0,0,0,{"$error":"#DIV/0!"},{"$error":"#DIV/0!"},null,null,null,null,null,null,null,null,0,{"$error":"#DIV/0!"},-800,{"$error":"#DIV/0!"},{"$error":"#DIV/0!"}]
[7,null,null,"E-Series Base + 7x Expansion Unit, 96x10TB",null,"DSA-N2E8XA-12AT + 7x DSX-N1D8XA-12AT","RAID 5",0,819280,960,0,1250,800,{"$error":"#DIV/0!"},0,800.078125,{"$error":"#DIV/0!"},0,0,0,0,0,{"$error":"#DIV/0!"},{"$error":"#DIV/0!"},null,null,null,null,null,null,null,null,0,{"$error":"#DIV/0!"},-800,{"$error":"#DIV/0!"},{"$error":"#DIV/0!"}]
[0,null,"4 TB","E-Series dual ctrl base Unit, 60x4TB",null,"DSA-N6C8X4-60AT","RAID 5",0,{"$f":"IF(G1190=\"RAID 5\",(55-H1190)*3724,(50-H1190)*3724)+IF(G1190=\"RAID 5\",(55-H1190*5)*3724,(50-H1190*5)*3724)*A1190","v":204820},{"$f":"60*4","v":240},0,1250,800,{"$error":"#DIV/0!"},0,200.01953125,{"$error":"#DIV/0!"},0,0,0,{"$f":"$S$259*MIN(O1190,S897)","v":0},0,{"$error":"#DIV/0!"},{"$error":"#DIV/0!"},null,null,null,null,null,null,null,9.6406471236037543,0,{"$error":"#DIV/0!"},-800,{"$error":"#DIV/0!"},{"$error":"#DIV/0!"}]
[1,null,null,"E-Series dual ctrl Base + 1x 60 HDD Exp, 60x4TB+60x4TB",null,"DSA-N6C8X4-60AT + 1x DSX-N6D8X4-60AT","RAID 5",0,{"$f":"IF(G1191=\"RAID 5\",(55-H1191)*3724,(50-H1191)*3724)+IF(G1191=\"RAID 5\",(55-H1191)*3724,(50-H1191)*3724)*A1191","v":409640},{"$f":"120*4","v":480},0,1250,800,{"$error":"#DIV/0!"},0,400.0390625,{"$error":"#DIV/0!"},0,0,0,{"$f":"$S$259*MIN(O1191,S897)","v":0},0,{"$error":"#DIV/0!"},{"$error":"#DIV/0!"},null,null,null,null,null,null,null,44.790956526299233,0,{"$error":"#DIV/0!"},-800,{"$error":"#DIV/0!"},{"$error":"#DIV/0!"}]
[2,null,null,"E-Series dual ctrl Base + 2x 60 HDD Exp, 60x4TB+120x4TB",null,"DSA-N6C8X4-60AT + 2x DSX-N6D8X4-60AT","RAID 5",0,{"$f":"IF(G1192=\"RAID 5\",(55-H1192)*3724,(50-H1192)*3724)+IF(G1192=\"RAID 5\",(55-H1192)*3724,(50-H1192)*3724)*A1192","v":614460},{"$f":"180*4","v":720},0,1250,800,{"$error":"#DIV/0!"},0,600.05859375,{"$error":"#DIV/0!"},0,0,0,{"$f":"$S$259*MIN(O1192,S897)","v":0},0,{"$error":"#DIV/0!"},{"$error":"#DIV/0!"},null,null,null,null,null,null,null,54.431603649902982,0,{"$error":"#DIV/0!"},-800,{"$error":"#DIV/0!"},{"$error":"#DIV/0!"}]
[0,null,"8 TB","E-Series dual ctrl base Unit, 60x8TB",null,"DSA-N6C8X8-60AT","RAID 5",0,{"$f":"IF(G1193=\"RAID 5\",(55-H1193)*7448,(50-H1193)*7448)+IF(G1193=\"RAID 5\",(55-H1193*5)*7448,(50-H1193*5)*7448)*A1193","v":409640},{"$f":"60*8","v":480},0,1250,800,{"$error":"#DIV/0!"},0,400.0390625,{"$error":"#DIV/0!"},0,0,0,{"$f":"$S$259*MIN(O1193,S897)","v":0},0,{"$error":"#DIV/0!"},{"$error":"#DIV/0!"},null,null,null,null,null,null,null,14.549137343332109,0,{"$error":"#DIV/0!"},-800,{"$error":"#DIV/0!"},{"$error":"#DIV/0!"}]
[1,null,null,"E-Series dual ctrl Base + 1x 60 HDD Exp, 60x8TB+60x8TB",null,"DSA-N6C8X8-60AT + 1x DSX-N6D8X8-60AT","RAID 5",0,{"$f":"IF(G1194=\"RAID 5\",(55-H1194)*7448,(50-H1194)*7448)+IF(G1194=\"RAID 5\",(55-H1194)*7448,(50-H1194)*7448)*A1194","v":819280},{"$f":"120*8","v":960},0,1250,800,{"$error":"#DIV/0!"},0,800.078125,{"$error":"#DIV/0!"},0,0,0,{"$f":"$S$259*MIN(O1194,S897)","v":0},0,{"$error":"#DIV/0!"},{"$error":"#DIV/0!"},null,null,null,null,null,null,null,67.1056426661073,0,{"$error":"#DIV/0!"},-800,{"$error":"#DIV/0!"},{"$error":"#DIV/0!"}]
[2,null,null,"E-Series dual ctrl Base + 2x 60 HDD Exp, 60x8TB+120x8TB",null,"DSA-N6C8X8-60AT + 2x DSX-N6D8X8-60AT","RAID 5",0,{"$f":"IF(G1195=\"RAID 5\",(55-H1195)*7448,(50-H1195)*7448)+IF(G1195=\"RAID 5\",(55-H1195)*7448,(50-H1195)*7448)*A1195","v":1228920},{"$f":"180*8","v":1440},0,1250,800,{"$error":"#DIV/0!"},0,1200.1171875,{"$error":"#DIV/0!"},0,0,0,{"$f":"$S$259*MIN(O1195,S897)","v":0},0,{"$error":"#DIV/0!"},{"$error":"#DIV/0!"},null,null,null,null,null,null,null,81.654780009439406,0,{"$error":"#DIV/0!"},-800,{"$error":"#DIV/0!"},{"$error":"#DIV/0!"}]
[0,null,"10 TB","E-Series dual ctrl base Unit, 60x10TB",null,"DSA-N6C8XA-60AT","RAID 5",0,{"$f":"IF(G1196=\"RAID 5\",(55-H1196)*9310,(50-H1196)*9310)+IF(G1196=\"RAID 5\",(55-H1196*5)*9310,(50-H1196*5)*9310)*A1196","v":512050},{"$f":"60*10","v":600},0,1250,800,{"$error":"#DIV/0!"},0,500.048828125,{"$error":"#DIV/0!"},0,0,0,{"$f":"$S$259*MIN(O1196,$S$260)","v":0},0,{"$error":"#DIV/0!"},{"$error":"#DIV/0!"},null,null,null,null,null,null,null,null,0,{"$error":"#DIV/0!"},-800,{"$error":"#DIV/0!"},{"$error":"#DIV/0!"}]
[1,null,null,"E-Series dual ctrl Base + 1x 60 HDD Exp, 60x10TB+60x10TB",null,"DSA-N6C8XA-60AT + 1x DSX-N6D8XA-60AT","RAID 5",0,{"$f":"IF(G1197=\"RAID 5\",(55-H1197)*9310,(50-H1197)*9310)+IF(G1197=\"RAID 5\",(55-H1197)*9310,(50-H1197)*9310)*A1197","v":1024100},{"$f":"120*10","v":1200},0,1250,800,{"$error":"#DIV/0!"},0,1000.09765625,{"$error":"#DIV/0!"},0,0,0,0,0,{"$error":"#DIV/0!"},{"$error":"#DIV/0!"},null,null,null,null,null,null,null,null,0,{"$error":"#DIV/0!"},-800,{"$error":"#DIV/0!"},{"$error":"#DIV/0!"}]
[2,null,null,"E-Series dual ctrl Base + 2x 60 HDD Exp, 60x10TB+120x10TB",null,"DSA-N6C8XA-60AT+ 2x DSX-N6D8XA-60AT","RAID 5",0,{"$f":"IF(G1198=\"RAID 5\",(55-H1198)*9310,(50-H1198)*9310)+IF(G1198=\"RAID 5\",(55-H1198)*9310,(50-H1198)*9310)*A1198","v":1536150},{"$f":"180*10","v":1800},0,1250,800,{"$error":"#DIV/0!"},0,1500.146484375,{"$error":"#DIV/0!"},0,0,0,0,0,{"$error":"#DIV/0!"},{"$error":"#DIV/0!"},null,null,null,null,null,null,null,null,0,{"$error":"#DIV/0!"},-800,{"$error":"#DIV/0!"},{"$error":"#DIV/0!"}]
[null,null,0,"EOL FAS2020 Base Unit 6x1000GB",null,"DSA-N2B20-6AT","RAID 4",0,{"$f":"IF(G1199=\"RAID 4\",(5-H1199)*633,(4-H1199)*633)+IF(G1199=\"RAID 4\",(13-H1199)*633,(12-H1199)*633)*C1199","v":3165},6,0,250,128,{"$f":"I894/O1199","v":{"$error":"#DIV/0!"}},{"$f":"ROUNDUP(G894/I1199,0)","v":0},{"$f":"(1-((G894/$I1199)-INT(G894/$I1199)))*I1199/1024","v":3.0908203125},{"$error":"#DIV/0!"},0,{"$f":"IF($O1199>7,OFFSET($K$255,0,$L$894),OFFSET($K$248,O1199-1,$L$894,1,1))","v":0},0,{"$f":"$S$259*MIN(O1199,$S$260)","v":0},0,{"$error":"#DIV/0!"},{"$f":"IF(AND(IF($N1199<=$L1199,TRUE,FALSE),IF($V1199<=$R1199,TRUE,FALSE),OR(W1199=\"True\",W899=\"No\")),\"<-- fits project\",\"\")","v":{"$error":"#DIV/0!"}},null,null,null,null,null,null,null,2.7616058786512143,0,{"$f":"AG1199/AG1200","v":{"$error":"#DIV/0!"}},-128,{"$f":"IF(O1199>1,I894/(O1199-1),I894/O1199)","v":{"$error":"#DIV/0!"}},{"$error":"#DIV/0!"}]
[null,null,0,"EOL FAS2020 Base Unit 12x1000GB",null,"DSA-N2B20-12AT","RAID DP",0,{"$f":"IF(G1200=\"RAID 4\",(11-H1200)*633,(10-H1200)*633)+IF(G1200=\"RAID 4\",(13-H1200)*633,(12-H1200)*633)*C1200","v":6330},12,0,250,128,{"$f":"I894/O1200","v":{"$error":"#DIV/0!"}},{"$f":"ROUNDUP(G894/I1200,0)","v":0},{"$f":"(1-((G894/$I1200)-INT(G894/$I1200)))*I1200/1024","v":6.181640625},{"$error":"#DIV/0!"},0,0,0,0,0,{"$error":"#DIV/0!"},{"$f":"IF(AND(IF($N1200<=$L1200,TRUE,FALSE),IF($V1200<=$R1200,TRUE,FALSE),OR(W1200=\"True\",W899=\"No\")),\"<-- fits project\",\"\")","v":{"$error":"#DIV/0!"}},null,null,null,null,null,null,null,3.9632092663485237,0,{"$f":"AG1200/AG1200","v":{"$error":"#DIV/0!"}},-128,{"$f":"IF(O1200>1,I894/(O1200-1),I894/O1200)","v":{"$error":"#DIV/0!"}},{"$error":"#DIV/0!"}]
[null,null,1,"EOL FAS2020 XStage1 26x1000GB",null,"DSA-N2B20-26AT","RAID DP",0,13926,26,0,250,128,{"$f":"I894/O1201","v":{"$error":"#DIV/0!"}},{"$f":"ROUNDUP(G894/I1201,0)","v":0},{"$f":"(1-((G894/$I1201)-INT(G894/$I1201)))*I1201/1024","v":13.599609375},{"$error":"#DIV/0!"},0,0,0,0,0,{"$error":"#DIV/0!"},{"$f":"IF(AND(IF($N1201<=$L1201,TRUE,FALSE),IF($V1201<=$R1201,TRUE,FALSE),OR(W1201=\"True\",W899=\"No\")),\"<-- fits project\",\"\")","v":{"$error":"#DIV/0!"}},null,null,null,null,null,null,null,8.3377962924117686,0,{"$f":"AG1201/AG1200","v":{"$error":"#DIV/0!"}},-128,{"$f":"IF(O1201>1,I894/(O1201-1),I894/O1201)","v":{"$error":"#DIV/0!"}},{"$error":"#DIV/0!"}]
[null,null,2,"EOL FAS2020 XStage2 40x1000GB",null,"DSA-N2B20-40AT","RAID DP",0,21522,24,0,250,128,{"$f":"I894/O1202","v":{"$error":"#DIV/0!"}},{"$f":"ROUNDUP(G894/I1202,0)","v":0},{"$f":"(1-((G894/$I1202)-INT(G894/$I1202)))*I1202/1024","v":21.017578125},{"$error":"#DIV/0!"},0,0,0,0,0,{"$error":"#DIV/0!"},{"$f":"IF(AND(IF($N1202<=$L1202,TRUE,FALSE),IF($V1202<=$R1202,TRUE,FALSE),OR(W1202=\"True\",W899=\"No\")),\"<-- fits project\",\"\")","v":{"$error":"#DIV/0!"}},null,null,null,null,null,null,null,12.712383318475014,0,{"$f":"AG1202/AG1200","v":{"$error":"#DIV/0!"}},-128,{"$f":"IF(O1202>1,I894/(O1202-1),I894/O1202)","v":{"$error":"#DIV/0!"}},{"$error":"#DIV/0!"}]
[null,null,0,"EOL FAS2040 Base Unit 12x1000GB",null,"DSA-N2B40-12AT","RAID DP",0,6330,12,0,400,256,{"$f":"I894/O1203","v":{"$error":"#DIV/0!"}},{"$f":"ROUNDUP(G894/I1203,0)","v":0},{"$f":"(1-((G894/$I1203)-INT(G894/$I1203)))*I1203/1024","v":6.181640625},{"$error":"#DIV/0!"},0,0,0,0,0,{"$error":"#DIV/0!"},{"$f":"IF(AND(IF($N1203<=$L1203,TRUE,FALSE),IF($V1203<=$R1203,TRUE,FALSE),OR(W1203=\"True\",W899=\"No\")),\"<-- fits project\",\"\")","v":{"$error":"#DIV/0!"}},null,null,null,null,null,null,null,5.4505283444333736,0,{"$f":"AG1203/AG1200","v":{"$error":"#DIV/0!"}},-256,{"$f":"IF(O1203>1,I894/(O1203-1),I894/O1203)","v":{"$error":"#DIV/0!"}},{"$error":"#DIV/0!"}]
[null,null,1,"EOL FAS2040 Base + 1 x Expansion, 26x1TB",null,"DSA-N2B40-26AT","RAID DP",0,13926,26,0,400,256,{"$f":"I894/O1204","v":{"$error":"#DIV/0!"}},{"$f":"ROUNDUP(G894/I1204,0)","v":0},{"$f":"(1-((G894/$I1204)-INT(G894/$I1204)))*I1204/1024","v":13.599609375},{"$error":"#DIV/0!"},0,0,0,0,0,{"$error":"#DIV/0!"},{"$f":"IF(AND(IF($N1204<=$L1204,TRUE,FALSE),IF($V1204<=$R1204,TRUE,FALSE),OR(W1204=\"True\",W899=\"No\")),\"<-- fits project\",\"\")","v":{"$error":"#DIV/0!"}},null,null,null,null,null,null,null,9.8251153704966168,{"$f":"AF1204*O1204","v":0},{"$f":"AG1204/AG1200","v":{"$error":"#DIV/0!"}},-256,{"$f":"IF(O1204>1,I894/(O1204-1),I894/O1204)","v":{"$error":"#DIV/0!"}},{"$error":"#DIV/0!"}]
[null,null,2,"EOL FAS2040 Base + 2 x Expansion, 40x1TB",null,"DSA-N2B40-40AT","RAID DP",0,21522,40,0,400,256,{"$f":"I894/O1205","v":{"$error":"#DIV/0!"}},{"$f":"ROUNDUP(G894/I1205,0)","v":0},{"$f":"(1-((G894/$I1205)-INT(G894/$I1205)))*I1205/1024","v":21.017578125},{"$error":"#DIV/0!"},0,0,0,0,0,{"$error":"#DIV/0!"},{"$f":"IF(AND(IF($N1205<=$L1205,TRUE,FALSE),IF($V1205<=$R1205,TRUE,FALSE),OR(W1205=\"True\",W899=\"No\")),\"<-- fits project\",\"\")","v":{"$error":"#DIV/0!"}},null,null,null,null,null,null,null,14.199702396559863,0,{"$f":"AG1205/AG1200","v":{"$error":"#DIV/0!"}},-256,{"$f":"IF(O1205>1,I894/(O1205-1),I894/O1205)","v":{"$error":"#DIV/0!"}},{"$error":"#DIV/0!"}]
[null,null,4,"EOL FAS2040 Base + 4 x Expansion; 68x1TB",null,"DSA-N2B40-68AT","RAID DP",0,36714,68,0,400,256,{"$f":"I894/O1206","v":{"$error":"#DIV/0!"}},{"$f":"ROUNDUP(G894/I1206,0)","v":0},{"$f":"(1-((G894/$I1206)-INT(G894/$I1206)))*I1206/1024","v":35.853515625},{"$error":"#DIV/0!"},0,0,0,0,0,{"$error":"#DIV/0!"},{"$f":"IF(AND(IF($N1206<=$L1206,TRUE,FALSE),IF($V1206<=$R1206,TRUE,FALSE),OR(W1206=\"True\",W899=\"No\")),\"<-- fits project\",\"\")","v":{"$error":"#DIV/0!"}},null,null,null,null,null,null,null,22.948876448686352,0,{"$f":"AG1206/AG1200","v":{"$error":"#DIV/0!"}},-256,{"$f":"IF(O1206>1,I894/(O1206-1),I894/O1206)","v":{"$error":"#DIV/0!"}},{"$error":"#DIV/0!"}]
[null,null,6,"EOL FAS2040 Base + 6 x Expansion; 96x1TB",null,"DSA-N2B40-96AT","RAID DP",0,51906,96,0,400,256,{"$f":"I894/O1207","v":{"$error":"#DIV/0!"}},{"$f":"ROUNDUP(G894/I1207,0)","v":0},{"$f":"(1-((G894/$I1207)-INT(G894/$I1207)))*I1207/1024","v":50.689453125},{"$error":"#DIV/0!"},0,0,0,0,0,{"$error":"#DIV/0!"},{"$f":"IF(AND(IF($N1207<=$L1207,TRUE,FALSE),IF($V1207<=$R1207,TRUE,FALSE),OR(W1207=\"True\",W899=\"No\")),\"<-- fits project\",\"\")","v":{"$error":"#DIV/0!"}},null,null,null,null,null,null,null,31.69805050081284,0,{"$f":"AG1207/AG1200","v":{"$error":"#DIV/0!"}},-256,{"$f":"IF(O1207>1,I894/(O1207-1),I894/O1207)","v":{"$error":"#DIV/0!"}},{"$error":"#DIV/0!"}]
[null,null,null,"3th party (Project based/customized storage)",null,null,"RAID 6",0,16000,null,0,150,64,{"$f":"I894/O1208","v":{"$error":"#DIV/0!"}},{"$f":"ROUNDUP(G894/I1208,0)","v":0},{"$f":"(1-((G894/$I1208)-INT(G894/$I1208)))*I1208/1024","v":15.625},"?",0,0,0,0,0,{"$error":"#DIV/0!"},{"$f":"IF(AND(IF($N1208<=$L1208,TRUE,FALSE),IF($V1208<=$R1208,TRUE,FALSE),OR(W1208=\"True\",W899=\"No\")),\"<-- fits project\",\"\")","v":{"$error":"#DIV/0!"}},null,null,null,null,null,null,null,null,null,null,-64,{"$f":"IF(O1208>1,I894/(O1208-1),I894/O1208)","v":{"$error":"#DIV/0!"}},{"$error":"#DIV/0!"}]
[]
[]
[null,null,null,null,null,"Net storage",{"$f":"OFFSET($G$216,LEFT(RIGHT(D1212,2),1),0)","v":0},"bandwidth",{"$f":"OFFSET($O$216,LEFT(RIGHT(D1212,2),1),0)","v":0},null,"offset",0]
[null,null,null,"VRM 4 / POOL3:",null,"iSCSI array used","None",null,null,null,null,"Qty:",{"$f":"IFERROR(VLOOKUP(G1212,D1217:O1525,12,FALSE),0)","v":0},"Gross storage:",{"$f":"IFERROR(VLOOKUP(G1212,D1217:K1525,8,FALSE),0)","v":0},"Net \nstorage:",{"$f":"IFERROR((VLOOKUP(G1212,D1217:Q1525,6,FALSE)/1024)*VLOOKUP(G1212,D1217:Q1525,12,FALSE),0)","v":0},null,null,null,null,null,null,null,null,null,{"$f":"NOT(OR(G1212=\"N.A.\",G1212=\"\"))","v":true},{"$f":"IF(OR($M$1741=1,$M$1741=3),AA1212,FALSE)","v":true},null,null,null,null,null,null,null,null,{"$f":"IF(ISERROR(VLOOKUP(G1212,AK1216:AK1525,1,FALSE)),TRUE,FALSE)","v":false}]
[null,null,null,null,null,null,null,null,null,null,null,null,null,null,null,null,null,"workstations:",0]
[null,null,null,null,null,null,null,null,null,null,null,null,null,null,null,null,null,"replay cameos active per workstation:",4]
[null,null,null,"iSCSI storage unit assessment              Provides an overview which one fits best",null,null,"RAID Level","Global spares","Net storage","Gross storage","Gross storage total","Available Bandwidth per array ","Available iSCSI sessions per array","Necessary bandwidth per array","Nr of arrays","Overcapacity last array","Pricepoint compared with FAS2020","Available iSCSI sessions total","Cameras / encoders iSCSI sessions","VRM iSCSI sessions","Replay iSCSI sessions","Total Worst case iSCSI sessions","N-1 capable",null,null,null,null,null,null,null,null,null,null,null,"Available iSCSI sessions N-1","Necessary bandwidth per array N-1"]
[null,null,null,null,null,null,null,null," [GiB]","[TB]","[TB]","[Mbps]",null,"[Mbps]","[Nr Arrays]","[TiB]","[%]"," [Nr Arrays x sessions]","[sessions]","[sessions]","[sessions]","[sessions]","No",null,null,null,null,null,null,null,null,"factor",null,null," [Nr Arrays -1 x sessions]","[Mbps]","None"]
[null,null,"Target Only mode","DIVAR IP 5000 1 x 2TB",null,null,"JBOD",0,1862,2,{"$f":"O1217*J1217","v":0},130,32,{"$f":"$I$1211/O1217","v":{"$error":"#DIV/0!"}},{"$f":"ROUNDUP(G1211/I1217,0)","v":0},{"$f":"(1-(($G$1211/$I1217)-INT($G$1211/$I1217)))*I1217/1024","v":1.818359375},{"$f":"AH1217","v":{"$error":"#DIV/0!"}},{"$f":"O1217*M1217","v":0},{"$f":"IF($O1217>7,OFFSET($M$255,0,$L$1211),OFFSET($M$248,O1217-1,$L$1211,1,1))","v":0},{"$f":"O1217*1*MAX($N$1528,1)","v":0},{"$f":"$S$259*MIN(O1217,$S$260)","v":0},{"$f":"SUM(S1217,T1217,U1217)","v":0},{"$f":"IF(AND(IF($AJ1217<=$L1217,TRUE,FALSE),IF($V1217<=$AI1217,TRUE,FALSE)),\"True\",\"\")","v":{"$error":"#DIV/0!"}},{"$f":"IF(AND(IF($N1217<=$L1217,TRUE,FALSE),IF($V1217<=$R1217,TRUE,FALSE),OR(W1217=\"True\",$W$579=\"No\")),\"<-- fits project\",\"\")","v":{"$error":"#DIV/0!"}},null,null,null,null,null,null,null,null,{"$f":"AF1217*O1217","v":0},{"$f":"AG1217/$AG$563","v":{"$error":"#DIV/0!"}},{"$f":"(O1217-1)*M1217","v":-32},{"$f":"IF(O1217>1,$I$1211/(O1217-1),$I$1211/O1217)","v":{"$error":"#DIV/0!"}},{"$f":"IF(X1217=\"<-- fits project\",D1217,\"\")","v":{"$error":"#DIV/0!"}}]
[null,null,null,"DIVAR IP 5000 2 x 2TB",null,null,"JBOD",0,{"$f":"IF(G1218=\"JBOD\",((2)*1862),((1)*1862))","v":3724},4,0,{"$f":"IF(G1218=\"JBOD\",220,90)","v":220},32,{"$error":"#DIV/0!"},{"$f":"ROUNDUP(G1211/I1218,0)","v":0},3.63671875,{"$error":"#DIV/0!"},0,0,0,0,0,{"$error":"#DIV/0!"},{"$error":"#DIV/0!"},null,null,null,null,null,null,null,null,0,{"$error":"#DIV/0!"},-32,{"$error":"#DIV/0!"},{"$error":"#DIV/0!"}]
[null,null,null,"DIVAR IP 5000 4 x 2TB",null,null,"JBOD",0,{"$f":"IF(G1219=\"JBOD\",((4)*1862),((2)*1864))","v":7448},8,0,{"$f":"IF(G1219=\"JBOD\",310,200)","v":310},32,{"$error":"#DIV/0!"},{"$f":"ROUNDUP(G1211/I1219,0)","v":0},7.2734375,{"$error":"#DIV/0!"},0,0,0,0,0,{"$error":"#DIV/0!"},{"$error":"#DIV/0!"},null,null,null,null,null,null,null,null,0,{"$error":"#DIV/0!"},-32,{"$error":"#DIV/0!"},{"$error":"#DIV/0!"}]
[null,null,null,"DIVAR IP 5000 1 x 4TB",null,null,"JBOD",0,3724,4,0,130,32,{"$error":"#DIV/0!"},{"$f":"ROUNDUP(G1211/I1220,0)","v":0},3.63671875,{"$error":"#DIV/0!"},0,0,0,0,0,{"$error":"#DIV/0!"},{"$error":"#DIV/0!"},null,null,null,null,null,null,null,null,0,{"$error":"#DIV/0!"},-32,{"$error":"#DIV/0!"},{"$error":"#DIV/0!"}]
[null,null,null,"DIVAR IP 5000 2 x 4TB",null,null,"JBOD",0,{"$f":"IF(G1221=\"JBOD\",((2)*3724),((1)*3724))","v":7448},8,0,{"$f":"IF(G1221=\"JBOD\",220,90)","v":220},32,{"$error":"#DIV/0!"},{"$f":"ROUNDUP(G1211/I1221,0)","v":0},7.2734375,{"$error":"#DIV/0!"},0,0,0,0,0,{"$error":"#DIV/0!"},{"$error":"#DIV/0!"},null,null,null,null,null,null,null,null,0,{"$error":"#DIV/0!"},-32,{"$error":"#DIV/0!"},{"$error":"#DIV/0!"}]
[null,null,null,"DIVAR IP 5000 4 x 4TB",null,null,"JBOD",0,{"$f":"IF(G1222=\"JBOD\",((4)*3724),((2)*3724))","v":14896},16,0,{"$f":"IF(G1222=\"JBOD\",310,200)","v":310},32,{"$error":"#DIV/0!"},{"$f":"ROUNDUP(G1211/I1222,0)","v":0},14.546875,{"$error":"#DIV/0!"},0,0,0,0,0,{"$error":"#DIV/0!"},{"$error":"#DIV/0!"},null,null,null,null,null,null,null,null,0,{"$error":"#DIV/0!"},-32,{"$error":"#DIV/0!"},{"$error":"#DIV/0!"}]
["False","Full BVMS Management systems","2TB","DIVAR IP 3000 2x2TB",null,"DIP-3042-2HD","JBOD",0,{"$f":"((2)*1864)-100","v":3628},4,0,100,32,{"$f":"I1211/O1223","v":{"$error":"#DIV/0!"}},{"$f":"ROUNDUP(G1211/I1223,0)","v":0},{"$f":"(1-((G1211/$I1223)-INT(G1211/$I1223)))*I1223/1024","v":3.54296875},{"$f":"AH1223","v":{"$error":"#DIV/0!"}},0,{"$f":"IF($O1223>7,OFFSET($M$255,0,$L$1211),OFFSET($M$248,O1223-1,$L$1211,1,1))/MIN(O1223,2)","v":{"$error":"#DIV/0!"}},0,{"$f":"$S$259*MIN(O1223,$S$260)","v":0},{"$f":"SUM(S1223)","v":{"$error":"#DIV/0!"}},false,{"$f":"IF(AND(IF($N1223<=$L1223,TRUE,FALSE),IF($V1223<=$R1223,TRUE,FALSE),OR(W1223=\"True\",$W$1216=\"No\"),IF($A$1223=\"False\",IF(O1223=1,TRUE,FALSE),TRUE)),\"<-- fits project\",\"\")","v":{"$error":"#DIV/0!"}},null,null,null,null,null,null,null,0.57999999999999996,0,{"$f":"AG1223/AG1517","v":{"$error":"#DIV/0!"}},-32,{"$f":"IF(O1223>1,I1211/(O1223-1),I1211/O1223)","v":{"$error":"#DIV/0!"}},{"$error":"#DIV/0!"}]
[null,null,null,"DIVAR IP 3000 4x2TB",null,"DIP-3042-4HD","JBOD",0,{"$f":"((4)*1864)-100","v":7356},8,0,120,32,{"$f":"I1211/O1224","v":{"$error":"#DIV/0!"}},{"$f":"ROUNDUP(G1211/I1224,0)","v":0},{"$f":"(1-((G1211/$I1224)-INT(G1211/$I1224)))*I1224/1024","v":7.18359375},{"$f":"AH1224","v":{"$error":"#DIV/0!"}},0,{"$f":"IF($O1224>7,OFFSET($M$255,0,$L$1211),OFFSET($M$248,O1224-1,$L$1211,1,1))/MIN(O1224,2)","v":{"$error":"#DIV/0!"}},0,{"$f":"$S$259*MIN(O1224,$S$260)","v":0},{"$error":"#DIV/0!"},false,{"$error":"#DIV/0!"},null,null,null,null,null,null,null,0.74,0,{"$f":"AG1224/AG1517","v":{"$error":"#DIV/0!"}},-32,{"$f":"IF(O1224>1,I1211/(O1224-1),I1211/O1224)","v":{"$error":"#DIV/0!"}},{"$error":"#DIV/0!"}]
[null,null,null,"DIVAR IP 3000 4x2TB + 1x DIVAR IP 2000 2x2TB",null,null,"JBOD",0,{"$f":"(((4)*1864)-100)+(((2)*1864)-100)","v":10984},12,0,220,48,{"$f":"I1211/O1225","v":{"$error":"#DIV/0!"}},{"$f":"ROUNDUP(G1211/I1225,0)","v":0},{"$f":"(1-((G1211/$I1225)-INT(G1211/$I1225)))*I1225/1024","v":10.7265625},{"$f":"AH1225","v":{"$error":"#DIV/0!"}},0,{"$f":"IF($O1225>7,OFFSET($M$255,0,$L$1211),OFFSET($M$248,O1225-1,$L$1211,1,1))","v":0},0,{"$f":"$S$259*MIN(O1225,$S$260)","v":0},0,{"$f":"IF(AND(IF($AJ1225<=$L1225,TRUE,FALSE),IF($V1225<=$AI1225,TRUE,FALSE)),\"True\",\"\")","v":{"$error":"#DIV/0!"}},{"$error":"#DIV/0!"},null,null,null,null,null,null,null,1.32,0,{"$f":"AG1225/AG1517","v":{"$error":"#DIV/0!"}},-48,{"$f":"IF(O1225>1,I1211/(O1225-1),I1211/O1225)","v":{"$error":"#DIV/0!"}},{"$error":"#DIV/0!"}]
["Allow >1 Divar IP 3000/7000 systems:",null,null,"DIVAR IP 3000 4x2TB + 1x DIVAR IP 2000 4x2TB",null,null,"JBOD",0,{"$f":"2*(((4)*1864)-100)","v":14712},16,0,220,48,{"$f":"I1211/O1226","v":{"$error":"#DIV/0!"}},{"$f":"ROUNDUP(G1211/I1226,0)","v":0},{"$f":"(1-((G1211/$I1226)-INT(G1211/$I1226)))*I1226/1024","v":14.3671875},{"$f":"AH1226","v":{"$error":"#DIV/0!"}},0,{"$f":"IF($O1226>7,OFFSET($M$255,0,$L$1211),OFFSET($M$248,O1226-1,$L$1211,1,1))","v":0},0,{"$f":"$S$259*MIN(O1226,$S$260)","v":0},0,{"$f":"IF(AND(IF($AJ1226<=$L1226,TRUE,FALSE),IF($V1226<=$AI1226,TRUE,FALSE)),\"True\",\"\")","v":{"$error":"#DIV/0!"}},{"$error":"#DIV/0!"},null,null,null,null,null,null,null,1.48,0,{"$f":"AG1226/AG1517","v":{"$error":"#DIV/0!"}},-48,{"$f":"IF(O1226>1,I1211/(O1226-1),I1211/O1226)","v":{"$error":"#DIV/0!"}},{"$error":"#DIV/0!"}]
[null,null,"3TB","DIVAR IP 3000 2x3TB",null,"DIP-3043-2HD","JBOD",0,{"$f":"((2-H1227)*2794)-100","v":5488},6,0,100,32,{"$f":"I1211/O1227","v":{"$error":"#DIV/0!"}},{"$f":"ROUNDUP(G1211/I1227,0)","v":0},{"$f":"(1-((G1211/$I1227)-INT(G1211/$I1227)))*I1227/1024","v":5.359375},{"$error":"#DIV/0!"},0,{"$f":"IF($O1227>7,OFFSET($M$255,0,$L$1211),OFFSET($M$248,O1227-1,$L$1211,1,1))/MIN(O1227,2)","v":{"$error":"#DIV/0!"}},0,0,{"$f":"SUM(S1227)","v":{"$error":"#DIV/0!"}},false,{"$error":"#DIV/0!"},null,null,null,null,null,null,null,{"$f":"0.77022916775919*1.3","v":1.001297918086947},0,{"$f":"AG1227/AG1517","v":{"$error":"#DIV/0!"}},-32,{"$f":"IF(O1227>1,I1211/(O1227-1),I1211/O1227)","v":{"$error":"#DIV/0!"}},{"$error":"#DIV/0!"}]
[null,null,null,"DIVAR IP 3000 4x3TB",null,"DIP-3043-4HD","JBOD",0,{"$f":"((4-H1228)*2794)-100","v":11076},12,0,120,32,{"$f":"I1211/O1228","v":{"$error":"#DIV/0!"}},{"$f":"ROUNDUP(G1211/I1228,0)","v":0},{"$f":"(1-((G1211/$I1228)-INT(G1211/$I1228)))*I1228/1024","v":10.81640625},{"$error":"#DIV/0!"},0,{"$f":"IF($O1228>7,OFFSET($M$255,0,$L$1211),OFFSET($M$248,O1228-1,$L$1211,1,1))/MIN(O1228,2)","v":{"$error":"#DIV/0!"}},0,0,{"$f":"SUM(S1228)","v":{"$error":"#DIV/0!"}},false,{"$error":"#DIV/0!"},null,null,null,null,null,null,null,{"$f":"0.917719859457759*1.3","v":1.1930358172950868},0,{"$f":"AG1228/AG1517","v":{"$error":"#DIV/0!"}},-32,{"$f":"IF(O1228>1,I1211/(O1228-1),I1211/O1228)","v":{"$error":"#DIV/0!"}},{"$error":"#DIV/0!"}]
[null,null,null,"DIVAR IP 3000 4x3TB + 1x DIVAR IP 2000 2x3TB",null,null,"JBOD",0,{"$f":"(((4)*2794)-100)+(((2)*2794)-100)","v":16564},18,0,220,48,{"$f":"I1211/O1229","v":{"$error":"#DIV/0!"}},{"$f":"ROUNDUP(G1211/I1229,0)","v":0},{"$f":"(1-((G1211/$I1229)-INT(G1211/$I1229)))*I1229/1024","v":16.17578125},{"$error":"#DIV/0!"},0,{"$f":"IF($O1229>7,OFFSET($M$255,0,$L$1211),OFFSET($M$248,O1229-1,$L$1211,1,1))","v":0},0,0,{"$f":"SUM(S1229)","v":0},{"$f":"IF(AND(IF($AJ1229<=$L1229,TRUE,FALSE),IF($V1229<=$AI1229,TRUE,FALSE)),\"True\",\"\")","v":{"$error":"#DIV/0!"}},{"$error":"#DIV/0!"},null,null,null,null,null,null,null,{"$f":"1.47490691698568*1.3","v":1.9173789920813842},0,{"$f":"AG1229/AG1517","v":{"$error":"#DIV/0!"}},-48,{"$f":"IF(O1229>1,I1211/(O1229-1),I1211/O1229)","v":{"$error":"#DIV/0!"}},{"$error":"#DIV/0!"}]
[null,null,null,"DIVAR IP 3000 4x3TB + 1x DIVAR IP 2000 4x3TB",null,null,"JBOD",0,{"$f":"2*(((4)*2794)-100)","v":22152},24,0,220,48,{"$f":"$I$1211/O1230","v":{"$error":"#DIV/0!"}},{"$f":"ROUNDUP($G$1211/I1230,0)","v":0},{"$f":"(1-(($G$1211/$I1230)-INT($G$1211/$I1230)))*I1230/1024","v":21.6328125},{"$error":"#DIV/0!"},0,{"$f":"IF($O1230>7,OFFSET($M$255,0,$L$1211),OFFSET($M$248,O1230-1,$L$1211,1,1))","v":0},0,0,{"$f":"SUM(S1230)","v":0},{"$f":"IF(AND(IF($AJ1230<=$L1230,TRUE,FALSE),IF($V1230<=$AI1230,TRUE,FALSE)),\"True\",\"\")","v":{"$error":"#DIV/0!"}},{"$error":"#DIV/0!"},null,null,null,null,null,null,null,{"$f":"1.68794902721695*1.3","v":2.1943337353820351},0,{"$f":"AG1230/$AG$1517","v":{"$error":"#DIV/0!"}},-48,{"$f":"IF(O1230>1,$I$1211/(O1230-1),$I$1211/O1230)","v":{"$error":"#DIV/0!"}},{"$error":"#DIV/0!"}]
[null,null,null,"DIVAR IP 7000 R2 4X3TB",null,null,"RAID 5",0,8375,12,0,475,128,{"$error":"#DIV/0!"},0,8.1787109375,{"$error":"#DIV/0!"},0,{"$f":"IF($O1231>7,OFFSET($M$255,0,$L$1211),OFFSET($M$248,O1231-1,$L$1211,1,1))/MIN(O1231,2)","v":{"$error":"#DIV/0!"}},0,0,{"$f":"SUM(S1231)","v":{"$error":"#DIV/0!"}},false,{"$error":"#DIV/0!"},null,null,null,null,null,null,null,null,0,{"$error":"#DIV/0!"},-128,{"$error":"#DIV/0!"},{"$error":"#DIV/0!"}]
[null,null,null,"DIVAR IP 7000 R2 8X3TB",null,null,"RAID 5",0,{"$f":"IF(G1232=\"RAID 5\",(7-H1232)*2793,(6-H1232)*2793)","v":19551},24,0,475,128,{"$error":"#DIV/0!"},0,19.0927734375,{"$error":"#DIV/0!"},0,{"$error":"#DIV/0!"},0,0,{"$error":"#DIV/0!"},false,{"$error":"#DIV/0!"},null,null,null,null,null,null,null,null,0,{"$error":"#DIV/0!"},-128,{"$error":"#DIV/0!"},{"$error":"#DIV/0!"},null,null,null,null,null,null,{"$f":"IF(G1232=\"RAID 6\",0,0)","v":0},{"$f":"IF(G1232=\"RAID 6\",0,1)","v":1}]
[null,null,null,"DIVAR IP 7000 R2 16X3TB",null,null,"RAID 5",0,{"$f":"IF(G1233=\"RAID 5\",(15-H1233)*2793,(14-H1233)*2793)","v":41895},48,0,475,128,{"$error":"#DIV/0!"},0,40.9130859375,{"$error":"#DIV/0!"},0,{"$error":"#DIV/0!"},0,0,{"$error":"#DIV/0!"},false,{"$error":"#DIV/0!"},null,null,null,null,null,null,null,null,0,{"$error":"#DIV/0!"},-128,{"$error":"#DIV/0!"},{"$f":"IF(X1233=\"<-- fits project\",D1233,\"\")","v":{"$error":"#DIV/0!"}},null,null,null,null,null,null,0,1]
[null,null,"6TB","DIVAR IP 7000 R2 8X6TB",null,null,"RAID 5",0,{"$f":"IF(G1234=\"RAID 5\",(7-H1234)*5586,(6-H1234)*5586)","v":39102},{"$f":"8*6","v":48},0,475,128,{"$error":"#DIV/0!"},0,38.185546875,{"$error":"#DIV/0!"},0,{"$error":"#DIV/0!"},0,0,{"$error":"#DIV/0!"},false,{"$error":"#DIV/0!"},null,null,null,null,null,null,null,null,0,{"$error":"#DIV/0!"},-128,{"$error":"#DIV/0!"},{"$error":"#DIV/0!"},null,null,null,null,null,null,0,1]
[null,null,null,"DIVAR IP 7000 R2 16X6TB",null,null,"RAID 5",0,{"$f":"IF(G1235=\"RAID 5\",(15-H1235)*5586,(14-H1235)*5586)","v":83790},{"$f":"16*6","v":96},0,475,128,{"$error":"#DIV/0!"},0,81.826171875,{"$error":"#DIV/0!"},0,{"$error":"#DIV/0!"},0,0,{"$error":"#DIV/0!"},false,{"$error":"#DIV/0!"},null,null,null,null,null,null,null,null,0,{"$error":"#DIV/0!"},-128,{"$error":"#DIV/0!"},{"$error":"#DIV/0!"},null,null,null,null,null,null,0,1]
[null,null,"8TB","DIVAR IP 7000 R2 8X8TB",null,null,"RAID 5",0,{"$f":"IF(G1236=\"RAID 5\",(7-H1236)*7448,(6-H1236)*7448)","v":52136},{"$f":"8*8","v":64},0,475,128,{"$error":"#DIV/0!"},0,50.9140625,{"$error":"#DIV/0!"},0,{"$error":"#DIV/0!"},0,0,{"$error":"#DIV/0!"},false,{"$error":"#DIV/0!"},null,null,null,null,null,null,null,null,0,{"$error":"#DIV/0!"},-128,{"$error":"#DIV/0!"},{"$error":"#DIV/0!"},null,null,null,null,null,null,0,1]
[null,null,null,"DIVAR IP 7000 R2 16X8TB",null,null,"RAID 5",0,{"$f":"IF(G1237=\"RAID 5\",(15-H1237)*7448,(14-H1237)*7448)","v":111720},{"$f":"16*8","v":128},0,475,128,{"$error":"#DIV/0!"},0,109.1015625,{"$error":"#DIV/0!"},0,{"$error":"#DIV/0!"},0,0,{"$error":"#DIV/0!"},false,{"$error":"#DIV/0!"},null,null,null,null,null,null,null,null,0,{"$error":"#DIV/0!"},-128,{"$error":"#DIV/0!"},{"$error":"#DIV/0!"},null,null,null,null,null,null,0,1]
[null,null,"3TB","DIVAR IP 7000 R2 8X3TB + 1x DIVAR IP 6000 R2 8X3TB",null,null,"RAID 5",0,{"$f":"IF(G1238=\"RAID 5\",2*(((7-H1238)*2793)),2*(((6-H1238)*2793)))","v":39102},48,0,{"$f":"475+550","v":1025},{"$f":"128+128","v":256},{"$error":"#DIV/0!"},0,38.185546875,{"$error":"#DIV/0!"},0,{"$f":"IF($O1238>7,OFFSET($M$255,0,$L$1211),OFFSET($M$248,O1238-1,$L$1211,1,1))","v":0},0,0,0,{"$f":"IF(AND(IF($AJ1238<=$L1238,TRUE,FALSE),IF($V1238<=$AI1238,TRUE,FALSE)),\"True\",\"\")","v":{"$error":"#DIV/0!"}},{"$error":"#DIV/0!"},null,null,null,null,null,null,null,null,0,{"$error":"#DIV/0!"},-256,{"$error":"#DIV/0!"},{"$error":"#DIV/0!"}]
[null,null,null,"DIVAR IP 7000 R2 8X3TB + 2x DIVAR IP 6000 R2 8X3TB",null,null,"RAID 5",0,{"$f":"IF(G1239=\"RAID 5\",3*(((7-H1239)*2793)),3*(((6-H1239)*2793)))","v":58653},{"$f":"24*3","v":72},0,{"$f":"475+(2*550)","v":1575},{"$f":"128+(2*128)","v":384},{"$error":"#DIV/0!"},0,57.2783203125,{"$error":"#DIV/0!"},0,0,0,0,0,{"$error":"#DIV/0!"},{"$error":"#DIV/0!"},null,null,null,null,null,null,null,null,0,{"$error":"#DIV/0!"},-384,{"$error":"#DIV/0!"},{"$error":"#DIV/0!"}]
[null,null,null,"DIVAR IP 7000 R2 8X3TB + 3x DIVAR IP 6000 R2 8X3TB",null,null,"RAID 5",0,{"$f":"IF(G1240=\"RAID 5\",4*(((7-H1240)*2793)),4*(((6-H1240)*2793)))","v":78204},{"$f":"32*3","v":96},0,{"$f":"475+(3*550)","v":2125},{"$f":"128+(3*128)","v":512},{"$error":"#DIV/0!"},0,76.37109375,{"$error":"#DIV/0!"},0,0,0,0,0,{"$error":"#DIV/0!"},{"$error":"#DIV/0!"},null,null,null,null,null,null,null,null,0,{"$error":"#DIV/0!"},-512,{"$error":"#DIV/0!"},{"$error":"#DIV/0!"}]
[null,null,null,"DIVAR IP 7000 R2 8X3TB + 4x DIVAR IP 6000 R2 8X3TB",null,null,"RAID 5",0,{"$f":"IF(G1241=\"RAID 5\",5*(((7-H1241)*2793)),5*(((6-H1241)*2793)))","v":97755},{"$f":"40*3","v":120},0,{"$f":"475+(4*550)","v":2675},{"$f":"128+(4*128)","v":640},{"$error":"#DIV/0!"},0,95.4638671875,{"$error":"#DIV/0!"},0,0,0,0,0,{"$error":"#DIV/0!"},{"$error":"#DIV/0!"},null,null,null,null,null,null,null,null,0,{"$error":"#DIV/0!"},-640,{"$error":"#DIV/0!"},{"$error":"#DIV/0!"}]
[null,null,null,"DIVAR IP 7000 R2 8X3TB + 1x DIVAR IP 6000 R2 3U 16x3TB",null,null,"RAID 5",0,{"$f":"IF(G1242=\"RAID 5\",(((7-H1242)*2792))+(1*(((15-H1242)*2792))),(((6-H1242)*2792))+(1*(((14-H1242)*2792))))","v":61424},{"$f":"(16+8)*3","v":72},0,{"$f":"475+(1*550)","v":1025},{"$f":"128+(2*128)","v":384},{"$error":"#DIV/0!"},0,59.984375,{"$error":"#DIV/0!"},0,0,0,0,0,{"$error":"#DIV/0!"},{"$error":"#DIV/0!"},null,null,null,null,null,null,null,null,0,{"$error":"#DIV/0!"},-384,{"$error":"#DIV/0!"},{"$error":"#DIV/0!"}]
[null,null,null,"DIVAR IP 7000 R2 8X3TB + 2x DIVAR IP 6000 R2 3U 16x3TB",null,null,"RAID 5",0,{"$f":"IF(G1243=\"RAID 5\",(((7-H1243)*2792))+(2*(((15-H1243)*2792))),(((6-H1243)*2792))+(2*(((14-H1243)*2792))))","v":103304},{"$f":"(2*16+8)*3","v":120},0,{"$f":"475+(2*550)","v":1575},{"$f":"128+(2*128)","v":384},{"$error":"#DIV/0!"},0,100.8828125,{"$error":"#DIV/0!"},0,0,0,0,0,{"$error":"#DIV/0!"},{"$error":"#DIV/0!"},null,null,null,null,null,null,null,null,0,{"$error":"#DIV/0!"},-384,{"$error":"#DIV/0!"},{"$error":"#DIV/0!"}]
[null,null,null,"DIVAR IP 7000 R2 8X3TB + 3x DIVAR IP 6000 R2 3U 16x3TB",null,null,"RAID 5",0,{"$f":"IF(G1244=\"RAID 5\",(((7-H1244)*2792))+(3*(((15-H1244)*2792))),(((6-H1244)*2792))+(3*(((14-H1244)*2792))))","v":145184},{"$f":"(3*16+8)*3","v":168},0,{"$f":"475+(3*550)","v":2125},{"$f":"128+(2*128)","v":384},{"$error":"#DIV/0!"},0,141.78125,{"$error":"#DIV/0!"},0,0,0,0,0,{"$error":"#DIV/0!"},{"$error":"#DIV/0!"},null,null,null,null,null,null,null,null,0,{"$error":"#DIV/0!"},-384,{"$error":"#DIV/0!"},{"$error":"#DIV/0!"}]
[null,null,null,"DIVAR IP 7000 R2 8X3TB + 4x DIVAR IP 6000 R2 3U 16x3TB",null,null,"RAID 5",0,{"$f":"IF(G1245=\"RAID 5\",(((7-H1245)*2792))+(4*(((15-H1245)*2792))),(((6-H1245)*2792))+(4*(((14-H1245)*2792))))","v":187064},{"$f":"(4*16+8)*3","v":216},0,{"$f":"475+(4*550)","v":2675},{"$f":"128+(2*128)","v":384},{"$error":"#DIV/0!"},0,182.6796875,{"$error":"#DIV/0!"},0,0,0,0,0,{"$error":"#DIV/0!"},{"$error":"#DIV/0!"},null,null,null,null,null,null,null,null,0,{"$error":"#DIV/0!"},-384,{"$error":"#DIV/0!"},{"$error":"#DIV/0!"}]
[null,null,null,"DIVAR IP 7000 R2 4X4TB",null,null,"RAID 5",0,11170,16,0,475,128,{"$error":"#DIV/0!"},0,10.908203125,{"$error":"#DIV/0!"},0,{"$f":"IF($O1246>7,OFFSET($M$255,0,$L$1211),OFFSET($M$248,O1246-1,$L$1211,1,1))/MIN(O1246,2)","v":{"$error":"#DIV/0!"}},0,0,{"$error":"#DIV/0!"},false,{"$error":"#DIV/0!"},null,null,null,null,null,null,null,null,0,{"$error":"#DIV/0!"},-128,{"$error":"#DIV/0!"},{"$error":"#DIV/0!"}]
[null,null,null,"DIVAR IP 7000 R2 8X4TB",null,null,"RAID 5",0,{"$f":"IF(G1247=\"RAID 5\",(7-H1247)*3723,(6-H1247)*3723)","v":26061},32,0,475,128,{"$error":"#DIV/0!"},0,25.4501953125,{"$error":"#DIV/0!"},0,{"$f":"IF($O1247>7,OFFSET($M$255,0,$L$1211),OFFSET($M$248,O1247-1,$L$1211,1,1))/MIN(O1247,2)","v":{"$error":"#DIV/0!"}},0,0,{"$error":"#DIV/0!"},false,{"$error":"#DIV/0!"},null,null,null,null,null,null,null,null,0,{"$error":"#DIV/0!"},-128,{"$error":"#DIV/0!"},{"$error":"#DIV/0!"},null,null,null,null,null,null,{"$f":"IF(G1247=\"RAID 6\",0,0)","v":0},{"$f":"IF(G1247=\"RAID 6\",0,1)","v":1}]
[null,null,null,"DIVAR IP 7000 R2 16X4TB",null,null,"RAID 5",0,{"$f":"IF(G1248=\"RAID 5\",(15-H1248)*3723,(14-H1248)*3723)","v":55845},64,0,475,128,{"$error":"#DIV/0!"},0,54.5361328125,{"$error":"#DIV/0!"},0,{"$f":"IF($O1248>7,OFFSET($M$255,0,$L$1211),OFFSET($M$248,O1248-1,$L$1211,1,1))/MIN(O1248,2)","v":{"$error":"#DIV/0!"}},0,0,{"$error":"#DIV/0!"},false,{"$error":"#DIV/0!"},null,null,null,null,null,null,null,null,0,{"$error":"#DIV/0!"},-128,{"$error":"#DIV/0!"},{"$error":"#DIV/0!"},null,null,null,null,null,null,{"$f":"IF(G1248=\"RAID 6\",0,0)","v":0},{"$f":"IF(G1248=\"RAID 6\",0,1)","v":1}]
[null,null,"4TB","DIVAR IP 7000 R2 8X4TB + 1x DIVAR IP 6000 R2 8X4TB",null,null,"RAID 5",0,{"$f":"IF(G1249=\"RAID 5\",2*((7-H1249)*3723),2*((6-H1249)*3723))","v":52122},{"$f":"16*4","v":64},0,{"$f":"475+550","v":1025},{"$f":"128+128","v":256},{"$error":"#DIV/0!"},0,50.900390625,{"$error":"#DIV/0!"},0,{"$f":"IF($O1249>7,OFFSET($M$255,0,$L$1211),OFFSET($M$248,O1249-1,$L$1211,1,1))","v":0},0,0,0,{"$f":"IF(AND(IF($AJ1249<=$L1249,TRUE,FALSE),IF($V1249<=$AI1249,TRUE,FALSE)),\"True\",\"\")","v":{"$error":"#DIV/0!"}},{"$error":"#DIV/0!"},null,null,null,null,null,null,null,null,0,{"$error":"#DIV/0!"},-256,{"$error":"#DIV/0!"},{"$error":"#DIV/0!"}]
[null,null,null,"DIVAR IP 7000 R2 8X4TB + 2x DIVAR IP 6000 R2 8X4TB",null,null,"RAID 5",0,{"$f":"IF(G1250=\"RAID 5\",3*((7-H1250)*3723),3*((6-H1250)*3723))","v":78183},{"$f":"24*4","v":96},0,{"$f":"475+(2*550)","v":1575},{"$f":"128+(2*128)","v":384},{"$error":"#DIV/0!"},0,76.3505859375,{"$error":"#DIV/0!"},0,0,0,0,0,{"$error":"#DIV/0!"},{"$error":"#DIV/0!"},null,null,null,null,null,null,null,null,0,{"$error":"#DIV/0!"},-384,{"$error":"#DIV/0!"},{"$error":"#DIV/0!"}]
[null,null,null,"DIVAR IP 7000 R2 8X4TB + 3x DIVAR IP 6000 R2 8X4TB",null,null,"RAID 5",0,{"$f":"IF(G1251=\"RAID 5\",4*((7-H1251)*3723),4*((6-H1251)*3723))","v":104244},{"$f":"32*4","v":128},0,{"$f":"475+(3*550)","v":2125},{"$f":"128+(3*128)","v":512},{"$error":"#DIV/0!"},0,101.80078125,{"$error":"#DIV/0!"},0,0,0,0,0,{"$error":"#DIV/0!"},{"$error":"#DIV/0!"},null,null,null,null,null,null,null,null,0,{"$error":"#DIV/0!"},-512,{"$error":"#DIV/0!"},{"$error":"#DIV/0!"}]
[null,null,null,"DIVAR IP 7000 R2 8X4TB + 4x DIVAR IP 6000 R2 8X4TB",null,null,"RAID 5",0,{"$f":"IF(G1252=\"RAID 5\",5*((7-H1252)*3723),5*((6-H1252)*3723))","v":130305},{"$f":"40*4","v":160},0,{"$f":"475+(4*550)","v":2675},{"$f":"128+(4*128)","v":640},{"$error":"#DIV/0!"},0,127.2509765625,{"$error":"#DIV/0!"},0,0,0,0,0,{"$error":"#DIV/0!"},{"$error":"#DIV/0!"},null,null,null,null,null,null,null,null,0,{"$error":"#DIV/0!"},-640,{"$error":"#DIV/0!"},{"$error":"#DIV/0!"}]
[null,null,null,"DIVAR IP 7000 R2 8X4TB + 1x DIVAR IP 6000 R2 3U 16x4TB",null,null,"RAID 5",0,{"$f":"IF(G1253=\"RAID 5\",(((7-H1253)*3723))+(1*(((15-H1253)*3723))),(((6-H1253)*3723))+(1*(((15-H1253)*3723))))","v":81906},{"$f":"(16+8)*4","v":96},0,{"$f":"475+(1*550)","v":1025},{"$f":"128+(1*128)","v":256},{"$error":"#DIV/0!"},0,79.986328125,{"$error":"#DIV/0!"},0,0,0,0,0,{"$error":"#DIV/0!"},{"$error":"#DIV/0!"},null,null,null,null,null,null,null,null,0,{"$error":"#DIV/0!"},-256,{"$error":"#DIV/0!"},{"$error":"#DIV/0!"}]
[null,null,null,"DIVAR IP 7000 R2 8X4TB + 2x DIVAR IP 6000 R2 3U 16x4TB",null,null,"RAID 5",0,{"$f":"IF(G1254=\"RAID 5\",(((7-H1254)*3723))+(2*(((15-H1254)*3723))),(((6-H1254)*3723))+(2*(((15-H1254)*3723))))","v":137751},{"$f":"(2*16+8)*4","v":160},0,{"$f":"475+(2*550)","v":1575},{"$f":"128+(2*128)","v":384},{"$error":"#DIV/0!"},0,134.5224609375,{"$error":"#DIV/0!"},0,0,0,0,0,{"$error":"#DIV/0!"},{"$error":"#DIV/0!"},null,null,null,null,null,null,null,null,0,{"$error":"#DIV/0!"},-384,{"$error":"#DIV/0!"},{"$error":"#DIV/0!"}]
[null,null,null,"DIVAR IP 7000 R2 8X4TB + 3x DIVAR IP 6000 R2 3U 16x4TB",null,null,"RAID 5",0,{"$f":"IF(G1255=\"RAID 5\",(((7-H1255)*3723))+(3*(((15-H1255)*3723))),(((6-H1255)*3723))+(3*(((15-H1255)*3723))))","v":193596},{"$f":"(3*16+8)*4","v":224},0,{"$f":"475+(3*550)","v":2125},{"$f":"128+(3*128)","v":512},{"$error":"#DIV/0!"},0,189.05859375,{"$error":"#DIV/0!"},0,0,0,0,0,{"$error":"#DIV/0!"},{"$f":"IF(AND(IF($N1255<=$L1255,TRUE,FALSE),IF($V1255<=$R1255,TRUE,FALSE),OR(W1255=\"True\",$W$1216=\"No\"),IF($A$1223=\"False\",IF(O1255=1,TRUE,FALSE),TRUE)),\"<-- fits project\",\"\")","v":{"$error":"#DIV/0!"}},null,null,null,null,null,null,null,null,0,{"$error":"#DIV/0!"},-512,{"$error":"#DIV/0!"},{"$error":"#DIV/0!"}]
[null,null,null,"DIVAR IP 7000 R2 8X4TB + 4x DIVAR IP 6000 R2 3U 16x4TB",null,null,"RAID 5",0,{"$f":"IF(G1256=\"RAID 5\",(((7-H1256)*3723))+(4*(((15-H1256)*3723))),(((6-H1256)*3723))+(4*(((15-H1256)*3723))))","v":249441},{"$f":"(4*16+8)*4","v":288},0,{"$f":"475+(4*550)","v":2675},{"$f":"128+(4*128)","v":640},{"$error":"#DIV/0!"},0,243.5947265625,{"$error":"#DIV/0!"},0,0,0,0,0,{"$error":"#DIV/0!"},{"$error":"#DIV/0!"},null,null,null,null,null,null,null,null,0,{"$error":"#DIV/0!"},-640,{"$error":"#DIV/0!"},{"$error":"#DIV/0!"}]
[null,null,null,"DIVAR IP 7000 R2 16X3TB + 1x DIVAR IP 6000 R2 8x4TB",null,null,"RAID 5",0,{"$f":"IF(G1257=\"RAID 5\",(((15-H1257)*2792))+(1*(((7-H1257)*3723))),(((14-H1257)*2792))+(1*(((6-H1257)*3723))))","v":67941},{"$f":"(16*3)+(1*(8*4))","v":80},0,{"$f":"475+(1*550)","v":1025},{"$f":"128+(1*128)","v":256},{"$error":"#DIV/0!"},0,66.3486328125,{"$error":"#DIV/0!"},0,0,0,0,0,{"$error":"#DIV/0!"},{"$error":"#DIV/0!"},null,null,null,null,null,null,null,null,{"$f":"AF1257*O1257","v":0},{"$f":"AG1257/$AG$563","v":{"$error":"#DIV/0!"}},-256,{"$error":"#DIV/0!"},{"$error":"#DIV/0!"}]
[null,null,null,"DIVAR IP 7000 R2 16X3TB + 2x DIVAR IP 6000 R2 8x4TB",null,null,"RAID 5",0,{"$f":"IF(G1258=\"RAID 5\",(((15-H1258)*2792))+(2*(((7-H1258)*3723))),(((14-H1258)*2792))+(2*(((6-H1258)*3723))))","v":94002},{"$f":"(16*3)+(2*(8*4))","v":112},0,{"$f":"475+(2*550)","v":1575},{"$f":"128+(2*128)","v":384},{"$error":"#DIV/0!"},0,91.798828125,{"$error":"#DIV/0!"},0,0,0,0,0,{"$error":"#DIV/0!"},{"$error":"#DIV/0!"},null,null,null,null,null,null,null,null,0,{"$error":"#DIV/0!"},-384,{"$error":"#DIV/0!"},{"$error":"#DIV/0!"}]
[null,null,null,"DIVAR IP 7000 R2 16X3TB + 3x \tDIVAR IP 6000 R2 8x4TB",null,null,"RAID 5",0,{"$f":"IF(G1259=\"RAID 5\",(((15-H1259)*2792))+(3*(((7-H1259)*3723))),(((14-H1259)*2792))+(3*(((6-H1259)*3723))))","v":120063},{"$f":"(16*3)+(3*(8*4))","v":144},0,{"$f":"475+(3*550)","v":2125},{"$f":"128+(3*128)","v":512},{"$error":"#DIV/0!"},0,117.2490234375,{"$error":"#DIV/0!"},0,0,0,0,0,{"$error":"#DIV/0!"},{"$error":"#DIV/0!"},null,null,null,null,null,null,null,null,0,{"$error":"#DIV/0!"},-512,{"$error":"#DIV/0!"},{"$error":"#DIV/0!"}]
[null,null,null,"DIVAR IP 7000 R2 16X3TB + 4x \tDIVAR IP 6000 R2 8x4TB",null,null,"RAID 5",0,{"$f":"IF(G1260=\"RAID 5\",(((15-H1260)*2792))+(4*(((7-H1260)*3723))),(((14-H1260)*2792))+(4*(((6-H1260)*3723))))","v":146124},{"$f":"(16*3)+(4*(8*4))","v":176},0,{"$f":"475+(4*550)","v":2675},{"$f":"128+(4*128)","v":640},{"$error":"#DIV/0!"},0,142.69921875,{"$error":"#DIV/0!"},0,0,0,0,0,{"$error":"#DIV/0!"},{"$error":"#DIV/0!"},null,null,null,null,null,null,null,null,0,{"$error":"#DIV/0!"},-640,{"$error":"#DIV/0!"},{"$error":"#DIV/0!"}]
[null,null,null,"DIVAR IP 7000 R2 16X3TB + 1x \tDIVAR IP 6000 R2 3U 16x3TB",null,null,"RAID 5",0,{"$f":"IF(G1261=\"RAID 5\",(((15-H1261)*2792))+(1*(((15-H1261)*2792))),(((14-H1261)*2792))+(1*(((14-H1261)*2792))))","v":83760},{"$f":"(16*3)+(1*(16*3))","v":96},0,{"$f":"475+(1*550)","v":1025},{"$f":"128+(1*128)","v":256},{"$error":"#DIV/0!"},0,81.796875,{"$error":"#DIV/0!"},0,0,0,0,0,{"$error":"#DIV/0!"},{"$error":"#DIV/0!"},null,null,null,null,null,null,null,null,0,{"$error":"#DIV/0!"},-256,{"$error":"#DIV/0!"},{"$error":"#DIV/0!"}]
[null,null,null,"DIVAR IP 7000 R2 16X3TB + 2x \tDIVAR IP 6000 R2 3U 16x3TB",null,null,"RAID 5",0,{"$f":"IF(G1262=\"RAID 5\",(((15-H1262)*2792))+(2*(((15-H1262)*2792))),(((14-H1262)*2792))+(2*(((14-H1262)*2792))))","v":125640},{"$f":"(16*3)+(2*(16*3))","v":144},0,{"$f":"475+(2*550)","v":1575},{"$f":"128+(2*128)","v":384},{"$f":"$I$1211/O1262","v":{"$error":"#DIV/0!"}},{"$f":"ROUNDUP($G$1211/I1262,0)","v":0},{"$f":"(1-(($G$1211/$I1262)-INT($G$1211/$I1262)))*I1262/1024","v":122.6953125},{"$error":"#DIV/0!"},0,0,0,0,0,{"$error":"#DIV/0!"},{"$error":"#DIV/0!"},null,null,null,null,null,null,null,null,0,{"$error":"#DIV/0!"},-384,{"$f":"IF(O1262>1,$I$1211/(O1262-1),$I$1211/O1262)","v":{"$error":"#DIV/0!"}},{"$error":"#DIV/0!"}]
[null,null,null,"DIVAR IP 7000 R2 16X3TB + 3x \tDIVAR IP 6000 R2 3U 16x3TB",null,null,"RAID 5",0,{"$f":"IF(G1263=\"RAID 5\",(((15-H1263)*2792))+(3*(((15-H1263)*2792))),(((14-H1263)*2792))+(3*(((14-H1263)*2792))))","v":167520},{"$f":"(16*3)+(3*(16*3))","v":192},0,{"$f":"475+(3*550)","v":2125},{"$f":"128+(3*128)","v":512},{"$error":"#DIV/0!"},0,163.59375,{"$error":"#DIV/0!"},0,0,0,0,0,{"$error":"#DIV/0!"},{"$error":"#DIV/0!"},null,null,null,null,null,null,null,null,0,{"$error":"#DIV/0!"},-512,{"$error":"#DIV/0!"},{"$error":"#DIV/0!"}]
[null,null,null,"DIVAR IP 7000 R2 16X3TB + 4x \tDIVAR IP 6000 R2 3U 16x3TB",null,null,"RAID 5",0,{"$f":"IF(G1264=\"RAID 5\",(((15-H1264)*2792))+(4*(((15-H1264)*2792))),(((14-H1264)*2792))+(4*(((14-H1264)*2792))))","v":209400},{"$f":"(16*3)+(4*(16*3))","v":240},0,{"$f":"475+(4*550)","v":2675},{"$f":"128+(4*128)","v":640},{"$error":"#DIV/0!"},0,204.4921875,{"$error":"#DIV/0!"},0,0,0,0,0,{"$error":"#DIV/0!"},{"$error":"#DIV/0!"},null,null,null,null,null,null,null,null,0,{"$error":"#DIV/0!"},-640,{"$error":"#DIV/0!"},{"$error":"#DIV/0!"}]
[null,null,null,"DIVAR IP 7000 R2 16X3TB + 1x \tDIVAR IP 6000 R2 3U 16x4TB",null,null,"RAID 5",0,{"$f":"IF(G1265=\"RAID 5\",(((15-H1265)*2792))+(1*(((15-H1265)*3723))),(((14-H1265)*2792))+(1*(((14-H1265)*3723))))","v":97725},{"$f":"(16*3)+(1*(16*4))","v":112},0,{"$f":"475+(1*550)","v":1025},{"$f":"128+(1*128)","v":256},{"$error":"#DIV/0!"},0,95.4345703125,{"$error":"#DIV/0!"},0,0,0,0,0,{"$error":"#DIV/0!"},{"$error":"#DIV/0!"},null,null,null,null,null,null,null,null,0,{"$error":"#DIV/0!"},-256,{"$error":"#DIV/0!"},{"$error":"#DIV/0!"}]
[null,null,null,"DIVAR IP 7000 R2 16X3TB + 2x \tDIVAR IP 6000 R2 3U 16x4TB",null,null,"RAID 5",0,{"$f":"IF(G1266=\"RAID 5\",(((15-H1266)*2792))+(2*(((15-H1266)*3723))),(((14-H1266)*2792))+(2*(((14-H1266)*3723))))","v":153570},{"$f":"(16*3)+(2*(16*4))","v":176},0,{"$f":"475+(2*550)","v":1575},{"$f":"128+(2*128)","v":384},{"$error":"#DIV/0!"},0,149.970703125,{"$error":"#DIV/0!"},0,0,0,0,0,{"$error":"#DIV/0!"},{"$error":"#DIV/0!"},null,null,null,null,null,null,null,null,0,{"$error":"#DIV/0!"},-384,{"$error":"#DIV/0!"},{"$error":"#DIV/0!"}]
[null,null,null,"DIVAR IP 7000 R2 16X3TB + 3x \tDIVAR IP 6000 R2 3U 16x4TB",null,null,"RAID 5",0,{"$f":"IF(G1267=\"RAID 5\",(((15-H1267)*2792))+(3*(((15-H1267)*3723))),(((14-H1267)*2792))+(3*(((14-H1267)*3723))))","v":209415},{"$f":"(16*3)+(3*(16*4))","v":240},0,{"$f":"475+(3*550)","v":2125},{"$f":"128+(3*128)","v":512},{"$error":"#DIV/0!"},0,204.5068359375,{"$error":"#DIV/0!"},0,0,0,0,0,{"$error":"#DIV/0!"},{"$error":"#DIV/0!"},null,null,null,null,null,null,null,null,0,{"$error":"#DIV/0!"},-512,{"$error":"#DIV/0!"},{"$error":"#DIV/0!"}]
[null,null,null,"DIVAR IP 7000 R2 16X3TB + 4x DIVAR IP 6000 R2 3U 16x4TB",null,null,"RAID 5",0,{"$f":"IF(G1268=\"RAID 5\",(((15-H1268)*2792))+(4*(((15-H1268)*3723))),(((14-H1268)*2792))+(4*(((14-H1268)*3723))))","v":265260},{"$f":"(16*3)+(4*(16*4))","v":304},0,{"$f":"475+(4*550)","v":2675},{"$f":"128+(4*128)","v":640},{"$error":"#DIV/0!"},0,259.04296875,{"$error":"#DIV/0!"},0,0,0,0,0,{"$error":"#DIV/0!"},{"$error":"#DIV/0!"},null,null,null,null,null,null,null,null,0,{"$error":"#DIV/0!"},-640,{"$error":"#DIV/0!"},{"$error":"#DIV/0!"}]
[null,null,null,"DIVAR IP 7000 R2 8X4TB + 1x DIVAR IP 6000 R2 8X3TB",null,null,"RAID 5",0,{"$f":"IF(G1269=\"RAID 5\",(((7-H1269)*3723))+(1*(((7-H1269)*2792))),(((6-H1269)*3723))+(1*(((6-H1269)*2792))))","v":45605},{"$f":"(8*4)+(1*(8*3))","v":56},0,{"$f":"475+(1*550)","v":1025},{"$f":"128+(1*128)","v":256},{"$error":"#DIV/0!"},0,44.5361328125,{"$error":"#DIV/0!"},0,0,0,0,0,{"$error":"#DIV/0!"},{"$error":"#DIV/0!"},null,null,null,null,null,null,null,null,0,{"$error":"#DIV/0!"},-256,{"$error":"#DIV/0!"},{"$f":"IF(X1269=\"<-- fits project\",D1269,\"\")","v":{"$error":"#DIV/0!"}}]
[null,null,null,"DIVAR IP 7000 R2 8X4TB + 2x DIVAR IP 6000 R2 8X3TB",null,null,"RAID 5",0,{"$f":"IF(G1270=\"RAID 5\",(((7-H1270)*3723))+(2*(((7-H1270)*2792))),(((6-H1270)*3723))+(2*(((6-H1270)*2792))))","v":65149},{"$f":"(8*4)+(2*(8*3))","v":80},0,{"$f":"475+(2*550)","v":1575},{"$f":"128+(2*128)","v":384},{"$error":"#DIV/0!"},0,63.6220703125,{"$error":"#DIV/0!"},0,0,0,0,0,{"$error":"#DIV/0!"},{"$error":"#DIV/0!"},null,null,null,null,null,null,null,null,0,{"$error":"#DIV/0!"},-384,{"$error":"#DIV/0!"},{"$error":"#DIV/0!"}]
[null,null,null,"DIVAR IP 7000 R2 8X4TB + 3x DIVAR IP 6000 R2 8X3TB",null,null,"RAID 5",0,{"$f":"IF(G1271=\"RAID 5\",(((7-H1271)*3723))+(3*(((7-H1271)*2792))),(((6-H1271)*3723))+(3*(((6-H1271)*2792))))","v":84693},{"$f":"(8*4)+(3*(8*3))","v":104},0,{"$f":"475+(3*550)","v":2125},{"$f":"128+(3*128)","v":512},{"$error":"#DIV/0!"},0,82.7080078125,{"$error":"#DIV/0!"},0,0,0,0,0,{"$error":"#DIV/0!"},{"$error":"#DIV/0!"},null,null,null,null,null,null,null,null,0,{"$error":"#DIV/0!"},-512,{"$error":"#DIV/0!"},{"$error":"#DIV/0!"}]
[null,null,null,"DIVAR IP 7000 R2 8X4TB + 4x DIVAR IP 6000 R2 8X3TB",null,null,"RAID 5",0,{"$f":"IF(G1272=\"RAID 5\",(((7-H1272)*3723))+(4*(((7-H1272)*2792))),(((6-H1272)*3723))+(4*(((6-H1272)*2792))))","v":104237},{"$f":"(8*4)+(4*(8*3))","v":128},0,{"$f":"475+(4*550)","v":2675},{"$f":"128+(4*128)","v":640},{"$error":"#DIV/0!"},0,101.7939453125,{"$error":"#DIV/0!"},0,0,0,0,0,{"$error":"#DIV/0!"},{"$error":"#DIV/0!"},null,null,null,null,null,null,null,null,0,{"$error":"#DIV/0!"},-640,{"$error":"#DIV/0!"},{"$error":"#DIV/0!"}]
[null,null,null,"DIVAR IP 7000 R2 8X4TB +  1x \tDIVAR IP 6000 R2 3U 16x3TB",null,null,"RAID 5",0,{"$f":"IF(G1273=\"RAID 5\",(((7-H1273)*3723))+(1*(((15-H1273)*2792))),(((6-H1273)*3723))+(1*(((14-H1273)*2792))))","v":67941},{"$f":"(8*4)+(1*(16*3))","v":80},0,{"$f":"475+(1*550)","v":1025},{"$f":"128+(1*128)","v":256},{"$error":"#DIV/0!"},0,66.3486328125,{"$error":"#DIV/0!"},0,0,0,0,0,{"$error":"#DIV/0!"},{"$error":"#DIV/0!"},null,null,null,null,null,null,null,null,0,{"$error":"#DIV/0!"},-256,{"$error":"#DIV/0!"},{"$error":"#DIV/0!"}]
[null,null,null,"DIVAR IP 7000 R2 8X4TB +  2x \tDIVAR IP 6000 R2 3U 16x3TB",null,null,"RAID 5",0,{"$f":"IF(G1274=\"RAID 5\",(((7-H1274)*3723))+(2*(((15-H1274)*2792))),(((6-H1274)*3723))+(2*(((14-H1274)*2792))))","v":109821},{"$f":"(8*4)+(2*(16*3))","v":128},0,{"$f":"475+(2*550)","v":1575},{"$f":"128+(2*128)","v":384},{"$error":"#DIV/0!"},0,107.2470703125,{"$error":"#DIV/0!"},0,0,0,0,0,{"$error":"#DIV/0!"},{"$error":"#DIV/0!"},null,null,null,null,null,null,null,null,0,{"$error":"#DIV/0!"},-384,{"$error":"#DIV/0!"},{"$error":"#DIV/0!"}]
[null,null,null,"DIVAR IP 7000 R2 8X4TB +  3x \tDIVAR IP 6000 R2 3U 16x3TB",null,null,"RAID 5",0,{"$f":"IF(G1275=\"RAID 5\",(((7-H1275)*3723))+(3*(((15-H1275)*2792))),(((6-H1275)*3723))+(3*(((14-H1275)*2792))))","v":151701},{"$f":"(8*4)+(3*(16*3))","v":176},0,{"$f":"475+(3*550)","v":2125},{"$f":"128+(3*128)","v":512},{"$error":"#DIV/0!"},0,148.1455078125,{"$error":"#DIV/0!"},0,0,0,0,0,{"$error":"#DIV/0!"},{"$error":"#DIV/0!"},null,null,null,null,null,null,null,null,0,{"$error":"#DIV/0!"},-512,{"$error":"#DIV/0!"},{"$error":"#DIV/0!"}]
[null,null,null,"DIVAR IP 7000 R2 8X4TB +  4x \tDIVAR IP 6000 R2 3U 16x3TB",null,null,"RAID 5",0,{"$f":"IF(G1276=\"RAID 5\",(((7-H1276)*3723))+(4*(((15-H1276)*2792))),(((6-H1276)*3723))+(4*(((14-H1276)*2792))))","v":193581},{"$f":"(8*4)+(4*(16*3))","v":224},0,{"$f":"475+(4*550)","v":2675},{"$f":"128+(4*128)","v":640},{"$error":"#DIV/0!"},0,189.0439453125,{"$error":"#DIV/0!"},0,0,0,0,0,{"$error":"#DIV/0!"},{"$error":"#DIV/0!"},null,null,null,null,null,null,null,null,0,{"$error":"#DIV/0!"},-640,{"$error":"#DIV/0!"},{"$error":"#DIV/0!"}]
[null,null,null,"DIVAR IP 7000 R2 16X4TB + 1x \tDIVAR IP 6000 R2 8x4TB",null,null,"RAID 5",0,{"$f":"IF(G1277=\"RAID 5\",(((15-H1277)*3723))+(1*(((7-H1277)*3723))),(((14-H1277)*3723))+(1*(((6-H1277)*3723))))","v":81906},{"$f":"(16*4)+(1*(8*4))","v":96},0,{"$f":"475+(1*550)","v":1025},{"$f":"128+(1*128)","v":256},{"$error":"#DIV/0!"},0,79.986328125,{"$error":"#DIV/0!"},0,0,0,0,0,{"$error":"#DIV/0!"},{"$error":"#DIV/0!"},null,null,null,null,null,null,null,null,0,{"$error":"#DIV/0!"},-256,{"$error":"#DIV/0!"},{"$error":"#DIV/0!"}]
[null,null,null,"DIVAR IP 7000 R2 16X4TB + 2x \tDIVAR IP 6000 R2 8x4TB",null,null,"RAID 5",0,{"$f":"IF(G1278=\"RAID 5\",(((15-H1278)*3723))+(2*(((7-H1278)*3723))),(((14-H1278)*3723))+(2*(((6-H1278)*3723))))","v":107967},{"$f":"(16*4)+(2*(8*4))","v":128},0,{"$f":"475+(2*550)","v":1575},{"$f":"128+(2*128)","v":384},{"$error":"#DIV/0!"},0,105.4365234375,{"$error":"#DIV/0!"},0,0,0,0,0,{"$error":"#DIV/0!"},{"$error":"#DIV/0!"},null,null,null,null,null,null,null,null,0,{"$error":"#DIV/0!"},-384,{"$error":"#DIV/0!"},{"$error":"#DIV/0!"}]
[null,null,null,"DIVAR IP 7000 R2 16X4TB + 3x \tDIVAR IP 6000 R2 8x4TB",null,null,"RAID 5",0,{"$f":"IF(G1279=\"RAID 5\",(((15-H1279)*3723))+(3*(((7-H1279)*3723))),(((14-H1279)*3723))+(3*(((6-H1279)*3723))))","v":134028},{"$f":"(16*4)+(3*(8*4))","v":160},0,{"$f":"475+(3*550)","v":2125},{"$f":"128+(3*128)","v":512},{"$error":"#DIV/0!"},0,130.88671875,{"$error":"#DIV/0!"},0,0,0,0,0,{"$error":"#DIV/0!"},{"$error":"#DIV/0!"},null,null,null,null,null,null,null,null,0,{"$error":"#DIV/0!"},-512,{"$error":"#DIV/0!"},{"$error":"#DIV/0!"}]
[null,null,null,"DIVAR IP 7000 R2 16X4TB + 4x \tDIVAR IP 6000 R2 8x4TB",null,null,"RAID 5",0,{"$f":"IF(G1280=\"RAID 5\",(((15-H1280)*3723))+(4*(((7-H1280)*3723))),(((14-H1280)*3723))+(4*(((6-H1280)*3723))))","v":160089},{"$f":"(16*4)+(4*(8*4))","v":192},0,{"$f":"475+(4*550)","v":2675},{"$f":"128+(4*128)","v":640},{"$error":"#DIV/0!"},0,156.3369140625,{"$error":"#DIV/0!"},0,0,0,0,0,{"$error":"#DIV/0!"},{"$error":"#DIV/0!"},null,null,null,null,null,null,null,null,0,{"$error":"#DIV/0!"},-640,{"$error":"#DIV/0!"},{"$error":"#DIV/0!"}]
[null,null,null,"DIVAR IP 7000 R2 16X4TB + 1x \tDIVAR IP 6000 R2 3U 16x3TB",null,null,"RAID 5",0,{"$f":"IF(G1281=\"RAID 5\",(((15-H1281)*3723))+(1*(((15-H1281)*2792))),(((14-H1281)*3723))+(1*(((14-H1281)*2792))))","v":97725},{"$f":"(16*4)+(1*(16*3))","v":112},{"$f":"O1281*J1281","v":0},{"$f":"475+(1*550)","v":1025},{"$f":"128+(1*128)","v":256},{"$error":"#DIV/0!"},0,95.4345703125,{"$error":"#DIV/0!"},{"$f":"O1281*M1281","v":0},0,{"$f":"O1281*1*MAX($N$1528,1)","v":0},0,0,{"$error":"#DIV/0!"},{"$error":"#DIV/0!"},null,null,null,null,null,null,null,null,0,{"$error":"#DIV/0!"},{"$f":"(O1281-1)*M1281","v":-256},{"$error":"#DIV/0!"},{"$error":"#DIV/0!"}]
[null,null,null,"DIVAR IP 7000 R2 16X4TB + 2x \tDIVAR IP 6000 R2 3U 16x3TB",null,null,"RAID 5",0,{"$f":"IF(G1282=\"RAID 5\",(((15-H1282)*3723))+(2*(((15-H1282)*2792))),(((14-H1282)*3723))+(2*(((14-H1282)*2792))))","v":139605},{"$f":"(16*4)+(2*(16*3))","v":160},0,{"$f":"475+(2*550)","v":1575},{"$f":"128+(2*128)","v":384},{"$error":"#DIV/0!"},0,136.3330078125,{"$error":"#DIV/0!"},0,0,0,0,0,{"$error":"#DIV/0!"},{"$error":"#DIV/0!"},null,null,null,null,null,null,null,null,0,{"$error":"#DIV/0!"},-384,{"$error":"#DIV/0!"},{"$error":"#DIV/0!"}]
[null,null,null,"DIVAR IP 7000 R2 16X4TB + 3x \tDIVAR IP 6000 R2 3U 16x3TB",null,null,"RAID 5",0,{"$f":"IF(G1283=\"RAID 5\",(((15-H1283)*3723))+(3*(((15-H1283)*2792))),(((14-H1283)*3723))+(3*(((14-H1283)*2792))))","v":181485},{"$f":"(16*4)+(3*(16*3))","v":208},0,{"$f":"475+(3*550)","v":2125},{"$f":"128+(3*128)","v":512},{"$error":"#DIV/0!"},0,177.2314453125,{"$error":"#DIV/0!"},0,0,0,0,0,{"$error":"#DIV/0!"},{"$error":"#DIV/0!"},null,null,null,null,null,null,null,null,0,{"$error":"#DIV/0!"},-512,{"$error":"#DIV/0!"},{"$error":"#DIV/0!"}]
[null,null,null,"DIVAR IP 7000 R2 16X4TB + 4x \tDIVAR IP 6000 R2 3U 16x3TB",null,null,"RAID 5",0,{"$f":"IF(G1284=\"RAID 5\",(((15-H1284)*3723))+(4*(((15-H1284)*2792))),(((14-H1284)*3723))+(4*(((14-H1284)*2792))))","v":223365},{"$f":"(16*4)+(4*(16*3))","v":256},0,{"$f":"475+(4*550)","v":2675},{"$f":"128+(4*128)","v":640},{"$error":"#DIV/0!"},0,218.1298828125,{"$error":"#DIV/0!"},0,0,0,0,0,{"$error":"#DIV/0!"},{"$error":"#DIV/0!"},null,null,null,null,null,null,null,null,0,{"$error":"#DIV/0!"},-640,{"$error":"#DIV/0!"},{"$error":"#DIV/0!"}]
[null,null,null,"DIVAR IP 7000 R2 16X4TB + 1x \tDIVAR IP 6000 R2 3U 16x4TB",null,null,"RAID 5",0,{"$f":"IF(G1285=\"RAID 5\",(((15-H1285)*3723))+(1*(((15-H1285)*3723))),(((14-H1285)*3723))+(1*(((14-H1285)*3723))))","v":111690},{"$f":"(16*4)+(1*(16*4))","v":128},0,{"$f":"475+(1*550)","v":1025},{"$f":"128+(1*128)","v":256},{"$error":"#DIV/0!"},0,109.072265625,{"$error":"#DIV/0!"},0,0,0,0,0,{"$error":"#DIV/0!"},{"$error":"#DIV/0!"},null,null,null,null,null,null,null,null,0,{"$error":"#DIV/0!"},-256,{"$error":"#DIV/0!"},{"$error":"#DIV/0!"}]
[null,null,null,"DIVAR IP 7000 R2 16X4TB + 2x \tDIVAR IP 6000 R2 3U 16x4TB",null,null,"RAID 5",0,{"$f":"IF(G1286=\"RAID 5\",(((15-H1286)*3723))+(2*(((15-H1286)*3723))),(((14-H1286)*3723))+(2*(((14-H1286)*3723))))","v":167535},{"$f":"(16*4)+(2*(16*4))","v":192},0,{"$f":"475+(2*550)","v":1575},{"$f":"128+(2*128)","v":384},{"$error":"#DIV/0!"},0,163.6083984375,{"$error":"#DIV/0!"},0,0,0,0,0,{"$error":"#DIV/0!"},{"$error":"#DIV/0!"},null,null,null,null,null,null,null,null,0,{"$error":"#DIV/0!"},-384,{"$error":"#DIV/0!"},{"$error":"#DIV/0!"}]
[null,null,null,"DIVAR IP 7000 R2 16X4TB + 3x \tDIVAR IP 6000 R2 3U 16x4TB",null,null,"RAID 5",0,{"$f":"IF(G1287=\"RAID 5\",(((15-H1287)*3723))+(3*(((15-H1287)*3723))),(((14-H1287)*3723))+(3*(((14-H1287)*3723))))","v":223380},{"$f":"(16*4)+(3*(16*4))","v":256},0,{"$f":"475+(3*550)","v":2125},{"$f":"128+(3*128)","v":512},{"$error":"#DIV/0!"},0,218.14453125,{"$error":"#DIV/0!"},0,0,0,0,0,{"$error":"#DIV/0!"},{"$f":"IF(AND(IF($N1287<=$L1287,TRUE,FALSE),IF($V1287<=$R1287,TRUE,FALSE),OR(W1287=\"True\",$W$1216=\"No\"),IF($A$1223=\"False\",IF(O1287=1,TRUE,FALSE),TRUE)),\"<-- fits project\",\"\")","v":{"$error":"#DIV/0!"}},null,null,null,null,null,null,null,null,0,{"$error":"#DIV/0!"},-512,{"$error":"#DIV/0!"},{"$error":"#DIV/0!"}]
[null,null,null,"DIVAR IP 7000 R2 16X4TB + 4x \tDIVAR IP 6000 R2 3U 16x4TB",null,null,"RAID 5",0,{"$f":"IF(G1288=\"RAID 5\",(((15-H1288)*3723))+(4*(((15-H1288)*3723))),(((14-H1288)*3723))+(4*(((14-H1288)*3723))))","v":279225},{"$f":"(16*4)+(4*(16*4))","v":320},0,{"$f":"475+(4*550)","v":2675},{"$f":"128+(4*128)","v":640},{"$error":"#DIV/0!"},0,272.6806640625,{"$error":"#DIV/0!"},0,0,0,0,0,{"$error":"#DIV/0!"},{"$error":"#DIV/0!"},null,null,null,null,null,null,null,null,0,{"$error":"#DIV/0!"},-640,{"$error":"#DIV/0!"},{"$error":"#DIV/0!"}]
[null,null,null,"DIVAR IP 7000 R2 8X6TB + 1x DIVAR IP 6000 R2 8x3TB",null,null,"RAID 5",0,{"$f":"IF(G1289=\"RAID 5\",(((7-H1289)*5586))+(1*(((7-H1289)*2793))),(((6-H1289)*5586))+(1*(((6-H1289)*2793))))","v":58653},{"$f":"(8*6)+(1*(8*3))","v":72},0,{"$f":"475+(1*550)","v":1025},{"$f":"128+(1*128)","v":256},{"$error":"#DIV/0!"},0,57.2783203125,{"$error":"#DIV/0!"},0,0,0,0,0,{"$error":"#DIV/0!"},{"$error":"#DIV/0!"},null,null,null,null,null,null,null,null,0,{"$error":"#DIV/0!"},-256,{"$error":"#DIV/0!"},{"$error":"#DIV/0!"}]
[null,null,null,"DIVAR IP 7000 R2 8X6TB + 2x DIVAR IP 6000 R2 8x3TB",null,null,"RAID 5",0,{"$f":"IF(G1290=\"RAID 5\",(((7-H1290)*5586))+(2*(((7-H1290)*2793))),(((6-H1290)*5586))+(2*(((6-H1290)*2793))))","v":78204},{"$f":"(8*6)+(2*(8*3))","v":96},0,{"$f":"475+(2*550)","v":1575},{"$f":"128+(2*128)","v":384},{"$error":"#DIV/0!"},0,76.37109375,{"$error":"#DIV/0!"},0,0,0,0,0,{"$error":"#DIV/0!"},{"$error":"#DIV/0!"},null,null,null,null,null,null,null,null,0,{"$error":"#DIV/0!"},-384,{"$error":"#DIV/0!"},{"$error":"#DIV/0!"}]
[null,null,null,"DIVAR IP 7000 R2 8X6TB + 3x DIVAR IP 6000 R2 8x3TB",null,null,"RAID 5",0,{"$f":"IF(G1291=\"RAID 5\",(((7-H1291)*5586))+(3*(((7-H1291)*2793))),(((6-H1291)*5586))+(3*(((6-H1291)*2793))))","v":97755},{"$f":"(8*6)+(3*(8*3))","v":120},0,{"$f":"475+(3*550)","v":2125},{"$f":"128+(3*128)","v":512},{"$error":"#DIV/0!"},0,95.4638671875,{"$error":"#DIV/0!"},0,0,0,0,0,{"$error":"#DIV/0!"},{"$error":"#DIV/0!"},null,null,null,null,null,null,null,null,0,{"$error":"#DIV/0!"},-512,{"$error":"#DIV/0!"},{"$error":"#DIV/0!"}]
[null,null,null,"DIVAR IP 7000 R2 8X6TB + 4x DIVAR IP 6000 R2 8x3TB",null,null,"RAID 5",0,{"$f":"IF(G1292=\"RAID 5\",(((7-H1292)*5586))+(4*(((7-H1292)*2793))),(((6-H1292)*5586))+(4*(((6-H1292)*2793))))","v":117306},{"$f":"(8*6)+(4*(8*3))","v":144},0,{"$f":"475+(4*550)","v":2675},{"$f":"128+(4*128)","v":640},{"$error":"#DIV/0!"},0,114.556640625,{"$error":"#DIV/0!"},0,0,0,0,0,{"$error":"#DIV/0!"},{"$error":"#DIV/0!"},null,null,null,null,null,null,null,null,0,{"$error":"#DIV/0!"},-640,{"$error":"#DIV/0!"},{"$error":"#DIV/0!"}]
[null,null,null,"DIVAR IP 7000 R2 8X6TB + 1x DIVAR IP 6000 R2 3U 16x3TB",null,null,"RAID 5",0,{"$f":"IF(G1293=\"RAID 5\",(((7-H1293)*5586))+(1*(((15-H1293)*2793))),(((6-H1293)*5586))+(1*(((14-H1293)*2793))))","v":80997},{"$f":"(8*6)+(1*(16*3))","v":96},0,{"$f":"475+(1*550)","v":1025},{"$f":"128+(1*128)","v":256},{"$error":"#DIV/0!"},0,79.0986328125,{"$error":"#DIV/0!"},0,0,0,0,0,{"$error":"#DIV/0!"},{"$error":"#DIV/0!"},null,null,null,null,null,null,null,null,0,{"$error":"#DIV/0!"},-256,{"$error":"#DIV/0!"},{"$error":"#DIV/0!"}]
[null,null,null,"DIVAR IP 7000 R2 8X6TB + 2x DIVAR IP 6000 R2 3U 16x3TB",null,null,"RAID 5",0,{"$f":"IF(G1294=\"RAID 5\",(((7-H1294)*5586))+(2*(((15-H1294)*2793))),(((6-H1294)*5586))+(2*(((14-H1294)*2793))))","v":122892},{"$f":"(8*6)+(2*(16*3))","v":144},0,{"$f":"475+(2*550)","v":1575},{"$f":"128+(2*128)","v":384},{"$f":"$I$1211/O1294","v":{"$error":"#DIV/0!"}},{"$f":"ROUNDUP($G$1211/I1294,0)","v":0},{"$f":"(1-(($G$1211/$I1294)-INT($G$1211/$I1294)))*I1294/1024","v":120.01171875},{"$error":"#DIV/0!"},0,0,0,0,0,{"$error":"#DIV/0!"},{"$error":"#DIV/0!"},null,null,null,null,null,null,null,null,0,{"$error":"#DIV/0!"},-384,{"$f":"IF(O1294>1,$I$1211/(O1294-1),$I$1211/O1294)","v":{"$error":"#DIV/0!"}},{"$error":"#DIV/0!"}]
[null,null,null,"DIVAR IP 7000 R2 8X6TB + 3x DIVAR IP 6000 R2 3U 16x3TB",null,null,"RAID 5",0,{"$f":"IF(G1295=\"RAID 5\",(((7-H1295)*5586))+(3*(((15-H1295)*2793))),(((6-H1295)*5586))+(3*(((14-H1295)*2793))))","v":164787},{"$f":"(8*6)+(3*(16*3))","v":192},0,{"$f":"475+(3*550)","v":2125},{"$f":"128+(3*128)","v":512},{"$error":"#DIV/0!"},0,160.9248046875,{"$error":"#DIV/0!"},0,0,0,0,{"$f":"SUM(S1295)","v":0},{"$error":"#DIV/0!"},{"$error":"#DIV/0!"},null,null,null,null,null,null,null,null,0,{"$error":"#DIV/0!"},-512,{"$error":"#DIV/0!"},{"$error":"#DIV/0!"}]
[null,null,null,"DIVAR IP 7000 R2 8X6TB + 4x DIVAR IP 6000 R2 3U 16x3TB",null,null,"RAID 5",0,{"$f":"IF(G1296=\"RAID 5\",(((7-H1296)*5586))+(4*(((15-H1296)*2793))),(((6-H1296)*5586))+(4*(((14-H1296)*2793))))","v":206682},{"$f":"(8*6)+(4*(16*3))","v":240},0,{"$f":"475+(4*550)","v":2675},{"$f":"128+(4*128)","v":640},{"$error":"#DIV/0!"},0,201.837890625,{"$error":"#DIV/0!"},0,0,0,0,0,{"$error":"#DIV/0!"},{"$error":"#DIV/0!"},null,null,null,null,null,null,null,null,0,{"$error":"#DIV/0!"},-640,{"$error":"#DIV/0!"},{"$error":"#DIV/0!"}]
[null,null,null,"DIVAR IP 7000 R2 8X6TB + 1x DIVAR IP 6000 R2 8X4TB",null,null,"RAID 5",0,{"$f":"IF(G1297=\"RAID 5\",(((7-H1297)*5586))+(1*(((7-H1297)*3723))),(((6-H1297)*5586))+(1*(((7-H1297)*3723))))","v":65163},{"$f":"(8*6)+(1*(8*4))","v":80},0,{"$f":"475+(1*550)","v":1025},{"$f":"128+(1*128)","v":256},{"$error":"#DIV/0!"},0,63.6357421875,{"$error":"#DIV/0!"},0,0,0,0,0,{"$error":"#DIV/0!"},{"$error":"#DIV/0!"},null,null,null,null,null,null,null,null,0,{"$error":"#DIV/0!"},-256,{"$error":"#DIV/0!"},{"$error":"#DIV/0!"}]
[null,null,null,"DIVAR IP 7000 R2 8X6TB + 2x DIVAR IP 6000 R2 8X4TB",null,null,"RAID 5",0,{"$f":"IF(G1298=\"RAID 5\",(((7-H1298)*5586))+(2*(((7-H1298)*3723))),(((6-H1298)*5586))+(2*(((7-H1298)*3723))))","v":91224},{"$f":"(8*6)+(2*(8*4))","v":112},0,{"$f":"475+(2*550)","v":1575},{"$f":"128+(2*128)","v":384},{"$error":"#DIV/0!"},0,89.0859375,{"$error":"#DIV/0!"},0,0,0,0,0,{"$error":"#DIV/0!"},{"$error":"#DIV/0!"},null,null,null,null,null,null,null,null,0,{"$error":"#DIV/0!"},-384,{"$error":"#DIV/0!"},{"$error":"#DIV/0!"}]
[null,null,null,"DIVAR IP 7000 R2 8X6TB + 3x DIVAR IP 6000 R2 8X4TB",null,null,"RAID 5",0,{"$f":"IF(G1299=\"RAID 5\",(((7-H1299)*5586))+(3*(((7-H1299)*3723))),(((6-H1299)*5586))+(3*(((7-H1299)*3723))))","v":117285},{"$f":"(8*6)+(3*(8*4))","v":144},0,{"$f":"475+(3*550)","v":2125},{"$f":"128+(3*128)","v":512},{"$error":"#DIV/0!"},0,114.5361328125,{"$error":"#DIV/0!"},0,0,0,0,0,{"$error":"#DIV/0!"},{"$error":"#DIV/0!"},null,null,null,null,null,null,null,null,0,{"$error":"#DIV/0!"},-512,{"$error":"#DIV/0!"},{"$error":"#DIV/0!"}]
[null,null,null,"DIVAR IP 7000 R2 8X6TB + 4x DIVAR IP 6000 R2 8X4TB",null,null,"RAID 5",0,{"$f":"IF(G1300=\"RAID 5\",(((7-H1300)*5586))+(4*(((7-H1300)*3723))),(((6-H1300)*5586))+(4*(((7-H1300)*3723))))","v":143346},{"$f":"(8*6)+(4*(8*4))","v":176},0,{"$f":"475+(4*550)","v":2675},{"$f":"128+(4*128)","v":640},{"$error":"#DIV/0!"},0,139.986328125,{"$error":"#DIV/0!"},0,0,0,0,0,{"$error":"#DIV/0!"},{"$error":"#DIV/0!"},null,null,null,null,null,null,null,null,0,{"$error":"#DIV/0!"},-640,{"$error":"#DIV/0!"},{"$error":"#DIV/0!"}]
[null,null,null,"DIVAR IP 7000 R2 8X6TB + 1x DIVAR IP 6000 R2 3U 16x4TB",null,null,"RAID 5",0,{"$f":"IF(G1301=\"RAID 5\",(((7-H1301)*5586))+(1*(((15-H1301)*3723))),(((6-H1301)*5586))+(1*(((14-H1301)*3723))))","v":94947},{"$f":"(8*6)+(1*(16*4))","v":112},0,{"$f":"475+(1*550)","v":1025},{"$f":"128+(1*128)","v":256},{"$error":"#DIV/0!"},0,92.7216796875,{"$error":"#DIV/0!"},0,0,0,0,0,{"$error":"#DIV/0!"},{"$error":"#DIV/0!"},null,null,null,null,null,null,null,null,0,{"$error":"#DIV/0!"},-256,{"$error":"#DIV/0!"},{"$error":"#DIV/0!"}]
[null,null,null,"DIVAR IP 7000 R2 8X6TB + 2x DIVAR IP 6000 R2 3U 16x4TB",null,null,"RAID 5",0,{"$f":"IF(G1302=\"RAID 5\",(((7-H1302)*5586))+(2*(((15-H1302)*3723))),(((6-H1302)*5586))+(2*(((14-H1302)*3723))))","v":150792},{"$f":"(8*6)+(2*(16*4))","v":176},0,{"$f":"475+(2*550)","v":1575},{"$f":"128+(2*128)","v":384},{"$error":"#DIV/0!"},0,147.2578125,{"$error":"#DIV/0!"},0,0,0,0,0,{"$error":"#DIV/0!"},{"$error":"#DIV/0!"},null,null,null,null,null,null,null,null,0,{"$error":"#DIV/0!"},-384,{"$error":"#DIV/0!"},{"$error":"#DIV/0!"}]
[null,null,null,"DIVAR IP 7000 R2 8X6TB + 3x DIVAR IP 6000 R2 3U 16x4TB",null,null,"RAID 5",0,{"$f":"IF(G1303=\"RAID 5\",(((7-H1303)*5586))+(3*(((15-H1303)*3723))),(((6-H1303)*5586))+(3*(((14-H1303)*3723))))","v":206637},{"$f":"(8*6)+(3*(16*4))","v":240},0,{"$f":"475+(3*550)","v":2125},{"$f":"128+(3*128)","v":512},{"$error":"#DIV/0!"},0,201.7939453125,{"$error":"#DIV/0!"},0,0,0,0,0,{"$error":"#DIV/0!"},{"$error":"#DIV/0!"},null,null,null,null,null,null,null,null,0,{"$error":"#DIV/0!"},-512,{"$error":"#DIV/0!"},{"$error":"#DIV/0!"}]
[null,null,null,"DIVAR IP 7000 R2 8X6TB + 4x DIVAR IP 6000 R2 3U 16x4TB",null,null,"RAID 5",0,{"$f":"IF(G1304=\"RAID 5\",(((7-H1304)*5586))+(4*(((15-H1304)*3723))),(((6-H1304)*5586))+(4*(((14-H1304)*3723))))","v":262482},{"$f":"(8*6)+(4*(16*4))","v":304},0,{"$f":"475+(4*550)","v":2675},{"$f":"128+(4*128)","v":640},{"$error":"#DIV/0!"},0,256.330078125,{"$error":"#DIV/0!"},0,0,0,0,0,{"$error":"#DIV/0!"},{"$error":"#DIV/0!"},null,null,null,null,null,null,null,null,0,{"$error":"#DIV/0!"},-640,{"$error":"#DIV/0!"},{"$error":"#DIV/0!"}]
[null,null,null,"DIVAR IP 7000 R2 8X6TB + 1x DIVAR IP 6000 R2 8x6TB",null,null,"RAID 5",0,{"$f":"IF(G1305=\"RAID 5\",(((7-H1305)*5586))+(1*(((7-H1305)*5586))),(((6-H1305)*5586))+(1*(((6-H1305)*5586))))","v":78204},{"$f":"(8*6)+(1*(8*6))","v":96},0,{"$f":"475+(1*550)","v":1025},{"$f":"128+(1*128)","v":256},{"$error":"#DIV/0!"},0,76.37109375,{"$error":"#DIV/0!"},0,0,0,0,0,{"$error":"#DIV/0!"},{"$error":"#DIV/0!"},null,null,null,null,null,null,null,null,0,{"$error":"#DIV/0!"},-256,{"$error":"#DIV/0!"},{"$error":"#DIV/0!"}]
[null,null,null,"DIVAR IP 7000 R2 8X6TB + 2x DIVAR IP 6000 R2 8x6TB",null,null,"RAID 5",0,{"$f":"IF(G1306=\"RAID 5\",(((7-H1306)*5586))+(2*(((7-H1306)*5586))),(((6-H1306)*5586))+(2*(((6-H1306)*5586))))","v":117306},{"$f":"(8*6)+(2*(8*6))","v":144},0,{"$f":"475+(2*550)","v":1575},{"$f":"128+(2*128)","v":384},{"$error":"#DIV/0!"},0,114.556640625,{"$error":"#DIV/0!"},0,0,0,0,0,{"$error":"#DIV/0!"},{"$error":"#DIV/0!"},null,null,null,null,null,null,null,null,0,{"$error":"#DIV/0!"},-384,{"$error":"#DIV/0!"},{"$error":"#DIV/0!"}]
[null,null,null,"DIVAR IP 7000 R2 8X6TB + 3x DIVAR IP 6000 R2 8x6TB",null,null,"RAID 5",0,{"$f":"IF(G1307=\"RAID 5\",(((7-H1307)*5586))+(3*(((7-H1307)*5586))),(((6-H1307)*5586))+(3*(((6-H1307)*5586))))","v":156408},{"$f":"(8*6)+(3*(8*6))","v":192},0,{"$f":"475+(3*550)","v":2125},{"$f":"128+(3*128)","v":512},{"$error":"#DIV/0!"},0,152.7421875,{"$error":"#DIV/0!"},0,0,0,0,0,{"$error":"#DIV/0!"},{"$error":"#DIV/0!"},null,null,null,null,null,null,null,null,0,{"$error":"#DIV/0!"},-512,{"$error":"#DIV/0!"},{"$error":"#DIV/0!"}]
[null,null,null,"DIVAR IP 7000 R2 8X6TB + 4x DIVAR IP 6000 R2 8x6TB",null,null,"RAID 5",0,{"$f":"IF(G1308=\"RAID 5\",(((7-H1308)*5586))+(4*(((7-H1308)*5586))),(((6-H1308)*5586))+(4*(((6-H1308)*5586))))","v":195510},{"$f":"(8*6)+(4*(8*6))","v":240},0,{"$f":"475+(4*550)","v":2675},{"$f":"128+(4*128)","v":640},{"$error":"#DIV/0!"},0,190.927734375,{"$error":"#DIV/0!"},0,0,0,0,0,{"$error":"#DIV/0!"},{"$error":"#DIV/0!"},null,null,null,null,null,null,null,null,0,{"$error":"#DIV/0!"},-640,{"$error":"#DIV/0!"},{"$error":"#DIV/0!"}]
[null,null,null,"DIVAR IP 7000 R2 8X6TB + 1x DIVAR IP 6000 R2 3U 16x6TB",null,null,"RAID 5",0,{"$f":"IF(G1309=\"RAID 5\",(((7-H1309)*5586))+(1*(((15-H1309)*5586))),(((6-H1309)*5586))+(1*(((14-H1309)*5586))))","v":122892},{"$f":"(8*6)+(1*(16*6))","v":144},0,{"$f":"475+(1*550)","v":1025},{"$f":"128+(1*128)","v":256},{"$error":"#DIV/0!"},0,120.01171875,{"$error":"#DIV/0!"},0,0,0,0,0,{"$error":"#DIV/0!"},{"$error":"#DIV/0!"},null,null,null,null,null,null,null,null,0,{"$error":"#DIV/0!"},-256,{"$error":"#DIV/0!"},{"$error":"#DIV/0!"}]
[null,null,null,"DIVAR IP 7000 R2 8X6TB + 2x DIVAR IP 6000 R2 3U 16x6TB",null,null,"RAID 5",0,{"$f":"IF(G1310=\"RAID 5\",(((7-H1310)*5586))+(2*(((15-H1310)*5586))),(((6-H1310)*5586))+(2*(((14-H1310)*5586))))","v":206682},{"$f":"(8*6)+(2*(16*6))","v":240},0,{"$f":"475+(2*550)","v":1575},{"$f":"128+(2*128)","v":384},{"$error":"#DIV/0!"},0,201.837890625,{"$error":"#DIV/0!"},0,0,0,0,0,{"$error":"#DIV/0!"},{"$error":"#DIV/0!"},null,null,null,null,null,null,null,null,0,{"$error":"#DIV/0!"},-384,{"$error":"#DIV/0!"},{"$error":"#DIV/0!"}]
[null,null,null,"DIVAR IP 7000 R2 8X6TB + 3x DIVAR IP 6000 R2 3U 16x6TB",null,null,"RAID 5",0,{"$f":"IF(G1311=\"RAID 5\",(((7-H1311)*5586))+(3*(((15-H1311)*5586))),(((6-H1311)*5586))+(3*(((14-H1311)*5586))))","v":290472},{"$f":"(8*6)+(3*(16*6))","v":336},0,{"$f":"475+(3*550)","v":2125},{"$f":"128+(3*128)","v":512},{"$error":"#DIV/0!"},0,283.6640625,{"$error":"#DIV/0!"},0,0,0,0,0,{"$error":"#DIV/0!"},{"$error":"#DIV/0!"},null,null,null,null,null,null,null,null,0,{"$error":"#DIV/0!"},-512,{"$error":"#DIV/0!"},{"$error":"#DIV/0!"}]
[null,null,null,"DIVAR IP 7000 R2 8X6TB + 4x DIVAR IP 6000 R2 3U 16x6TB",null,null,"RAID 5",0,{"$f":"IF(G1312=\"RAID 5\",(((7-H1312)*5586))+(4*(((15-H1312)*5586))),(((6-H1312)*5586))+(4*(((14-H1312)*5586))))","v":374262},{"$f":"(8*6)+(4*(16*6))","v":432},0,{"$f":"475+(4*550)","v":2675},{"$f":"128+(4*128)","v":640},{"$error":"#DIV/0!"},0,365.490234375,{"$error":"#DIV/0!"},0,0,0,0,0,{"$error":"#DIV/0!"},{"$error":"#DIV/0!"},null,null,null,null,null,null,null,null,0,{"$error":"#DIV/0!"},-640,{"$error":"#DIV/0!"},{"$error":"#DIV/0!"}]
[null,null,null,"DIVAR IP 7000 R2 8X6TB + 1x DIVAR IP 6000 R2 8x8TB",null,null,"RAID 5",0,{"$f":"IF(G1313=\"RAID 5\",(((7-H1313)*5586))+(1*(((7-H1313)*7448))),(((6-H1313)*5586))+(1*(((6-H1313)*7448))))","v":91238},{"$f":"(8*6)+(1*(8*8))","v":112},0,{"$f":"475+(1*550)","v":1025},{"$f":"128+(1*128)","v":256},{"$error":"#DIV/0!"},0,89.099609375,{"$error":"#DIV/0!"},0,{"$f":"IF($O1313>7,OFFSET($M$255,0,$L$1211),OFFSET($M$248,O1313-1,$L$1211,1,1))","v":0},0,0,0,{"$f":"IF(AND(IF($AJ1313<=$L1313,TRUE,FALSE),IF($V1313<=$AI1313,TRUE,FALSE)),\"True\",\"\")","v":{"$error":"#DIV/0!"}},{"$error":"#DIV/0!"},null,null,null,null,null,null,null,null,0,{"$error":"#DIV/0!"},-256,{"$error":"#DIV/0!"},{"$error":"#DIV/0!"}]
[null,null,null,"DIVAR IP 7000 R2 8X6TB + 2x DIVAR IP 6000 R2 8x8TB",null,null,"RAID 5",0,{"$f":"IF(G1314=\"RAID 5\",(((7-H1314)*5586))+(2*(((7-H1314)*7448))),(((6-H1314)*5586))+(2*(((6-H1314)*7448))))","v":143374},{"$f":"(8*6)+(2*(8*8))","v":176},0,{"$f":"475+(2*550)","v":1575},{"$f":"128+(2*128)","v":384},{"$error":"#DIV/0!"},0,140.013671875,{"$error":"#DIV/0!"},0,0,0,0,0,{"$error":"#DIV/0!"},{"$error":"#DIV/0!"},null,null,null,null,null,null,null,null,0,{"$error":"#DIV/0!"},-384,{"$error":"#DIV/0!"},{"$error":"#DIV/0!"}]
[null,null,null,"DIVAR IP 7000 R2 8X6TB + 3x DIVAR IP 6000 R2 8x8TB",null,null,"RAID 5",0,{"$f":"IF(G1315=\"RAID 5\",(((7-H1315)*5586))+(3*(((7-H1315)*7448))),(((6-H1315)*5586))+(3*(((6-H1315)*7448))))","v":195510},{"$f":"(8*6)+(3*(8*8))","v":240},0,{"$f":"475+(3*550)","v":2125},{"$f":"128+(3*128)","v":512},{"$error":"#DIV/0!"},0,190.927734375,{"$error":"#DIV/0!"},0,0,0,0,0,{"$error":"#DIV/0!"},{"$error":"#DIV/0!"},null,null,null,null,null,null,null,null,0,{"$error":"#DIV/0!"},-512,{"$error":"#DIV/0!"},{"$error":"#DIV/0!"}]
[null,null,null,"DIVAR IP 7000 R2 8X6TB + 4x DIVAR IP 6000 R2 8x8TB",null,null,"RAID 5",0,{"$f":"IF(G1316=\"RAID 5\",(((7-H1316)*5586))+(4*(((7-H1316)*7448))),(((6-H1316)*5586))+(4*(((6-H1316)*7448))))","v":247646},{"$f":"(8*6)+(4*(8*8))","v":304},0,{"$f":"475+(4*550)","v":2675},{"$f":"128+(4*128)","v":640},{"$error":"#DIV/0!"},0,241.841796875,{"$error":"#DIV/0!"},0,0,0,0,0,{"$error":"#DIV/0!"},{"$error":"#DIV/0!"},null,null,null,null,null,null,null,null,0,{"$error":"#DIV/0!"},-640,{"$error":"#DIV/0!"},{"$error":"#DIV/0!"}]
[null,null,null,"DIVAR IP 7000 R2 8X6TB + 1x DIVAR IP 6000 R2 3U 16x8TB",null,null,"RAID 5",0,{"$f":"IF(G1317=\"RAID 5\",(((7-H1317)*5586))+(1*(((15-H1317)*7448))),(((6-H1317)*5586))+(1*(((14-H1317)*7448))))","v":150822},{"$f":"(8*6)+(1*(16*8))","v":176},0,{"$f":"475+(1*550)","v":1025},{"$f":"128+(1*128)","v":256},{"$error":"#DIV/0!"},0,147.287109375,{"$error":"#DIV/0!"},0,0,0,0,0,{"$error":"#DIV/0!"},{"$error":"#DIV/0!"},null,null,null,null,null,null,null,null,0,{"$error":"#DIV/0!"},-256,{"$error":"#DIV/0!"},{"$error":"#DIV/0!"}]
[null,null,null,"DIVAR IP 7000 R2 8X6TB + 2x DIVAR IP 6000 R2 3U 16x8TB",null,null,"RAID 5",0,{"$f":"IF(G1318=\"RAID 5\",(((7-H1318)*5586))+(2*(((15-H1318)*7448))),(((6-H1318)*5586))+(2*(((14-H1318)*7448))))","v":262542},{"$f":"(8*6)+(2*(16*8))","v":304},0,{"$f":"475+(2*550)","v":1575},{"$f":"128+(2*128)","v":384},{"$error":"#DIV/0!"},0,256.388671875,{"$error":"#DIV/0!"},0,0,0,0,0,{"$error":"#DIV/0!"},{"$error":"#DIV/0!"},null,null,null,null,null,null,null,null,0,{"$error":"#DIV/0!"},-384,{"$error":"#DIV/0!"},{"$error":"#DIV/0!"}]
[null,null,null,"DIVAR IP 7000 R2 8X6TB + 3x DIVAR IP 6000 R2 3U 16x8TB",null,null,"RAID 5",0,{"$f":"IF(G1319=\"RAID 5\",(((7-H1319)*5586))+(3*(((15-H1319)*7448))),(((6-H1319)*5586))+(3*(((14-H1319)*7448))))","v":374262},{"$f":"(8*6)+(3*(16*8))","v":432},0,{"$f":"475+(3*550)","v":2125},{"$f":"128+(3*128)","v":512},{"$error":"#DIV/0!"},0,365.490234375,{"$error":"#DIV/0!"},0,0,0,0,0,{"$error":"#DIV/0!"},{"$f":"IF(AND(IF($N1319<=$L1319,TRUE,FALSE),IF($V1319<=$R1319,TRUE,FALSE),OR(W1319=\"True\",$W$1216=\"No\"),IF($A$1223=\"False\",IF(O1319=1,TRUE,FALSE),TRUE)),\"<-- fits project\",\"\")","v":{"$error":"#DIV/0!"}},null,null,null,null,null,null,null,null,0,{"$error":"#DIV/0!"},-512,{"$error":"#DIV/0!"},{"$error":"#DIV/0!"}]
[null,null,null,"DIVAR IP 7000 R2 8X6TB + 4x DIVAR IP 6000 R2 3U 16x8TB",null,null,"RAID 5",0,{"$f":"IF(G1320=\"RAID 5\",(((7-H1320)*5586))+(4*(((15-H1320)*7448))),(((6-H1320)*5586))+(4*(((14-H1320)*7448))))","v":485982},{"$f":"(8*6)+(4*(16*8))","v":560},0,{"$f":"475+(4*550)","v":2675},{"$f":"128+(4*128)","v":640},{"$error":"#DIV/0!"},0,474.591796875,{"$error":"#DIV/0!"},0,0,0,0,0,{"$error":"#DIV/0!"},{"$error":"#DIV/0!"},null,null,null,null,null,null,null,null,0,{"$error":"#DIV/0!"},-640,{"$error":"#DIV/0!"},{"$error":"#DIV/0!"}]
[null,null,null,"DIVAR IP 7000 R2 8x8TB + 1x DIVAR IP 6000 R2 8x3TB",null,null,"RAID 5",0,{"$f":"IF(G1321=\"RAID 5\",(((7-H1321)*7448))+(1*(((7-H1321)*2793))),(((6-H1321)*7448))+(1*(((6-H1321)*2793))))","v":71687},{"$f":"(8*8)+(1*(8*3))","v":88},0,{"$f":"475+(1*550)","v":1025},{"$f":"128+(1*128)","v":256},{"$error":"#DIV/0!"},0,70.0068359375,{"$f":"AH1321","v":{"$error":"#DIV/0!"}},0,0,0,0,0,{"$error":"#DIV/0!"},{"$error":"#DIV/0!"},null,null,null,null,null,null,null,null,{"$f":"AF1321*O1321","v":0},{"$f":"AG1321/$AG$563","v":{"$error":"#DIV/0!"}},-256,{"$error":"#DIV/0!"},{"$error":"#DIV/0!"}]
[null,null,null,"DIVAR IP 7000 R2 8x8TB + 2x DIVAR IP 6000 R2 8x3TB",null,null,"RAID 5",0,{"$f":"IF(G1322=\"RAID 5\",(((7-H1322)*7448))+(2*(((7-H1322)*2793))),(((6-H1322)*7448))+(2*(((6-H1322)*2793))))","v":91238},{"$f":"(8*8)+(2*(8*3))","v":112},0,{"$f":"475+(2*550)","v":1575},{"$f":"128+(2*128)","v":384},{"$error":"#DIV/0!"},0,89.099609375,{"$error":"#DIV/0!"},0,0,0,0,0,{"$error":"#DIV/0!"},{"$error":"#DIV/0!"},null,null,null,null,null,null,null,null,0,{"$error":"#DIV/0!"},-384,{"$error":"#DIV/0!"},{"$error":"#DIV/0!"}]
[null,null,null,"DIVAR IP 7000 R2 8x8TB + 3x DIVAR IP 6000 R2 8x3TB",null,null,"RAID 5",0,{"$f":"IF(G1323=\"RAID 5\",(((7-H1323)*7448))+(3*(((7-H1323)*2793))),(((6-H1323)*7448))+(3*(((6-H1323)*2793))))","v":110789},{"$f":"(8*8)+(3*(8*3))","v":136},0,{"$f":"475+(3*550)","v":2125},{"$f":"128+(3*128)","v":512},{"$error":"#DIV/0!"},0,108.1923828125,{"$error":"#DIV/0!"},0,0,0,0,0,{"$error":"#DIV/0!"},{"$error":"#DIV/0!"},null,null,null,null,null,null,null,null,0,{"$error":"#DIV/0!"},-512,{"$error":"#DIV/0!"},{"$error":"#DIV/0!"}]
[null,null,null,"DIVAR IP 7000 R2 8x8TB + 4x DIVAR IP 6000 R2 8x3TB",null,null,"RAID 5",0,{"$f":"IF(G1324=\"RAID 5\",(((7-H1324)*7448))+(4*(((7-H1324)*2793))),(((6-H1324)*7448))+(4*(((6-H1324)*2793))))","v":130340},{"$f":"(8*8)+(4*(8*3))","v":160},0,{"$f":"475+(4*550)","v":2675},{"$f":"128+(4*128)","v":640},{"$error":"#DIV/0!"},0,127.28515625,{"$error":"#DIV/0!"},0,0,0,0,0,{"$error":"#DIV/0!"},{"$error":"#DIV/0!"},null,null,null,null,null,null,null,null,0,{"$error":"#DIV/0!"},-640,{"$error":"#DIV/0!"},{"$error":"#DIV/0!"}]
[null,null,null,"DIVAR IP 7000 R2 8x8TB + 1x DIVAR IP 6000 R2 3U 16x3TB",null,null,"RAID 5",0,{"$f":"IF(G1325=\"RAID 5\",(((7-H1325)*7448))+(1*(((15-H1325)*2793))),(((6-H1325)*7448))+(1*(((14-H1325)*2793))))","v":94031},{"$f":"(8*8)+(1*(16*3))","v":112},0,{"$f":"475+(1*550)","v":1025},{"$f":"128+(1*128)","v":256},{"$error":"#DIV/0!"},0,91.8271484375,{"$error":"#DIV/0!"},0,0,0,0,0,{"$error":"#DIV/0!"},{"$error":"#DIV/0!"},null,null,null,null,null,null,null,null,0,{"$error":"#DIV/0!"},-256,{"$error":"#DIV/0!"},{"$error":"#DIV/0!"}]
[null,null,null,"DIVAR IP 7000 R2 8x8TB + 2x DIVAR IP 6000 R2 3U 16x3TB",null,null,"RAID 5",0,{"$f":"IF(G1326=\"RAID 5\",(((7-H1326)*7448))+(2*(((15-H1326)*2793))),(((6-H1326)*7448))+(2*(((14-H1326)*2793))))","v":135926},{"$f":"(8*8)+(2*(16*3))","v":160},0,{"$f":"475+(2*550)","v":1575},{"$f":"128+(2*128)","v":384},{"$f":"$I$1211/O1326","v":{"$error":"#DIV/0!"}},{"$f":"ROUNDUP($G$1211/I1326,0)","v":0},{"$f":"(1-(($G$1211/$I1326)-INT($G$1211/$I1326)))*I1326/1024","v":132.740234375},{"$error":"#DIV/0!"},0,0,0,0,0,{"$error":"#DIV/0!"},{"$error":"#DIV/0!"},null,null,null,null,null,null,null,null,0,{"$error":"#DIV/0!"},-384,{"$f":"IF(O1326>1,$I$1211/(O1326-1),$I$1211/O1326)","v":{"$error":"#DIV/0!"}},{"$error":"#DIV/0!"}]
[null,null,null,"DIVAR IP 7000 R2 8x8TB + 3x DIVAR IP 6000 R2 3U 16x3TB",null,null,"RAID 5",0,{"$f":"IF(G1327=\"RAID 5\",(((7-H1327)*7448))+(3*(((15-H1327)*2793))),(((6-H1327)*7448))+(3*(((14-H1327)*2793))))","v":177821},{"$f":"(8*8)+(3*(16*3))","v":208},0,{"$f":"475+(3*550)","v":2125},{"$f":"128+(3*128)","v":512},{"$error":"#DIV/0!"},0,173.6533203125,{"$error":"#DIV/0!"},0,0,0,0,0,{"$error":"#DIV/0!"},{"$error":"#DIV/0!"},null,null,null,null,null,null,null,null,0,{"$error":"#DIV/0!"},-512,{"$error":"#DIV/0!"},{"$error":"#DIV/0!"}]
[null,null,null,"DIVAR IP 7000 R2 8x8TB + 4x DIVAR IP 6000 R2 3U 16x3TB",null,null,"RAID 5",0,{"$f":"IF(G1328=\"RAID 5\",(((7-H1328)*7448))+(4*(((15-H1328)*2793))),(((6-H1328)*7448))+(4*(((14-H1328)*2793))))","v":219716},{"$f":"(8*8)+(4*(16*3))","v":256},0,{"$f":"475+(4*550)","v":2675},{"$f":"128+(4*128)","v":640},{"$error":"#DIV/0!"},0,214.56640625,{"$error":"#DIV/0!"},0,0,0,0,0,{"$error":"#DIV/0!"},{"$error":"#DIV/0!"},null,null,null,null,null,null,null,null,0,{"$error":"#DIV/0!"},-640,{"$error":"#DIV/0!"},{"$error":"#DIV/0!"}]
[null,null,null,"DIVAR IP 7000 R2 8x8TB + 1x DIVAR IP 6000 R2 8X4TB",null,null,"RAID 5",0,{"$f":"IF(G1329=\"RAID 5\",(((7-H1329)*7448))+(1*(((7-H1329)*3723))),(((6-H1329)*7448))+(1*(((6-H1329)*3723))))","v":78197},{"$f":"(8*8)+(1*(8*4))","v":96},0,{"$f":"475+(1*550)","v":1025},{"$f":"128+(1*128)","v":256},{"$error":"#DIV/0!"},0,76.3642578125,{"$error":"#DIV/0!"},0,0,0,{"$f":"$S$259*MIN(O1329,$S$260)","v":0},0,{"$error":"#DIV/0!"},{"$error":"#DIV/0!"},null,null,null,null,null,null,null,null,0,{"$error":"#DIV/0!"},-256,{"$error":"#DIV/0!"},{"$error":"#DIV/0!"}]
[null,null,null,"DIVAR IP 7000 R2 8x8TB + 2x DIVAR IP 6000 R2 8X4TB",null,null,"RAID 5",0,{"$f":"IF(G1330=\"RAID 5\",(((7-H1330)*7448))+(2*(((7-H1330)*3723))),(((6-H1330)*7448))+(2*(((6-H1330)*3723))))","v":104258},{"$f":"(8*8)+(2*(8*4))","v":128},0,{"$f":"475+(2*550)","v":1575},{"$f":"128+(2*128)","v":384},{"$error":"#DIV/0!"},0,101.814453125,{"$error":"#DIV/0!"},0,0,0,0,0,{"$error":"#DIV/0!"},{"$error":"#DIV/0!"},null,null,null,null,null,null,null,null,0,{"$error":"#DIV/0!"},-384,{"$error":"#DIV/0!"},{"$error":"#DIV/0!"}]
[null,null,null,"DIVAR IP 7000 R2 8x8TB + 3x DIVAR IP 6000 R2 8X4TB",null,null,"RAID 5",0,{"$f":"IF(G1331=\"RAID 5\",(((7-H1331)*7448))+(3*(((7-H1331)*3723))),(((6-H1331)*7448))+(3*(((6-H1331)*3723))))","v":130319},{"$f":"(8*8)+(3*(8*4))","v":160},0,{"$f":"475+(3*550)","v":2125},{"$f":"128+(3*128)","v":512},{"$error":"#DIV/0!"},0,127.2646484375,{"$error":"#DIV/0!"},0,0,0,0,0,{"$error":"#DIV/0!"},{"$error":"#DIV/0!"},null,null,null,null,null,null,null,null,0,{"$error":"#DIV/0!"},-512,{"$error":"#DIV/0!"},{"$error":"#DIV/0!"}]
[null,null,null,"DIVAR IP 7000 R2 8x8TB + 4x DIVAR IP 6000 R2 8X4TB",null,null,"RAID 5",0,{"$f":"IF(G1332=\"RAID 5\",(((7-H1332)*7448))+(4*(((7-H1332)*3723))),(((6-H1332)*7448))+(4*(((6-H1332)*3723))))","v":156380},{"$f":"(8*8)+(4*(8*4))","v":192},0,{"$f":"475+(4*550)","v":2675},{"$f":"128+(4*128)","v":640},{"$error":"#DIV/0!"},0,152.71484375,{"$error":"#DIV/0!"},0,0,0,0,0,{"$error":"#DIV/0!"},{"$error":"#DIV/0!"},null,null,null,null,null,null,null,null,0,{"$error":"#DIV/0!"},-640,{"$error":"#DIV/0!"},{"$error":"#DIV/0!"}]
[null,null,null,"DIVAR IP 7000 R2 8x8TB + 1x DIVAR IP 6000 R2 3U 16x4TB",null,null,"RAID 5",0,{"$f":"IF(G1333=\"RAID 5\",(((7-H1333)*7448))+(1*(((15-H1333)*3723))),(((6-H1333)*7448))+(1*(((14-H1333)*3723))))","v":107981},{"$f":"(8*8)+(1*(16*4))","v":128},0,{"$f":"475+(1*550)","v":1025},{"$f":"128+(1*128)","v":256},{"$error":"#DIV/0!"},0,105.4501953125,{"$error":"#DIV/0!"},0,0,0,0,0,{"$error":"#DIV/0!"},{"$error":"#DIV/0!"},null,null,null,null,null,null,null,null,0,{"$error":"#DIV/0!"},-256,{"$error":"#DIV/0!"},{"$error":"#DIV/0!"}]
[null,null,null,"DIVAR IP 7000 R2 8x8TB + 2x DIVAR IP 6000 R2 3U 16x4TB",null,null,"RAID 5",0,{"$f":"IF(G1334=\"RAID 5\",(((7-H1334)*7448))+(2*(((15-H1334)*3723))),(((6-H1334)*7448))+(2*(((14-H1334)*3723))))","v":163826},{"$f":"(8*8)+(2*(16*4))","v":192},0,{"$f":"475+(2*550)","v":1575},{"$f":"128+(2*128)","v":384},{"$error":"#DIV/0!"},0,159.986328125,{"$error":"#DIV/0!"},0,0,0,0,0,{"$error":"#DIV/0!"},{"$error":"#DIV/0!"},null,null,null,null,null,null,null,null,0,{"$error":"#DIV/0!"},-384,{"$error":"#DIV/0!"},{"$error":"#DIV/0!"}]
[null,null,null,"DIVAR IP 7000 R2 8x8TB + 3x DIVAR IP 6000 R2 3U 16x4TB",null,null,"RAID 5",0,{"$f":"IF(G1335=\"RAID 5\",(((7-H1335)*7448))+(3*(((15-H1335)*3723))),(((6-H1335)*7448))+(3*(((14-H1335)*3723))))","v":219671},{"$f":"(8*8)+(3*(16*4))","v":256},0,{"$f":"475+(3*550)","v":2125},{"$f":"128+(3*128)","v":512},{"$error":"#DIV/0!"},0,214.5224609375,{"$error":"#DIV/0!"},0,0,0,0,0,{"$error":"#DIV/0!"},{"$error":"#DIV/0!"},null,null,null,null,null,null,null,null,0,{"$error":"#DIV/0!"},-512,{"$error":"#DIV/0!"},{"$error":"#DIV/0!"}]
[null,null,null,"DIVAR IP 7000 R2 8x8TB + 4x DIVAR IP 6000 R2 3U 16x4TB",null,null,"RAID 5",0,{"$f":"IF(G1336=\"RAID 5\",(((7-H1336)*7448))+(4*(((15-H1336)*3723))),(((6-H1336)*7448))+(4*(((14-H1336)*3723))))","v":275516},{"$f":"(8*8)+(4*(16*4))","v":320},0,{"$f":"475+(4*550)","v":2675},{"$f":"128+(4*128)","v":640},{"$error":"#DIV/0!"},0,269.05859375,{"$error":"#DIV/0!"},0,0,0,0,0,{"$error":"#DIV/0!"},{"$error":"#DIV/0!"},null,null,null,null,null,null,null,null,0,{"$error":"#DIV/0!"},-640,{"$error":"#DIV/0!"},{"$error":"#DIV/0!"}]
[null,null,null,"DIVAR IP 7000 R2 8x8TB + 1x DIVAR IP 6000 R2 8x6TB",null,null,"RAID 5",0,{"$f":"IF(G1337=\"RAID 5\",(((7-H1337)*7448))+(1*(((7-H1337)*5586))),(((6-H1337)*7448))+(1*(((6-H1337)*5586))))","v":91238},{"$f":"(8*8)+(1*(8*6))","v":112},0,{"$f":"475+(1*550)","v":1025},{"$f":"128+(1*128)","v":256},{"$error":"#DIV/0!"},0,89.099609375,{"$error":"#DIV/0!"},0,0,0,0,0,{"$error":"#DIV/0!"},{"$error":"#DIV/0!"},null,null,null,null,null,null,null,null,0,{"$error":"#DIV/0!"},-256,{"$error":"#DIV/0!"},{"$error":"#DIV/0!"}]
[null,null,null,"DIVAR IP 7000 R2 8x8TB + 2x DIVAR IP 6000 R2 8x6TB",null,null,"RAID 5",0,{"$f":"IF(G1338=\"RAID 5\",(((7-H1338)*7448))+(2*(((7-H1338)*5586))),(((6-H1338)*7448))+(2*(((6-H1338)*5586))))","v":130340},{"$f":"(8*8)+(2*(8*6))","v":160},0,{"$f":"475+(2*550)","v":1575},{"$f":"128+(2*128)","v":384},{"$error":"#DIV/0!"},0,127.28515625,{"$error":"#DIV/0!"},0,0,0,0,0,{"$error":"#DIV/0!"},{"$error":"#DIV/0!"},null,null,null,null,null,null,null,null,0,{"$error":"#DIV/0!"},-384,{"$error":"#DIV/0!"},{"$error":"#DIV/0!"}]
[null,null,null,"DIVAR IP 7000 R2 8x8TB + 3x DIVAR IP 6000 R2 8x6TB",null,null,"RAID 5",0,{"$f":"IF(G1339=\"RAID 5\",(((7-H1339)*7448))+(3*(((7-H1339)*5586))),(((6-H1339)*7448))+(3*(((6-H1339)*5586))))","v":169442},{"$f":"(8*8)+(3*(8*6))","v":208},0,{"$f":"475+(3*550)","v":2125},{"$f":"128+(3*128)","v":512},{"$error":"#DIV/0!"},0,165.470703125,{"$error":"#DIV/0!"},0,0,0,0,0,{"$error":"#DIV/0!"},{"$error":"#DIV/0!"},null,null,null,null,null,null,null,null,0,{"$error":"#DIV/0!"},-512,{"$error":"#DIV/0!"},{"$error":"#DIV/0!"}]
[null,null,null,"DIVAR IP 7000 R2 8x8TB + 4x DIVAR IP 6000 R2 8x6TB",null,null,"RAID 5",0,{"$f":"IF(G1340=\"RAID 5\",(((7-H1340)*7448))+(4*(((7-H1340)*5586))),(((6-H1340)*7448))+(4*(((6-H1340)*5586))))","v":208544},{"$f":"(8*8)+(4*(8*6))","v":256},0,{"$f":"475+(4*550)","v":2675},{"$f":"128+(4*128)","v":640},{"$error":"#DIV/0!"},0,203.65625,{"$error":"#DIV/0!"},0,0,0,0,0,{"$error":"#DIV/0!"},{"$error":"#DIV/0!"},null,null,null,null,null,null,null,null,0,{"$error":"#DIV/0!"},-640,{"$error":"#DIV/0!"},{"$error":"#DIV/0!"}]
[null,null,null,"DIVAR IP 7000 R2 8x8TB + 1x DIVAR IP 6000 R2 3U 16x6TB",null,null,"RAID 5",0,{"$f":"IF(G1341=\"RAID 5\",(((7-H1341)*7448))+(1*(((15-H1341)*5586))),(((6-H1341)*7448))+(1*(((14-H1341)*5586))))","v":135926},{"$f":"(8*8)+(1*(16*6))","v":160},0,{"$f":"475+(1*550)","v":1025},{"$f":"128+(1*128)","v":256},{"$error":"#DIV/0!"},0,132.740234375,{"$error":"#DIV/0!"},0,0,0,0,0,{"$error":"#DIV/0!"},{"$error":"#DIV/0!"},null,null,null,null,null,null,null,null,0,{"$error":"#DIV/0!"},-256,{"$error":"#DIV/0!"},{"$error":"#DIV/0!"}]
[null,null,null,"DIVAR IP 7000 R2 8x8TB + 2x DIVAR IP 6000 R2 3U 16x6TB",null,null,"RAID 5",0,{"$f":"IF(G1342=\"RAID 5\",(((7-H1342)*7448))+(2*(((15-H1342)*5586))),(((6-H1342)*7448))+(2*(((14-H1342)*5586))))","v":219716},{"$f":"(8*8)+(2*(16*6))","v":256},0,{"$f":"475+(2*550)","v":1575},{"$f":"128+(2*128)","v":384},{"$error":"#DIV/0!"},0,214.56640625,{"$error":"#DIV/0!"},0,0,0,0,0,{"$error":"#DIV/0!"},{"$error":"#DIV/0!"},null,null,null,null,null,null,null,null,0,{"$error":"#DIV/0!"},-384,{"$error":"#DIV/0!"},{"$error":"#DIV/0!"}]
[null,null,null,"DIVAR IP 7000 R2 8x8TB + 3x DIVAR IP 6000 R2 3U 16x6TB",null,null,"RAID 5",0,{"$f":"IF(G1343=\"RAID 5\",(((7-H1343)*7448))+(3*(((15-H1343)*5586))),(((6-H1343)*7448))+(3*(((14-H1343)*5586))))","v":303506},{"$f":"(8*8)+(3*(16*6))","v":352},0,{"$f":"475+(3*550)","v":2125},{"$f":"128+(3*128)","v":512},{"$error":"#DIV/0!"},0,296.392578125,{"$error":"#DIV/0!"},0,0,0,0,0,{"$error":"#DIV/0!"},{"$error":"#DIV/0!"},null,null,null,null,null,null,null,null,0,{"$error":"#DIV/0!"},-512,{"$error":"#DIV/0!"},{"$error":"#DIV/0!"}]
[null,null,null,"DIVAR IP 7000 R2 8x8TB + 4x DIVAR IP 6000 R2 3U 16x6TB",null,null,"RAID 5",0,{"$f":"IF(G1344=\"RAID 5\",(((7-H1344)*7448))+(4*(((15-H1344)*5586))),(((6-H1344)*7448))+(4*(((14-H1344)*5586))))","v":387296},{"$f":"(8*8)+(4*(16*6))","v":448},0,{"$f":"475+(4*550)","v":2675},{"$f":"128+(4*128)","v":640},{"$error":"#DIV/0!"},0,378.21875,{"$error":"#DIV/0!"},0,0,0,0,0,{"$error":"#DIV/0!"},{"$error":"#DIV/0!"},null,null,null,null,null,null,null,null,0,{"$error":"#DIV/0!"},-640,{"$error":"#DIV/0!"},{"$error":"#DIV/0!"}]
[null,null,null,"DIVAR IP 7000 R2 8x8TB + 1x DIVAR IP 6000 R2 8x8TB",null,null,"RAID 5",0,{"$f":"IF(G1345=\"RAID 5\",(((7-H1345)*7448))+(1*(((7-H1345)*7448))),(((6-H1345)*7448))+(1*(((6-H1345)*7448))))","v":104272},{"$f":"(8*8)+(1*(8*8))","v":128},{"$f":"O1345*J1345","v":0},{"$f":"475+(1*550)","v":1025},{"$f":"128+(1*128)","v":256},{"$error":"#DIV/0!"},0,101.828125,{"$error":"#DIV/0!"},{"$f":"O1345*M1345","v":0},0,{"$f":"O1345*1*MAX($N$1528,1)","v":0},0,0,{"$error":"#DIV/0!"},{"$error":"#DIV/0!"},null,null,null,null,null,null,null,null,0,{"$error":"#DIV/0!"},{"$f":"(O1345-1)*M1345","v":-256},{"$error":"#DIV/0!"},{"$error":"#DIV/0!"}]
[null,null,null,"DIVAR IP 7000 R2 8x8TB + 2x DIVAR IP 6000 R2 8x8TB",null,null,"RAID 5",0,{"$f":"IF(G1346=\"RAID 5\",(((7-H1346)*7448))+(2*(((7-H1346)*7448))),(((6-H1346)*7448))+(2*(((6-H1346)*7448))))","v":156408},{"$f":"(8*8)+(2*(8*8))","v":192},0,{"$f":"475+(2*550)","v":1575},{"$f":"128+(2*128)","v":384},{"$error":"#DIV/0!"},0,152.7421875,{"$error":"#DIV/0!"},0,0,0,0,0,{"$error":"#DIV/0!"},{"$error":"#DIV/0!"},null,null,null,null,null,null,null,null,0,{"$error":"#DIV/0!"},-384,{"$error":"#DIV/0!"},{"$error":"#DIV/0!"}]
[null,null,null,"DIVAR IP 7000 R2 8x8TB + 3x DIVAR IP 6000 R2 8x8TB",null,null,"RAID 5",0,{"$f":"IF(G1347=\"RAID 5\",(((7-H1347)*7448))+(3*(((7-H1347)*7448))),(((6-H1347)*7448))+(3*(((6-H1347)*7448))))","v":208544},{"$f":"(8*8)+(3*(8*8))","v":256},0,{"$f":"475+(3*550)","v":2125},{"$f":"128+(3*128)","v":512},{"$error":"#DIV/0!"},0,203.65625,{"$error":"#DIV/0!"},0,0,0,0,0,{"$error":"#DIV/0!"},{"$error":"#DIV/0!"},null,null,null,null,null,null,null,null,0,{"$error":"#DIV/0!"},-512,{"$error":"#DIV/0!"},{"$error":"#DIV/0!"}]
[null,null,null,"DIVAR IP 7000 R2 8x8TB + 4x DIVAR IP 6000 R2 8x8TB",null,null,"RAID 5",0,{"$f":"IF(G1348=\"RAID 5\",(((7-H1348)*7448))+(4*(((7-H1348)*7448))),(((6-H1348)*7448))+(4*(((6-H1348)*7448))))","v":260680},{"$f":"(8*8)+(4*(8*8))","v":320},0,{"$f":"475+(4*550)","v":2675},{"$f":"128+(4*128)","v":640},{"$error":"#DIV/0!"},0,254.5703125,{"$error":"#DIV/0!"},0,0,0,0,0,{"$error":"#DIV/0!"},{"$error":"#DIV/0!"},null,null,null,null,null,null,null,null,0,{"$error":"#DIV/0!"},-640,{"$error":"#DIV/0!"},{"$error":"#DIV/0!"}]
[null,null,null,"DIVAR IP 7000 R2 8x8TB + 1x DIVAR IP 6000 R2 3U 16x8TB",null,null,"RAID 5",0,{"$f":"IF(G1349=\"RAID 5\",(((7-H1349)*7448))+(1*(((15-H1349)*7448))),(((6-H1349)*7448))+(1*(((14-H1349)*7448))))","v":163856},{"$f":"(8*8)+(1*(16*8))","v":192},0,{"$f":"475+(1*550)","v":1025},{"$f":"128+(1*128)","v":256},{"$error":"#DIV/0!"},0,160.015625,{"$error":"#DIV/0!"},0,0,0,0,0,{"$error":"#DIV/0!"},{"$error":"#DIV/0!"},null,null,null,null,null,null,null,null,0,{"$error":"#DIV/0!"},-256,{"$error":"#DIV/0!"},{"$error":"#DIV/0!"}]
[null,null,null,"DIVAR IP 7000 R2 8x8TB + 2x DIVAR IP 6000 R2 3U 16x8TB",null,null,"RAID 5",0,{"$f":"IF(G1350=\"RAID 5\",(((7-H1350)*7448))+(2*(((15-H1350)*7448))),(((6-H1350)*7448))+(2*(((14-H1350)*7448))))","v":275576},{"$f":"(8*8)+(2*(16*8))","v":320},0,{"$f":"475+(2*550)","v":1575},{"$f":"128+(2*128)","v":384},{"$error":"#DIV/0!"},0,269.1171875,{"$error":"#DIV/0!"},0,0,0,0,0,{"$error":"#DIV/0!"},{"$error":"#DIV/0!"},null,null,null,null,null,null,null,null,0,{"$error":"#DIV/0!"},-384,{"$error":"#DIV/0!"},{"$error":"#DIV/0!"}]
[null,null,null,"DIVAR IP 7000 R2 8x8TB + 3x DIVAR IP 6000 R2 3U 16x8TB",null,null,"RAID 5",0,{"$f":"IF(G1351=\"RAID 5\",(((7-H1351)*7448))+(3*(((15-H1351)*7448))),(((6-H1351)*7448))+(3*(((14-H1351)*7448))))","v":387296},{"$f":"(8*8)+(3*(16*8))","v":448},0,{"$f":"475+(3*550)","v":2125},{"$f":"128+(3*128)","v":512},{"$error":"#DIV/0!"},0,378.21875,{"$error":"#DIV/0!"},0,0,0,0,0,{"$error":"#DIV/0!"},{"$f":"IF(AND(IF($N1351<=$L1351,TRUE,FALSE),IF($V1351<=$R1351,TRUE,FALSE),OR(W1351=\"True\",$W$1216=\"No\"),IF($A$1223=\"False\",IF(O1351=1,TRUE,FALSE),TRUE)),\"<-- fits project\",\"\")","v":{"$error":"#DIV/0!"}},null,null,null,null,null,null,null,null,0,{"$error":"#DIV/0!"},-512,{"$error":"#DIV/0!"},{"$error":"#DIV/0!"}]
[null,null,null,"DIVAR IP 7000 R2 8x8TB + 4x DIVAR IP 6000 R2 3U 16x8TB",null,null,"RAID 5",0,{"$f":"IF(G1352=\"RAID 5\",(((7-H1352)*7448))+(4*(((15-H1352)*7448))),(((6-H1352)*7448))+(4*(((14-H1352)*7448))))","v":499016},{"$f":"(8*8)+(4*(16*8))","v":576},0,{"$f":"475+(4*550)","v":2675},{"$f":"128+(4*128)","v":640},{"$error":"#DIV/0!"},0,487.3203125,{"$error":"#DIV/0!"},0,0,0,0,0,{"$error":"#DIV/0!"},{"$error":"#DIV/0!"},null,null,null,null,null,null,null,null,0,{"$error":"#DIV/0!"},-640,{"$error":"#DIV/0!"},{"$error":"#DIV/0!"}]
[null,null,null,"DIVAR IP 7000 R2 16x6TB + 1x DIVAR IP 6000 R2 8x3TB",null,null,"RAID 5",0,{"$f":"IF(G1353=\"RAID 5\",(((15-H1353)*5586))+(1*(((7-H1353)*2793))),(((14-H1353)*5586))+(1*(((6-H1353)*2793))))","v":103341},{"$f":"(16*6)+(1*(8*3))","v":120},0,{"$f":"475+(1*550)","v":1025},{"$f":"128+(1*128)","v":256},{"$error":"#DIV/0!"},0,100.9189453125,{"$error":"#DIV/0!"},0,0,0,0,0,{"$error":"#DIV/0!"},{"$error":"#DIV/0!"},null,null,null,null,null,null,null,null,0,{"$error":"#DIV/0!"},-256,{"$error":"#DIV/0!"},{"$error":"#DIV/0!"}]
[null,null,null,"DIVAR IP 7000 R2 16x6TB + 2x DIVAR IP 6000 R2 8x3TB",null,null,"RAID 5",0,{"$f":"IF(G1354=\"RAID 5\",(((15-H1354)*5586))+(2*(((7-H1354)*2793))),(((14-H1354)*5586))+(2*(((6-H1354)*2793))))","v":122892},{"$f":"(16*6)+(2*(8*3))","v":144},0,{"$f":"475+(2*550)","v":1575},{"$f":"128+(2*128)","v":384},{"$error":"#DIV/0!"},0,120.01171875,{"$error":"#DIV/0!"},0,0,0,0,0,{"$error":"#DIV/0!"},{"$error":"#DIV/0!"},null,null,null,null,null,null,null,null,0,{"$error":"#DIV/0!"},-384,{"$error":"#DIV/0!"},{"$error":"#DIV/0!"}]
[null,null,null,"DIVAR IP 7000 R2 16x6TB + 3x DIVAR IP 6000 R2 8x3TB",null,null,"RAID 5",0,{"$f":"IF(G1355=\"RAID 5\",(((15-H1355)*5586))+(3*(((7-H1355)*2793))),(((14-H1355)*5586))+(3*(((6-H1355)*2793))))","v":142443},{"$f":"(16*6)+(3*(8*3))","v":168},0,{"$f":"475+(3*550)","v":2125},{"$f":"128+(3*128)","v":512},{"$error":"#DIV/0!"},0,139.1044921875,{"$error":"#DIV/0!"},0,0,0,0,0,{"$error":"#DIV/0!"},{"$error":"#DIV/0!"},null,null,null,null,null,null,null,null,0,{"$error":"#DIV/0!"},-512,{"$error":"#DIV/0!"},{"$error":"#DIV/0!"}]
[null,null,null,"DIVAR IP 7000 R2 16x6TB + 4x DIVAR IP 6000 R2 8x3TB",null,null,"RAID 5",0,{"$f":"IF(G1356=\"RAID 5\",(((15-H1356)*5586))+(4*(((7-H1356)*2793))),(((14-H1356)*5586))+(4*(((6-H1356)*2793))))","v":161994},{"$f":"(16*6)+(4*(8*3))","v":192},0,{"$f":"475+(4*550)","v":2675},{"$f":"128+(4*128)","v":640},{"$error":"#DIV/0!"},0,158.197265625,{"$error":"#DIV/0!"},0,0,0,0,0,{"$error":"#DIV/0!"},{"$error":"#DIV/0!"},null,null,null,null,null,null,null,null,0,{"$error":"#DIV/0!"},-640,{"$error":"#DIV/0!"},{"$error":"#DIV/0!"}]
[null,null,null,"DIVAR IP 7000 R2 16x6TB + 1x DIVAR IP 6000 R2 3U 16x3TB",null,null,"RAID 5",0,{"$f":"IF(G1357=\"RAID 5\",(((15-H1357)*5586))+(1*(((15-H1357)*2793))),(((14-H1357)*5586))+(1*(((14-H1357)*2793))))","v":125685},{"$f":"(16*6)+(1*(16*3))","v":144},0,{"$f":"475+(1*550)","v":1025},{"$f":"128+(1*128)","v":256},{"$error":"#DIV/0!"},0,122.7392578125,{"$error":"#DIV/0!"},0,0,0,0,0,{"$error":"#DIV/0!"},{"$error":"#DIV/0!"},null,null,null,null,null,null,null,null,0,{"$error":"#DIV/0!"},-256,{"$error":"#DIV/0!"},{"$error":"#DIV/0!"}]
[null,null,null,"DIVAR IP 7000 R2 16x6TB + 2x DIVAR IP 6000 R2 3U 16x3TB",null,null,"RAID 5",0,{"$f":"IF(G1358=\"RAID 5\",(((15-H1358)*5586))+(2*(((15-H1358)*2793))),(((14-H1358)*5586))+(2*(((14-H1358)*2793))))","v":167580},{"$f":"(16*6)+(2*(16*3))","v":192},0,{"$f":"475+(2*550)","v":1575},{"$f":"128+(2*128)","v":384},{"$f":"$I$1211/O1358","v":{"$error":"#DIV/0!"}},{"$f":"ROUNDUP($G$1211/I1358,0)","v":0},{"$f":"(1-(($G$1211/$I1358)-INT($G$1211/$I1358)))*I1358/1024","v":163.65234375},{"$error":"#DIV/0!"},0,0,0,0,0,{"$error":"#DIV/0!"},{"$error":"#DIV/0!"},null,null,null,null,null,null,null,null,0,{"$error":"#DIV/0!"},-384,{"$f":"IF(O1358>1,$I$1211/(O1358-1),$I$1211/O1358)","v":{"$error":"#DIV/0!"}},{"$error":"#DIV/0!"}]
[null,null,null,"DIVAR IP 7000 R2 16x6TB + 3x DIVAR IP 6000 R2 3U 16x3TB",null,null,"RAID 5",0,{"$f":"IF(G1359=\"RAID 5\",(((15-H1359)*5586))+(3*(((15-H1359)*2793))),(((14-H1359)*5586))+(3*(((14-H1359)*2793))))","v":209475},{"$f":"(16*6)+(3*(16*3))","v":240},0,{"$f":"475+(3*550)","v":2125},{"$f":"128+(3*128)","v":512},{"$error":"#DIV/0!"},0,204.5654296875,{"$error":"#DIV/0!"},0,0,0,0,{"$f":"SUM(S1359)","v":0},{"$error":"#DIV/0!"},{"$error":"#DIV/0!"},null,null,null,null,null,null,null,null,0,{"$error":"#DIV/0!"},-512,{"$error":"#DIV/0!"},{"$error":"#DIV/0!"}]
[null,null,null,"DIVAR IP 7000 R2 16x6TB + 4x DIVAR IP 6000 R2 3U 16x3TB",null,null,"RAID 5",0,{"$f":"IF(G1360=\"RAID 5\",(((15-H1360)*5586))+(4*(((15-H1360)*2793))),(((14-H1360)*5586))+(4*(((14-H1360)*2793))))","v":251370},{"$f":"(16*6)+(4*(16*3))","v":288},0,{"$f":"475+(4*550)","v":2675},{"$f":"128+(4*128)","v":640},{"$error":"#DIV/0!"},0,245.478515625,{"$error":"#DIV/0!"},0,0,0,0,0,{"$error":"#DIV/0!"},{"$error":"#DIV/0!"},null,null,null,null,null,null,null,null,0,{"$error":"#DIV/0!"},-640,{"$error":"#DIV/0!"},{"$error":"#DIV/0!"}]
[null,null,null,"DIVAR IP 7000 R2 16x6TB + 1x DIVAR IP 6000 R2 8x4TB",null,null,"RAID 5",0,{"$f":"IF(G1361=\"RAID 5\",(((15-H1361)*5586))+(1*(((7-H1361)*3723))),(((14-H1361)*5586))+(1*(((6-H1361)*3723))))","v":109851},{"$f":"(16*6)+(1*(8*4))","v":128},0,{"$f":"475+(1*550)","v":1025},{"$f":"128+(1*128)","v":256},{"$error":"#DIV/0!"},0,107.2763671875,{"$error":"#DIV/0!"},0,0,0,0,0,{"$error":"#DIV/0!"},{"$error":"#DIV/0!"},null,null,null,null,null,null,null,null,0,{"$error":"#DIV/0!"},-256,{"$error":"#DIV/0!"},{"$error":"#DIV/0!"}]
[null,null,null,"DIVAR IP 7000 R2 16x6TB + 2x DIVAR IP 6000 R2 8x4TB",null,null,"RAID 5",0,{"$f":"IF(G1362=\"RAID 5\",(((15-H1362)*5586))+(2*(((7-H1362)*3723))),(((14-H1362)*5586))+(2*(((6-H1362)*3723))))","v":135912},{"$f":"(16*6)+(2*(8*4))","v":160},0,{"$f":"475+(2*550)","v":1575},{"$f":"128+(2*128)","v":384},{"$error":"#DIV/0!"},0,132.7265625,{"$error":"#DIV/0!"},0,0,0,0,0,{"$error":"#DIV/0!"},{"$error":"#DIV/0!"},null,null,null,null,null,null,null,null,0,{"$error":"#DIV/0!"},-384,{"$error":"#DIV/0!"},{"$error":"#DIV/0!"}]
[null,null,null,"DIVAR IP 7000 R2 16x6TB + 3x DIVAR IP 6000 R2 8x4TB",null,null,"RAID 5",0,{"$f":"IF(G1363=\"RAID 5\",(((15-H1363)*5586))+(3*(((7-H1363)*3723))),(((14-H1363)*5586))+(3*(((6-H1363)*3723))))","v":161973},{"$f":"(16*6)+(3*(8*4))","v":192},0,{"$f":"475+(3*550)","v":2125},{"$f":"128+(3*128)","v":512},{"$error":"#DIV/0!"},0,158.1767578125,{"$error":"#DIV/0!"},0,0,0,0,0,{"$error":"#DIV/0!"},{"$error":"#DIV/0!"},null,null,null,null,null,null,null,null,0,{"$error":"#DIV/0!"},-512,{"$error":"#DIV/0!"},{"$error":"#DIV/0!"}]
[null,null,null,"DIVAR IP 7000 R2 16x6TB + 4x DIVAR IP 6000 R2 8x4TB",null,null,"RAID 5",0,{"$f":"IF(G1364=\"RAID 5\",(((15-H1364)*5586))+(4*(((7-H1364)*3723))),(((14-H1364)*5586))+(4*(((6-H1364)*3723))))","v":188034},{"$f":"(16*6)+(4*(8*4))","v":224},0,{"$f":"475+(4*550)","v":2675},{"$f":"128+(4*128)","v":640},{"$error":"#DIV/0!"},0,183.626953125,{"$error":"#DIV/0!"},0,0,0,0,0,{"$error":"#DIV/0!"},{"$error":"#DIV/0!"},null,null,null,null,null,null,null,null,0,{"$error":"#DIV/0!"},-640,{"$error":"#DIV/0!"},{"$error":"#DIV/0!"}]
[null,null,null,"DIVAR IP 7000 R2 16x6TB + 1x DIVAR IP 6000 R2 3U 16x4TB",null,null,"RAID 5",0,{"$f":"IF(G1365=\"RAID 5\",(((15-H1365)*5586))+(1*(((15-H1365)*3723))),(((14-H1365)*5586))+(1*(((14-H1365)*3723))))","v":139635},{"$f":"(16*6)+(1*(16*4))","v":160},0,{"$f":"475+(1*550)","v":1025},{"$f":"128+(1*128)","v":256},{"$error":"#DIV/0!"},0,136.3623046875,{"$error":"#DIV/0!"},0,0,0,0,0,{"$error":"#DIV/0!"},{"$error":"#DIV/0!"},null,null,null,null,null,null,null,null,0,{"$error":"#DIV/0!"},-256,{"$error":"#DIV/0!"},{"$error":"#DIV/0!"}]
[null,null,null,"DIVAR IP 7000 R2 16x6TB + 2x DIVAR IP 6000 R2 3U 16x4TB",null,null,"RAID 5",0,{"$f":"IF(G1366=\"RAID 5\",(((15-H1366)*5586))+(2*(((15-H1366)*3723))),(((14-H1366)*5586))+(2*(((14-H1366)*3723))))","v":195480},{"$f":"(16*6)+(2*(16*4))","v":224},0,{"$f":"475+(2*550)","v":1575},{"$f":"128+(2*128)","v":384},{"$error":"#DIV/0!"},0,190.8984375,{"$error":"#DIV/0!"},0,0,0,0,0,{"$error":"#DIV/0!"},{"$error":"#DIV/0!"},null,null,null,null,null,null,null,null,0,{"$error":"#DIV/0!"},-384,{"$error":"#DIV/0!"},{"$error":"#DIV/0!"}]
[null,null,null,"DIVAR IP 7000 R2 16x6TB + 3x DIVAR IP 6000 R2 3U 16x4TB",null,null,"RAID 5",0,{"$f":"IF(G1367=\"RAID 5\",(((15-H1367)*5586))+(3*(((15-H1367)*3723))),(((14-H1367)*5586))+(3*(((14-H1367)*3723))))","v":251325},{"$f":"(16*6)+(3*(16*4))","v":288},0,{"$f":"475+(3*550)","v":2125},{"$f":"128+(3*128)","v":512},{"$error":"#DIV/0!"},0,245.4345703125,{"$error":"#DIV/0!"},0,0,0,0,0,{"$error":"#DIV/0!"},{"$error":"#DIV/0!"},null,null,null,null,null,null,null,null,0,{"$error":"#DIV/0!"},-512,{"$error":"#DIV/0!"},{"$error":"#DIV/0!"}]
[null,null,null,"DIVAR IP 7000 R2 16x6TB + 4x DIVAR IP 6000 R2 3U 16x4TB",null,null,"RAID 5",0,{"$f":"IF(G1368=\"RAID 5\",(((15-H1368)*5586))+(4*(((15-H1368)*3723))),(((14-H1368)*5586))+(4*(((14-H1368)*3723))))","v":307170},{"$f":"(16*6)+(4*(16*4))","v":352},0,{"$f":"475+(4*550)","v":2675},{"$f":"128+(4*128)","v":640},{"$error":"#DIV/0!"},0,299.970703125,{"$error":"#DIV/0!"},0,0,0,0,0,{"$error":"#DIV/0!"},{"$error":"#DIV/0!"},null,null,null,null,null,null,null,null,0,{"$error":"#DIV/0!"},-640,{"$error":"#DIV/0!"},{"$error":"#DIV/0!"}]
[null,null,null,"DIVAR IP 7000 R2 16x6TB + 1x DIVAR IP 6000 R2 8x6TB",null,null,"RAID 5",0,{"$f":"IF(G1369=\"RAID 5\",(((15-H1369)*5586))+(1*(((7-H1369)*5586))),(((14-H1369)*5586))+(1*(((6-H1369)*5586))))","v":122892},{"$f":"(16*6)+(1*(8*6))","v":144},0,{"$f":"475+(1*550)","v":1025},{"$f":"128+(1*128)","v":256},{"$error":"#DIV/0!"},0,120.01171875,{"$error":"#DIV/0!"},0,0,0,0,0,{"$error":"#DIV/0!"},{"$error":"#DIV/0!"},null,null,null,null,null,null,null,null,0,{"$error":"#DIV/0!"},-256,{"$error":"#DIV/0!"},{"$error":"#DIV/0!"}]
[null,null,null,"DIVAR IP 7000 R2 16x6TB + 2x DIVAR IP 6000 R2 8x6TB",null,null,"RAID 5",0,{"$f":"IF(G1370=\"RAID 5\",(((15-H1370)*5586))+(2*(((7-H1370)*5586))),(((14-H1370)*5586))+(2*(((6-H1370)*5586))))","v":161994},{"$f":"(16*6)+(2*(8*6))","v":192},0,{"$f":"475+(2*550)","v":1575},{"$f":"128+(2*128)","v":384},{"$error":"#DIV/0!"},0,158.197265625,{"$error":"#DIV/0!"},0,0,0,0,0,{"$error":"#DIV/0!"},{"$error":"#DIV/0!"},null,null,null,null,null,null,null,null,0,{"$error":"#DIV/0!"},-384,{"$error":"#DIV/0!"},{"$error":"#DIV/0!"}]
[null,null,null,"DIVAR IP 7000 R2 16x6TB + 3x DIVAR IP 6000 R2 8x6TB",null,null,"RAID 5",0,{"$f":"IF(G1371=\"RAID 5\",(((15-H1371)*5586))+(3*(((7-H1371)*5586))),(((14-H1371)*5586))+(3*(((6-H1371)*5586))))","v":201096},{"$f":"(16*6)+(3*(8*6))","v":240},0,{"$f":"475+(3*550)","v":2125},{"$f":"128+(3*128)","v":512},{"$error":"#DIV/0!"},0,196.3828125,{"$error":"#DIV/0!"},0,0,0,0,0,{"$error":"#DIV/0!"},{"$error":"#DIV/0!"},null,null,null,null,null,null,null,null,0,{"$error":"#DIV/0!"},-512,{"$error":"#DIV/0!"},{"$error":"#DIV/0!"}]
[null,null,null,"DIVAR IP 7000 R2 16x6TB + 4x DIVAR IP 6000 R2 8x6TB",null,null,"RAID 5",0,{"$f":"IF(G1372=\"RAID 5\",(((15-H1372)*5586))+(4*(((7-H1372)*5586))),(((14-H1372)*5586))+(4*(((6-H1372)*5586))))","v":240198},{"$f":"(16*6)+(4*(8*6))","v":288},0,{"$f":"475+(4*550)","v":2675},{"$f":"128+(4*128)","v":640},{"$error":"#DIV/0!"},0,234.568359375,{"$error":"#DIV/0!"},0,0,0,0,0,{"$error":"#DIV/0!"},{"$error":"#DIV/0!"},null,null,null,null,null,null,null,null,0,{"$error":"#DIV/0!"},-640,{"$error":"#DIV/0!"},{"$error":"#DIV/0!"}]
[null,null,null,"DIVAR IP 7000 R2 16x6TB + 1x DIVAR IP 6000 R2 3U 16x6TB",null,null,"RAID 5",0,{"$f":"IF(G1373=\"RAID 5\",(((15-H1373)*5586))+(1*(((15-H1373)*5586))),(((14-H1373)*5586))+(1*(((14-H1373)*5586))))","v":167580},{"$f":"(16*6)+(1*(16*6))","v":192},0,{"$f":"475+(1*550)","v":1025},{"$f":"128+(1*128)","v":256},{"$error":"#DIV/0!"},0,163.65234375,{"$error":"#DIV/0!"},0,0,0,0,0,{"$error":"#DIV/0!"},{"$error":"#DIV/0!"},null,null,null,null,null,null,null,null,0,{"$error":"#DIV/0!"},-256,{"$error":"#DIV/0!"},{"$error":"#DIV/0!"}]
[null,null,null,"DIVAR IP 7000 R2 16x6TB + 2x DIVAR IP 6000 R2 3U 16x6TB",null,null,"RAID 5",0,{"$f":"IF(G1374=\"RAID 5\",(((15-H1374)*5586))+(2*(((15-H1374)*5586))),(((14-H1374)*5586))+(2*(((14-H1374)*5586))))","v":251370},{"$f":"(16*6)+(2*(16*6))","v":288},0,{"$f":"475+(2*550)","v":1575},{"$f":"128+(2*128)","v":384},{"$error":"#DIV/0!"},0,245.478515625,{"$error":"#DIV/0!"},0,0,0,0,0,{"$error":"#DIV/0!"},{"$error":"#DIV/0!"},null,null,null,null,null,null,null,null,0,{"$error":"#DIV/0!"},-384,{"$error":"#DIV/0!"},{"$error":"#DIV/0!"}]
[null,null,null,"DIVAR IP 7000 R2 16x6TB + 3x DIVAR IP 6000 R2 3U 16x6TB",null,null,"RAID 5",0,{"$f":"IF(G1375=\"RAID 5\",(((15-H1375)*5586))+(3*(((15-H1375)*5586))),(((14-H1375)*5586))+(3*(((14-H1375)*5586))))","v":335160},{"$f":"(16*6)+(3*(16*6))","v":384},0,{"$f":"475+(3*550)","v":2125},{"$f":"128+(3*128)","v":512},{"$error":"#DIV/0!"},0,327.3046875,{"$error":"#DIV/0!"},0,0,0,0,0,{"$error":"#DIV/0!"},{"$error":"#DIV/0!"},null,null,null,null,null,null,null,null,0,{"$error":"#DIV/0!"},-512,{"$error":"#DIV/0!"},{"$error":"#DIV/0!"}]
[null,null,null,"DIVAR IP 7000 R2 16x6TB + 4x DIVAR IP 6000 R2 3U 16x6TB",null,null,"RAID 5",0,{"$f":"IF(G1376=\"RAID 5\",(((15-H1376)*5586))+(4*(((15-H1376)*5586))),(((14-H1376)*5586))+(4*(((14-H1376)*5586))))","v":418950},{"$f":"(16*6)+(4*(16*6))","v":480},0,{"$f":"475+(4*550)","v":2675},{"$f":"128+(4*128)","v":640},{"$error":"#DIV/0!"},0,409.130859375,{"$error":"#DIV/0!"},0,0,0,0,0,{"$error":"#DIV/0!"},{"$error":"#DIV/0!"},null,null,null,null,null,null,null,null,0,{"$error":"#DIV/0!"},-640,{"$error":"#DIV/0!"},{"$error":"#DIV/0!"}]
[null,null,null,"DIVAR IP 7000 R2 16x6TB + 1x DIVAR IP 6000 R2 8x8TB",null,null,"RAID 5",0,{"$f":"IF(G1377=\"RAID 5\",(((15-H1377)*5586))+(1*(((7-H1377)*7448))),(((14-H1377)*5586))+(1*(((6-H1377)*7448))))","v":135926},{"$f":"(16*6)+(1*(8*8))","v":160},0,{"$f":"475+(1*550)","v":1025},{"$f":"128+(1*128)","v":256},{"$error":"#DIV/0!"},0,132.740234375,{"$error":"#DIV/0!"},0,{"$f":"IF($O1377>7,OFFSET($M$255,0,$L$1211),OFFSET($M$248,O1377-1,$L$1211,1,1))","v":0},0,0,0,{"$f":"IF(AND(IF($AJ1377<=$L1377,TRUE,FALSE),IF($V1377<=$AI1377,TRUE,FALSE)),\"True\",\"\")","v":{"$error":"#DIV/0!"}},{"$error":"#DIV/0!"},null,null,null,null,null,null,null,null,0,{"$error":"#DIV/0!"},-256,{"$error":"#DIV/0!"},{"$error":"#DIV/0!"}]
[null,null,null,"DIVAR IP 7000 R2 16x6TB + 2x DIVAR IP 6000 R2 8x8TB",null,null,"RAID 5",0,{"$f":"IF(G1378=\"RAID 5\",(((15-H1378)*5586))+(2*(((7-H1378)*7448))),(((14-H1378)*5586))+(2*(((6-H1378)*7448))))","v":188062},{"$f":"(16*6)+(2*(8*8))","v":224},0,{"$f":"475+(2*550)","v":1575},{"$f":"128+(2*128)","v":384},{"$error":"#DIV/0!"},0,183.654296875,{"$error":"#DIV/0!"},0,0,0,0,0,{"$error":"#DIV/0!"},{"$error":"#DIV/0!"},null,null,null,null,null,null,null,null,0,{"$error":"#DIV/0!"},-384,{"$error":"#DIV/0!"},{"$error":"#DIV/0!"}]
[null,null,null,"DIVAR IP 7000 R2 16x6TB + 3x DIVAR IP 6000 R2 8x8TB",null,null,"RAID 5",0,{"$f":"IF(G1379=\"RAID 5\",(((15-H1379)*5586))+(3*(((7-H1379)*7448))),(((14-H1379)*5586))+(3*(((6-H1379)*7448))))","v":240198},{"$f":"(16*6)+(3*(8*8))","v":288},0,{"$f":"475+(3*550)","v":2125},{"$f":"128+(3*128)","v":512},{"$error":"#DIV/0!"},0,234.568359375,{"$error":"#DIV/0!"},0,0,0,0,0,{"$error":"#DIV/0!"},{"$error":"#DIV/0!"},null,null,null,null,null,null,null,null,0,{"$error":"#DIV/0!"},-512,{"$error":"#DIV/0!"},{"$error":"#DIV/0!"}]
[null,null,null,"DIVAR IP 7000 R2 16x6TB + 4x DIVAR IP 6000 R2 8x8TB",null,null,"RAID 5",0,{"$f":"IF(G1380=\"RAID 5\",(((15-H1380)*5586))+(4*(((7-H1380)*7448))),(((14-H1380)*5586))+(4*(((6-H1380)*7448))))","v":292334},{"$f":"(16*6)+(4*(8*8))","v":352},0,{"$f":"475+(4*550)","v":2675},{"$f":"128+(4*128)","v":640},{"$error":"#DIV/0!"},0,285.482421875,{"$error":"#DIV/0!"},0,0,0,0,0,{"$error":"#DIV/0!"},{"$error":"#DIV/0!"},null,null,null,null,null,null,null,null,0,{"$error":"#DIV/0!"},-640,{"$error":"#DIV/0!"},{"$error":"#DIV/0!"}]
[null,null,null,"DIVAR IP 7000 R2 16x6TB + 1x DIVAR IP 6000 R2 3U 16x8TB",null,null,"RAID 5",0,{"$f":"IF(G1381=\"RAID 5\",(((15-H1381)*5586))+(1*(((15-H1381)*7448))),(((14-H1381)*5586))+(1*(((14-H1381)*7448))))","v":195510},{"$f":"(16*6)+(1*(16*8))","v":224},0,{"$f":"475+(1*550)","v":1025},{"$f":"128+(1*128)","v":256},{"$error":"#DIV/0!"},0,190.927734375,{"$error":"#DIV/0!"},0,0,0,0,0,{"$error":"#DIV/0!"},{"$error":"#DIV/0!"},null,null,null,null,null,null,null,null,0,{"$error":"#DIV/0!"},-256,{"$error":"#DIV/0!"},{"$error":"#DIV/0!"}]
[null,null,null,"DIVAR IP 7000 R2 16x6TB + 2x DIVAR IP 6000 R2 3U 16x8TB",null,null,"RAID 5",0,{"$f":"IF(G1382=\"RAID 5\",(((15-H1382)*5586))+(2*(((15-H1382)*7448))),(((14-H1382)*5586))+(2*(((14-H1382)*7448))))","v":307230},{"$f":"(16*6)+(2*(16*8))","v":352},0,{"$f":"475+(2*550)","v":1575},{"$f":"128+(2*128)","v":384},{"$error":"#DIV/0!"},0,300.029296875,{"$error":"#DIV/0!"},0,0,0,0,0,{"$error":"#DIV/0!"},{"$error":"#DIV/0!"},null,null,null,null,null,null,null,null,0,{"$error":"#DIV/0!"},-384,{"$error":"#DIV/0!"},{"$error":"#DIV/0!"}]
[null,null,null,"DIVAR IP 7000 R2 16x6TB + 3x DIVAR IP 6000 R2 3U 16x8TB",null,null,"RAID 5",0,{"$f":"IF(G1383=\"RAID 5\",(((15-H1383)*5586))+(3*(((15-H1383)*7448))),(((14-H1383)*5586))+(3*(((14-H1383)*7448))))","v":418950},{"$f":"(16*6)+(3*(16*8))","v":480},0,{"$f":"475+(3*550)","v":2125},{"$f":"128+(3*128)","v":512},{"$error":"#DIV/0!"},0,409.130859375,{"$error":"#DIV/0!"},0,0,0,0,0,{"$error":"#DIV/0!"},{"$f":"IF(AND(IF($N1383<=$L1383,TRUE,FALSE),IF($V1383<=$R1383,TRUE,FALSE),OR(W1383=\"True\",$W$1216=\"No\"),IF($A$1223=\"False\",IF(O1383=1,TRUE,FALSE),TRUE)),\"<-- fits project\",\"\")","v":{"$error":"#DIV/0!"}},null,null,null,null,null,null,null,null,0,{"$error":"#DIV/0!"},-512,{"$error":"#DIV/0!"},{"$error":"#DIV/0!"}]
[null,null,null,"DIVAR IP 7000 R2 16x6TB + 4x DIVAR IP 6000 R2 3U 16x8TB",null,null,"RAID 5",0,{"$f":"IF(G1384=\"RAID 5\",(((15-H1384)*5586))+(4*(((15-H1384)*7448))),(((14-H1384)*5586))+(4*(((14-H1384)*7448))))","v":530670},{"$f":"(16*6)+(4*(16*8))","v":608},0,{"$f":"475+(4*550)","v":2675},{"$f":"128+(4*128)","v":640},{"$error":"#DIV/0!"},0,518.232421875,{"$error":"#DIV/0!"},0,0,0,0,0,{"$error":"#DIV/0!"},{"$error":"#DIV/0!"},null,null,null,null,null,null,null,null,0,{"$error":"#DIV/0!"},-640,{"$error":"#DIV/0!"},{"$error":"#DIV/0!"}]
[null,null,null,"DIVAR IP 7000 R2 16x8TB + 1x DIVAR IP 6000 R2 8x3TB",null,null,"RAID 5",0,{"$f":"IF(G1385=\"RAID 5\",(((15-H1385)*7448))+(1*(((7-H1385)*2793))),(((14-H1385)*7448))+(1*(((6-H1385)*2793))))","v":131271},{"$f":"(16*8)+(1*(8*3))","v":152},0,{"$f":"475+(1*550)","v":1025},256,{"$error":"#DIV/0!"},0,128.1943359375,{"$f":"AH1385","v":{"$error":"#DIV/0!"}},0,0,0,0,0,{"$error":"#DIV/0!"},{"$error":"#DIV/0!"},null,null,null,null,null,null,null,null,{"$f":"AF1385*O1385","v":0},{"$f":"AG1385/$AG$563","v":{"$error":"#DIV/0!"}},-256,{"$error":"#DIV/0!"},{"$error":"#DIV/0!"}]
[null,null,null,"DIVAR IP 7000 R2 16x8TB + 2x DIVAR IP 6000 R2 8x3TB",null,null,"RAID 5",0,{"$f":"IF(G1386=\"RAID 5\",(((15-H1386)*7448))+(2*(((7-H1386)*2793))),(((14-H1386)*7448))+(2*(((6-H1386)*2793))))","v":150822},{"$f":"(16*8)+(2*(8*3))","v":176},0,{"$f":"475+(2*550)","v":1575},384,{"$error":"#DIV/0!"},0,147.287109375,{"$error":"#DIV/0!"},0,0,0,0,0,{"$error":"#DIV/0!"},{"$error":"#DIV/0!"},null,null,null,null,null,null,null,null,0,{"$error":"#DIV/0!"},-384,{"$error":"#DIV/0!"},{"$error":"#DIV/0!"}]
[null,null,null,"DIVAR IP 7000 R2 16x8TB + 3x DIVAR IP 6000 R2 8x3TB",null,null,"RAID 5",0,{"$f":"IF(G1387=\"RAID 5\",(((15-H1387)*7448))+(3*(((7-H1387)*2793))),(((14-H1387)*7448))+(3*(((6-H1387)*2793))))","v":170373},{"$f":"(16*8)+(3*(8*3))","v":200},0,{"$f":"475+(3*550)","v":2125},512,{"$error":"#DIV/0!"},0,166.3798828125,{"$error":"#DIV/0!"},0,0,0,0,0,{"$error":"#DIV/0!"},{"$error":"#DIV/0!"},null,null,null,null,null,null,null,null,0,{"$error":"#DIV/0!"},-512,{"$error":"#DIV/0!"},{"$error":"#DIV/0!"}]
[null,null,null,"DIVAR IP 7000 R2 16x8TB + 4x DIVAR IP 6000 R2 8x3TB",null,null,"RAID 5",0,{"$f":"IF(G1388=\"RAID 5\",(((15-H1388)*7448))+(4*(((7-H1388)*2793))),(((14-H1388)*7448))+(4*(((6-H1388)*2793))))","v":189924},{"$f":"(16*8)+(4*(8*3))","v":224},0,{"$f":"475+(4*550)","v":2675},640,{"$error":"#DIV/0!"},0,185.47265625,{"$error":"#DIV/0!"},0,0,0,0,0,{"$error":"#DIV/0!"},{"$error":"#DIV/0!"},null,null,null,null,null,null,null,null,0,{"$error":"#DIV/0!"},-640,{"$error":"#DIV/0!"},{"$error":"#DIV/0!"}]
[null,null,null,"DIVAR IP 7000 R2 16x8TB + 1x DIVAR IP 6000 R2 3U 16x3TB",null,null,"RAID 5",0,{"$f":"IF(G1389=\"RAID 5\",(((15-H1389)*7448))+(1*(((15-H1389)*2793))),(((14-H1389)*7448))+(1*(((14-H1389)*2793))))","v":153615},{"$f":"(16*8)+(1*(16*3))","v":176},0,{"$f":"475+(1*550)","v":1025},256,{"$error":"#DIV/0!"},0,150.0146484375,{"$error":"#DIV/0!"},0,0,0,0,0,{"$error":"#DIV/0!"},{"$error":"#DIV/0!"},null,null,null,null,null,null,null,null,0,{"$error":"#DIV/0!"},-256,{"$error":"#DIV/0!"},{"$error":"#DIV/0!"}]
[null,null,null,"DIVAR IP 7000 R2 16x8TB + 2x DIVAR IP 6000 R2 3U 16x3TB",null,null,"RAID 5",0,{"$f":"IF(G1390=\"RAID 5\",(((15-H1390)*7448))+(2*(((15-H1390)*2793))),(((14-H1390)*7448))+(2*(((14-H1390)*2793))))","v":195510},{"$f":"(16*8)+(2*(16*3))","v":224},0,{"$f":"475+(2*550)","v":1575},384,{"$f":"$I$1211/O1390","v":{"$error":"#DIV/0!"}},{"$f":"ROUNDUP($G$1211/I1390,0)","v":0},{"$f":"(1-(($G$1211/$I1390)-INT($G$1211/$I1390)))*I1390/1024","v":190.927734375},{"$error":"#DIV/0!"},0,0,0,0,0,{"$error":"#DIV/0!"},{"$error":"#DIV/0!"},null,null,null,null,null,null,null,null,0,{"$error":"#DIV/0!"},-384,{"$f":"IF(O1390>1,$I$1211/(O1390-1),$I$1211/O1390)","v":{"$error":"#DIV/0!"}},{"$error":"#DIV/0!"}]
[null,null,null,"DIVAR IP 7000 R2 16x8TB + 3x DIVAR IP 6000 R2 3U 16x3TB",null,null,"RAID 5",0,{"$f":"IF(G1391=\"RAID 5\",(((15-H1391)*7448))+(3*(((15-H1391)*2793))),(((14-H1391)*7448))+(3*(((14-H1391)*2793))))","v":237405},{"$f":"(16*8)+(3*(16*3))","v":272},0,{"$f":"475+(3*550)","v":2125},512,{"$error":"#DIV/0!"},0,231.8408203125,{"$error":"#DIV/0!"},0,0,0,0,0,{"$error":"#DIV/0!"},{"$error":"#DIV/0!"},null,null,null,null,null,null,null,null,0,{"$error":"#DIV/0!"},-512,{"$error":"#DIV/0!"},{"$error":"#DIV/0!"}]
[null,null,null,"DIVAR IP 7000 R2 16x8TB + 4x DIVAR IP 6000 R2 3U 16x3TB",null,null,"RAID 5",0,{"$f":"IF(G1392=\"RAID 5\",(((15-H1392)*7448))+(4*(((15-H1392)*2793))),(((14-H1392)*7448))+(4*(((14-H1392)*2793))))","v":279300},{"$f":"(16*8)+(4*(16*3))","v":320},0,{"$f":"475+(4*550)","v":2675},640,{"$error":"#DIV/0!"},0,272.75390625,{"$error":"#DIV/0!"},0,0,0,0,0,{"$error":"#DIV/0!"},{"$error":"#DIV/0!"},null,null,null,null,null,null,null,null,0,{"$error":"#DIV/0!"},-640,{"$error":"#DIV/0!"},{"$error":"#DIV/0!"}]
[null,null,null,"DIVAR IP 7000 R2 16x8TB + 1x DIVAR IP 6000 R2 8x4TB",null,null,"RAID 5",0,{"$f":"IF(G1393=\"RAID 5\",(((15-H1393)*7448))+(1*(((7-H1393)*3723))),(((14-H1393)*7448))+(1*(((6-H1393)*3723))))","v":137781},{"$f":"(16*8)+(1*(8*4))","v":160},0,{"$f":"475+(1*550)","v":1025},256,{"$error":"#DIV/0!"},0,134.5517578125,{"$error":"#DIV/0!"},0,0,0,{"$f":"$S$259*MIN(O1393,$S$260)","v":0},0,{"$error":"#DIV/0!"},{"$error":"#DIV/0!"},null,null,null,null,null,null,null,null,0,{"$error":"#DIV/0!"},-256,{"$error":"#DIV/0!"},{"$error":"#DIV/0!"}]
[null,null,null,"DIVAR IP 7000 R2 16x8TB + 2x DIVAR IP 6000 R2 8x4TB",null,null,"RAID 5",0,{"$f":"IF(G1394=\"RAID 5\",(((15-H1394)*7448))+(2*(((7-H1394)*3723))),(((14-H1394)*7448))+(2*(((6-H1394)*3723))))","v":163842},{"$f":"(16*8)+(2*(8*4))","v":192},0,{"$f":"475+(2*550)","v":1575},384,{"$error":"#DIV/0!"},0,160.001953125,{"$error":"#DIV/0!"},0,0,0,0,0,{"$error":"#DIV/0!"},{"$error":"#DIV/0!"},null,null,null,null,null,null,null,null,0,{"$error":"#DIV/0!"},-384,{"$error":"#DIV/0!"},{"$error":"#DIV/0!"}]
[null,null,null,"DIVAR IP 7000 R2 16x8TB + 3x DIVAR IP 6000 R2 8x4TB",null,null,"RAID 5",0,{"$f":"IF(G1395=\"RAID 5\",(((15-H1395)*7448))+(3*(((7-H1395)*3723))),(((14-H1395)*7448))+(3*(((6-H1395)*3723))))","v":189903},{"$f":"(16*8)+(3*(8*4))","v":224},0,{"$f":"475+(3*550)","v":2125},512,{"$error":"#DIV/0!"},0,185.4521484375,{"$error":"#DIV/0!"},0,0,0,0,0,{"$error":"#DIV/0!"},{"$error":"#DIV/0!"},null,null,null,null,null,null,null,null,0,{"$error":"#DIV/0!"},-512,{"$error":"#DIV/0!"},{"$error":"#DIV/0!"}]
[null,null,null,"DIVAR IP 7000 R2 16x8TB + 4x DIVAR IP 6000 R2 8x4TB",null,null,"RAID 5",0,{"$f":"IF(G1396=\"RAID 5\",(((15-H1396)*7448))+(4*(((7-H1396)*3723))),(((14-H1396)*7448))+(4*(((6-H1396)*3723))))","v":215964},{"$f":"(16*8)+(4*(8*4))","v":256},0,{"$f":"475+(4*550)","v":2675},640,{"$error":"#DIV/0!"},0,210.90234375,{"$error":"#DIV/0!"},0,0,0,0,0,{"$error":"#DIV/0!"},{"$error":"#DIV/0!"},null,null,null,null,null,null,null,null,0,{"$error":"#DIV/0!"},-640,{"$error":"#DIV/0!"},{"$error":"#DIV/0!"}]
[null,null,null,"DIVAR IP 7000 R2 16x8TB + 1x DIVAR IP 6000 R2 3U 16x4TB",null,null,"RAID 5",0,{"$f":"IF(G1397=\"RAID 5\",(((15-H1397)*7448))+(1*(((15-H1397)*3723))),(((14-H1397)*7448))+(1*(((14-H1397)*3723))))","v":167565},{"$f":"(16*8)+(1*(16*4))","v":192},0,{"$f":"475+(1*550)","v":1025},256,{"$error":"#DIV/0!"},0,163.6376953125,{"$error":"#DIV/0!"},0,0,0,0,0,{"$error":"#DIV/0!"},{"$error":"#DIV/0!"},null,null,null,null,null,null,null,null,0,{"$error":"#DIV/0!"},-256,{"$error":"#DIV/0!"},{"$error":"#DIV/0!"}]
[null,null,null,"DIVAR IP 7000 R2 16x8TB + 2x DIVAR IP 6000 R2 3U 16x4TB",null,null,"RAID 5",0,{"$f":"IF(G1398=\"RAID 5\",(((15-H1398)*7448))+(2*(((15-H1398)*3723))),(((14-H1398)*7448))+(2*(((14-H1398)*3723))))","v":223410},{"$f":"(16*8)+(2*(16*4))","v":256},0,{"$f":"475+(2*550)","v":1575},384,{"$error":"#DIV/0!"},0,218.173828125,{"$error":"#DIV/0!"},0,0,0,0,0,{"$error":"#DIV/0!"},{"$error":"#DIV/0!"},null,null,null,null,null,null,null,null,0,{"$error":"#DIV/0!"},-384,{"$error":"#DIV/0!"},{"$error":"#DIV/0!"}]
[null,null,null,"DIVAR IP 7000 R2 16x8TB + 3x DIVAR IP 6000 R2 3U 16x4TB",null,null,"RAID 5",0,{"$f":"IF(G1399=\"RAID 5\",(((15-H1399)*7448))+(3*(((15-H1399)*3723))),(((14-H1399)*7448))+(3*(((14-H1399)*3723))))","v":279255},{"$f":"(16*8)+(3*(16*4))","v":320},0,{"$f":"475+(3*550)","v":2125},512,{"$error":"#DIV/0!"},0,272.7099609375,{"$error":"#DIV/0!"},0,0,0,0,0,{"$error":"#DIV/0!"},{"$error":"#DIV/0!"},null,null,null,null,null,null,null,null,0,{"$error":"#DIV/0!"},-512,{"$error":"#DIV/0!"},{"$error":"#DIV/0!"}]
[null,null,null,"DIVAR IP 7000 R2 16x8TB + 4x DIVAR IP 6000 R2 3U 16x4TB",null,null,"RAID 5",0,{"$f":"IF(G1400=\"RAID 5\",(((15-H1400)*7448))+(4*(((15-H1400)*3723))),(((14-H1400)*7448))+(4*(((14-H1400)*3723))))","v":335100},{"$f":"(16*8)+(4*(16*4))","v":384},0,{"$f":"475+(4*550)","v":2675},640,{"$error":"#DIV/0!"},0,327.24609375,{"$error":"#DIV/0!"},0,0,0,0,0,{"$error":"#DIV/0!"},{"$error":"#DIV/0!"},null,null,null,null,null,null,null,null,0,{"$error":"#DIV/0!"},-640,{"$error":"#DIV/0!"},{"$error":"#DIV/0!"}]
[null,null,null,"DIVAR IP 7000 R2 16x8TB + 1x DIVAR IP 6000 R2 8x6TB",null,null,"RAID 5",0,{"$f":"IF(G1401=\"RAID 5\",(((15-H1401)*7448))+(1*(((7-H1401)*5586))),(((14-H1401)*7448))+(1*(((6-H1401)*5586))))","v":150822},{"$f":"(16*8)+(1*(8*6))","v":176},0,{"$f":"475+(1*550)","v":1025},256,{"$error":"#DIV/0!"},0,147.287109375,{"$error":"#DIV/0!"},0,0,0,0,0,{"$error":"#DIV/0!"},{"$error":"#DIV/0!"},null,null,null,null,null,null,null,null,0,{"$error":"#DIV/0!"},-256,{"$error":"#DIV/0!"},{"$error":"#DIV/0!"}]
[null,null,null,"DIVAR IP 7000 R2 16x8TB + 2x DIVAR IP 6000 R2 8x6TB",null,null,"RAID 5",0,{"$f":"IF(G1402=\"RAID 5\",(((15-H1402)*7448))+(2*(((7-H1402)*5586))),(((14-H1402)*7448))+(2*(((6-H1402)*5586))))","v":189924},{"$f":"(16*8)+(2*(8*6))","v":224},0,{"$f":"475+(2*550)","v":1575},384,{"$error":"#DIV/0!"},0,185.47265625,{"$error":"#DIV/0!"},0,0,0,0,0,{"$error":"#DIV/0!"},{"$error":"#DIV/0!"},null,null,null,null,null,null,null,null,0,{"$error":"#DIV/0!"},-384,{"$error":"#DIV/0!"},{"$error":"#DIV/0!"}]
[null,null,null,"DIVAR IP 7000 R2 16x8TB + 3x DIVAR IP 6000 R2 8x6TB",null,null,"RAID 5",0,{"$f":"IF(G1403=\"RAID 5\",(((15-H1403)*7448))+(3*(((7-H1403)*5586))),(((14-H1403)*7448))+(3*(((6-H1403)*5586))))","v":229026},{"$f":"(16*8)+(3*(8*6))","v":272},0,{"$f":"475+(3*550)","v":2125},512,{"$error":"#DIV/0!"},0,223.658203125,{"$error":"#DIV/0!"},0,0,0,0,0,{"$error":"#DIV/0!"},{"$error":"#DIV/0!"},null,null,null,null,null,null,null,null,0,{"$error":"#DIV/0!"},-512,{"$error":"#DIV/0!"},{"$error":"#DIV/0!"}]
[null,null,null,"DIVAR IP 7000 R2 16x8TB + 4x DIVAR IP 6000 R2 8x6TB",null,null,"RAID 5",0,{"$f":"IF(G1404=\"RAID 5\",(((15-H1404)*7448))+(4*(((7-H1404)*5586))),(((14-H1404)*7448))+(4*(((6-H1404)*5586))))","v":268128},{"$f":"(16*8)+(4*(8*6))","v":320},0,{"$f":"475+(4*550)","v":2675},640,{"$error":"#DIV/0!"},0,261.84375,{"$error":"#DIV/0!"},0,0,0,0,0,{"$error":"#DIV/0!"},{"$error":"#DIV/0!"},null,null,null,null,null,null,null,null,0,{"$error":"#DIV/0!"},-640,{"$error":"#DIV/0!"},{"$error":"#DIV/0!"}]
[null,null,null,"DIVAR IP 7000 R2 16x8TB + 1x DIVAR IP 6000 R2 3U 16x6TB",null,null,"RAID 5",0,{"$f":"IF(G1405=\"RAID 5\",(((15-H1405)*7448))+(1*(((15-H1405)*5586))),(((14-H1405)*7448))+(1*(((14-H1405)*5586))))","v":195510},{"$f":"(16*8)+(1*(16*6))","v":224},0,{"$f":"475+(1*550)","v":1025},256,{"$error":"#DIV/0!"},0,190.927734375,{"$error":"#DIV/0!"},0,0,0,0,0,{"$error":"#DIV/0!"},{"$error":"#DIV/0!"},null,null,null,null,null,null,null,null,0,{"$error":"#DIV/0!"},-256,{"$error":"#DIV/0!"},{"$error":"#DIV/0!"}]
[null,null,null,"DIVAR IP 7000 R2 16x8TB + 2x DIVAR IP 6000 R2 3U 16x6TB",null,null,"RAID 5",0,{"$f":"IF(G1406=\"RAID 5\",(((15-H1406)*7448))+(2*(((15-H1406)*5586))),(((14-H1406)*7448))+(2*(((14-H1406)*5586))))","v":279300},{"$f":"(16*8)+(2*(16*6))","v":320},0,{"$f":"475+(2*550)","v":1575},384,{"$error":"#DIV/0!"},0,272.75390625,{"$error":"#DIV/0!"},0,0,0,0,0,{"$error":"#DIV/0!"},{"$error":"#DIV/0!"},null,null,null,null,null,null,null,null,0,{"$error":"#DIV/0!"},-384,{"$error":"#DIV/0!"},{"$error":"#DIV/0!"}]
[null,null,null,"DIVAR IP 7000 R2 16x8TB + 3x DIVAR IP 6000 R2 3U 16x6TB",null,null,"RAID 5",0,{"$f":"IF(G1407=\"RAID 5\",(((15-H1407)*7448))+(3*(((15-H1407)*5586))),(((14-H1407)*7448))+(3*(((14-H1407)*5586))))","v":363090},{"$f":"(16*8)+(3*(16*6))","v":416},0,{"$f":"475+(3*550)","v":2125},512,{"$error":"#DIV/0!"},0,354.580078125,{"$error":"#DIV/0!"},0,0,0,0,0,{"$error":"#DIV/0!"},{"$error":"#DIV/0!"},null,null,null,null,null,null,null,null,0,{"$error":"#DIV/0!"},-512,{"$error":"#DIV/0!"},{"$error":"#DIV/0!"}]
[null,null,null,"DIVAR IP 7000 R2 16x8TB + 4x DIVAR IP 6000 R2 3U 16x6TB",null,null,"RAID 5",0,{"$f":"IF(G1408=\"RAID 5\",(((15-H1408)*7448))+(4*(((15-H1408)*5586))),(((14-H1408)*7448))+(4*(((14-H1408)*5586))))","v":446880},{"$f":"(16*8)+(4*(16*6))","v":512},0,{"$f":"475+(4*550)","v":2675},640,{"$error":"#DIV/0!"},0,436.40625,{"$error":"#DIV/0!"},0,0,0,0,0,{"$error":"#DIV/0!"},{"$error":"#DIV/0!"},null,null,null,null,null,null,null,null,0,{"$error":"#DIV/0!"},-640,{"$error":"#DIV/0!"},{"$error":"#DIV/0!"}]
[null,null,null,"DIVAR IP 7000 R2 16x8TB + 1x DIVAR IP 6000 R2 8x8TB",null,null,"RAID 5",0,{"$f":"IF(G1409=\"RAID 5\",(((15-H1409)*7448))+(1*(((7-H1409)*7448))),(((14-H1409)*7448))+(1*(((6-H1409)*7448))))","v":163856},{"$f":"(16*8)+(1*(8*8))","v":192},{"$f":"O1409*J1409","v":0},{"$f":"475+(1*550)","v":1025},256,{"$error":"#DIV/0!"},0,160.015625,{"$error":"#DIV/0!"},{"$f":"O1409*M1409","v":0},0,{"$f":"O1409*1*MAX($N$1528,1)","v":0},0,0,{"$error":"#DIV/0!"},{"$error":"#DIV/0!"},null,null,null,null,null,null,null,null,0,{"$error":"#DIV/0!"},{"$f":"(O1409-1)*M1409","v":-256},{"$error":"#DIV/0!"},{"$error":"#DIV/0!"}]
[null,null,null,"DIVAR IP 7000 R2 16x8TB + 2x DIVAR IP 6000 R2 8x8TB",null,null,"RAID 5",0,{"$f":"IF(G1410=\"RAID 5\",(((15-H1410)*7448))+(2*(((7-H1410)*7448))),(((14-H1410)*7448))+(2*(((6-H1410)*7448))))","v":215992},{"$f":"(16*8)+(2*(8*8))","v":256},0,{"$f":"475+(2*550)","v":1575},384,{"$error":"#DIV/0!"},0,210.9296875,{"$error":"#DIV/0!"},0,0,0,0,0,{"$error":"#DIV/0!"},{"$error":"#DIV/0!"},null,null,null,null,null,null,null,null,0,{"$error":"#DIV/0!"},-384,{"$error":"#DIV/0!"},{"$error":"#DIV/0!"}]
[null,null,null,"DIVAR IP 7000 R2 16x8TB + 3x DIVAR IP 6000 R2 8x8TB",null,null,"RAID 5",0,{"$f":"IF(G1411=\"RAID 5\",(((15-H1411)*7448))+(3*(((7-H1411)*7448))),(((14-H1411)*7448))+(3*(((6-H1411)*7448))))","v":268128},{"$f":"(16*8)+(3*(8*8))","v":320},0,{"$f":"475+(3*550)","v":2125},512,{"$error":"#DIV/0!"},0,261.84375,{"$error":"#DIV/0!"},0,0,0,0,0,{"$error":"#DIV/0!"},{"$error":"#DIV/0!"},null,null,null,null,null,null,null,null,0,{"$error":"#DIV/0!"},-512,{"$error":"#DIV/0!"},{"$error":"#DIV/0!"}]
[null,null,null,"DIVAR IP 7000 R2 16x8TB + 4x DIVAR IP 6000 R2 8x8TB",null,null,"RAID 5",0,{"$f":"IF(G1412=\"RAID 5\",(((15-H1412)*7448))+(4*(((7-H1412)*7448))),(((14-H1412)*7448))+(4*(((6-H1412)*7448))))","v":320264},{"$f":"(16*8)+(4*(8*8))","v":384},0,{"$f":"475+(4*550)","v":2675},640,{"$error":"#DIV/0!"},0,312.7578125,{"$error":"#DIV/0!"},0,0,0,0,0,{"$error":"#DIV/0!"},{"$error":"#DIV/0!"},null,null,null,null,null,null,null,null,0,{"$error":"#DIV/0!"},-640,{"$error":"#DIV/0!"},{"$error":"#DIV/0!"}]
[null,null,null,"DIVAR IP 7000 R2 16x8TB + 1x DIVAR IP 6000 R2 3U 16x8TB",null,null,"RAID 5",0,{"$f":"IF(G1413=\"RAID 5\",(((15-H1413)*7448))+(1*(((15-H1413)*7448))),(((14-H1413)*7448))+(1*(((14-H1413)*7448))))","v":223440},{"$f":"(16*8)+(1*(16*8))","v":256},0,{"$f":"475+(1*550)","v":1025},{"$f":"128+(1*128)","v":256},{"$error":"#DIV/0!"},0,218.203125,{"$error":"#DIV/0!"},0,0,0,0,0,{"$error":"#DIV/0!"},{"$error":"#DIV/0!"},null,null,null,null,null,null,null,null,0,{"$error":"#DIV/0!"},-256,{"$error":"#DIV/0!"},{"$error":"#DIV/0!"}]
[null,null,null,"DIVAR IP 7000 R2 16x8TB + 2x DIVAR IP 6000 R2 3U 16x8TB",null,null,"RAID 5",0,{"$f":"IF(G1414=\"RAID 5\",(((15-H1414)*7448))+(2*(((15-H1414)*7448))),(((14-H1414)*7448))+(2*(((14-H1414)*7448))))","v":335160},{"$f":"(16*8)+(2*(16*8))","v":384},0,{"$f":"475+(2*550)","v":1575},{"$f":"128+(2*128)","v":384},{"$error":"#DIV/0!"},0,327.3046875,{"$error":"#DIV/0!"},0,0,0,0,0,{"$error":"#DIV/0!"},{"$error":"#DIV/0!"},null,null,null,null,null,null,null,null,0,{"$error":"#DIV/0!"},-384,{"$error":"#DIV/0!"},{"$error":"#DIV/0!"}]
[null,null,null,"DIVAR IP 7000 R2 16x8TB + 3x DIVAR IP 6000 R2 3U 16x8TB",null,null,"RAID 5",0,{"$f":"IF(G1415=\"RAID 5\",(((15-H1415)*7448))+(3*(((15-H1415)*7448))),(((14-H1415)*7448))+(3*(((14-H1415)*7448))))","v":446880},{"$f":"(16*8)+(3*(16*8))","v":512},0,{"$f":"475+(3*550)","v":2125},{"$f":"128+(3*128)","v":512},{"$error":"#DIV/0!"},0,436.40625,{"$error":"#DIV/0!"},0,0,0,0,0,{"$error":"#DIV/0!"},{"$f":"IF(AND(IF($N1415<=$L1415,TRUE,FALSE),IF($V1415<=$R1415,TRUE,FALSE),OR(W1415=\"True\",$W$1216=\"No\"),IF($A$1223=\"False\",IF(O1415=1,TRUE,FALSE),TRUE)),\"<-- fits project\",\"\")","v":{"$error":"#DIV/0!"}},null,null,null,null,null,null,null,null,0,{"$error":"#DIV/0!"},-512,{"$error":"#DIV/0!"},{"$error":"#DIV/0!"}]
[null,null,null,"DIVAR IP 7000 R2 16x8TB + 4x DIVAR IP 6000 R2 3U 16x8TB",null,null,"RAID 5",0,{"$f":"IF(G1416=\"RAID 5\",(((15-H1416)*7448))+(4*(((15-H1416)*7448))),(((14-H1416)*7448))+(4*(((14-H1416)*7448))))","v":558600},{"$f":"(16*8)+(4*(16*8))","v":640},0,{"$f":"475+(4*550)","v":2675},{"$f":"128+(4*128)","v":640},{"$error":"#DIV/0!"},0,545.5078125,{"$error":"#DIV/0!"},0,0,0,0,0,{"$error":"#DIV/0!"},{"$error":"#DIV/0!"},null,null,null,null,null,null,null,null,0,{"$error":"#DIV/0!"},-640,{"$error":"#DIV/0!"},{"$error":"#DIV/0!"}]
[null,"Target Only mode","3TB","DIVAR IP 6000 R2 4x3TB",null,"DIP-6183-4HD","RAID 5",0,8375,12,0,550,256,{"$f":"I1211/O1417","v":{"$error":"#DIV/0!"}},{"$f":"ROUNDUP(G1211/I1417,0)","v":0},{"$f":"(1-((G1211/$I1417)-INT(G1211/$I1417)))*I1417/1024","v":8.1787109375},{"$error":"#DIV/0!"},0,0,0,0,{"$f":"SUM(S1417,T1417,U1417)","v":0},{"$error":"#DIV/0!"},{"$f":"IF(AND(IF($N1417<=$L1417,TRUE,FALSE),IF($V1417<=$R1417,TRUE,FALSE),OR(W1417=\"True\",W1216=\"No\")),\"<-- fits project\",\"\")","v":{"$error":"#DIV/0!"}},null,null,null,null,null,null,null,2.5696156064817242,{"$f":"AF1417*O1417","v":0},{"$f":"AG1417/AG1517","v":{"$error":"#DIV/0!"}},-256,{"$f":"IF(O1417>1,I1211/(O1417-1),I1211/O1417)","v":{"$error":"#DIV/0!"}},{"$error":"#DIV/0!"}]
[null,null,null,"DIVAR IP 6000 R2 8X3TB",null,"DIP-6183-8HD","RAID 5",0,{"$f":"IF(G1418=\"RAID 5\",(7-H1418)*2793,(6-H1418)*2793)","v":19551},24,0,{"$f":"IF(G1418=\"RAID 5\",550,475)","v":550},256,{"$f":"I1211/O1418","v":{"$error":"#DIV/0!"}},{"$f":"ROUNDUP(G1211/I1418,0)","v":0},{"$f":"(1-((G1211/$I1418)-INT(G1211/$I1418)))*I1418/1024","v":19.0927734375},{"$error":"#DIV/0!"},0,0,0,0,0,{"$error":"#DIV/0!"},{"$f":"IF(AND(IF($N1418<=$L1418,TRUE,FALSE),IF($V1418<=$R1418,TRUE,FALSE),OR(W1418=\"True\",W1216=\"No\")),\"<-- fits project\",\"\")","v":{"$error":"#DIV/0!"}},null,null,null,null,null,null,null,3.4417772300592584,0,{"$f":"AG1418/AG1517","v":{"$error":"#DIV/0!"}},-256,{"$f":"IF(O1418>1,I1211/(O1418-1),I1211/O1418)","v":{"$error":"#DIV/0!"}},{"$error":"#DIV/0!"},null,null,null,null,null,null,{"$f":"IF(G1418=\"RAID 6\",0,0)","v":0},{"$f":"IF(G1418=\"RAID 6\",0,1)","v":1}]
[null,null,null,"DIVAR IP 6000 R2 3U 16x3TB",null,"DIP-61F3-16HD","RAID 5",0,{"$f":"IF(G1419=\"RAID 5\",(15-H1419)*2792,(14-H1419)*2792)","v":41880},48,0,{"$f":"IF(G1419=\"RAID 5\",550,475)","v":550},256,{"$f":"I1211/O1419","v":{"$error":"#DIV/0!"}},{"$f":"ROUNDUP(G1211/I1419,0)","v":0},{"$f":"(1-((G1211/$I1419)-INT(G1211/$I1419)))*I1419/1024","v":40.8984375},{"$error":"#DIV/0!"},0,0,0,0,0,{"$error":"#DIV/0!"},{"$f":"IF(AND(IF($N1419<=$L1419,TRUE,FALSE),IF($V1419<=$R1419,TRUE,FALSE),OR(W1419=\"True\",W1216=\"No\")),\"<-- fits project\",\"\")","v":{"$error":"#DIV/0!"}},null,null,null,null,null,null,null,5.213304315905396,0,{"$f":"AG1419/AG1517","v":{"$error":"#DIV/0!"}},-256,{"$f":"IF(O1419>1,I1211/(O1419-1),I1211/O1419)","v":{"$error":"#DIV/0!"}},{"$error":"#DIV/0!"},null,null,null,null,null,null,{"$f":"IF(G1419=\"RAID 6\",0,0)","v":0},{"$f":"IF(G1419=\"RAID 6\",0,1)","v":1}]
[null,null,"4TB","DIVAR IP 6000 R2 4x4TB",null,"DIP-6184-4HD","RAID 5",0,11170,16,0,550,256,{"$f":"I1211/O1420","v":{"$error":"#DIV/0!"}},{"$f":"ROUNDUP(G1211/I1420,0)","v":0},{"$f":"(1-((G1211/$I1420)-INT(G1211/$I1420)))*I1420/1024","v":10.908203125},{"$error":"#DIV/0!"},0,0,0,0,0,{"$error":"#DIV/0!"},{"$f":"IF(AND(IF($N1420<=$L1420,TRUE,FALSE),IF($V1420<=$R1420,TRUE,FALSE),OR(W1420=\"True\",W1216=\"No\")),\"<-- fits project\",\"\")","v":{"$error":"#DIV/0!"}},null,null,null,null,null,null,null,2.6866248885625885,0,{"$f":"AG1420/AG1517","v":{"$error":"#DIV/0!"}},-256,{"$f":"IF(O1420>1,I1211/(O1420-1),I1211/O1420)","v":{"$error":"#DIV/0!"}},{"$error":"#DIV/0!"}]
[null,null,null,"DIVAR IP 6000 R2 8x4TB",null,"DIP-6184-8HD","RAID 5",0,{"$f":"IF(G1421=\"RAID 5\",(7-H1421)*3723,(6-H1421)*3723)","v":26061},32,0,{"$f":"IF(G1421=\"RAID 5\",550,475)","v":550},256,{"$f":"I1211/O1421","v":{"$error":"#DIV/0!"}},{"$f":"ROUNDUP(G1211/I1421,0)","v":0},{"$f":"(1-((G1211/$I1421)-INT(G1211/$I1421)))*I1421/1024","v":25.4501953125},{"$error":"#DIV/0!"},0,0,0,0,0,{"$error":"#DIV/0!"},{"$f":"IF(AND(IF($N1421<=$L1421,TRUE,FALSE),IF($V1421<=$R1421,TRUE,FALSE),OR(W1421=\"True\",W1216=\"No\")),\"<-- fits project\",\"\")","v":{"$error":"#DIV/0!"}},null,null,null,null,null,null,null,3.6403980282133306,0,{"$f":"AG1421/AG1517","v":{"$error":"#DIV/0!"}},-256,{"$f":"IF(O1421>1,I1211/(O1421-1),I1211/O1421)","v":{"$error":"#DIV/0!"}},{"$error":"#DIV/0!"},null,null,null,null,null,null,{"$f":"IF(G1421=\"RAID 6\",0,0)","v":0},{"$f":"IF(G1421=\"RAID 6\",0,1)","v":1}]
[null,null,null,"DIVAR IP 6000 R2 3U 16x4TB",null,"DIP-61F4-16HD","RAID 5",0,{"$f":"IF(G1422=\"RAID 5\",(15-H1422)*3723,(14-H1422)*3723)","v":55845},64,0,{"$f":"IF(G1422=\"RAID 5\",550,475)","v":550},256,{"$f":"$I$1211/O1422","v":{"$error":"#DIV/0!"}},{"$f":"ROUNDUP($G$1211/I1422,0)","v":0},{"$f":"(1-(($G$1211/$I1422)-INT($G$1211/$I1422)))*I1422/1024","v":54.5361328125},{"$error":"#DIV/0!"},0,0,0,0,0,{"$error":"#DIV/0!"},{"$f":"IF(AND(IF($N1422<=$L1422,TRUE,FALSE),IF($V1422<=$R1422,TRUE,FALSE),OR(W1422=\"True\",$W$1216=\"No\")),\"<-- fits project\",\"\")","v":{"$error":"#DIV/0!"}},null,null,null,null,null,null,null,5.5250013110283707,0,{"$f":"AG1422/$AG$1517","v":{"$error":"#DIV/0!"}},-256,{"$f":"IF(O1422>1,$I$1211/(O1422-1),$I$1211/O1422)","v":{"$error":"#DIV/0!"}},{"$error":"#DIV/0!"},null,null,null,null,null,null,{"$f":"IF(G1422=\"RAID 6\",0,0)","v":0},{"$f":"IF(G1422=\"RAID 6\",0,1)","v":1}]
[null,null,"6TB","DIVAR IP 6000 R2 8X6TB",null,"DIP-6186-8HD","RAID 5",0,{"$f":"IF(G1423=\"RAID 5\",(7-H1423)*5586,(6-H1423)*5586)","v":39102},{"$f":"8*6","v":48},0,550,256,{"$f":"$I$1211/O1423","v":{"$error":"#DIV/0!"}},{"$f":"ROUNDUP($G$1211/I1423,0)","v":0},{"$f":"(1-(($G$1211/$I1423)-INT($G$1211/$I1423)))*I1423/1024","v":38.185546875},{"$error":"#DIV/0!"},0,0,0,0,0,{"$error":"#DIV/0!"},{"$f":"IF(AND(IF($N1423<=$L1423,TRUE,FALSE),IF($V1423<=$R1423,TRUE,FALSE),OR(W1423=\"True\",$W$1216=\"No\")),\"<-- fits project\",\"\")","v":{"$error":"#DIV/0!"}},null,null,null,null,null,null,null,null,0,{"$f":"AG1423/$AG$1517","v":{"$error":"#DIV/0!"}},-256,{"$f":"IF(O1423>1,$I$1211/(O1423-1),$I$1211/O1423)","v":{"$error":"#DIV/0!"}},{"$error":"#DIV/0!"}]
[null,null,null,"DIVAR IP 6000 R2 3U 16x6TB",null,"DIP-61F6-16HD","RAID 5",0,{"$f":"IF(G1424=\"RAID 5\",(15-H1424)*5586,(14-H1424)*5586)","v":83790},{"$f":"16*6","v":96},0,550,256,{"$f":"$I$1211/O1424","v":{"$error":"#DIV/0!"}},{"$f":"ROUNDUP($G$1211/I1424,0)","v":0},{"$f":"(1-(($G$1211/$I1424)-INT($G$1211/$I1424)))*I1424/1024","v":81.826171875},{"$error":"#DIV/0!"},0,0,0,{"$f":"$S$259*MIN(O1424,$S$260)","v":0},0,{"$error":"#DIV/0!"},{"$f":"IF(AND(IF($N1424<=$L1424,TRUE,FALSE),IF($V1424<=$R1424,TRUE,FALSE),OR(W1424=\"True\",$W$1216=\"No\")),\"<-- fits project\",\"\")","v":{"$error":"#DIV/0!"}},null,null,null,null,null,null,null,null,0,{"$f":"AG1424/$AG$1517","v":{"$error":"#DIV/0!"}},-256,{"$f":"IF(O1424>1,$I$1211/(O1424-1),$I$1211/O1424)","v":{"$error":"#DIV/0!"}},{"$f":"IF(X1424=\"<-- fits project\",D1424,\"\")","v":{"$error":"#DIV/0!"}}]
[null,null,"8TB","DIVAR IP 6000 R2 8X8TB",null,"DIP-6188-8HD","RAID 5",0,{"$f":"IF(G1425=\"RAID 5\",(7-H1425)*7448,(6-H1425)*7448)","v":52136},{"$f":"8*8","v":64},0,550,256,{"$f":"$I$1211/O1425","v":{"$error":"#DIV/0!"}},{"$f":"ROUNDUP($G$1211/I1425,0)","v":0},{"$f":"(1-(($G$1211/$I1425)-INT($G$1211/$I1425)))*I1425/1024","v":50.9140625},{"$error":"#DIV/0!"},0,0,0,0,0,{"$error":"#DIV/0!"},{"$f":"IF(AND(IF($N1425<=$L1425,TRUE,FALSE),IF($V1425<=$R1425,TRUE,FALSE),OR(W1425=\"True\",$W$1216=\"No\")),\"<-- fits project\",\"\")","v":{"$error":"#DIV/0!"}},null,null,null,null,null,null,null,null,0,{"$f":"AG1425/$AG$1517","v":{"$error":"#DIV/0!"}},-256,{"$f":"IF(O1425>1,$I$1211/(O1425-1),$I$1211/O1425)","v":{"$error":"#DIV/0!"}},{"$error":"#DIV/0!"}]
[null,null,null,"DIVAR IP 6000 R2 3U 16x8TB",null,"DIP-61F8-16HD","RAID 5",0,{"$f":"IF(G1426=\"RAID 5\",(15-H1426)*7448,(14-H1426)*7448)","v":111720},{"$f":"16*8","v":128},0,550,256,{"$f":"$I$1211/O1426","v":{"$error":"#DIV/0!"}},{"$f":"ROUNDUP($G$1211/I1426,0)","v":0},{"$f":"(1-(($G$1211/$I1426)-INT($G$1211/$I1426)))*I1426/1024","v":109.1015625},{"$error":"#DIV/0!"},0,0,0,0,0,{"$error":"#DIV/0!"},{"$f":"IF(AND(IF($N1426<=$L1426,TRUE,FALSE),IF($V1426<=$R1426,TRUE,FALSE),OR(W1426=\"True\",$W$1216=\"No\")),\"<-- fits project\",\"\")","v":{"$error":"#DIV/0!"}},null,null,null,null,null,null,null,null,0,{"$f":"AG1426/$AG$1517","v":{"$error":"#DIV/0!"}},-256,{"$f":"IF(O1426>1,$I$1211/(O1426-1),$I$1211/O1426)","v":{"$error":"#DIV/0!"}},{"$error":"#DIV/0!"}]
[0,null,null,"EOL E-Series Base Unit, 12 x 2 TB",null,"DSA-N2E7X2-12AT","RAID 5",0,{"$f":"IF(G1427=\"RAID 5\",(11-H1427)*1862,(10-H1427)*1862)","v":20482},24,0,1050,800,{"$f":"I1211/O1427","v":{"$error":"#DIV/0!"}},{"$f":"ROUNDUP(G1211/I1427,0)","v":0},{"$f":"(1-((G1211/$I1427)-INT(G1211/$I1427)))*I1427/1024","v":20.001953125},{"$error":"#DIV/0!"},0,0,0,{"$f":"$S$259*MIN(O1427,S1214)","v":0},0,{"$error":"#DIV/0!"},{"$f":"IF(AND(IF($N1427<=$L1427,TRUE,FALSE),IF($V1427<=$R1427,TRUE,FALSE),OR(W1427=\"True\",W1216=\"No\")),\"<-- fits project\",\"\")","v":{"$error":"#DIV/0!"}},null,null,null,null,null,null,null,5.1923278619749329,0,{"$f":"AG1427/AG1517","v":{"$error":"#DIV/0!"}},-800,{"$f":"IF(O1427>1,I1211/(O1427-1),I1211/O1427)","v":{"$error":"#DIV/0!"}},{"$f":"IF(X1427=\"<-- fits project\",D1427,\"\")","v":{"$error":"#DIV/0!"}}]
[1,null,null,"EOL E-Series Base + 1x Expansion Unit, 24x2TB",null,"DSA‑N2E7X2‑12AT + 1x DSX‑N1D6X2‑12AT","RAID 5",0,{"$f":"IF(G1428=\"RAID 5\",(11-H1428)*1862,(10-H1428)*1862)+IF(G1428=\"RAID 5\",(11-H1428)*1862,(10-H1428)*1862)*A1428","v":40964},48,0,1050,800,{"$f":"I1211/O1428","v":{"$error":"#DIV/0!"}},{"$f":"ROUNDUP(G1211/I1428,0)","v":0},{"$f":"(1-((G1211/$I1428)-INT(G1211/$I1428)))*I1428/1024","v":40.00390625},{"$error":"#DIV/0!"},0,0,0,{"$f":"$S$259*MIN(O1428,S1214)","v":0},0,{"$error":"#DIV/0!"},{"$f":"IF(AND(IF($N1428<=$L1428,TRUE,FALSE),IF($V1428<=$R1428,TRUE,FALSE),OR(W1428=\"True\",W1216=\"No\")),\"<-- fits project\",\"\")","v":{"$error":"#DIV/0!"}},null,null,null,null,null,null,null,10.031005820965966,0,{"$f":"AG1428/AG1517","v":{"$error":"#DIV/0!"}},-800,{"$f":"IF(O1428>1,I1211/(O1428-1),I1211/O1428)","v":{"$error":"#DIV/0!"}},{"$error":"#DIV/0!"}]
[2,null,null,"EOL E-Series Base + 2x Expansion Unit, 36x2TB",null,"DSA‑N2E7X2‑12AT + 2x DSX‑N1D6X2‑12AT","RAID 5",0,61446,72,0,1050,800,{"$f":"I1211/O1429","v":{"$error":"#DIV/0!"}},{"$f":"ROUNDUP(G1211/I1429,0)","v":0},{"$f":"(1-((G1211/$I1429)-INT(G1211/$I1429)))*I1429/1024","v":60.005859375},{"$error":"#DIV/0!"},0,0,0,{"$f":"$S$259*MIN(O1429,S1214)","v":0},0,{"$error":"#DIV/0!"},{"$f":"IF(AND(IF($N1429<=$L1429,TRUE,FALSE),IF($V1429<=$R1429,TRUE,FALSE),OR(W1429=\"True\",W1216=\"No\")),\"<-- fits project\",\"\")","v":{"$error":"#DIV/0!"}},null,null,null,null,null,null,null,15.223333682940899,0,{"$f":"AG1429/AG1517","v":{"$error":"#DIV/0!"}},-800,{"$f":"IF(O1429>1,I1211/(O1429-1),I1211/O1429)","v":{"$error":"#DIV/0!"}},{"$error":"#DIV/0!"}]
[3,null,null,"EOL E-Series Base + 3x Expansion Unit, 48x2TB",null,"DSA‑N2E7X2‑12AT + 3x DSX‑N1D6X2‑12AT","RAID 5",0,81928,92,0,1050,800,{"$f":"I1211/O1430","v":{"$error":"#DIV/0!"}},{"$f":"ROUNDUP(G1211/I1430,0)","v":0},{"$f":"(1-((G1211/$I1430)-INT(G1211/$I1430)))*I1430/1024","v":80.0078125},{"$error":"#DIV/0!"},0,0,0,{"$f":"$S$259*MIN(O1430,S1214)","v":0},0,{"$error":"#DIV/0!"},{"$f":"IF(AND(IF($N1430<=$L1430,TRUE,FALSE),IF($V1430<=$R1430,TRUE,FALSE),OR(W1430=\"True\",W1216=\"No\")),\"<-- fits project\",\"\")","v":{"$error":"#DIV/0!"}},null,null,null,null,null,null,null,20.415661544915832,0,{"$f":"AG1430/AG1517","v":{"$error":"#DIV/0!"}},-800,{"$f":"IF(O1430>1,I1211/(O1430-1),I1211/O1430)","v":{"$error":"#DIV/0!"}},{"$error":"#DIV/0!"}]
[4,null,null,"EOL E-Series Base + 4x Expansion Unit, 60x2TB",null,"DSA‑N2E7X2‑12AT + 4x DSX‑N1D6X2‑12AT","RAID 5",0,102410,120,0,1050,800,{"$f":"I1211/O1431","v":{"$error":"#DIV/0!"}},{"$f":"ROUNDUP(G1211/I1431,0)","v":0},{"$f":"(1-((G1211/$I1431)-INT(G1211/$I1431)))*I1431/1024","v":100.009765625},{"$error":"#DIV/0!"},0,0,0,{"$f":"$S$259*MIN(O1431,S1214)","v":0},0,{"$error":"#DIV/0!"},{"$f":"IF(AND(IF($N1431<=$L1431,TRUE,FALSE),IF($V1431<=$R1431,TRUE,FALSE),OR(W1431=\"True\",W1216=\"No\")),\"<-- fits project\",\"\")","v":{"$error":"#DIV/0!"}},null,null,null,null,null,null,null,25.607989406890766,0,{"$f":"AG1431/AG1517","v":{"$error":"#DIV/0!"}},-800,{"$f":"IF(O1431>1,I1211/(O1431-1),I1211/O1431)","v":{"$error":"#DIV/0!"}},{"$error":"#DIV/0!"}]
[5,null,null,"EOL E-Series Base + 5x Expansion Unit, 72x2TB",null,"DSA‑N2E7X2‑12AT + 5x DSX‑N1D6X2‑12AT","RAID 5",0,122892,144,0,1050,800,{"$f":"I1211/O1432","v":{"$error":"#DIV/0!"}},{"$f":"ROUNDUP(G1211/I1432,0)","v":0},{"$f":"(1-((G1211/$I1432)-INT(G1211/$I1432)))*I1432/1024","v":120.01171875},{"$error":"#DIV/0!"},0,0,0,{"$f":"$S$259*MIN(O1432,S1214)","v":0},0,{"$error":"#DIV/0!"},{"$f":"IF(AND(IF($N1432<=$L1432,TRUE,FALSE),IF($V1432<=$R1432,TRUE,FALSE),OR(W1432=\"True\",W1216=\"No\")),\"<-- fits project\",\"\")","v":{"$error":"#DIV/0!"}},null,null,null,null,null,null,null,30.800317268865697,0,{"$f":"AG1432/AG1517","v":{"$error":"#DIV/0!"}},-800,{"$f":"IF(O1432>1,I1211/(O1432-1),I1211/O1432)","v":{"$error":"#DIV/0!"}},{"$error":"#DIV/0!"}]
[6,null,null,"EOL E-Series Base + 6x Expansion Unit, 84x2TB",null,"DSA‑N2E7X2‑12AT + 6x DSX‑N1D6X2‑12AT","RAID 5",0,143374,168,0,1050,800,{"$f":"I1211/O1433","v":{"$error":"#DIV/0!"}},{"$f":"ROUNDUP(G1211/I1433,0)","v":0},{"$f":"(1-((G1211/$I1433)-INT(G1211/$I1433)))*I1433/1024","v":140.013671875},{"$error":"#DIV/0!"},0,0,0,{"$f":"$S$259*MIN(O1433,S1214)","v":0},0,{"$error":"#DIV/0!"},{"$f":"IF(AND(IF($N1433<=$L1433,TRUE,FALSE),IF($V1433<=$R1433,TRUE,FALSE),OR(W1433=\"True\",W1216=\"No\")),\"<-- fits project\",\"\")","v":{"$error":"#DIV/0!"}},null,null,null,null,null,null,null,35.992645130840629,0,{"$f":"AG1433/AG1517","v":{"$error":"#DIV/0!"}},-800,{"$f":"IF(O1433>1,I1211/(O1433-1),I1211/O1433)","v":{"$error":"#DIV/0!"}},{"$error":"#DIV/0!"}]
[7,null,null,"EOL E-Series Base + 7x Expansion Unit, 96x2TB",null,"DSA‑N2E7X2‑12AT + 7x DSX‑N1D6X2‑12AT","RAID 5",0,163856,192,0,1050,800,{"$f":"I1211/O1434","v":{"$error":"#DIV/0!"}},{"$f":"ROUNDUP(G1211/I1434,0)","v":0},{"$f":"(1-((G1211/$I1434)-INT(G1211/$I1434)))*I1434/1024","v":160.015625},{"$f":"AH1434","v":{"$error":"#DIV/0!"}},0,0,0,{"$f":"$S$259*MIN(O1434,S1214)","v":0},{"$f":"SUM(S1434,T1434,U1434)","v":0},{"$error":"#DIV/0!"},{"$f":"IF(AND(IF($N1434<=$L1434,TRUE,FALSE),IF($V1434<=$R1434,TRUE,FALSE),OR(W1434=\"True\",W1216=\"No\")),\"<-- fits project\",\"\")","v":{"$error":"#DIV/0!"}},null,null,null,null,null,null,null,41.184972992815567,0,{"$f":"AG1434/AG1517","v":{"$error":"#DIV/0!"}},-800,{"$f":"IF(O1434>1,I1211/(O1434-1),I1211/O1434)","v":{"$error":"#DIV/0!"}},{"$error":"#DIV/0!"}]
[0,null,"3TB","EOL E-Series Base Unit, 12 x 3 TB",null,"DSA‑N2E7X3‑12AT","RAID 5",0,{"$f":"IF(G1435=\"RAID 5\",(11-H1435)*2794,(10-H1435)*2794)","v":30734},36,0,650,800,{"$f":"I1211/O1435","v":{"$error":"#DIV/0!"}},{"$f":"ROUNDUP(G1211/I1435,0)","v":0},{"$f":"(1-((G1211/$I1435)-INT(G1211/$I1435)))*I1435/1024","v":30.013671875},{"$f":"AH1435","v":{"$error":"#DIV/0!"}},0,0,0,{"$f":"$S$259*MIN(O1435,S1214)","v":0},{"$f":"SUM(S1435,T1435,U1435)","v":0},{"$error":"#DIV/0!"},{"$f":"IF(AND(IF($N1435<=$L1435,TRUE,FALSE),IF($V1435<=$R1435,TRUE,FALSE),OR(W1435=\"True\",W1216=\"No\")),\"<-- fits project\",\"\")","v":{"$error":"#DIV/0!"}},null,null,null,null,null,null,null,6.2624547695212129,0,{"$f":"AG1435/AG1517","v":{"$error":"#DIV/0!"}},-800,{"$f":"IF(O1435>1,I1211/(O1435-1),I1211/O1435)","v":{"$error":"#DIV/0!"}},{"$error":"#DIV/0!"}]
[1,null,null,"EOL E-Series Base + 1x Expansion Unit, 24x3TB",null,"DSA‑N2E7X3‑12AT + 1x DSX‑N1D6X3‑12AT","RAID 5",0,{"$f":"IF(G1436=\"RAID 5\",(11-H1436)*2794,(10-H1436)*2794)+IF(G1436=\"RAID 5\",(11-H1436)*2794,(10-H1436)*2794)*A1436","v":61468},{"$f":"36+A1436*36","v":72},0,1050,800,{"$f":"I1211/O1436","v":{"$error":"#DIV/0!"}},{"$f":"ROUNDUP(G1211/I1436,0)","v":0},{"$f":"(1-((G1211/$I1436)-INT(G1211/$I1436)))*I1436/1024","v":60.02734375},{"$error":"#DIV/0!"},0,0,0,{"$f":"$S$259*MIN(O1436,S1214)","v":0},0,{"$error":"#DIV/0!"},{"$f":"IF(AND(IF($N1436<=$L1436,TRUE,FALSE),IF($V1436<=$R1436,TRUE,FALSE),OR(W1436=\"True\",W1216=\"No\")),\"<-- fits project\",\"\")","v":{"$error":"#DIV/0!"}},null,null,null,null,null,null,null,11.704533536105721,0,{"$f":"AG1436/AG1517","v":{"$error":"#DIV/0!"}},-800,{"$f":"IF(O1436>1,I1211/(O1436-1),I1211/O1436)","v":{"$error":"#DIV/0!"}},{"$error":"#DIV/0!"}]
[2,null,null,"EOL E-Series Base + 2x Expansion Unit, 36x3TB",null,"DSA‑N2E7X3‑12AT + 2x DSX‑N1D6X3‑12AT","RAID 5",0,92202,108,0,1050,800,{"$f":"I1211/O1437","v":{"$error":"#DIV/0!"}},{"$f":"ROUNDUP(G1211/I1437,0)","v":0},{"$f":"(1-((G1211/$I1437)-INT(G1211/$I1437)))*I1437/1024","v":90.041015625},{"$error":"#DIV/0!"},0,0,0,{"$f":"$S$259*MIN(O1437,S1214)","v":0},0,{"$error":"#DIV/0!"},{"$f":"IF(AND(IF($N1437<=$L1437,TRUE,FALSE),IF($V1437<=$R1437,TRUE,FALSE),OR(W1437=\"True\",W1216=\"No\")),\"<-- fits project\",\"\")","v":{"$error":"#DIV/0!"}},null,null,null,null,null,null,null,17.966988305626934,0,{"$f":"AG1437/AG1517","v":{"$error":"#DIV/0!"}},-800,{"$f":"IF(O1437>1,I1211/(O1437-1),I1211/O1437)","v":{"$error":"#DIV/0!"}},{"$error":"#DIV/0!"}]
[3,null,null,"EOL E-Series Base + 3x Expansion Unit, 48X3TB",null,"DSA‑N2E7X3‑12AT + 3x DSX‑N1D6X3‑12AT","RAID 5",0,122936,144,0,1050,800,{"$f":"I1211/O1438","v":{"$error":"#DIV/0!"}},{"$f":"ROUNDUP(G1211/I1438,0)","v":0},{"$f":"(1-((G1211/$I1438)-INT(G1211/$I1438)))*I1438/1024","v":120.0546875},{"$error":"#DIV/0!"},0,0,0,{"$f":"$S$259*MIN(O1438,S1214)","v":0},0,{"$error":"#DIV/0!"},{"$f":"IF(AND(IF($N1438<=$L1438,TRUE,FALSE),IF($V1438<=$R1438,TRUE,FALSE),OR(W1438=\"True\",W1216=\"No\")),\"<-- fits project\",\"\")","v":{"$error":"#DIV/0!"}},null,null,null,null,null,null,null,24.229443075148147,0,{"$f":"AG1438/AG1517","v":{"$error":"#DIV/0!"}},-800,{"$f":"IF(O1438>1,I1211/(O1438-1),I1211/O1438)","v":{"$error":"#DIV/0!"}},{"$error":"#DIV/0!"}]
[4,null,null,"EOL E-Series Base + 4x Expansion Unit, 60x3TB",null,"DSA‑N2E7X3‑12AT + 4x DSX‑N1D6X3‑12AT","RAID 5",0,153670,180,0,1050,800,{"$f":"I1211/O1439","v":{"$error":"#DIV/0!"}},{"$f":"ROUNDUP(G1211/I1439,0)","v":0},{"$f":"(1-((G1211/$I1439)-INT(G1211/$I1439)))*I1439/1024","v":150.068359375},{"$error":"#DIV/0!"},0,0,0,{"$f":"$S$259*MIN(O1439,S1214)","v":0},0,{"$error":"#DIV/0!"},{"$f":"IF(AND(IF($N1439<=$L1439,TRUE,FALSE),IF($V1439<=$R1439,TRUE,FALSE),OR(W1439=\"True\",W1216=\"No\")),\"<-- fits project\",\"\")","v":{"$error":"#DIV/0!"}},null,null,null,null,null,null,null,30.49189784466936,0,{"$f":"AG1439/AG1517","v":{"$error":"#DIV/0!"}},-800,{"$f":"IF(O1439>1,I1211/(O1439-1),I1211/O1439)","v":{"$error":"#DIV/0!"}},{"$error":"#DIV/0!"}]
[5,null,null,"EOL E-Series Base + 5x Expansion Unit, 72x3TB",null,"DSA‑N2E7X3‑12AT + 5x DSX‑N1D6X3‑12AT","RAID 5",0,184404,216,0,1050,800,{"$f":"I1211/O1440","v":{"$error":"#DIV/0!"}},{"$f":"ROUNDUP(G1211/I1440,0)","v":0},{"$f":"(1-((G1211/$I1440)-INT(G1211/$I1440)))*I1440/1024","v":180.08203125},{"$error":"#DIV/0!"},0,0,0,{"$f":"$S$259*MIN(O1440,S1214)","v":0},0,{"$f":"IF(AND(IF($AJ1440<=$L1440,TRUE,FALSE),IF($V1440<=$AI1440,TRUE,FALSE)),\"True\",\"\")","v":{"$error":"#DIV/0!"}},{"$f":"IF(AND(IF($N1440<=$L1440,TRUE,FALSE),IF($V1440<=$R1440,TRUE,FALSE),OR(W1440=\"True\",W1216=\"No\")),\"<-- fits project\",\"\")","v":{"$error":"#DIV/0!"}},null,null,null,null,null,null,null,36.754352614190573,0,{"$f":"AG1440/AG1517","v":{"$error":"#DIV/0!"}},-800,{"$f":"IF(O1440>1,I1211/(O1440-1),I1211/O1440)","v":{"$error":"#DIV/0!"}},{"$error":"#DIV/0!"}]
[6,null,null,"EOL E-Series Base + 6x Expansion Unit, 84x3TB",null,"DSA‑N2E7X3‑12AT + 6x DSX‑N1D6X3‑12AT","RAID 5",0,215138,252,0,1050,800,{"$f":"I1211/O1441","v":{"$error":"#DIV/0!"}},{"$f":"ROUNDUP(G1211/I1441,0)","v":0},{"$f":"(1-((G1211/$I1441)-INT(G1211/$I1441)))*I1441/1024","v":210.095703125},{"$error":"#DIV/0!"},0,{"$f":"IF($O1441>7,OFFSET($M$255,0,$L$1211),OFFSET($M$248,O1441-1,$L$1211,1,1))","v":0},0,{"$f":"$S$259*MIN(O1441,S1214)","v":0},0,{"$error":"#DIV/0!"},{"$f":"IF(AND(IF($N1441<=$L1441,TRUE,FALSE),IF($V1441<=$R1441,TRUE,FALSE),OR(W1441=\"True\",W1216=\"No\")),\"<-- fits project\",\"\")","v":{"$error":"#DIV/0!"}},null,null,null,null,null,null,null,43.016807383711786,0,{"$f":"AG1441/AG1517","v":{"$error":"#DIV/0!"}},-800,{"$f":"IF(O1441>1,I1211/(O1441-1),I1211/O1441)","v":{"$error":"#DIV/0!"}},{"$error":"#DIV/0!"}]
[7,null,null,"EOL E-Series Base + 7x Expansion Unit, 96x3TB",null,"DSA‑N2E7X3‑12AT + 7x DSX‑N1D6X3‑12AT","RAID 5",0,245872,288,0,1050,800,{"$f":"I1211/O1442","v":{"$error":"#DIV/0!"}},{"$f":"ROUNDUP(G1211/I1442,0)","v":0},{"$f":"(1-((G1211/$I1442)-INT(G1211/$I1442)))*I1442/1024","v":240.109375},{"$f":"AH1442","v":{"$error":"#DIV/0!"}},0,0,0,{"$f":"$S$259*MIN(O1442,S1214)","v":0},0,{"$error":"#DIV/0!"},{"$f":"IF(AND(IF($N1442<=$L1442,TRUE,FALSE),IF($V1442<=$R1442,TRUE,FALSE),OR(W1442=\"True\",W1216=\"No\")),\"<-- fits project\",\"\")","v":{"$error":"#DIV/0!"}},null,null,null,null,null,null,null,49.279262153232999,0,{"$f":"AG1442/AG1517","v":{"$error":"#DIV/0!"}},-800,{"$f":"IF(O1442>1,I1211/(O1442-1),I1211/O1442)","v":{"$error":"#DIV/0!"}},{"$error":"#DIV/0!"}]
[0,null,"4TB","EOL E-Series Base Unit, 12 x 4 TB",null,"DSA‑N2E7X4‑12AT","RAID 5",0,{"$f":"IF(G1443=\"RAID 5\",(11-H1443)*3725,(10-H1443)*3725)","v":40975},48,0,650,800,{"$f":"I1211/O1443","v":{"$error":"#DIV/0!"}},{"$f":"ROUNDUP(G1211/I1443,0)","v":0},{"$f":"(1-((G1211/$I1443)-INT(G1211/$I1443)))*I1443/1024","v":40.0146484375},{"$f":"AH1443","v":{"$error":"#DIV/0!"}},0,0,0,{"$f":"$S$259*MIN(O1443,S1214)","v":0},0,{"$error":"#DIV/0!"},{"$f":"IF(AND(IF($N1443<=$L1443,TRUE,FALSE),IF($V1443<=$R1443,TRUE,FALSE),OR(W1443=\"True\",W1216=\"No\")),\"<-- fits project\",\"\")","v":{"$error":"#DIV/0!"}},null,null,null,null,null,null,null,7.1516597619172479,0,{"$f":"AG1443/AG1517","v":{"$error":"#DIV/0!"}},-800,{"$f":"IF(O1443>1,I1211/(O1443-1),I1211/O1443)","v":{"$error":"#DIV/0!"}},{"$error":"#DIV/0!"}]
[1,null,null,"EOL E-Series Base + 1x Expansion Unit, 24x4TB",null,"DSA‑N2E7X4‑12AT + 1x DSX‑N1D6X4‑12AT","RAID 5",0,{"$f":"IF(G1444=\"RAID 5\",(11-H1444)*3725,(10-H1444)*3725)+IF(G1444=\"RAID 5\",(11-H1444)*3725,(10-H1444)*3725)*A1444","v":81950},{"$f":"48+A1444*48","v":96},0,1050,800,{"$f":"I1211/O1444","v":{"$error":"#DIV/0!"}},{"$f":"ROUNDUP(G1211/I1444,0)","v":0},{"$f":"(1-((G1211/$I1444)-INT(G1211/$I1444)))*I1444/1024","v":80.029296875},{"$error":"#DIV/0!"},0,0,0,{"$f":"$S$259*MIN(O1444,S1214)","v":0},0,{"$error":"#DIV/0!"},{"$f":"IF(AND(IF($N1444<=$L1444,TRUE,FALSE),IF($V1444<=$R1444,TRUE,FALSE),OR(W1444=\"True\",W1216=\"No\")),\"<-- fits project\",\"\")","v":{"$error":"#DIV/0!"}},null,null,null,null,null,null,null,13.428535843515654,0,{"$f":"AG1444/AG1517","v":{"$error":"#DIV/0!"}},-800,{"$f":"IF(O1444>1,I1211/(O1444-1),I1211/O1444)","v":{"$error":"#DIV/0!"}},{"$error":"#DIV/0!"}]
[2,null,null,"EOL E-Series Base + 2x Expansion Unit, 36x4TB",null,"DSA‑N2E7X4‑12AT + 2x DSX‑N1D6X4‑12AT","RAID 5",0,122925,144,0,1050,800,{"$f":"I1211/O1445","v":{"$error":"#DIV/0!"}},{"$f":"ROUNDUP(G1211/I1445,0)","v":0},{"$f":"(1-((G1211/$I1445)-INT(G1211/$I1445)))*I1445/1024","v":120.0439453125},{"$error":"#DIV/0!"},0,0,0,{"$f":"$S$259*MIN(O1445,S1214)","v":0},0,{"$error":"#DIV/0!"},{"$f":"IF(AND(IF($N1445<=$L1445,TRUE,FALSE),IF($V1445<=$R1445,TRUE,FALSE),OR(W1445=\"True\",W1216=\"No\")),\"<-- fits project\",\"\")","v":{"$error":"#DIV/0!"}},null,null,null,null,null,null,null,20.580195605432902,0,{"$f":"AG1445/AG1517","v":{"$error":"#DIV/0!"}},-800,{"$f":"IF(O1445>1,I1211/(O1445-1),I1211/O1445)","v":{"$error":"#DIV/0!"}},{"$error":"#DIV/0!"}]
[3,null,null,"EOL E-Series Base + 3x Expansion Unit, 48x4TB",null,"DSA‑N2E7X4‑12AT + 3x DSX‑N1D6X4‑12AT","RAID 5",0,163900,192,0,1050,800,{"$f":"I1211/O1446","v":{"$error":"#DIV/0!"}},{"$f":"ROUNDUP(G1211/I1446,0)","v":0},{"$f":"(1-((G1211/$I1446)-INT(G1211/$I1446)))*I1446/1024","v":160.05859375},{"$error":"#DIV/0!"},0,0,0,{"$f":"$S$259*MIN(O1446,S1214)","v":0},0,{"$error":"#DIV/0!"},{"$f":"IF(AND(IF($N1446<=$L1446,TRUE,FALSE),IF($V1446<=$R1446,TRUE,FALSE),OR(W1446=\"True\",W1216=\"No\")),\"<-- fits project\",\"\")","v":{"$error":"#DIV/0!"}},null,null,null,null,null,null,null,27.73185536735015,{"$f":"AF1446*O1446","v":0},{"$f":"AG1446/AG1517","v":{"$error":"#DIV/0!"}},-800,{"$f":"IF(O1446>1,I1211/(O1446-1),I1211/O1446)","v":{"$error":"#DIV/0!"}},{"$error":"#DIV/0!"}]
[4,null,null,"EOL E-Series Base + 4x Expansion Unit, 60x4TB",null,"DSA‑N2E7X4‑12AT + 4x DSX‑N1D6X4‑12AT","RAID 5",0,204875,240,0,1050,800,{"$f":"I1211/O1447","v":{"$error":"#DIV/0!"}},{"$f":"ROUNDUP(G1211/I1447,0)","v":0},{"$f":"(1-((G1211/$I1447)-INT(G1211/$I1447)))*I1447/1024","v":200.0732421875},{"$error":"#DIV/0!"},0,0,0,{"$f":"$S$259*MIN(O1447,S1214)","v":0},0,{"$error":"#DIV/0!"},{"$f":"IF(AND(IF($N1447<=$L1447,TRUE,FALSE),IF($V1447<=$R1447,TRUE,FALSE),OR(W1447=\"True\",W1216=\"No\")),\"<-- fits project\",\"\")","v":{"$error":"#DIV/0!"}},null,null,null,null,null,null,null,34.883515129267401,0,{"$f":"AG1447/AG1517","v":{"$error":"#DIV/0!"}},-800,{"$f":"IF(O1447>1,I1211/(O1447-1),I1211/O1447)","v":{"$error":"#DIV/0!"}},{"$error":"#DIV/0!"}]
[5,null,null,"EOL E-Series Base + 5x Expansion Unit, 72x4TB",null,"DSA‑N2E7X4‑12AT + 5x DSX‑N1D6X4‑12AT","RAID 5",0,245850,288,0,1050,800,{"$f":"I1211/O1448","v":{"$error":"#DIV/0!"}},{"$f":"ROUNDUP(G1211/I1448,0)","v":0},{"$f":"(1-((G1211/$I1448)-INT(G1211/$I1448)))*I1448/1024","v":240.087890625},{"$error":"#DIV/0!"},0,0,0,{"$f":"$S$259*MIN(O1448,S1214)","v":0},0,{"$error":"#DIV/0!"},{"$f":"IF(AND(IF($N1448<=$L1448,TRUE,FALSE),IF($V1448<=$R1448,TRUE,FALSE),OR(W1448=\"True\",W1216=\"No\")),\"<-- fits project\",\"\")","v":{"$error":"#DIV/0!"}},null,null,null,null,null,null,null,42.035174891184646,0,{"$f":"AG1448/AG1517","v":{"$error":"#DIV/0!"}},-800,{"$f":"IF(O1448>1,I1211/(O1448-1),I1211/O1448)","v":{"$error":"#DIV/0!"}},{"$error":"#DIV/0!"}]
[6,null,null,"EOL E-Series Base + 6x Expansion Unit, 84x4TB",null,"DSA‑N2E7X4‑12AT + 6x DSX‑N1D6X4‑12AT","RAID 5",0,286825,336,0,1050,800,{"$f":"I1211/O1449","v":{"$error":"#DIV/0!"}},{"$f":"ROUNDUP(G1211/I1449,0)","v":0},{"$f":"(1-((G1211/$I1449)-INT(G1211/$I1449)))*I1449/1024","v":280.1025390625},{"$error":"#DIV/0!"},0,0,0,{"$f":"$S$259*MIN(O1449,S1214)","v":0},0,{"$error":"#DIV/0!"},{"$f":"IF(AND(IF($N1449<=$L1449,TRUE,FALSE),IF($V1449<=$R1449,TRUE,FALSE),OR(W1449=\"True\",W1216=\"No\")),\"<-- fits project\",\"\")","v":{"$error":"#DIV/0!"}},null,null,null,null,null,null,null,49.186834653101897,0,{"$f":"AG1449/AG1517","v":{"$error":"#DIV/0!"}},-800,{"$f":"IF(O1449>1,I1211/(O1449-1),I1211/O1449)","v":{"$error":"#DIV/0!"}},{"$error":"#DIV/0!"}]
[7,null,null,"EOL E-Series Base + 7x Expansion Unit, 96x4TB",null,"DSA‑N2E7X4‑12AT + 7x DSX‑N1D6X4‑12AT","RAID 5",0,327800,384,0,1050,800,{"$f":"I1211/O1450","v":{"$error":"#DIV/0!"}},{"$f":"ROUNDUP(G1211/I1450,0)","v":0},{"$f":"(1-((G1211/$I1450)-INT(G1211/$I1450)))*I1450/1024","v":320.1171875},{"$error":"#DIV/0!"},0,0,0,{"$f":"$S$259*MIN(O1450,S1214)","v":0},{"$f":"SUM(S1450,T1450,U1450)","v":0},{"$error":"#DIV/0!"},{"$f":"IF(AND(IF($N1450<=$L1450,TRUE,FALSE),IF($V1450<=$R1450,TRUE,FALSE),OR(W1450=\"True\",W1216=\"No\")),\"<-- fits project\",\"\")","v":{"$error":"#DIV/0!"}},null,null,null,null,null,null,null,56.338494415019142,0,{"$f":"AG1450/AG1517","v":{"$error":"#DIV/0!"}},-800,{"$f":"IF(O1450>1,I1211/(O1450-1),I1211/O1450)","v":{"$error":"#DIV/0!"}},{"$error":"#DIV/0!"}]
[0,null,"6TB","EOL E-Series Base Unit, 12 x 6 TB",null,"DSA‑N2E7X6‑12AT","RAID 5",0,{"$f":"IF(G1451=\"RAID 5\",(11-H1451)*5586,(10-H1451)*5586)","v":61446},72,0,650,800,{"$f":"I1211/O1451","v":{"$error":"#DIV/0!"}},{"$f":"ROUNDUP(G1211/I1451,0)","v":0},{"$f":"(1-((G1211/$I1451)-INT(G1211/$I1451)))*I1451/1024","v":60.005859375},{"$error":"#DIV/0!"},0,0,0,{"$f":"$S$259*MIN(O1451,S1214)","v":0},{"$f":"SUM(S1451,T1451,U1451)","v":0},{"$error":"#DIV/0!"},{"$f":"IF(AND(IF($N1451<=$L1451,TRUE,FALSE),IF($V1451<=$R1451,TRUE,FALSE),OR(W1451=\"True\",W1216=\"No\")),\"<-- fits project\",\"\")","v":{"$error":"#DIV/0!"}},null,null,null,null,null,null,null,10.810739944412397,0,{"$f":"AG1451/AG1517","v":{"$error":"#DIV/0!"}},-800,{"$f":"IF(O1451>1,I1211/(O1451-1),I1211/O1451)","v":{"$error":"#DIV/0!"}},{"$error":"#DIV/0!"}]
[1,null,null,"EOL E-Series Base + 1x Expansion Unit, 24x6TB",null,"DSA-N2E7X6-12AT + 1x DSX-N1D6X6-12AT","RAID 5",0,{"$f":"IF(G1452=\"RAID 5\",(11-H1452)*5586,(10-H1452)*5586)+IF(G1452=\"RAID 5\",(11-H1452)*5586,(10-H1452)*5586)*A1452","v":122892},{"$f":"72+A1452*72","v":144},0,1050,800,{"$f":"I1211/O1452","v":{"$error":"#DIV/0!"}},{"$f":"ROUNDUP(G1211/I1452,0)","v":0},{"$f":"(1-((G1211/$I1452)-INT(G1211/$I1452)))*I1452/1024","v":120.01171875},{"$error":"#DIV/0!"},0,0,0,{"$f":"$S$259*MIN(O1452,S1214)","v":0},0,{"$error":"#DIV/0!"},{"$f":"IF(AND(IF($N1452<=$L1452,TRUE,FALSE),IF($V1452<=$R1452,TRUE,FALSE),OR(W1452=\"True\",W1216=\"No\")),\"<-- fits project\",\"\")","v":{"$error":"#DIV/0!"}},null,null,null,null,null,null,null,20.194097750275315,0,{"$f":"AG1452/AG1517","v":{"$error":"#DIV/0!"}},-800,{"$f":"IF(O1452>1,I1211/(O1452-1),I1211/O1452)","v":{"$error":"#DIV/0!"}},{"$error":"#DIV/0!"}]
[2,null,null,"EOL E-Series Base + 2x Expansion Unit, 36x6TB",null,"DSA-N2E7X6-12AT + 2x DSX-N1D6X6-12AT","RAID 5",0,184338,216,0,1050,800,{"$f":"I1211/O1453","v":{"$error":"#DIV/0!"}},{"$f":"ROUNDUP(G1211/I1453,0)","v":0},{"$f":"(1-((G1211/$I1453)-INT(G1211/$I1453)))*I1453/1024","v":180.017578125},{"$error":"#DIV/0!"},0,0,0,{"$f":"$S$259*MIN(O1453,S1214)","v":0},0,{"$error":"#DIV/0!"},{"$f":"IF(AND(IF($N1453<=$L1453,TRUE,FALSE),IF($V1453<=$R1453,TRUE,FALSE),OR(W1453=\"True\",W1216=\"No\")),\"<-- fits project\",\"\")","v":{"$error":"#DIV/0!"}},null,null,null,null,null,null,null,31.004837694687712,0,{"$f":"AG1453/AG1517","v":{"$error":"#DIV/0!"}},-800,{"$f":"IF(O1453>1,I1211/(O1453-1),I1211/O1453)","v":{"$error":"#DIV/0!"}},{"$error":"#DIV/0!"}]
[3,null,null,"EOL E-Series Base + 3x Expansion Unit, 48x6TB",null,"DSA-N2E7X6-12AT + 3x DSX-N1D6X6-12AT","RAID 5",0,245784,288,0,1050,800,{"$f":"I1211/O1454","v":{"$error":"#DIV/0!"}},{"$f":"ROUNDUP(G1211/I1454,0)","v":0},{"$f":"(1-((G1211/$I1454)-INT(G1211/$I1454)))*I1454/1024","v":240.0234375},{"$error":"#DIV/0!"},0,0,0,{"$f":"$S$259*MIN(O1454,S1214)","v":0},0,{"$error":"#DIV/0!"},{"$f":"IF(AND(IF($N1454<=$L1454,TRUE,FALSE),IF($V1454<=$R1454,TRUE,FALSE),OR(W1454=\"True\",W1216=\"No\")),\"<-- fits project\",\"\")","v":{"$error":"#DIV/0!"}},null,null,null,null,null,null,null,41.815577639100113,0,{"$f":"AG1454/AG1517","v":{"$error":"#DIV/0!"}},-800,{"$f":"IF(O1454>1,I1211/(O1454-1),I1211/O1454)","v":{"$error":"#DIV/0!"}},{"$error":"#DIV/0!"}]
[4,null,null,"EOL E-Series Base + 4x Expansion Unit, 60x6TB",null,"DSA-N2E7X6-12AT + 4x DSX-N1D6X6-12AT","RAID 5",0,307230,360,0,1050,800,{"$f":"I1211/O1455","v":{"$error":"#DIV/0!"}},{"$f":"ROUNDUP(G1211/I1455,0)","v":0},{"$f":"(1-((G1211/$I1455)-INT(G1211/$I1455)))*I1455/1024","v":300.029296875},{"$error":"#DIV/0!"},0,0,0,{"$f":"$S$259*MIN(O1455,S1214)","v":0},0,{"$error":"#DIV/0!"},{"$f":"IF(AND(IF($N1455<=$L1455,TRUE,FALSE),IF($V1455<=$R1455,TRUE,FALSE),OR(W1455=\"True\",W1216=\"No\")),\"<-- fits project\",\"\")","v":{"$error":"#DIV/0!"}},null,null,null,null,null,null,null,52.62631758351251,0,{"$f":"AG1455/AG1517","v":{"$error":"#DIV/0!"}},-800,{"$f":"IF(O1455>1,I1211/(O1455-1),I1211/O1455)","v":{"$error":"#DIV/0!"}},{"$error":"#DIV/0!"}]
[5,null,null,"EOL E-Series Base + 5x Expansion Unit, 72x6TB",null,"DSA-N2E7X6-12AT + 5x DSX-N1D6X6-12AT","RAID 5",0,368676,432,0,1050,800,{"$f":"I1211/O1456","v":{"$error":"#DIV/0!"}},{"$f":"ROUNDUP(G1211/I1456,0)","v":0},{"$f":"(1-((G1211/$I1456)-INT(G1211/$I1456)))*I1456/1024","v":360.03515625},{"$error":"#DIV/0!"},0,0,0,{"$f":"$S$259*MIN(O1456,S1214)","v":0},0,{"$error":"#DIV/0!"},{"$f":"IF(AND(IF($N1456<=$L1456,TRUE,FALSE),IF($V1456<=$R1456,TRUE,FALSE),OR(W1456=\"True\",W1216=\"No\")),\"<-- fits project\",\"\")","v":{"$error":"#DIV/0!"}},null,null,null,null,null,null,null,63.437057527924907,0,{"$f":"AG1456/AG1517","v":{"$error":"#DIV/0!"}},-800,{"$f":"IF(O1456>1,I1211/(O1456-1),I1211/O1456)","v":{"$error":"#DIV/0!"}},{"$error":"#DIV/0!"}]
[6,null,null,"EOL E-Series Base + 6x Expansion Unit, 84x6TB",null,"DSA-N2E7X6-12AT + 6x DSX-N1D6X6-12AT","RAID 5",0,430122,504,0,1050,800,{"$f":"I1211/O1457","v":{"$error":"#DIV/0!"}},{"$f":"ROUNDUP(G1211/I1457,0)","v":0},{"$f":"(1-((G1211/$I1457)-INT(G1211/$I1457)))*I1457/1024","v":420.041015625},{"$error":"#DIV/0!"},0,0,0,{"$f":"$S$259*MIN(O1457,S1214)","v":0},0,{"$error":"#DIV/0!"},{"$f":"IF(AND(IF($N1457<=$L1457,TRUE,FALSE),IF($V1457<=$R1457,TRUE,FALSE),OR(W1457=\"True\",W1216=\"No\")),\"<-- fits project\",\"\")","v":{"$error":"#DIV/0!"}},null,null,null,null,null,null,null,74.247797472337297,0,{"$f":"AG1457/AG1517","v":{"$error":"#DIV/0!"}},-800,{"$f":"IF(O1457>1,I1211/(O1457-1),I1211/O1457)","v":{"$error":"#DIV/0!"}},{"$error":"#DIV/0!"}]
[7,null,null,"EOL E-Series Base + 7x Expansion Unit, 96x6TB",null,"DSA-N2E7X6-12AT + 7x DSX-N1D6X6-12AT","RAID 5",0,491568,576,0,1050,800,{"$f":"$I$1211/O1458","v":{"$error":"#DIV/0!"}},{"$f":"ROUNDUP($G$1211/I1458,0)","v":0},{"$f":"(1-(($G$1211/$I1458)-INT($G$1211/$I1458)))*I1458/1024","v":480.046875},{"$error":"#DIV/0!"},0,0,0,{"$f":"$S$259*MIN(O1458,S1214)","v":0},{"$f":"SUM(S1458,T1458,U1458)","v":0},{"$error":"#DIV/0!"},{"$f":"IF(AND(IF($N1458<=$L1458,TRUE,FALSE),IF($V1458<=$R1458,TRUE,FALSE),OR(W1458=\"True\",$W$1216=\"No\")),\"<-- fits project\",\"\")","v":{"$error":"#DIV/0!"}},null,null,null,null,null,null,null,85.058537416749701,0,{"$f":"AG1458/$AG$1517","v":{"$error":"#DIV/0!"}},-800,{"$f":"IF(O1458>1,$I$1211/(O1458-1),$I$1211/O1458)","v":{"$error":"#DIV/0!"}},{"$f":"IF(X1458=\"<-- fits project\",D1458,\"\")","v":{"$error":"#DIV/0!"}}]
[0,null,"8 TB","EOL E-Series Base Unit, 12 x 8 TB",null,"DSA‑N2E7X8‑12AT","RAID 5",0,{"$f":"IF(G1459=\"RAID 5\",(11-H1459)*7448,(10-H1459)*7448)","v":81928},96,0,1050,800,{"$error":"#DIV/0!"},0,80.0078125,{"$error":"#DIV/0!"},0,0,0,0,{"$f":"SUM(S1459,T1459,U1459)","v":0},{"$error":"#DIV/0!"},{"$error":"#DIV/0!"},null,null,null,null,null,null,null,null,0,{"$error":"#DIV/0!"},-800,{"$error":"#DIV/0!"},{"$error":"#DIV/0!"}]
[1,null,null,"EOL E-Series Base + 1x Expansion Unit, 24x8TB",null,"DSA-N2E7X8-12AT + 1x DSX-N1D6X8-12AT","RAID 5",0,{"$f":"IF(G1460=\"RAID 5\",(11-H1460)*7448,(10-H1460)*7448)+IF(G1460=\"RAID 5\",(11-H1460)*7448,(10-H1460)*7448)*A1460","v":163856},{"$f":"96+A1460*96","v":192},0,1050,800,{"$error":"#DIV/0!"},0,160.015625,{"$error":"#DIV/0!"},0,0,0,0,0,{"$error":"#DIV/0!"},{"$error":"#DIV/0!"},null,null,null,null,null,null,null,null,0,{"$error":"#DIV/0!"},-800,{"$error":"#DIV/0!"},{"$error":"#DIV/0!"}]
[2,null,null,"EOL E-Series Base + 2x Expansion Unit, 36x8TB",null,"DSA-N2E7X8-12AT + 2x DSX-N1D6X8-12AT","RAID 5",0,245784,288,0,1050,800,{"$error":"#DIV/0!"},0,240.0234375,{"$error":"#DIV/0!"},0,0,0,0,0,{"$error":"#DIV/0!"},{"$error":"#DIV/0!"},null,null,null,null,null,null,null,null,0,{"$error":"#DIV/0!"},-800,{"$error":"#DIV/0!"},{"$error":"#DIV/0!"}]
[3,null,null,"EOL E-Series Base + 3x Expansion Unit, 48x8TB",null,"DSA-N2E7X8-12AT + 3x DSX-N1D6X8-12AT","RAID 5",0,327712,384,0,1050,800,{"$error":"#DIV/0!"},0,320.03125,{"$error":"#DIV/0!"},0,0,0,0,0,{"$error":"#DIV/0!"},{"$error":"#DIV/0!"},null,null,null,null,null,null,null,null,0,{"$error":"#DIV/0!"},-800,{"$error":"#DIV/0!"},{"$error":"#DIV/0!"}]
[4,null,null,"EOL E-Series Base + 4x Expansion Unit, 60x8TB",null,"DSA-N2E7X8-12AT + 4x DSX-N1D6X8-12AT","RAID 5",0,409640,480,0,1050,800,{"$error":"#DIV/0!"},0,400.0390625,{"$error":"#DIV/0!"},0,0,0,0,0,{"$error":"#DIV/0!"},{"$error":"#DIV/0!"},null,null,null,null,null,null,null,null,0,{"$error":"#DIV/0!"},-800,{"$error":"#DIV/0!"},{"$error":"#DIV/0!"}]
[5,null,null,"EOL E-Series Base + 5x Expansion Unit, 72x8TB",null,"DSA-N2E7X8-12AT + 5x DSX-N1D6X8-12AT","RAID 5",0,491568,576,0,1050,800,{"$error":"#DIV/0!"},0,480.046875,{"$error":"#DIV/0!"},0,0,0,0,0,{"$error":"#DIV/0!"},{"$error":"#DIV/0!"},null,null,null,null,null,null,null,null,0,{"$error":"#DIV/0!"},-800,{"$error":"#DIV/0!"},{"$error":"#DIV/0!"}]
[6,null,null,"EOL E-Series Base + 6x Expansion Unit, 84x8TB",null,"DSA-N2E7X8-12AT + 6x DSX-N1D6X8-12AT","RAID 5",0,573496,672,0,1050,800,{"$error":"#DIV/0!"},0,560.0546875,{"$error":"#DIV/0!"},0,0,0,0,0,{"$error":"#DIV/0!"},{"$error":"#DIV/0!"},null,null,null,null,null,null,null,null,0,{"$error":"#DIV/0!"},-800,{"$error":"#DIV/0!"},{"$error":"#DIV/0!"}]
[7,null,null,"EOL E-Series Base + 7x Expansion Unit, 96x8TB",null,"DSA-N2E7X8-12AT + 7x DSX-N1D6X8-12AT","RAID 5",0,655424,768,0,1050,800,{"$error":"#DIV/0!"},0,640.0625,{"$error":"#DIV/0!"},0,0,0,0,0,{"$error":"#DIV/0!"},{"$error":"#DIV/0!"},null,null,null,null,null,null,null,null,0,{"$error":"#DIV/0!"},-800,{"$error":"#DIV/0!"},{"$error":"#DIV/0!"}]
[0,null,"3TB HD","EOL E-Series dual ctrl base Unit, 12x3TB",null,"DSA-N2C7X3-12AT","RAID 5",0,{"$f":"IF(G1467=\"RAID 5\",(11-H1467)*2794,(10-H1467)*2794)+IF(G1467=\"RAID 5\",(55-H1467*5)*2794,(50-H1467*5)*2794)*A1467","v":30734},36,0,1300,1600,{"$f":"I1211/O1467","v":{"$error":"#DIV/0!"}},{"$f":"ROUNDUP(G1211/I1467,0)","v":0},{"$f":"(1-((G1211/$I1467)-INT(G1211/$I1467)))*I1467/1024","v":30.013671875},{"$error":"#DIV/0!"},0,0,0,{"$f":"$S$259*MIN(O1467,S1214)","v":0},{"$f":"SUM(S1467,T1467,U1467)","v":0},{"$error":"#DIV/0!"},{"$f":"IF(AND(IF($N1467<=$L1467,TRUE,FALSE),IF($V1467<=$R1467,TRUE,FALSE),OR(W1467=\"True\",W1216=\"No\")),\"<-- fits project\",\"\")","v":{"$error":"#DIV/0!"}},null,null,null,null,null,null,null,8.9598956421416958,0,{"$f":"AG1467/AG1517","v":{"$error":"#DIV/0!"}},-1600,{"$f":"IF(O1467>1,I1211/(O1467-1),I1211/O1467)","v":{"$error":"#DIV/0!"}},{"$error":"#DIV/0!"}]
[1,null,null,"EOL E-Series dual ctrl Base + 1x 60 HDD Exp, 12x3TB+60x3TB",null,"DSA-N2C7X3-12AT + 1x DSX-N6D6X3-60AT","RAID 5",0,{"$f":"IF(G1468=\"RAID 5\",(11-H1468)*2794,(10-H1468)*2794)+IF(G1468=\"RAID 5\",(55-H1468)*2794,(50-H1468)*2794)*A1468","v":184404},216,0,2100,1600,{"$f":"I1211/O1468","v":{"$error":"#DIV/0!"}},{"$f":"ROUNDUP(G1211/I1468,0)","v":0},{"$f":"(1-((G1211/$I1468)-INT(G1211/$I1468)))*I1468/1024","v":180.08203125},{"$error":"#DIV/0!"},0,0,0,{"$f":"$S$259*MIN(O1468,S1214)","v":0},0,{"$error":"#DIV/0!"},{"$f":"IF(AND(IF($N1468<=$L1468,TRUE,FALSE),IF($V1468<=$R1468,TRUE,FALSE),OR(W1468=\"True\",W1216=\"No\")),\"<-- fits project\",\"\")","v":{"$error":"#DIV/0!"}},null,null,null,null,null,null,null,38.915255126120933,0,{"$f":"AG1468/AG1517","v":{"$error":"#DIV/0!"}},-1600,{"$f":"IF(O1468>1,I1211/(O1468-1),I1211/O1468)","v":{"$error":"#DIV/0!"}},{"$error":"#DIV/0!"}]
[2,null,null,"EOL E-Series dual ctrl Base + 2x 60 HDD Exp, 12x3TB+120x3TB",null,"DSA-N2C7X3-12AT + 2x DSX-N6D6X3-60AT","RAID 5",0,{"$f":"IF(G1469=\"RAID 5\",(11-H1469)*2794,(10-H1469)*2794)+IF(G1469=\"RAID 5\",(55-H1469)*2794,(50-H1469)*2794)*A1469","v":338074},396,0,2100,1600,{"$f":"I1211/O1469","v":{"$error":"#DIV/0!"}},{"$f":"ROUNDUP(G1211/I1469,0)","v":0},{"$f":"(1-((G1211/$I1469)-INT(G1211/$I1469)))*I1469/1024","v":330.150390625},{"$error":"#DIV/0!"},0,0,0,{"$f":"$S$259*MIN(O1469,S1214)","v":0},0,{"$error":"#DIV/0!"},{"$f":"IF(AND(IF($N1469<=$L1469,TRUE,FALSE),IF($V1469<=$R1469,TRUE,FALSE),OR(W1469=\"True\",W1216=\"No\")),\"<-- fits project\",\"\")","v":{"$error":"#DIV/0!"}},null,null,null,null,null,null,null,47.875150768262628,0,{"$f":"AG1469/AG1517","v":{"$error":"#DIV/0!"}},-1600,{"$f":"IF(O1469>1,I1211/(O1469-1),I1211/O1469)","v":{"$error":"#DIV/0!"}},{"$error":"#DIV/0!"}]
[3,null,null,"EOL E-Series dual ctrl Base + 3x 60 HDD Exp, 12x3TB+180x3TB",null,"DSA-N2C7X3-12AT + 3x DSX-N6D6X3-60AT","RAID 5",0,{"$f":"IF(G1470=\"RAID 5\",(11-H1470)*2794,(10-H1470)*2794)+IF(G1470=\"RAID 5\",(55-H1470)*2794,(50-H1470)*2794)*A1470","v":491744},574,0,2100,1600,{"$f":"I1211/O1470","v":{"$error":"#DIV/0!"}},{"$f":"ROUNDUP(G1211/I1470,0)","v":0},{"$f":"(1-((G1211/$I1470)-INT(G1211/$I1470)))*I1470/1024","v":480.21875},{"$error":"#DIV/0!"},0,0,0,{"$f":"$S$259*MIN(O1470,S1214)","v":0},0,{"$error":"#DIV/0!"},{"$f":"IF(AND(IF($N1470<=$L1470,TRUE,FALSE),IF($V1470<=$R1470,TRUE,FALSE),OR(W1470=\"True\",W1216=\"No\")),\"<-- fits project\",\"\")","v":{"$error":"#DIV/0!"}},null,null,null,null,null,null,null,56.835046410404324,0,{"$f":"AG1470/AG1517","v":{"$error":"#DIV/0!"}},-1600,{"$f":"IF(O1470>1,I1211/(O1470-1),I1211/O1470)","v":{"$error":"#DIV/0!"}},{"$error":"#DIV/0!"}]
[0,null,"4TB HD","EOL E-Series dual ctrl base Unit, 12x4TB",null,"DSA-N2C7X4-12AT","RAID 5",0,{"$f":"IF(G1471=\"RAID 5\",(11-H1471)*3725,(10-H1471)*3725)+IF(G1471=\"RAID 5\",(55-H1471*5)*3725,(50-H1471*5)*3725)*A1471","v":40975},48,0,1300,1600,{"$f":"I1211/O1471","v":{"$error":"#DIV/0!"}},{"$f":"ROUNDUP(G1211/I1471,0)","v":0},{"$f":"(1-((G1211/$I1471)-INT(G1211/$I1471)))*I1471/1024","v":40.0146484375},{"$error":"#DIV/0!"},0,0,0,{"$f":"$S$259*MIN(O1471,S1214)","v":0},0,{"$error":"#DIV/0!"},{"$f":"IF(AND(IF($N1471<=$L1471,TRUE,FALSE),IF($V1471<=$R1471,TRUE,FALSE),OR(W1471=\"True\",W1216=\"No\")),\"<-- fits project\",\"\")","v":{"$error":"#DIV/0!"}},null,null,null,null,null,null,null,9.6406471236037543,0,{"$f":"AG1471/AG1517","v":{"$error":"#DIV/0!"}},-1600,{"$f":"IF(O1471>1,I1211/(O1471-1),I1211/O1471)","v":{"$error":"#DIV/0!"}},{"$error":"#DIV/0!"}]
[1,null,null,"EOL E-Series dual ctrl Base + 1x 60 HDD Exp, 12x4TB+60x4TB",null,"DSA-N2C7X4-12AT + 1x DSX-N6D6X4-60AT","RAID 5",0,{"$f":"IF(G1472=\"RAID 5\",(11-H1472)*3725,(10-H1472)*3725)+IF(G1472=\"RAID 5\",(55-H1472)*3725,(50-H1472)*3725)*A1472","v":245850},288,{"$f":"O1472*J1472","v":0},2100,1600,{"$f":"I1211/O1472","v":{"$error":"#DIV/0!"}},{"$f":"ROUNDUP(G1211/I1472,0)","v":0},{"$f":"(1-((G1211/$I1472)-INT(G1211/$I1472)))*I1472/1024","v":240.087890625},{"$error":"#DIV/0!"},{"$f":"O1472*M1472","v":0},0,0,{"$f":"$S$259*MIN(O1472,S1214)","v":0},0,{"$error":"#DIV/0!"},{"$f":"IF(AND(IF($N1472<=$L1472,TRUE,FALSE),IF($V1472<=$R1472,TRUE,FALSE),OR(W1472=\"True\",W1216=\"No\")),\"<-- fits project\",\"\")","v":{"$error":"#DIV/0!"}},null,null,null,null,null,null,null,44.790956526299233,0,{"$f":"AG1472/AG1517","v":{"$error":"#DIV/0!"}},{"$f":"(O1472-1)*M1472","v":-1600},{"$f":"IF(O1472>1,I1211/(O1472-1),I1211/O1472)","v":{"$error":"#DIV/0!"}},{"$error":"#DIV/0!"}]
[2,null,null,"EOL E-Series dual ctrl Base + 2x 60 HDD Exp, 12x4TB+120x4TB",null,"DSA-N2C7X4-12AT + 2x DSX-N6D6X4-60AT","RAID 5",0,{"$f":"IF(G1473=\"RAID 5\",(11-H1473)*3725,(10-H1473)*3725)+IF(G1473=\"RAID 5\",(55-H1473)*3725,(50-H1473)*3725)*A1473","v":450725},528,0,2100,1600,{"$f":"I1211/O1473","v":{"$error":"#DIV/0!"}},{"$f":"ROUNDUP(G1211/I1473,0)","v":0},{"$f":"(1-((G1211/$I1473)-INT(G1211/$I1473)))*I1473/1024","v":440.1611328125},{"$error":"#DIV/0!"},0,0,{"$f":"O1473*1*MAX($N$1528,1)","v":0},{"$f":"$S$259*MIN(O1473,S1214)","v":0},0,{"$error":"#DIV/0!"},{"$f":"IF(AND(IF($N1473<=$L1473,TRUE,FALSE),IF($V1473<=$R1473,TRUE,FALSE),OR(W1473=\"True\",W1216=\"No\")),\"<-- fits project\",\"\")","v":{"$error":"#DIV/0!"}},null,null,null,null,null,null,null,54.431603649902982,0,{"$f":"AG1473/AG1517","v":{"$error":"#DIV/0!"}},-1600,{"$f":"IF(O1473>1,I1211/(O1473-1),I1211/O1473)","v":{"$error":"#DIV/0!"}},{"$error":"#DIV/0!"}]
[3,null,null,"EOL E-Series dual ctrl Base + 3x 60 HDD Exp, 12x4TB+180x4TB",null,"DSA-N2C7X4-12AT + 3x DSX-N6D6X4-60AT","RAID 5",0,{"$f":"IF(G1474=\"RAID 5\",(11-H1474)*3725,(10-H1474)*3725)+IF(G1474=\"RAID 5\",(55-H1474)*3725,(50-H1474)*3725)*A1474","v":655600},768,0,2100,1600,{"$f":"I1211/O1474","v":{"$error":"#DIV/0!"}},{"$f":"ROUNDUP(G1211/I1474,0)","v":0},{"$f":"(1-((G1211/$I1474)-INT(G1211/$I1474)))*I1474/1024","v":640.234375},{"$error":"#DIV/0!"},0,0,0,{"$f":"$S$259*MIN(O1474,S1214)","v":0},0,{"$error":"#DIV/0!"},{"$f":"IF(AND(IF($N1474<=$L1474,TRUE,FALSE),IF($V1474<=$R1474,TRUE,FALSE),OR(W1474=\"True\",W1216=\"No\")),\"<-- fits project\",\"\")","v":{"$error":"#DIV/0!"}},null,null,null,null,null,null,null,64.072250773506738,0,{"$f":"AG1474/AG1517","v":{"$error":"#DIV/0!"}},-1600,{"$f":"IF(O1474>1,I1211/(O1474-1),I1211/O1474)","v":{"$error":"#DIV/0!"}},{"$error":"#DIV/0!"}]
[0,null,"6TB HD","EOL E-Series dual ctrl base Unit, 12x6TB",null,"DSA-N2C7X4-12AT","RAID 5",0,{"$f":"IF(G1475=\"RAID 5\",(11-H1475)*5588,(10-H1475)*5588)+IF(G1475=\"RAID 5\",(55-H1475*5)*5588,(50-H1475*5)*5588)*A1475","v":61468},72,0,1300,1600,{"$f":"I1211/O1475","v":{"$error":"#DIV/0!"}},{"$f":"ROUNDUP(G1211/I1475,0)","v":0},{"$f":"(1-((G1211/$I1475)-INT(G1211/$I1475)))*I1475/1024","v":60.02734375},{"$error":"#DIV/0!"},0,0,0,{"$f":"$S$259*MIN(O1475,S1214)","v":0},0,{"$error":"#DIV/0!"},{"$f":"IF(AND(IF($N1475<=$L1475,TRUE,FALSE),IF($V1475<=$R1475,TRUE,FALSE),OR(W1475=\"True\",W1216=\"No\")),\"<-- fits project\",\"\")","v":{"$error":"#DIV/0!"}},null,null,null,null,null,null,null,14.549137343332109,0,{"$f":"AG1475/AG1517","v":{"$error":"#DIV/0!"}},-1600,{"$f":"IF(O1475>1,I1211/(O1475-1),I1211/O1475)","v":{"$error":"#DIV/0!"}},{"$error":"#DIV/0!"}]
[1,null,null,"EOL E-Series dual ctrl Base + 1x 60 HDD Exp, 12x6TB+60x6TB",null,"DSA-N2C7X6-12AT + 1x DSX-N6D6X6-60AT","RAID 5",0,{"$f":"IF(G1476=\"RAID 5\",(11-H1476)*5588,(10-H1476)*5588)+IF(G1476=\"RAID 5\",(55-H1476)*5588,(50-H1476)*5588)*A1476","v":368808},432,0,2100,1600,{"$f":"I1211/O1476","v":{"$error":"#DIV/0!"}},{"$f":"ROUNDUP(G1211/I1476,0)","v":0},{"$f":"(1-((G1211/$I1476)-INT(G1211/$I1476)))*I1476/1024","v":360.1640625},{"$error":"#DIV/0!"},0,0,0,{"$f":"$S$259*MIN(O1476,S1214)","v":0},0,{"$error":"#DIV/0!"},{"$f":"IF(AND(IF($N1476<=$L1476,TRUE,FALSE),IF($V1476<=$R1476,TRUE,FALSE),OR(W1476=\"True\",W1216=\"No\")),\"<-- fits project\",\"\")","v":{"$error":"#DIV/0!"}},null,null,null,null,null,null,null,67.1056426661073,0,{"$f":"AG1476/AG1517","v":{"$error":"#DIV/0!"}},-1600,{"$f":"IF(O1476>1,I1211/(O1476-1),I1211/O1476)","v":{"$error":"#DIV/0!"}},{"$error":"#DIV/0!"}]
[2,null,null,"EOL E-Series dual ctrl Base + 2x 60 HDD Exp, 12x6TB+120x6TB",null,"DSA-N2C7X6-12AT + 2x DSX-N6D6X6-60AT","RAID 5",0,{"$f":"IF(G1477=\"RAID 5\",(11-H1477)*5588,(10-H1477)*5588)+IF(G1477=\"RAID 5\",(55-H1477)*5588,(50-H1477)*5588)*A1477","v":676148},792,0,2100,1600,{"$f":"I1211/O1477","v":{"$error":"#DIV/0!"}},{"$f":"ROUNDUP(G1211/I1477,0)","v":0},{"$f":"(1-((G1211/$I1477)-INT(G1211/$I1477)))*I1477/1024","v":660.30078125},{"$error":"#DIV/0!"},0,0,0,{"$f":"$S$259*MIN(O1477,S1214)","v":0},0,{"$error":"#DIV/0!"},{"$f":"IF(AND(IF($N1477<=$L1477,TRUE,FALSE),IF($V1477<=$R1477,TRUE,FALSE),OR(W1477=\"True\",W1216=\"No\")),\"<-- fits project\",\"\")","v":{"$error":"#DIV/0!"}},null,null,null,null,null,null,null,81.654780009439406,0,{"$f":"AG1477/AG1517","v":{"$error":"#DIV/0!"}},-1600,{"$f":"IF(O1477>1,I1211/(O1477-1),I1211/O1477)","v":{"$error":"#DIV/0!"}},{"$error":"#DIV/0!"}]
[3,null,null,"EOL E-Series dual ctrl Base + 3x 60 HDD Exp, 12x6TB+180x6TB",null,"DSA-N2C7X6-12AT + 3x DSX-N6D6X6-60AT","RAID 5",0,{"$f":"IF(G1478=\"RAID 5\",(11-H1478)*5588,(10-H1478)*5588)+IF(G1478=\"RAID 5\",(55-H1478)*5588,(50-H1478)*5588)*A1478","v":983488},1152,0,2100,1600,{"$f":"$I$1211/O1478","v":{"$error":"#DIV/0!"}},{"$f":"ROUNDUP($G$1211/I1478,0)","v":0},{"$f":"(1-(($G$1211/$I1478)-INT($G$1211/$I1478)))*I1478/1024","v":960.4375},{"$error":"#DIV/0!"},0,0,0,{"$f":"$S$259*MIN(O1478,S1214)","v":0},0,{"$error":"#DIV/0!"},{"$f":"IF(AND(IF($N1478<=$L1478,TRUE,FALSE),IF($V1478<=$R1478,TRUE,FALSE),OR(W1478=\"True\",$W$1216=\"No\")),\"<-- fits project\",\"\")","v":{"$error":"#DIV/0!"}},null,null,null,null,null,null,null,96.203917352771512,0,{"$f":"AG1478/$AG$1517","v":{"$error":"#DIV/0!"}},-1600,{"$f":"IF(O1478>1,$I$1211/(O1478-1),$I$1211/O1478)","v":{"$error":"#DIV/0!"}},{"$error":"#DIV/0!"}]
[0,null,"8 TB HD","EOL E-Series dual ctrl base Unit, 12x8TB",null,"DSA-N2C7X8-12AT","RAID 5",0,{"$f":"IF(G1479=\"RAID 5\",(11-H1479)*7448,(10-H1479)*7448)+IF(G1479=\"RAID 5\",(55-H1479*5)*7448,(50-H1479*5)*7448)*A1479","v":81928},96,0,1300,1600,{"$f":"$I$1211/O1479","v":{"$error":"#DIV/0!"}},{"$f":"ROUNDUP($G$1211/I1479,0)","v":0},{"$f":"(1-(($G$1211/$I1479)-INT($G$1211/$I1479)))*I1479/1024","v":80.0078125},{"$error":"#DIV/0!"},0,0,0,{"$f":"$S$259*MIN(O1479,S1215)","v":0},0,{"$error":"#DIV/0!"},{"$f":"IF(AND(IF($N1479<=$L1479,TRUE,FALSE),IF($V1479<=$R1479,TRUE,FALSE),OR(W1479=\"True\",$W$1216=\"No\")),\"<-- fits project\",\"\")","v":{"$error":"#DIV/0!"}},null,null,null,null,null,null,null,null,0,{"$f":"AG1479/$AG$1517","v":{"$error":"#DIV/0!"}},-1600,{"$f":"IF(O1479>1,$I$1211/(O1479-1),$I$1211/O1479)","v":{"$error":"#DIV/0!"}},{"$error":"#DIV/0!"}]
[1,null,null,"EOL E-Series dual ctrl Base + 1x 60 HDD Exp, 12x8TB+60x8TB",null,"DSA-N2C7X8-12AT + 1x DSX-N6D6X8-60AT","RAID 5",0,{"$f":"IF(G1480=\"RAID 5\",(11-H1480)*7448,(10-H1480)*7448)+IF(G1480=\"RAID 5\",(55-H1480)*7448,(50-H1480)*7448)*A1480","v":491568},{"$f":"96+(60*8)","v":576},0,2100,1600,{"$f":"$I$1211/O1480","v":{"$error":"#DIV/0!"}},{"$f":"ROUNDUP($G$1211/I1480,0)","v":0},{"$f":"(1-(($G$1211/$I1480)-INT($G$1211/$I1480)))*I1480/1024","v":480.046875},{"$error":"#DIV/0!"},0,0,0,{"$f":"$S$259*MIN(O1480,S1216)","v":0},0,{"$error":"#DIV/0!"},{"$f":"IF(AND(IF($N1480<=$L1480,TRUE,FALSE),IF($V1480<=$R1480,TRUE,FALSE),OR(W1480=\"True\",$W$1216=\"No\")),\"<-- fits project\",\"\")","v":{"$error":"#DIV/0!"}},null,null,null,null,null,null,null,null,0,{"$f":"AG1480/$AG$1517","v":{"$error":"#DIV/0!"}},-1600,{"$f":"IF(O1480>1,$I$1211/(O1480-1),$I$1211/O1480)","v":{"$error":"#DIV/0!"}},{"$error":"#DIV/0!"}]
[2,null,null,"EOL E-Series dual ctrl Base + 2x 60 HDD Exp, 12x8TB+120x8TB",null,"DSA-N2C7X8-12AT + 2x DSX-N6D6X8-60AT","RAID 5",0,{"$f":"IF(G1481=\"RAID 5\",(11-H1481)*7448,(10-H1481)*7448)+IF(G1481=\"RAID 5\",(55-H1481)*7448,(50-H1481)*7448)*A1481","v":901208},{"$f":"96+(120*8)","v":1056},0,2100,1600,{"$f":"$I$1211/O1481","v":{"$error":"#DIV/0!"}},{"$f":"ROUNDUP($G$1211/I1481,0)","v":0},{"$f":"(1-(($G$1211/$I1481)-INT($G$1211/$I1481)))*I1481/1024","v":880.0859375},{"$error":"#DIV/0!"},0,0,0,{"$f":"$S$259*MIN(O1481,S1217)","v":0},0,{"$error":"#DIV/0!"},{"$f":"IF(AND(IF($N1481<=$L1481,TRUE,FALSE),IF($V1481<=$R1481,TRUE,FALSE),OR(W1481=\"True\",$W$1216=\"No\")),\"<-- fits project\",\"\")","v":{"$error":"#DIV/0!"}},null,null,null,null,null,null,null,null,0,{"$f":"AG1481/$AG$1517","v":{"$error":"#DIV/0!"}},-1600,{"$f":"IF(O1481>1,$I$1211/(O1481-1),$I$1211/O1481)","v":{"$error":"#DIV/0!"}},{"$error":"#DIV/0!"}]
[3,null,null,"EOL E-Series dual ctrl Base + 3x 60 HDD Exp, 12x8TB+180x8TB",null,"DSA-N2C7X8-12AT + 3x DSX-N6D6X8-60AT","RAID 5",0,{"$f":"IF(G1482=\"RAID 5\",(11-H1482)*7448,(10-H1482)*7448)+IF(G1482=\"RAID 5\",(55-H1482)*7448,(50-H1482)*7448)*A1482","v":1310848},{"$f":"96+(180*8)","v":1536},0,2100,1600,{"$f":"$I$1211/O1482","v":{"$error":"#DIV/0!"}},{"$f":"ROUNDUP($G$1211/I1482,0)","v":0},{"$f":"(1-(($G$1211/$I1482)-INT($G$1211/$I1482)))*I1482/1024","v":1280.125},{"$error":"#DIV/0!"},0,0,0,{"$f":"$S$259*MIN(O1482,S1218)","v":0},0,{"$error":"#DIV/0!"},{"$f":"IF(AND(IF($N1482<=$L1482,TRUE,FALSE),IF($V1482<=$R1482,TRUE,FALSE),OR(W1482=\"True\",$W$1216=\"No\")),\"<-- fits project\",\"\")","v":{"$error":"#DIV/0!"}},null,null,null,null,null,null,null,null,0,{"$f":"AG1482/$AG$1517","v":{"$error":"#DIV/0!"}},-1600,{"$f":"IF(O1482>1,$I$1211/(O1482-1),$I$1211/O1482)","v":{"$error":"#DIV/0!"}},{"$error":"#DIV/0!"}]
[0,"NetApp E-Series E2800","4TB","E-Series Base Unit, 12 x 4 TB",null,"DSA-N2E8X4-12AT","RAID 5",0,{"$f":"IF(G1483=\"RAID 5\",(11-H1483)*3724,(10-H1483)*3724)","v":40964},48,0,1250,800,{"$f":"$I$1211/O1483","v":{"$error":"#DIV/0!"}},{"$f":"ROUNDUP($G$1211/I1483,0)","v":0},{"$f":"(1-(($G$1211/$I1483)-INT($G$1211/$I1483)))*I1483/1024","v":40.00390625},{"$error":"#DIV/0!"},0,{"$f":"IF($O1483>7,OFFSET($M$255,0,$L$1211),OFFSET($M$248,O1483-1,$L$1211,1,1))","v":0},{"$f":"O1483*1*MAX($N$1528,1)","v":0},{"$f":"$S$259*MIN(O1483,S1214)","v":0},0,{"$error":"#DIV/0!"},{"$f":"IF(AND(IF($N1483<=$L1483,TRUE,FALSE),IF($V1483<=$R1483,TRUE,FALSE),OR(W1483=\"True\",$W$1216=\"No\")),\"<-- fits project\",\"\")","v":{"$error":"#DIV/0!"}},null,null,null,null,null,null,null,7.1516597619172479,0,{"$f":"AG1483/$AG$563","v":{"$error":"#DIV/0!"}},-800,{"$f":"IF(O1483>1,$I$1211/(O1483-1),$I$1211/O1483)","v":{"$error":"#DIV/0!"}},{"$error":"#DIV/0!"}]
[1,null,null,"E-Series Base + 1x Expansion Unit, 24x4TB",null,"DSA-N2E8X4-12AT + 1x DSX-N1D8X4-12AT","RAID 5",0,{"$f":"IF(G1484=\"RAID 5\",(11-H1484)*3724,(10-H1484)*3724)+IF(G1484=\"RAID 5\",(11-H1484)*3724,(10-H1484)*3724)*A1484","v":81928},{"$f":"48+A1484*48","v":96},0,1250,800,{"$error":"#DIV/0!"},0,80.0078125,{"$error":"#DIV/0!"},0,0,0,{"$f":"$S$259*MIN(O1484,S1214)","v":0},0,{"$error":"#DIV/0!"},{"$error":"#DIV/0!"},null,null,null,null,null,null,null,13.428535843515654,0,{"$error":"#DIV/0!"},-800,{"$error":"#DIV/0!"},{"$error":"#DIV/0!"}]
[2,null,null,"E-Series Base + 2x Expansion Unit, 36x4TB",null,"DSA-N2E8X4-12AT + 2x DSX-N1D8X4-12AT","RAID 5",0,122892,144,0,1250,800,{"$error":"#DIV/0!"},0,120.01171875,{"$error":"#DIV/0!"},0,0,0,{"$f":"$S$259*MIN(O1485,S1214)","v":0},0,{"$error":"#DIV/0!"},{"$error":"#DIV/0!"},null,null,null,null,null,null,null,20.580195605432902,0,{"$error":"#DIV/0!"},-800,{"$error":"#DIV/0!"},{"$error":"#DIV/0!"}]
[3,null,null,"E-Series Base + 3x Expansion Unit, 48x4TB",null,"DSA-N2E8X4-12AT + 3x DSX-N1D8X4-12AT","RAID 5",0,163856,192,0,1250,800,{"$error":"#DIV/0!"},0,160.015625,{"$error":"#DIV/0!"},0,0,0,{"$f":"$S$259*MIN(O1486,S1214)","v":0},0,{"$error":"#DIV/0!"},{"$error":"#DIV/0!"},null,null,null,null,null,null,null,27.73185536735015,0,{"$error":"#DIV/0!"},-800,{"$error":"#DIV/0!"},{"$error":"#DIV/0!"}]
[4,null,null,"E-Series Base + 4x Expansion Unit, 60x4TB",null,"DSA-N2E8X4-12AT + 4x DSX-N1D8X4-12AT","RAID 5",0,204820,240,0,1250,800,{"$error":"#DIV/0!"},0,200.01953125,{"$error":"#DIV/0!"},0,0,0,{"$f":"$S$259*MIN(O1487,S1214)","v":0},0,{"$error":"#DIV/0!"},{"$error":"#DIV/0!"},null,null,null,null,null,null,null,34.883515129267401,0,{"$error":"#DIV/0!"},-800,{"$error":"#DIV/0!"},{"$error":"#DIV/0!"}]
[5,null,null,"E-Series Base + 5x Expansion Unit, 72x4TB",null,"DSA-N2E8X4-12AT + 5x DSX-N1D8X4-12AT","RAID 5",0,245784,288,0,1250,800,{"$error":"#DIV/0!"},0,240.0234375,{"$error":"#DIV/0!"},0,0,0,{"$f":"$S$259*MIN(O1488,S1214)","v":0},0,{"$error":"#DIV/0!"},{"$error":"#DIV/0!"},null,null,null,null,null,null,null,42.035174891184646,0,{"$error":"#DIV/0!"},-800,{"$error":"#DIV/0!"},{"$error":"#DIV/0!"}]
[6,null,null,"E-Series Base + 6x Expansion Unit, 84x4TB",null,"DSA-N2E8X4-12AT + 6x DSX-N1D8X4-12AT","RAID 5",0,286748,336,0,1250,800,{"$error":"#DIV/0!"},0,280.02734375,{"$error":"#DIV/0!"},0,0,0,{"$f":"$S$259*MIN(O1489,S1214)","v":0},0,{"$error":"#DIV/0!"},{"$error":"#DIV/0!"},null,null,null,null,null,null,null,49.186834653101897,0,{"$error":"#DIV/0!"},-800,{"$error":"#DIV/0!"},{"$error":"#DIV/0!"}]
[7,null,null,"E-Series Base + 7x Expansion Unit, 96x4TB",null,"DSA-N2E8X4-12AT + 7x DSX-N1D8X4-12AT","RAID 5",0,327712,384,0,1250,800,{"$error":"#DIV/0!"},0,320.03125,{"$error":"#DIV/0!"},0,0,0,{"$f":"$S$259*MIN(O1490,S1214)","v":0},{"$f":"SUM(S1490,T1490,U1490)","v":0},{"$error":"#DIV/0!"},{"$error":"#DIV/0!"},null,null,null,null,null,null,null,56.338494415019142,0,{"$error":"#DIV/0!"},-800,{"$error":"#DIV/0!"},{"$error":"#DIV/0!"}]
[0,null,"8 TB","E-Series Base Unit, 12 x 8 TB",null,"DSA‑N2E8X8‑12AT","RAID 5",0,{"$f":"IF(G1491=\"RAID 5\",(11-H1491)*7448,(10-H1491)*7448)","v":81928},{"$f":"12*8","v":96},0,1250,800,{"$error":"#DIV/0!"},0,80.0078125,{"$error":"#DIV/0!"},0,0,0,{"$f":"$S$259*MIN(O1491,S1214)","v":0},{"$f":"SUM(S1491,T1491,U1491)","v":0},{"$error":"#DIV/0!"},{"$error":"#DIV/0!"},null,null,null,null,null,null,null,10.810739944412397,0,{"$error":"#DIV/0!"},-800,{"$error":"#DIV/0!"},{"$error":"#DIV/0!"}]
[1,null,null,"E-Series Base + 1x Expansion Unit, 24x8TB",null,"DSA-N2E8X8-12AT + 1x DSX-N1D8X8-12AT","RAID 5",0,{"$f":"IF(G1492=\"RAID 5\",(11-H1492)*7448,(10-H1492)*7448)+IF(G1492=\"RAID 5\",(11-H1492)*7448,(10-H1492)*7448)*A1492","v":163856},{"$f":"96+A1492*96","v":192},0,1250,800,{"$error":"#DIV/0!"},0,160.015625,{"$error":"#DIV/0!"},0,0,0,{"$f":"$S$259*MIN(O1492,S1214)","v":0},0,{"$error":"#DIV/0!"},{"$error":"#DIV/0!"},null,null,null,null,null,null,null,20.194097750275315,0,{"$error":"#DIV/0!"},-800,{"$error":"#DIV/0!"},{"$error":"#DIV/0!"}]
[2,null,null,"E-Series Base + 2x Expansion Unit, 36x8TB",null,"DSA-N2E8X8-12AT + 2x DSX-N1D8X8-12AT","RAID 5",0,245784,288,0,1250,800,{"$error":"#DIV/0!"},0,240.0234375,{"$error":"#DIV/0!"},0,0,0,{"$f":"$S$259*MIN(O1493,S1214)","v":0},0,{"$error":"#DIV/0!"},{"$error":"#DIV/0!"},null,null,null,null,null,null,null,31.004837694687712,0,{"$error":"#DIV/0!"},-800,{"$error":"#DIV/0!"},{"$error":"#DIV/0!"}]
[3,null,null,"E-Series Base + 3x Expansion Unit, 48x8TB",null,"DSA-N2E8X8-12AT + 3x DSX-N1D8X8-12AT","RAID 5",0,327712,384,0,1250,800,{"$error":"#DIV/0!"},0,320.03125,{"$error":"#DIV/0!"},0,0,0,{"$f":"$S$259*MIN(O1494,S1214)","v":0},0,{"$error":"#DIV/0!"},{"$error":"#DIV/0!"},null,null,null,null,null,null,null,41.815577639100113,0,{"$error":"#DIV/0!"},-800,{"$error":"#DIV/0!"},{"$error":"#DIV/0!"}]
[4,null,null,"E-Series Base + 4x Expansion Unit, 60x8TB",null,"DSA-N2E8X8-12AT + 4x DSX-N1D8X8-12AT","RAID 5",0,409640,480,0,1250,800,{"$error":"#DIV/0!"},0,400.0390625,{"$error":"#DIV/0!"},0,0,0,{"$f":"$S$259*MIN(O1495,S1214)","v":0},0,{"$error":"#DIV/0!"},{"$error":"#DIV/0!"},null,null,null,null,null,null,null,52.62631758351251,0,{"$error":"#DIV/0!"},-800,{"$error":"#DIV/0!"},{"$error":"#DIV/0!"}]
[5,null,null,"E-Series Base + 5x Expansion Unit, 72x8TB",null,"DSA-N2E8X8-12AT + 5x DSX-N1D8X8-12AT","RAID 5",0,491568,576,0,1250,800,{"$error":"#DIV/0!"},0,480.046875,{"$error":"#DIV/0!"},0,0,0,{"$f":"$S$259*MIN(O1496,S1214)","v":0},0,{"$error":"#DIV/0!"},{"$error":"#DIV/0!"},null,null,null,null,null,null,null,63.437057527924907,0,{"$error":"#DIV/0!"},-800,{"$error":"#DIV/0!"},{"$error":"#DIV/0!"}]
[6,null,null,"E-Series Base + 6x Expansion Unit, 84x8TB",null,"DSA-N2E8X8-12AT + 6x DSX-N1D8X8-12AT","RAID 5",0,573496,672,0,1250,800,{"$error":"#DIV/0!"},0,560.0546875,{"$error":"#DIV/0!"},0,0,0,{"$f":"$S$259*MIN(O1497,S1214)","v":0},0,{"$error":"#DIV/0!"},{"$error":"#DIV/0!"},null,null,null,null,null,null,null,74.247797472337297,0,{"$error":"#DIV/0!"},-800,{"$error":"#DIV/0!"},{"$error":"#DIV/0!"}]
[7,null,null,"E-Series Base + 7x Expansion Unit, 96x8TB",null,"DSA-N2E8X8-12AT + 7x DSX-N1D8X8-12AT","RAID 5",0,655424,768,0,1250,800,{"$error":"#DIV/0!"},0,640.0625,{"$error":"#DIV/0!"},0,0,0,{"$f":"$S$259*MIN(O1498,$S$260)","v":0},{"$f":"SUM(S1498,T1498,U1498)","v":0},{"$error":"#DIV/0!"},{"$error":"#DIV/0!"},null,null,null,null,null,null,null,85.058537416749701,0,{"$error":"#DIV/0!"},-800,{"$error":"#DIV/0!"},{"$error":"#DIV/0!"}]
[0,null,"10 TB","E-Series Base Unit, 12 x 10 TB",null,"DSA‑N2E8XA‑12AT","RAID 5",0,{"$f":"IF(G1499=\"RAID 5\",(11-H1499)*9310,(10-H1499)*9310)","v":102410},120,0,1250,800,{"$error":"#DIV/0!"},0,100.009765625,{"$error":"#DIV/0!"},0,0,0,{"$f":"$S$259*MIN(O1499,$S$260)","v":0},{"$f":"SUM(S1499,T1499,U1499)","v":0},{"$error":"#DIV/0!"},{"$error":"#DIV/0!"},null,null,null,null,null,null,null,null,0,{"$error":"#DIV/0!"},-800,{"$error":"#DIV/0!"},{"$error":"#DIV/0!"}]
[1,null,null,"E-Series Base + 1x Expansion Unit, 24x10TB",null,"DSA-N2E8XA-12AT + 1x DSX-N1D8XA-12AT","RAID 5",0,{"$f":"IF(G1500=\"RAID 5\",(11-H1500)*9310,(10-H1500)*9310)+IF(G1500=\"RAID 5\",(11-H1500)*9310,(10-H1500)*9310)*A1500","v":204820},{"$f":"120+A1500*120","v":240},0,1250,800,{"$error":"#DIV/0!"},0,200.01953125,{"$error":"#DIV/0!"},0,0,0,0,0,{"$error":"#DIV/0!"},{"$error":"#DIV/0!"},null,null,null,null,null,null,null,null,0,{"$error":"#DIV/0!"},-800,{"$error":"#DIV/0!"},{"$error":"#DIV/0!"}]
[2,null,null,"E-Series Base + 2x Expansion Unit, 36x10TB",null,"DSA-N2E8XA-12AT + 2x DSX-N1D8XA-12AT","RAID 5",0,307230,360,0,1250,800,{"$error":"#DIV/0!"},0,300.029296875,{"$error":"#DIV/0!"},0,0,0,0,0,{"$error":"#DIV/0!"},{"$error":"#DIV/0!"},null,null,null,null,null,null,null,null,0,{"$error":"#DIV/0!"},-800,{"$error":"#DIV/0!"},{"$error":"#DIV/0!"}]
[3,null,null,"E-Series Base + 3x Expansion Unit, 48x10TB",null,"DSA-N2E8XA-12AT + 3x DSX-N1D8XA-12AT","RAID 5",0,409640,480,0,1250,800,{"$error":"#DIV/0!"},0,400.0390625,{"$error":"#DIV/0!"},0,0,0,0,0,{"$error":"#DIV/0!"},{"$error":"#DIV/0!"},null,null,null,null,null,null,null,null,0,{"$error":"#DIV/0!"},-800,{"$error":"#DIV/0!"},{"$error":"#DIV/0!"}]
[4,null,null,"E-Series Base + 4x Expansion Unit, 60x10TB",null,"DSA-N2E8XA-12AT + 4x DSX-N1D8XA-12AT","RAID 5",0,512050,600,0,1250,800,{"$error":"#DIV/0!"},0,500.048828125,{"$error":"#DIV/0!"},0,0,0,0,0,{"$error":"#DIV/0!"},{"$error":"#DIV/0!"},null,null,null,null,null,null,null,null,0,{"$error":"#DIV/0!"},-800,{"$error":"#DIV/0!"},{"$error":"#DIV/0!"}]
[5,null,null,"E-Series Base + 5x Expansion Unit, 72x10TB",null,"DSA-N2E8XA-12AT + 5x DSX-N1D8XA-12AT","RAID 5",0,614460,720,0,1250,800,{"$error":"#DIV/0!"},0,600.05859375,{"$error":"#DIV/0!"},0,0,0,0,0,{"$error":"#DIV/0!"},{"$error":"#DIV/0!"},null,null,null,null,null,null,null,null,0,{"$error":"#DIV/0!"},-800,{"$error":"#DIV/0!"},{"$error":"#DIV/0!"}]
[6,null,null,"E-Series Base + 6x Expansion Unit, 84x10TB",null,"DSA-N2E8XA-12AT + 6x DSX-N1D8XA-12AT","RAID 5",0,716870,840,0,1250,800,{"$error":"#DIV/0!"},0,700.068359375,{"$error":"#DIV/0!"},0,0,0,0,0,{"$error":"#DIV/0!"},{"$error":"#DIV/0!"},null,null,null,null,null,null,null,null,0,{"$error":"#DIV/0!"},-800,{"$error":"#DIV/0!"},{"$error":"#DIV/0!"}]
[7,null,null,"E-Series Base + 7x Expansion Unit, 96x10TB",null,"DSA-N2E8XA-12AT + 7x DSX-N1D8XA-12AT","RAID 5",0,819280,960,0,1250,800,{"$error":"#DIV/0!"},0,800.078125,{"$error":"#DIV/0!"},0,0,0,0,0,{"$error":"#DIV/0!"},{"$error":"#DIV/0!"},null,null,null,null,null,null,null,null,0,{"$error":"#DIV/0!"},-800,{"$error":"#DIV/0!"},{"$error":"#DIV/0!"}]
[0,null,"4 TB","E-Series dual ctrl base Unit, 60x4TB",null,"DSA-N6C8X4-60AT","RAID 5",0,{"$f":"IF(G1507=\"RAID 5\",(55-H1507)*3724,(50-H1507)*3724)+IF(G1507=\"RAID 5\",(55-H1507*5)*3724,(50-H1507*5)*3724)*A1507","v":204820},{"$f":"60*4","v":240},0,1250,800,{"$error":"#DIV/0!"},0,200.01953125,{"$error":"#DIV/0!"},0,0,0,{"$f":"$S$259*MIN(O1507,S1214)","v":0},0,{"$error":"#DIV/0!"},{"$error":"#DIV/0!"},null,null,null,null,null,null,null,9.6406471236037543,0,{"$error":"#DIV/0!"},-800,{"$error":"#DIV/0!"},{"$error":"#DIV/0!"}]
[1,null,null,"E-Series dual ctrl Base + 1x 60 HDD Exp, 60x4TB+60x4TB",null,"DSA-N6C8X4-60AT + 1x DSX-N6D8X4-60AT","RAID 5",0,{"$f":"IF(G1508=\"RAID 5\",(55-H1508)*3724,(50-H1508)*3724)+IF(G1508=\"RAID 5\",(55-H1508)*3724,(50-H1508)*3724)*A1508","v":409640},{"$f":"120*4","v":480},0,1250,800,{"$error":"#DIV/0!"},0,400.0390625,{"$error":"#DIV/0!"},0,0,0,{"$f":"$S$259*MIN(O1508,S1214)","v":0},0,{"$error":"#DIV/0!"},{"$error":"#DIV/0!"},null,null,null,null,null,null,null,44.790956526299233,0,{"$error":"#DIV/0!"},-800,{"$error":"#DIV/0!"},{"$error":"#DIV/0!"}]
[2,null,null,"E-Series dual ctrl Base + 2x 60 HDD Exp, 60x4TB+120x4TB",null,"DSA-N6C8X4-60AT + 2x DSX-N6D8X4-60AT","RAID 5",0,{"$f":"IF(G1509=\"RAID 5\",(55-H1509)*3724,(50-H1509)*3724)+IF(G1509=\"RAID 5\",(55-H1509)*3724,(50-H1509)*3724)*A1509","v":614460},{"$f":"180*4","v":720},0,1250,800,{"$error":"#DIV/0!"},0,600.05859375,{"$error":"#DIV/0!"},0,0,0,{"$f":"$S$259*MIN(O1509,S1214)","v":0},0,{"$error":"#DIV/0!"},{"$error":"#DIV/0!"},null,null,null,null,null,null,null,54.431603649902982,0,{"$error":"#DIV/0!"},-800,{"$error":"#DIV/0!"},{"$error":"#DIV/0!"}]
[0,null,"8 TB","E-Series dual ctrl base Unit, 60x8TB",null,"DSA-N6C8X8-60AT","RAID 5",0,{"$f":"IF(G1510=\"RAID 5\",(55-H1510)*7448,(50-H1510)*7448)+IF(G1510=\"RAID 5\",(55-H1510*5)*7448,(50-H1510*5)*7448)*A1510","v":409640},{"$f":"60*8","v":480},0,1250,800,{"$error":"#DIV/0!"},0,400.0390625,{"$error":"#DIV/0!"},0,0,0,{"$f":"$S$259*MIN(O1510,S1214)","v":0},0,{"$error":"#DIV/0!"},{"$error":"#DIV/0!"},null,null,null,null,null,null,null,14.549137343332109,0,{"$error":"#DIV/0!"},-800,{"$error":"#DIV/0!"},{"$error":"#DIV/0!"}]
[1,null,null,"E-Series dual ctrl Base + 1x 60 HDD Exp, 60x8TB+60x8TB",null,"DSA-N6C8X8-60AT + 1x DSX-N6D8X8-60AT","RAID 5",0,{"$f":"IF(G1511=\"RAID 5\",(55-H1511)*7448,(50-H1511)*7448)+IF(G1511=\"RAID 5\",(55-H1511)*7448,(50-H1511)*7448)*A1511","v":819280},{"$f":"120*8","v":960},0,1250,800,{"$error":"#DIV/0!"},0,800.078125,{"$error":"#DIV/0!"},0,0,0,{"$f":"$S$259*MIN(O1511,S1214)","v":0},0,{"$error":"#DIV/0!"},{"$error":"#DIV/0!"},null,null,null,null,null,null,null,67.1056426661073,0,{"$error":"#DIV/0!"},-800,{"$error":"#DIV/0!"},{"$error":"#DIV/0!"}]
[2,null,null,"E-Series dual ctrl Base + 2x 60 HDD Exp, 60x8TB+120x8TB",null,"DSA-N6C8X8-60AT + 2x DSX-N6D8X8-60AT","RAID 5",0,{"$f":"IF(G1512=\"RAID 5\",(55-H1512)*7448,(50-H1512)*7448)+IF(G1512=\"RAID 5\",(55-H1512)*7448,(50-H1512)*7448)*A1512","v":1228920},{"$f":"180*8","v":1440},0,1250,800,{"$error":"#DIV/0!"},0,1200.1171875,{"$error":"#DIV/0!"},0,0,0,{"$f":"$S$259*MIN(O1512,S1214)","v":0},0,{"$error":"#DIV/0!"},{"$error":"#DIV/0!"},null,null,null,null,null,null,null,81.654780009439406,0,{"$error":"#DIV/0!"},-800,{"$error":"#DIV/0!"},{"$error":"#DIV/0!"}]
[0,null,"10 TB","E-Series dual ctrl base Unit, 60x10TB",null,"DSA-N6C8XA-60AT","RAID 5",0,{"$f":"IF(G1513=\"RAID 5\",(55-H1513)*9310,(50-H1513)*9310)+IF(G1513=\"RAID 5\",(55-H1513*5)*9310,(50-H1513*5)*9310)*A1513","v":512050},{"$f":"60*10","v":600},0,1250,800,{"$error":"#DIV/0!"},0,500.048828125,{"$error":"#DIV/0!"},0,0,0,{"$f":"$S$259*MIN(O1513,$S$260)","v":0},0,{"$error":"#DIV/0!"},{"$error":"#DIV/0!"},null,null,null,null,null,null,null,null,0,{"$error":"#DIV/0!"},-800,{"$error":"#DIV/0!"},{"$error":"#DIV/0!"}]
[1,null,null,"E-Series dual ctrl Base + 1x 60 HDD Exp, 60x10TB+60x10TB",null,"DSA-N6C8XA-60AT + 1x DSX-N6D8XA-60AT","RAID 5",0,{"$f":"IF(G1514=\"RAID 5\",(55-H1514)*9310,(50-H1514)*9310)+IF(G1514=\"RAID 5\",(55-H1514)*9310,(50-H1514)*9310)*A1514","v":1024100},{"$f":"120*10","v":1200},0,1250,800,{"$error":"#DIV/0!"},0,1000.09765625,{"$error":"#DIV/0!"},0,0,0,0,0,{"$error":"#DIV/0!"},{"$error":"#DIV/0!"},null,null,null,null,null,null,null,null,0,{"$error":"#DIV/0!"},-800,{"$error":"#DIV/0!"},{"$error":"#DIV/0!"}]
[2,null,null,"E-Series dual ctrl Base + 2x 60 HDD Exp, 60x10TB+120x10TB",null,"DSA-N6C8XA-60AT+ 2x DSX-N6D8XA-60AT","RAID 5",0,{"$f":"IF(G1515=\"RAID 5\",(55-H1515)*9310,(50-H1515)*9310)+IF(G1515=\"RAID 5\",(55-H1515)*9310,(50-H1515)*9310)*A1515","v":1536150},{"$f":"180*10","v":1800},0,1250,800,{"$error":"#DIV/0!"},0,1500.146484375,{"$error":"#DIV/0!"},0,0,0,0,0,{"$error":"#DIV/0!"},{"$error":"#DIV/0!"},null,null,null,null,null,null,null,null,0,{"$error":"#DIV/0!"},-800,{"$error":"#DIV/0!"},{"$error":"#DIV/0!"}]
[null,null,0,"EOL FAS2020 Base Unit 6x1000GB",null,"DSA-N2B20-6AT","RAID 4",0,{"$f":"IF(G1516=\"RAID 4\",(5-H1516)*633,(4-H1516)*633)+IF(G1516=\"RAID 4\",(13-H1516)*633,(12-H1516)*633)*C1516","v":3165},6,0,250,128,{"$f":"I1211/O1516","v":{"$error":"#DIV/0!"}},{"$f":"ROUNDUP(G1211/I1516,0)","v":0},{"$f":"(1-((G1211/$I1516)-INT(G1211/$I1516)))*I1516/1024","v":3.0908203125},{"$error":"#DIV/0!"},0,{"$f":"IF($O1516>7,OFFSET($M$255,0,$L$1211),OFFSET($M$248,O1516-1,$L$1211,1,1))","v":0},{"$f":"O1516*1*MAX($N$1528,1)","v":0},{"$f":"$S$259*MIN(O1516,$S$260)","v":0},0,{"$error":"#DIV/0!"},{"$f":"IF(AND(IF($N1516<=$L1516,TRUE,FALSE),IF($V1516<=$R1516,TRUE,FALSE),OR(W1516=\"True\",W1216=\"No\")),\"<-- fits project\",\"\")","v":{"$error":"#DIV/0!"}},null,null,null,null,null,null,null,2.7616058786512143,0,{"$f":"AG1516/AG1517","v":{"$error":"#DIV/0!"}},-128,{"$f":"IF(O1516>1,I1211/(O1516-1),I1211/O1516)","v":{"$error":"#DIV/0!"}},{"$error":"#DIV/0!"}]
[null,null,0,"EOL FAS2020 Base Unit 12x1000GB",null,"DSA-N2B20-12AT","RAID DP",0,{"$f":"IF(G1517=\"RAID 4\",(11-H1517)*633,(10-H1517)*633)+IF(G1517=\"RAID 4\",(13-H1517)*633,(12-H1517)*633)*C1517","v":6330},12,0,250,128,{"$f":"I1211/O1517","v":{"$error":"#DIV/0!"}},{"$f":"ROUNDUP(G1211/I1517,0)","v":0},{"$f":"(1-((G1211/$I1517)-INT(G1211/$I1517)))*I1517/1024","v":6.181640625},{"$error":"#DIV/0!"},0,0,0,0,0,{"$error":"#DIV/0!"},{"$f":"IF(AND(IF($N1517<=$L1517,TRUE,FALSE),IF($V1517<=$R1517,TRUE,FALSE),OR(W1517=\"True\",W1216=\"No\")),\"<-- fits project\",\"\")","v":{"$error":"#DIV/0!"}},null,null,null,null,null,null,null,3.9632092663485237,0,{"$f":"AG1517/AG1517","v":{"$error":"#DIV/0!"}},-128,{"$f":"IF(O1517>1,I1211/(O1517-1),I1211/O1517)","v":{"$error":"#DIV/0!"}},{"$error":"#DIV/0!"}]
[null,null,1,"EOL FAS2020 XStage1 26x1000GB",null,"DSA-N2B20-26AT","RAID DP",0,13926,26,0,250,128,{"$f":"I1211/O1518","v":{"$error":"#DIV/0!"}},{"$f":"ROUNDUP(G1211/I1518,0)","v":0},{"$f":"(1-((G1211/$I1518)-INT(G1211/$I1518)))*I1518/1024","v":13.599609375},{"$error":"#DIV/0!"},0,0,0,0,0,{"$error":"#DIV/0!"},{"$f":"IF(AND(IF($N1518<=$L1518,TRUE,FALSE),IF($V1518<=$R1518,TRUE,FALSE),OR(W1518=\"True\",W1216=\"No\")),\"<-- fits project\",\"\")","v":{"$error":"#DIV/0!"}},null,null,null,null,null,null,null,8.3377962924117686,0,{"$f":"AG1518/AG1517","v":{"$error":"#DIV/0!"}},-128,{"$f":"IF(O1518>1,I1211/(O1518-1),I1211/O1518)","v":{"$error":"#DIV/0!"}},{"$error":"#DIV/0!"}]
[null,null,2,"EOL FAS2020 XStage2 40x1000GB",null,"DSA-N2B20-40AT","RAID DP",0,21522,24,0,250,128,{"$f":"I1211/O1519","v":{"$error":"#DIV/0!"}},{"$f":"ROUNDUP(G1211/I1519,0)","v":0},{"$f":"(1-((G1211/$I1519)-INT(G1211/$I1519)))*I1519/1024","v":21.017578125},{"$error":"#DIV/0!"},0,0,0,0,0,{"$error":"#DIV/0!"},{"$f":"IF(AND(IF($N1519<=$L1519,TRUE,FALSE),IF($V1519<=$R1519,TRUE,FALSE),OR(W1519=\"True\",W1216=\"No\")),\"<-- fits project\",\"\")","v":{"$error":"#DIV/0!"}},null,null,null,null,null,null,null,12.712383318475014,0,{"$f":"AG1519/AG1517","v":{"$error":"#DIV/0!"}},-128,{"$f":"IF(O1519>1,I1211/(O1519-1),I1211/O1519)","v":{"$error":"#DIV/0!"}},{"$error":"#DIV/0!"}]
[null,null,0,"EOL FAS2040 Base Unit 12x1000GB",null,"DSA-N2B40-12AT","RAID DP",0,6330,12,0,400,256,{"$f":"I1211/O1520","v":{"$error":"#DIV/0!"}},{"$f":"ROUNDUP(G1211/I1520,0)","v":0},{"$f":"(1-((G1211/$I1520)-INT(G1211/$I1520)))*I1520/1024","v":6.181640625},{"$error":"#DIV/0!"},0,0,0,0,0,{"$error":"#DIV/0!"},{"$f":"IF(AND(IF($N1520<=$L1520,TRUE,FALSE),IF($V1520<=$R1520,TRUE,FALSE),OR(W1520=\"True\",W1216=\"No\")),\"<-- fits project\",\"\")","v":{"$error":"#DIV/0!"}},null,null,null,null,null,null,null,5.4505283444333736,0,{"$f":"AG1520/AG1517","v":{"$error":"#DIV/0!"}},-256,{"$f":"IF(O1520>1,I1211/(O1520-1),I1211/O1520)","v":{"$error":"#DIV/0!"}},{"$error":"#DIV/0!"}]
[null,null,1,"EOL FAS2040 Base + 1 x Expansion, 26x1TB",null,"DSA-N2B40-26AT","RAID DP",0,13926,26,0,400,256,{"$f":"I1211/O1521","v":{"$error":"#DIV/0!"}},{"$f":"ROUNDUP(G1211/I1521,0)","v":0},{"$f":"(1-((G1211/$I1521)-INT(G1211/$I1521)))*I1521/1024","v":13.599609375},{"$error":"#DIV/0!"},0,0,0,0,0,{"$error":"#DIV/0!"},{"$f":"IF(AND(IF($N1521<=$L1521,TRUE,FALSE),IF($V1521<=$R1521,TRUE,FALSE),OR(W1521=\"True\",W1216=\"No\")),\"<-- fits project\",\"\")","v":{"$error":"#DIV/0!"}},null,null,null,null,null,null,null,9.8251153704966168,{"$f":"AF1521*O1521","v":0},{"$f":"AG1521/AG1517","v":{"$error":"#DIV/0!"}},-256,{"$f":"IF(O1521>1,I1211/(O1521-1),I1211/O1521)","v":{"$error":"#DIV/0!"}},{"$error":"#DIV/0!"}]
[null,null,2,"EOL FAS2040 Base + 2 x Expansion, 40x1TB",null,"DSA-N2B40-40AT","RAID DP",0,21522,40,0,400,256,{"$f":"I1211/O1522","v":{"$error":"#DIV/0!"}},{"$f":"ROUNDUP(G1211/I1522,0)","v":0},{"$f":"(1-((G1211/$I1522)-INT(G1211/$I1522)))*I1522/1024","v":21.017578125},{"$error":"#DIV/0!"},0,0,0,0,0,{"$error":"#DIV/0!"},{"$f":"IF(AND(IF($N1522<=$L1522,TRUE,FALSE),IF($V1522<=$R1522,TRUE,FALSE),OR(W1522=\"True\",W1216=\"No\")),\"<-- fits project\",\"\")","v":{"$error":"#DIV/0!"}},null,null,null,null,null,null,null,14.199702396559863,0,{"$f":"AG1522/AG1517","v":{"$error":"#DIV/0!"}},-256,{"$f":"IF(O1522>1,I1211/(O1522-1),I1211/O1522)","v":{"$error":"#DIV/0!"}},{"$error":"#DIV/0!"}]
[null,null,4,"EOL FAS2040 Base + 4 x Expansion; 68x1TB",null,"DSA-N2B40-68AT","RAID DP",0,36714,68,0,400,256,{"$f":"I1211/O1523","v":{"$error":"#DIV/0!"}},{"$f":"ROUNDUP(G1211/I1523,0)","v":0},{"$f":"(1-((G1211/$I1523)-INT(G1211/$I1523)))*I1523/1024","v":35.853515625},{"$error":"#DIV/0!"},0,0,0,0,0,{"$error":"#DIV/0!"},{"$f":"IF(AND(IF($N1523<=$L1523,TRUE,FALSE),IF($V1523<=$R1523,TRUE,FALSE),OR(W1523=\"True\",W1216=\"No\")),\"<-- fits project\",\"\")","v":{"$error":"#DIV/0!"}},null,null,null,null,null,null,null,22.948876448686352,0,{"$f":"AG1523/AG1517","v":{"$error":"#DIV/0!"}},-256,{"$f":"IF(O1523>1,I1211/(O1523-1),I1211/O1523)","v":{"$error":"#DIV/0!"}},{"$error":"#DIV/0!"}]
[null,null,6,"EOL FAS2040 Base + 6 x Expansion; 96x1TB",null,"DSA-N2B40-96AT","RAID DP",0,51906,96,0,400,256,{"$f":"I1211/O1524","v":{"$error":"#DIV/0!"}},{"$f":"ROUNDUP(G1211/I1524,0)","v":0},{"$f":"(1-((G1211/$I1524)-INT(G1211/$I1524)))*I1524/1024","v":50.689453125},{"$error":"#DIV/0!"},0,0,0,0,0,{"$error":"#DIV/0!"},{"$f":"IF(AND(IF($N1524<=$L1524,TRUE,FALSE),IF($V1524<=$R1524,TRUE,FALSE),OR(W1524=\"True\",W1216=\"No\")),\"<-- fits project\",\"\")","v":{"$error":"#DIV/0!"}},null,null,null,null,null,null,null,31.69805050081284,0,{"$f":"AG1524/AG1517","v":{"$error":"#DIV/0!"}},-256,{"$f":"IF(O1524>1,I1211/(O1524-1),I1211/O1524)","v":{"$error":"#DIV/0!"}},{"$error":"#DIV/0!"}]
[null,null,null,"3th party (Project based/customized storage)",null,null,"RAID 6",0,16000,null,0,150,64,{"$f":"I1211/O1525","v":{"$error":"#DIV/0!"}},{"$f":"ROUNDUP(G1211/I1525,0)","v":0},{"$f":"(1-((G1211/$I1525)-INT(G1211/$I1525)))*I1525/1024","v":15.625},"?",0,0,0,0,0,{"$error":"#DIV/0!"},{"$f":"IF(AND(IF($N1525<=$L1525,TRUE,FALSE),IF($V1525<=$R1525,TRUE,FALSE),OR(W1525=\"True\",W1216=\"No\")),\"<-- fits project\",\"\")","v":{"$error":"#DIV/0!"}},null,null,null,null,null,null,null,null,null,null,-64,{"$f":"IF(O1525>1,I1211/(O1525-1),I1211/O1525)","v":{"$error":"#DIV/0!"}},{"$error":"#DIV/0!"}]
[]
[]
[null,null,null,null,"Primary VRM server",null,null,null,null,null,null,null,"Qty:",null,null,{"$f":"IF(AND(P1530>2048,Q1530),\"More then 2PB net storage, more than one VRM servers is required\",\"\")","v":""},null,null,null,null,null,null,null,null,null,null,{"$f":"NOT(OR(G1528=\"N.A.\",G1528=\"\"))","v":false},{"$f":"IF(OR($M$1741=1,$M$1741=3),AA1528,FALSE)","v":false}]
[null,null,null,null,"Secondary VRM server",null,null,null,null,null,null,null,"Qty:",null,null,{"$f":"IF(AND(P1530>2048,Q1530),\"More then 2PB net storage, more than one VRM servers is required\",\"\")","v":""},null,null,null,null,null,null,null,null,null,null,{"$f":"NOT(OR(G1529=\"N.A.\",G1529=\"\"))","v":false},false]
[null,null,null,null,null,null,null,null,null,null,null,null,null,null,null,{"$f":"O258+O575+O895+O1212","v":0},{"$f":"IF(OR(G188<>\"none\",I188<>\"none\",K188<>\"none\",M188<>\"none\"),FALSE,TRUE)","v":true},null,null,null,null,null,null,null,null,null,{"$f":"NOT(OR(N1528=\"N.A.\",N1528=\"\"))","v":false},false]
[null,null,null,null,null,null,null,null,null,null,null,null,null,null,null,null,null,null,null,null,null,null,null,null,null,null,false,false]
[null,null,null,null,"NVR based storage used",null,null,null,null,null,null,null,null,null,null,null,null,null,null,null,null,null,null,null,null,null,false,false]
[null,null,null,null,null,null,null,null,null,null,null,null,null,null,null,null,null,null,null,null,null,null,null,null,null,null,false,false]
[null,null,null,null,"CTN of Dibos units involved:",null,null,null,null,null,null,null,"Qty:",null,null,null,null,"MPEG-4 SD\nonly",null,null,null,null,null,null,null,null,false,false]
[null,null,null,null,"Type of SCSI array",null,null,null,null,null,null,null,"Qty:",null,null,null,null,null,null,null,null,null,null,null,null,null,false,false]
[null,null,null,null,null,null,null,null,null,null,null,null,null,null,null,null,null,null,null,null,null,null,null,null,null,null,false,false]
[null,null,null,null,"NVR server Hardware",null,null,null,null,null,null,null,"Qty:",null,null,null,null,null,null,null,null,null,null,null,null,null,false,false]
[null,null,null,null,"Type of SCSI array",null,null,null,null,null,null,null,null,null,null,null,null,null,null,null,null,null,null,null,null,null,false,false]
[null,null,null,null,"Total number of cameras per NVR",null,null,null,null,"max Mbps",null,null,null,null,null,null,null,null,null,null,null,null,null,null,null,null,false,false]
[null,null,null,null,null,null,null,null,null,null,null,null,null,null,null,null,null,null,null,null,null,null,null,null,null,null,false,false]
[null,null,null,null,"BRS - PC hardware used",null,null,null,null,null,null,null,"Qty:",null,null,null,null,"MPEG-4 SD\nH.264 SD\nH.264 HD\n3rd party cameras",null,null,null,null,null,null,null,null,false,false]
[null,null,null,null,"BRS - Bosch recording Station - Nr of Cameras",null,null,null,null,"max Mbps",null,null,null,null,null,null,null,null,null,null,null,null,null,null,null,null,false,false]
[null,null,null,null,null,null,null,null,null,null,null,null,null,null,null,null,null,null,null,null,null,null,null,null,null,null,false,false]
[null,null,null,null,null,null,null,null,null,null,null,null,null,null,null,null,null,null,null,null,null,null,null,null,null,null,false,false]
[null,null,null,null,null,null,null,null,null,null,null,null,null,null,null,null,null,null,null,null,null,null,null,null,null,null,false,false]
[null,null,null,null,null,null,null,null,null,null,null,null,null,null,null,null,null,null,null,null,null,null,null,null,null,null,{"$f":"NOT(OR(N1529=\"N.A.\",N1529=\"\"))","v":false},false]
[null,null,null,null,"Software licenses and PC hardware "]
[]
[null,null,null,null,{"$f":"IF(LEFT($G$1549,13)=\"DIVAR IP 3000\",TRUE,FALSE)","v":false},{"$f":"IF(LEFT($G$1549,9)=\"BVMS Lite\",TRUE,FALSE)","v":false},"BVMS Professional 9.0, 8Ch 2WS 1DVR 1Kb",null,null,null,null,null,null,null,{"$f":"IF(AND(LEFT($G$1549,13)=\"DIVAR IP 7000\",J1550>32),\"Warning: you are crossing 64ch on the DIVAR IP 7000, you need the MBV-BXPAN-DIP license\",\"\")","v":""}]
[null,null,null,null,{"$f":"IF(AND(E1549,OR(J1550<>0)),\"DIVAR IP 3000: Channel exp should be 0 -->\",\"\")","v":""},{"$f":"IF(AND(F1549,OR(J1550<>0,J1551<>0,N1550<>0,N1551<>0,N1552<>0)),\"Lite: All must be 0 -->\",\"\")","v":""},"Channel ext.",null,"Qty:",0,null,"Foren ext","Qty:",null,null,null,{"$f":"IF(OR(AND($G$73,NOT($G$69=\"none\")),AND($I$73,NOT($I$69=\"none\")),AND($K$73,NOT($K$69=\"none\")),AND($M$73,NOT($M$69=\"none\"))),TRUE,FALSE)","v":false},null,null,null,null,null,null,null,null,null,{"$f":"NOT(OR($G$1549=\"N.A.\",$G$1549=\"\"))","v":true},{"$f":"AA1550","v":true}]
[null,null,null,null,null,{"$f":"IF(AND(F1549,OR(J1550<>0,J1551<>0,N1550<>0,N1551<>0,N1552<>0)),\"Lite: All must be 0 -->\",\"\")","v":""},"Workstations ext",null,"Qty:",null,null,"Kbd ext","Qty:",null,null,null,{"$f":"IF((J1550+Q1552)<((P1567*N1567)+(P1568*N1568)+G148),\"Not enough channel licenses for all channels\",\"\")","v":""},null,null,null,null,null,null,null,null,null,{"$f":"NOT(OR($J$1550=\"N.A.\",$J$1550=\"\"))","v":true},{"$f":"AA1551","v":true}]
[null,null,null,null,null,{"$f":"IF(AND((LEFT(G1549,6)<>\"BVMS E\"),J1552<>0),\"Not enterprise:must be 0 -->\",\"\")","v":""},"Subsystems ext (MBV-XSUB-90)",null,"Qty:",0,null,"DVR ext","Qty:",null,null,null,{"$f":"IF(LEFT($G$1549,12)=\"BVMS Lite-32\",32,IF(LEFT($G$1549,12)=\"BVMS Lite-64\",64,IF(LEFT($G$1549,9)=\"DIVAR IP \",32,8)))","v":8},{"$f":"IF(LEFT($G$1549,12)=\"BVMS Lite-32\",2,IF(LEFT($G$1549,12)=\"BVMS Lite-64\",4,IF(LEFT($G$1549,13)=\"DIVAR IP 3000\",4,IF(LEFT($G$1549,13)=\"DIVAR IP 7000\",4,2))))","v":2},null,null,null,null,null,null,null,null,{"$f":"NOT(OR($J$1551=\"N.A.\",$J$1551=\"\"))","v":false},{"$f":"AA1552","v":false}]
[null,null,null,null,null,{"$f":"IF(AND((LEFT(G1549,6)<>\"BVMS E\"),I1553<>none),\"Not enterprise:must be 'None' -->\",\"\")","v":""},"Subsystems type",null,"None",null,null,null,null,null,null,null,{"$f":"IF(AND(I1553<>\"None\",J1552<>0,LEFT(G1549,6)=\"BVMS E\"),\"Remark: For slave sites of an enterprise system, please fill in separate BVMS checklist(s)\",\"\")","v":""}]
[null,null,null,null,null,null,"Dual Recording/secondary recording licenses (MBV-XDUR-90)",null,"Qty:",0,null,"MBV-XMVS-90","Qty:",null,null,null,null,null,null,null,null,null,null,null,null,null,{"$f":"NOT(OR($J$1554=\"N.A.\",$J$1554=\"\"))","v":true},{"$f":"AA1554","v":true}]
[null,null,null,null,null,null,"Failover recording licenses (MBV-XFOV-90)",null,"Qty:",null,null,"MBV-FEUP-90","Qty:",null,null,null,null,null,null,null,null,null,null,null,null,null,{"$f":"NOT(OR($J$1555=\"N.A.\",$J$1555=\"\"))","v":false},{"$f":"AA1555","v":false}]
[null,null,null,null,null,null,"Unmanaged sites (MBV-XSITE-90)",null,"Qty:"]
[null,null,null,null,null,null,null,null,null,null,null,null,null,null,null,null,null,null,null,null,null,null,null,null,null,null,{"$f":"NOT(OR($N$1554=\"N.A.\",$N$1554=\"\"))","v":false},{"$f":"AA1557","v":false}]
[null,null,null,null,"Type of workstation:",null,null,null,null,null,null,null,"Qty:",null,null,null,{"$f":"IF((J1551+R1552)<(N1558),\"Not enough WS licenses for all channels; DIP has one reserved for the local interface\",\"\")","v":""},null,null,null,null,null,null,null,null,null,{"$f":"NOT(OR($N$1555=\"N.A.\",$N$1555=\"\"))","v":false},{"$f":"AA1558","v":false}]
[null,null,null,null,null,null,null,null,null,null,null,null,null,null,null,null,{"$f":"IF($G$1558=\"Same as Central server as this in an All-in-one system\",\"  <-- Fill in 0 here\",\"\")","v":""},null,null,null,null,null,null,null,null,null,{"$f":"NOT(OR($G$1558=\"N.A.\",$G$1558=\"\"))","v":false},{"$f":"AA1559","v":false}]
[null,null,null,null,"Central Server Hardware",null,null,null,null,null,null,null,"Qty:"]
[null,null,null,null,null,null,null,null,null,null,null,null,null,null,null,null,{"$f":"IF($G$1558=\"Same as Central server as this in an All-in-one system\",\"  <-- Fill in 1 here\",\"\")","v":""},null,null,null,null,null,null,null,null,null,{"$f":"NOT(OR($G$1560=\"N.A.\",$G$1560=\"\"))","v":false},false]
[null,null,null,null,null,null,null,null,null,null,null,null,null,null,null,null,null,null,null,null,null,null,null,null,null,null,{"$f":"NOT(OR($N$1550=\"N.A.\",$N$1550=\"\"))","v":false},false]
[null,null,null,null,null,null,null,null,null,null,null,null,null,null,null,null,null,null,null,null,null,null,null,null,null,null,{"$f":"NOT(OR($N$1551=\"N.A.\",$N$1551=\"\"))","v":false},false]
[null,null,null,null,"Miscellaneous",null,{"$f":"IF(OR(G1567=\"VIP-XD\",G1567=\"VIP-XDA\"),IF(S85,\"VIP-XD doesn’t support HD video\",\"\"),\"\")","v":""},null,null,null,null,null,null,null,null,null,null,null,null,null,null,null,null,null,null,null,{"$f":"NOT(OR($N$1558=\"N.A.\",$N$1558=\"\"))","v":false},false]
[null,null,null,null,null,null,{"$f":"IF(OR(G1567=\"VIP-XD\",G1567=\"VIP-XDA\"),IF(S139,\"VIP XD requires BP+ stream. ARM platform max 1.2Mbps / XFM4 platform max 2.5 Mbps\",\"\"),\"\")","v":""},null,null,null,null,null,null,null,null,"channel usage:",null,null,null,null,null,null,null,null,null,null,{"$f":"NOT(OR($N$1560=\"N.A.\",$N$1560=\"\"))","v":false},false]
[null,null,null,null,"Transcoders",null,null,null,null,null,null,null,"Qty:",null,null,null,null,null,null,null,null,null,null,null,null,null,{"$f":"NOT(OR($N$1552=\"N.A.\",$N$1552=\"\"))","v":false},{"$f":"IF(OR($M$1741=2,$M$1741=3),AA1566,FALSE)","v":false}]
[null,null,null,null,"Decoders group1",null,"None",null,null,null,null,null,"Qty:",null,null,{"$f":"VLOOKUP(G1567,DECODERS,2,FALSE)","v":0},null,null,null,null,null,null,null,null,null,null,{"$f":"NOT(OR($J$1552=\"N.A.\",$J$1552=\"\"))","v":true},{"$f":"IF(OR($M$1741=2,$M$1741=3),AA1567,FALSE)","v":true}]
[null,null,null,null,"Decoders group2",null,"None",null,null,null,null,null,"Qty:",null,null,{"$f":"VLOOKUP(G1568,DECODERS,2,FALSE)","v":0},null,null,null,null,null,null,null,null,null,null,{"$f":"NOT(OR($G$1568=\"N.A.\",$G$1568=\"\"))","v":true},{"$f":"IF(OR($M$1741=2,$M$1741=3),AA1568,FALSE)","v":true}]
[null,null,null,null,null,null,{"$f":"IF(OR(G1567=\"VIP-XD\",G1568=\"VIP-XD\"),\"Note: VIP XD not compatible to all cameras!\",\"\")","v":""},null,null,null,null,null,null,null,null,null,null,null,null,null,null,null,null,null,null,null,{"$f":"NOT(OR($N$1567=\"N.A.\",$N$1567=\"\"))","v":false},false]
[null,null,null,null,"Audio",null,null,null,null,null,null,null,null,null,null,null,null,null,null,null,null,null,null,null,null,null,{"$f":"NOT(OR($G$1567=\"N.A.\",$G$1567=\"\"))","v":true},true]
[null,null,null,null,null,null,null,null,null,null,null,null,null,null,null,null,null,null,null,null,null,null,null,null,null,null,{"$f":"NOT(OR($N$1566=\"N.A.\",$N$1566=\"\"))","v":false},{"$f":"AA1571","v":false}]
[null,null,null,null,"IP Network",null,"Brand",null,"Type",null,"Speed",null,"Dedicated",null,null,null,null,null,null,null,null,null,null,null,null,null,{"$f":"NOT(OR($G$1566=\"N.A.\",$G$1566=\"\"))","v":false},{"$f":"AA1572","v":false}]
[null,null,null,null,null,null,null,null,null,null,null,null,null,null,null,null,null,null,null,null,null,null,null,null,null,null,{"$f":"NOT(OR($N$1568=\"N.A.\",$N$1568=\"\"))","v":false},{"$f":"AA1573","v":false}]
[null,null,null,null,"Other Useful Information:",null,null,null,null,null,null,null,null,null,null,null,null,null,null,null,null,null,null,null,null,null,"get to 21 NVR",{"$f":"IF(OR($M$1741=2,$M$1741=0),TRUE,FALSE)","v":false}]
[null,null,null,null,null,null,null,null,null,null,null,null,null,null,null,null,null,null,null,null,null,null,null,null,null,null,"get to 21 NVR",{"$f":"IF(OR($M$1741=2,$M$1741=0),TRUE,FALSE)","v":false}]
[null,null,null,null,null,null,null,null,null,null,null,null,null,null,null,null,null,null,null,null,null,null,null,null,null,null,"get to 21 NVR",{"$f":"IF(OR($M$1741=2,$M$1741=0),TRUE,FALSE)","v":false}]
[]
[null,null,null,null,null,null,null,null,null,null,null,null,null,null,null,null,null,null,null,null,null,null,null,null,null,null,"get to 21 VRM",{"$f":"IF($M$1741=1,TRUE,FALSE)","v":false}]
[null,null,null,null,"Remarks",null,null,null,null,null,null,null,null,null,null,null,null,null,null,null,null,null,null,null,null,null,"get to 21 with live",{"$f":"IF($M$1741=0,TRUE,FALSE)","v":false}]
[]
[]
[]
[]
[null,null,null,null,"We hereby confirm that no functionality has been offered/promised beyond the known features of Bosch VMS 5.0"]
[]
[]
[null,null,null,null,null,null,null,"Date:"]
[]
[null,null,{"$f":"D37&\" \"&D38&\" - based VRM storage estimator Rev. v0.997 (1 July 2010)\"","v":"BVMS project checklist Version : v 11.0.73 - based VRM storage estimator Rev. v0.997 (1 July 2010)"}]
[null,null,"VRM mode used for calculation in this sheet:",null,null,"Automatic mode (new since VRM 2.20)"]
[]
[]
[]
[]
[null,null,null,null,null,null,null,null,null,null,null,null,null,null,null,null,null,null,null,null,null,null,null,null,null,null,{"$f":"INDEX(benchmark_records!L$1:L$6720,MATCH(1,($H1600=_cam1)*($I1600=_cam2)*($J1600=_cam3)*($K1600=_cam4)*($L1600=res_enc1),0))","v":{"$error":"#N/A"}}]
[]
[null,null,null,null,null,null,null,null,null,null,null,null,null,null,null,null,null,null,null,null,null,null,null,null,null,null,"Camera 1",null,null,null,"Camera 2",null,null,null,"Camera 3",null,null,null,"Camera 4"]
[null,null,null,null,null,null,null,"Used cameras",null,null,null,"Resolution",null,"Video",null,null,null,"Video",null,null,null,null,null,null,null,null,"Encoder 1",null,"Encoder 2",null,"Encoder 1",null,"Encoder 2",null,"Encoder 1",null,"Encoder 2",null,"Encoder 1",null,"Encoder 2"]
[null,null,null,null,null,null,null,1,2,3,4,"Encoder 1","Encoder 2","Standard",null,null,"Codec","Scene","ISCSI",null,null,"IVMD",null,null,null,null,"Data Rate","Frame Rate","Data Rate","Frame Rate","Data Rate","Frame Rate","Data Rate","Frame Rate","Data Rate","Frame Rate","Data Rate","Frame Rate","Data Rate","Frame Rate","Data Rate","Frame Rate"]
[null,null,null,null,null,null,null,{"$f":"H1698","v":0},0,0,0,{"$f":"G78","v":"720p"},{"$f":"G87","v":"Copy stream1"},"PAL",null,null,{"$f":"G1698","v":"-"},{"$f":"G72","v":"Medium"},{"$f":"IF(G74=\"Direct-iSCSI/VRM-iSCSI\",1,IF(G74=\"ANR:Local and VRM iSCSI (VJ X only)\",2,0))","v":1},null,null,0,null,null,null,null,{"$f":"INDEX(benchmark_records!L$1:L$6720,MATCH(1,($H1600=_cam1)*($I1600=_cam2)*($J1600=_cam3)*($K1600=_cam4)*($L1600=res_enc1)*($M1600=res_enc2)*($N1600=video_standard)*($Q1600=codec)*($R1600=scene_activity)*($S1600=iscsi_on)*($V1600=vca_on),0))","v":{"$error":"#N/A"}},{"$f":"INDEX(benchmark_records!M$1:M$6720,MATCH(1,($H1600=_cam1)*($I1600=_cam2)*($J1600=_cam3)*($K1600=_cam4)*($L1600=res_enc1)*($M1600=res_enc2)*($N1600=video_standard)*($Q1600=codec)*($R1600=scene_activity)*($S1600=iscsi_on)*($V1600=vca_on),0))","v":{"$error":"#N/A"}},{"$f":"INDEX(benchmark_records!N$1:N$6720,MATCH(1,($H1600=_cam1)*($I1600=_cam2)*($J1600=_cam3)*($K1600=_cam4)*($L1600=res_enc1)*($M1600=res_enc2)*($N1600=video_standard)*($Q1600=codec)*($R1600=scene_activity)*($S1600=iscsi_on)*($V1600=vca_on),0))","v":{"$error":"#N/A"}},{"$f":"INDEX(benchmark_records!O$1:O$6720,MATCH(1,($H1600=_cam1)*($I1600=_cam2)*($J1600=_cam3)*($K1600=_cam4)*($L1600=res_enc1)*($M1600=res_enc2)*($N1600=video_standard)*($Q1600=codec)*($R1600=scene_activity)*($S1600=iscsi_on)*($V1600=vca_on),0))","v":{"$error":"#N/A"}},{"$f":"INDEX(benchmark_records!P$1:P$6720,MATCH(1,($H1600=_cam1)*($I1600=_cam2)*($J1600=_cam3)*($K1600=_cam4)*($L1600=res_enc1)*($M1600=res_enc2)*($N1600=video_standard)*($Q1600=codec)*($R1600=scene_activity)*($S1600=iscsi_on)*($V1600=vca_on),0))","v":{"$error":"#N/A"}},{"$f":"INDEX(benchmark_records!Q$1:Q$6720,MATCH(1,($H1600=_cam1)*($I1600=_cam2)*($J1600=_cam3)*($K1600=_cam4)*($L1600=res_enc1)*($M1600=res_enc2)*($N1600=video_standard)*($Q1600=codec)*($R1600=scene_activity)*($S1600=iscsi_on)*($V1600=vca_on),0))","v":{"$error":"#N/A"}},{"$f":"INDEX(benchmark_records!R$1:R$6720,MATCH(1,($H1600=_cam1)*($I1600=_cam2)*($J1600=_cam3)*($K1600=_cam4)*($L1600=res_enc1)*($M1600=res_enc2)*($N1600=video_standard)*($Q1600=codec)*($R1600=scene_activity)*($S1600=iscsi_on)*($V1600=vca_on),0))","v":{"$error":"#N/A"}},{"$f":"INDEX(benchmark_records!S$1:S$6720,MATCH(1,($H1600=_cam1)*($I1600=_cam2)*($J1600=_cam3)*($K1600=_cam4)*($L1600=res_enc1)*($M1600=res_enc2)*($N1600=video_standard)*($Q1600=codec)*($R1600=scene_activity)*($S1600=iscsi_on)*($V1600=vca_on),0))","v":{"$error":"#N/A"}},{"$f":"INDEX(benchmark_records!T$1:T$6720,MATCH(1,($H1600=_cam1)*($I1600=_cam2)*($J1600=_cam3)*($K1600=_cam4)*($L1600=res_enc1)*($M1600=res_enc2)*($N1600=video_standard)*($Q1600=codec)*($R1600=scene_activity)*($S1600=iscsi_on)*($V1600=vca_on),0))","v":{"$error":"#N/A"}},{"$f":"INDEX(benchmark_records!U$1:U$6720,MATCH(1,($H1600=_cam1)*($I1600=_cam2)*($J1600=_cam3)*($K1600=_cam4)*($L1600=res_enc1)*($M1600=res_enc2)*($N1600=video_standard)*($Q1600=codec)*($R1600=scene_activity)*($S1600=iscsi_on)*($V1600=vca_on),0))","v":{"$error":"#N/A"}},{"$f":"INDEX(benchmark_records!V$1:V$6720,MATCH(1,($H1600=_cam1)*($I1600=_cam2)*($J1600=_cam3)*($K1600=_cam4)*($L1600=res_enc1)*($M1600=res_enc2)*($N1600=video_standard)*($Q1600=codec)*($R1600=scene_activity)*($S1600=iscsi_on)*($V1600=vca_on),0))","v":{"$error":"#N/A"}},{"$f":"INDEX(benchmark_records!W$1:W$6720,MATCH(1,($H1600=_cam1)*($I1600=_cam2)*($J1600=_cam3)*($K1600=_cam4)*($L1600=res_enc1)*($M1600=res_enc2)*($N1600=video_standard)*($Q1600=codec)*($R1600=scene_activity)*($S1600=iscsi_on)*($V1600=vca_on),0))","v":{"$error":"#N/A"}},{"$f":"INDEX(benchmark_records!X$1:X$6720,MATCH(1,($H1600=_cam1)*($I1600=_cam2)*($J1600=_cam3)*($K1600=_cam4)*($L1600=res_enc1)*($M1600=res_enc2)*($N1600=video_standard)*($Q1600=codec)*($R1600=scene_activity)*($S1600=iscsi_on)*($V1600=vca_on),0))","v":{"$error":"#N/A"}},{"$f":"INDEX(benchmark_records!Y$1:Y$6720,MATCH(1,($H1600=_cam1)*($I1600=_cam2)*($J1600=_cam3)*($K1600=_cam4)*($L1600=res_enc1)*($M1600=res_enc2)*($N1600=video_standard)*($Q1600=codec)*($R1600=scene_activity)*($S1600=iscsi_on)*($V1600=vca_on),0))","v":{"$error":"#N/A"}},{"$f":"INDEX(benchmark_records!Z$1:Z$6720,MATCH(1,($H1600=_cam1)*($I1600=_cam2)*($J1600=_cam3)*($K1600=_cam4)*($L1600=res_enc1)*($M1600=res_enc2)*($N1600=video_standard)*($Q1600=codec)*($R1600=scene_activity)*($S1600=iscsi_on)*($V1600=vca_on),0))","v":{"$error":"#N/A"}},{"$f":"INDEX(benchmark_records!AA$1:AA$6720,MATCH(1,($H1600=_cam1)*($I1600=_cam2)*($J1600=_cam3)*($K1600=_cam4)*($L1600=res_enc1)*($M1600=res_enc2)*($N1600=video_standard)*($Q1600=codec)*($R1600=scene_activity)*($S1600=iscsi_on)*($V1600=vca_on),0))","v":{"$error":"#N/A"}}]
[null,null,null,null,null,null,null,0,0,0,0,{"$f":"I78","v":"1080p"},{"$f":"I87","v":"Copy stream1"},"PAL",null,null,{"$f":"G1699","v":"-"},{"$f":"I72","v":"Medium"},{"$f":"IF(I74=\"Direct-iSCSI/VRM-iSCSI\",1,IF(I74=\"ANR:Local and VRM iSCSI (VJ X only)\",2,0))","v":1},null,null,0,null,null,null,null,{"$f":"INDEX(benchmark_records!L$1:L$6720,MATCH(1,($H1601=_cam1)*($I1601=_cam2)*($J1601=_cam3)*($K1601=_cam4)*($L1601=res_enc1)*($M1601=res_enc2)*($N1601=video_standard)*($Q1601=codec)*($R1601=scene_activity)*($S1601=iscsi_on)*($V1601=vca_on),0))","v":{"$error":"#N/A"}},{"$f":"INDEX(benchmark_records!M$1:M$6720,MATCH(1,($H1601=_cam1)*($I1601=_cam2)*($J1601=_cam3)*($K1601=_cam4)*($L1601=res_enc1)*($M1601=res_enc2)*($N1601=video_standard)*($Q1601=codec)*($R1601=scene_activity)*($S1601=iscsi_on)*($V1601=vca_on),0))","v":{"$error":"#N/A"}},{"$f":"INDEX(benchmark_records!N$1:N$6720,MATCH(1,($H1601=_cam1)*($I1601=_cam2)*($J1601=_cam3)*($K1601=_cam4)*($L1601=res_enc1)*($M1601=res_enc2)*($N1601=video_standard)*($Q1601=codec)*($R1601=scene_activity)*($S1601=iscsi_on)*($V1601=vca_on),0))","v":{"$error":"#N/A"}},{"$f":"INDEX(benchmark_records!O$1:O$6720,MATCH(1,($H1601=_cam1)*($I1601=_cam2)*($J1601=_cam3)*($K1601=_cam4)*($L1601=res_enc1)*($M1601=res_enc2)*($N1601=video_standard)*($Q1601=codec)*($R1601=scene_activity)*($S1601=iscsi_on)*($V1601=vca_on),0))","v":{"$error":"#N/A"}},{"$f":"INDEX(benchmark_records!P$1:P$6720,MATCH(1,($H1601=_cam1)*($I1601=_cam2)*($J1601=_cam3)*($K1601=_cam4)*($L1601=res_enc1)*($M1601=res_enc2)*($N1601=video_standard)*($Q1601=codec)*($R1601=scene_activity)*($S1601=iscsi_on)*($V1601=vca_on),0))","v":{"$error":"#N/A"}},{"$f":"INDEX(benchmark_records!Q$1:Q$6720,MATCH(1,($H1601=_cam1)*($I1601=_cam2)*($J1601=_cam3)*($K1601=_cam4)*($L1601=res_enc1)*($M1601=res_enc2)*($N1601=video_standard)*($Q1601=codec)*($R1601=scene_activity)*($S1601=iscsi_on)*($V1601=vca_on),0))","v":{"$error":"#N/A"}},{"$f":"INDEX(benchmark_records!R$1:R$6720,MATCH(1,($H1601=_cam1)*($I1601=_cam2)*($J1601=_cam3)*($K1601=_cam4)*($L1601=res_enc1)*($M1601=res_enc2)*($N1601=video_standard)*($Q1601=codec)*($R1601=scene_activity)*($S1601=iscsi_on)*($V1601=vca_on),0))","v":{"$error":"#N/A"}},{"$f":"INDEX(benchmark_records!S$1:S$6720,MATCH(1,($H1601=_cam1)*($I1601=_cam2)*($J1601=_cam3)*($K1601=_cam4)*($L1601=res_enc1)*($M1601=res_enc2)*($N1601=video_standard)*($Q1601=codec)*($R1601=scene_activity)*($S1601=iscsi_on)*($V1601=vca_on),0))","v":{"$error":"#N/A"}},{"$f":"INDEX(benchmark_records!T$1:T$6720,MATCH(1,($H1601=_cam1)*($I1601=_cam2)*($J1601=_cam3)*($K1601=_cam4)*($L1601=res_enc1)*($M1601=res_enc2)*($N1601=video_standard)*($Q1601=codec)*($R1601=scene_activity)*($S1601=iscsi_on)*($V1601=vca_on),0))","v":{"$error":"#N/A"}},{"$f":"INDEX(benchmark_records!U$1:U$6720,MATCH(1,($H1601=_cam1)*($I1601=_cam2)*($J1601=_cam3)*($K1601=_cam4)*($L1601=res_enc1)*($M1601=res_enc2)*($N1601=video_standard)*($Q1601=codec)*($R1601=scene_activity)*($S1601=iscsi_on)*($V1601=vca_on),0))","v":{"$error":"#N/A"}},{"$f":"INDEX(benchmark_records!V$1:V$6720,MATCH(1,($H1601=_cam1)*($I1601=_cam2)*($J1601=_cam3)*($K1601=_cam4)*($L1601=res_enc1)*($M1601=res_enc2)*($N1601=video_standard)*($Q1601=codec)*($R1601=scene_activity)*($S1601=iscsi_on)*($V1601=vca_on),0))","v":{"$error":"#N/A"}},{"$f":"INDEX(benchmark_records!W$1:W$6720,MATCH(1,($H1601=_cam1)*($I1601=_cam2)*($J1601=_cam3)*($K1601=_cam4)*($L1601=res_enc1)*($M1601=res_enc2)*($N1601=video_standard)*($Q1601=codec)*($R1601=scene_activity)*($S1601=iscsi_on)*($V1601=vca_on),0))","v":{"$error":"#N/A"}},{"$f":"INDEX(benchmark_records!X$1:X$6720,MATCH(1,($H1601=_cam1)*($I1601=_cam2)*($J1601=_cam3)*($K1601=_cam4)*($L1601=res_enc1)*($M1601=res_enc2)*($N1601=video_standard)*($Q1601=codec)*($R1601=scene_activity)*($S1601=iscsi_on)*($V1601=vca_on),0))","v":{"$error":"#N/A"}},{"$f":"INDEX(benchmark_records!Y$1:Y$6720,MATCH(1,($H1601=_cam1)*($I1601=_cam2)*($J1601=_cam3)*($K1601=_cam4)*($L1601=res_enc1)*($M1601=res_enc2)*($N1601=video_standard)*($Q1601=codec)*($R1601=scene_activity)*($S1601=iscsi_on)*($V1601=vca_on),0))","v":{"$error":"#N/A"}},{"$f":"INDEX(benchmark_records!Z$1:Z$6720,MATCH(1,($H1601=_cam1)*($I1601=_cam2)*($J1601=_cam3)*($K1601=_cam4)*($L1601=res_enc1)*($M1601=res_enc2)*($N1601=video_standard)*($Q1601=codec)*($R1601=scene_activity)*($S1601=iscsi_on)*($V1601=vca_on),0))","v":{"$error":"#N/A"}},{"$f":"INDEX(benchmark_records!AA$1:AA$6720,MATCH(1,($H1601=_cam1)*($I1601=_cam2)*($J1601=_cam3)*($K1601=_cam4)*($L1601=res_enc1)*($M1601=res_enc2)*($N1601=video_standard)*($Q1601=codec)*($R1601=scene_activity)*($S1601=iscsi_on)*($V1601=vca_on),0))","v":{"$error":"#N/A"}}]
[null,null,null,null,null,null,null,0,0,0,0,{"$f":"K78","v":"1080p"},{"$f":"K87","v":"Copy stream1"},"PAL",null,null,{"$f":"G1700","v":"-"},{"$f":"K72","v":"Medium"},{"$f":"IF(K74=\"Direct-iSCSI/VRM-iSCSI\",1,IF(K74=\"ANR:Local and VRM iSCSI (VJ X only)\",2,0))","v":1},null,null,0,null,null,null,null,{"$f":"INDEX(benchmark_records!L$1:L$6720,MATCH(1,($H1602=_cam1)*($I1602=_cam2)*($J1602=_cam3)*($K1602=_cam4)*($L1602=res_enc1)*($M1602=res_enc2)*($N1602=video_standard)*($Q1602=codec)*($R1602=scene_activity)*($S1602=iscsi_on)*($V1602=vca_on),0))","v":{"$error":"#N/A"}},{"$f":"INDEX(benchmark_records!M$1:M$6720,MATCH(1,($H1602=_cam1)*($I1602=_cam2)*($J1602=_cam3)*($K1602=_cam4)*($L1602=res_enc1)*($M1602=res_enc2)*($N1602=video_standard)*($Q1602=codec)*($R1602=scene_activity)*($S1602=iscsi_on)*($V1602=vca_on),0))","v":{"$error":"#N/A"}},{"$f":"INDEX(benchmark_records!N$1:N$6720,MATCH(1,($H1602=_cam1)*($I1602=_cam2)*($J1602=_cam3)*($K1602=_cam4)*($L1602=res_enc1)*($M1602=res_enc2)*($N1602=video_standard)*($Q1602=codec)*($R1602=scene_activity)*($S1602=iscsi_on)*($V1602=vca_on),0))","v":{"$error":"#N/A"}},{"$f":"INDEX(benchmark_records!O$1:O$6720,MATCH(1,($H1602=_cam1)*($I1602=_cam2)*($J1602=_cam3)*($K1602=_cam4)*($L1602=res_enc1)*($M1602=res_enc2)*($N1602=video_standard)*($Q1602=codec)*($R1602=scene_activity)*($S1602=iscsi_on)*($V1602=vca_on),0))","v":{"$error":"#N/A"}},{"$f":"INDEX(benchmark_records!P$1:P$6720,MATCH(1,($H1602=_cam1)*($I1602=_cam2)*($J1602=_cam3)*($K1602=_cam4)*($L1602=res_enc1)*($M1602=res_enc2)*($N1602=video_standard)*($Q1602=codec)*($R1602=scene_activity)*($S1602=iscsi_on)*($V1602=vca_on),0))","v":{"$error":"#N/A"}},{"$f":"INDEX(benchmark_records!Q$1:Q$6720,MATCH(1,($H1602=_cam1)*($I1602=_cam2)*($J1602=_cam3)*($K1602=_cam4)*($L1602=res_enc1)*($M1602=res_enc2)*($N1602=video_standard)*($Q1602=codec)*($R1602=scene_activity)*($S1602=iscsi_on)*($V1602=vca_on),0))","v":{"$error":"#N/A"}},{"$f":"INDEX(benchmark_records!R$1:R$6720,MATCH(1,($H1602=_cam1)*($I1602=_cam2)*($J1602=_cam3)*($K1602=_cam4)*($L1602=res_enc1)*($M1602=res_enc2)*($N1602=video_standard)*($Q1602=codec)*($R1602=scene_activity)*($S1602=iscsi_on)*($V1602=vca_on),0))","v":{"$error":"#N/A"}},{"$f":"INDEX(benchmark_records!S$1:S$6720,MATCH(1,($H1602=_cam1)*($I1602=_cam2)*($J1602=_cam3)*($K1602=_cam4)*($L1602=res_enc1)*($M1602=res_enc2)*($N1602=video_standard)*($Q1602=codec)*($R1602=scene_activity)*($S1602=iscsi_on)*($V1602=vca_on),0))","v":{"$error":"#N/A"}},{"$f":"INDEX(benchmark_records!T$1:T$6720,MATCH(1,($H1602=_cam1)*($I1602=_cam2)*($J1602=_cam3)*($K1602=_cam4)*($L1602=res_enc1)*($M1602=res_enc2)*($N1602=video_standard)*($Q1602=codec)*($R1602=scene_activity)*($S1602=iscsi_on)*($V1602=vca_on),0))","v":{"$error":"#N/A"}},{"$f":"INDEX(benchmark_records!U$1:U$6720,MATCH(1,($H1602=_cam1)*($I1602=_cam2)*($J1602=_cam3)*($K1602=_cam4)*($L1602=res_enc1)*($M1602=res_enc2)*($N1602=video_standard)*($Q1602=codec)*($R1602=scene_activity)*($S1602=iscsi_on)*($V1602=vca_on),0))","v":{"$error":"#N/A"}},{"$f":"INDEX(benchmark_records!V$1:V$6720,MATCH(1,($H1602=_cam1)*($I1602=_cam2)*($J1602=_cam3)*($K1602=_cam4)*($L1602=res_enc1)*($M1602=res_enc2)*($N1602=video_standard)*($Q1602=codec)*($R1602=scene_activity)*($S1602=iscsi_on)*($V1602=vca_on),0))","v":{"$error":"#N/A"}},{"$f":"INDEX(benchmark_records!W$1:W$6720,MATCH(1,($H1602=_cam1)*($I1602=_cam2)*($J1602=_cam3)*($K1602=_cam4)*($L1602=res_enc1)*($M1602=res_enc2)*($N1602=video_standard)*($Q1602=codec)*($R1602=scene_activity)*($S1602=iscsi_on)*($V1602=vca_on),0))","v":{"$error":"#N/A"}},{"$f":"INDEX(benchmark_records!X$1:X$6720,MATCH(1,($H1602=_cam1)*($I1602=_cam2)*($J1602=_cam3)*($K1602=_cam4)*($L1602=res_enc1)*($M1602=res_enc2)*($N1602=video_standard)*($Q1602=codec)*($R1602=scene_activity)*($S1602=iscsi_on)*($V1602=vca_on),0))","v":{"$error":"#N/A"}},{"$f":"INDEX(benchmark_records!Y$1:Y$6720,MATCH(1,($H1602=_cam1)*($I1602=_cam2)*($J1602=_cam3)*($K1602=_cam4)*($L1602=res_enc1)*($M1602=res_enc2)*($N1602=video_standard)*($Q1602=codec)*($R1602=scene_activity)*($S1602=iscsi_on)*($V1602=vca_on),0))","v":{"$error":"#N/A"}},{"$f":"INDEX(benchmark_records!Z$1:Z$6720,MATCH(1,($H1602=_cam1)*($I1602=_cam2)*($J1602=_cam3)*($K1602=_cam4)*($L1602=res_enc1)*($M1602=res_enc2)*($N1602=video_standard)*($Q1602=codec)*($R1602=scene_activity)*($S1602=iscsi_on)*($V1602=vca_on),0))","v":{"$error":"#N/A"}},{"$f":"INDEX(benchmark_records!AA$1:AA$6720,MATCH(1,($H1602=_cam1)*($I1602=_cam2)*($J1602=_cam3)*($K1602=_cam4)*($L1602=res_enc1)*($M1602=res_enc2)*($N1602=video_standard)*($Q1602=codec)*($R1602=scene_activity)*($S1602=iscsi_on)*($V1602=vca_on),0))","v":{"$error":"#N/A"}}]
[null,null,null,null,null,null,null,0,0,0,0,{"$f":"M78","v":"1080p"},{"$f":"M87","v":"Copy stream1"},"PAL",null,null,{"$f":"G1701","v":"-"},{"$f":"M72","v":"Medium"},{"$f":"IF(M74=\"Direct-iSCSI/VRM-iSCSI\",1,IF(M74=\"ANR:Local and VRM iSCSI (VJ X only)\",2,0))","v":1},null,null,0,null,null,null,null,{"$f":"INDEX(benchmark_records!L$1:L$6720,MATCH(1,($H1603=_cam1)*($I1603=_cam2)*($J1603=_cam3)*($K1603=_cam4)*($L1603=res_enc1)*($M1603=res_enc2)*($N1603=video_standard)*($Q1603=codec)*($R1603=scene_activity)*($S1603=iscsi_on)*($V1603=vca_on),0))","v":{"$error":"#N/A"}},{"$f":"INDEX(benchmark_records!M$1:M$6720,MATCH(1,($H1603=_cam1)*($I1603=_cam2)*($J1603=_cam3)*($K1603=_cam4)*($L1603=res_enc1)*($M1603=res_enc2)*($N1603=video_standard)*($Q1603=codec)*($R1603=scene_activity)*($S1603=iscsi_on)*($V1603=vca_on),0))","v":{"$error":"#N/A"}},{"$f":"INDEX(benchmark_records!N$1:N$6720,MATCH(1,($H1603=_cam1)*($I1603=_cam2)*($J1603=_cam3)*($K1603=_cam4)*($L1603=res_enc1)*($M1603=res_enc2)*($N1603=video_standard)*($Q1603=codec)*($R1603=scene_activity)*($S1603=iscsi_on)*($V1603=vca_on),0))","v":{"$error":"#N/A"}},{"$f":"INDEX(benchmark_records!O$1:O$6720,MATCH(1,($H1603=_cam1)*($I1603=_cam2)*($J1603=_cam3)*($K1603=_cam4)*($L1603=res_enc1)*($M1603=res_enc2)*($N1603=video_standard)*($Q1603=codec)*($R1603=scene_activity)*($S1603=iscsi_on)*($V1603=vca_on),0))","v":{"$error":"#N/A"}},{"$f":"INDEX(benchmark_records!P$1:P$6720,MATCH(1,($H1603=_cam1)*($I1603=_cam2)*($J1603=_cam3)*($K1603=_cam4)*($L1603=res_enc1)*($M1603=res_enc2)*($N1603=video_standard)*($Q1603=codec)*($R1603=scene_activity)*($S1603=iscsi_on)*($V1603=vca_on),0))","v":{"$error":"#N/A"}},{"$f":"INDEX(benchmark_records!Q$1:Q$6720,MATCH(1,($H1603=_cam1)*($I1603=_cam2)*($J1603=_cam3)*($K1603=_cam4)*($L1603=res_enc1)*($M1603=res_enc2)*($N1603=video_standard)*($Q1603=codec)*($R1603=scene_activity)*($S1603=iscsi_on)*($V1603=vca_on),0))","v":{"$error":"#N/A"}},{"$f":"INDEX(benchmark_records!R$1:R$6720,MATCH(1,($H1603=_cam1)*($I1603=_cam2)*($J1603=_cam3)*($K1603=_cam4)*($L1603=res_enc1)*($M1603=res_enc2)*($N1603=video_standard)*($Q1603=codec)*($R1603=scene_activity)*($S1603=iscsi_on)*($V1603=vca_on),0))","v":{"$error":"#N/A"}},{"$f":"INDEX(benchmark_records!S$1:S$6720,MATCH(1,($H1603=_cam1)*($I1603=_cam2)*($J1603=_cam3)*($K1603=_cam4)*($L1603=res_enc1)*($M1603=res_enc2)*($N1603=video_standard)*($Q1603=codec)*($R1603=scene_activity)*($S1603=iscsi_on)*($V1603=vca_on),0))","v":{"$error":"#N/A"}},{"$f":"INDEX(benchmark_records!T$1:T$6720,MATCH(1,($H1603=_cam1)*($I1603=_cam2)*($J1603=_cam3)*($K1603=_cam4)*($L1603=res_enc1)*($M1603=res_enc2)*($N1603=video_standard)*($Q1603=codec)*($R1603=scene_activity)*($S1603=iscsi_on)*($V1603=vca_on),0))","v":{"$error":"#N/A"}},{"$f":"INDEX(benchmark_records!U$1:U$6720,MATCH(1,($H1603=_cam1)*($I1603=_cam2)*($J1603=_cam3)*($K1603=_cam4)*($L1603=res_enc1)*($M1603=res_enc2)*($N1603=video_standard)*($Q1603=codec)*($R1603=scene_activity)*($S1603=iscsi_on)*($V1603=vca_on),0))","v":{"$error":"#N/A"}},{"$f":"INDEX(benchmark_records!V$1:V$6720,MATCH(1,($H1603=_cam1)*($I1603=_cam2)*($J1603=_cam3)*($K1603=_cam4)*($L1603=res_enc1)*($M1603=res_enc2)*($N1603=video_standard)*($Q1603=codec)*($R1603=scene_activity)*($S1603=iscsi_on)*($V1603=vca_on),0))","v":{"$error":"#N/A"}},{"$f":"INDEX(benchmark_records!W$1:W$6720,MATCH(1,($H1603=_cam1)*($I1603=_cam2)*($J1603=_cam3)*($K1603=_cam4)*($L1603=res_enc1)*($M1603=res_enc2)*($N1603=video_standard)*($Q1603=codec)*($R1603=scene_activity)*($S1603=iscsi_on)*($V1603=vca_on),0))","v":{"$error":"#N/A"}},{"$f":"INDEX(benchmark_records!X$1:X$6720,MATCH(1,($H1603=_cam1)*($I1603=_cam2)*($J1603=_cam3)*($K1603=_cam4)*($L1603=res_enc1)*($M1603=res_enc2)*($N1603=video_standard)*($Q1603=codec)*($R1603=scene_activity)*($S1603=iscsi_on)*($V1603=vca_on),0))","v":{"$error":"#N/A"}},{"$f":"INDEX(benchmark_records!Y$1:Y$6720,MATCH(1,($H1603=_cam1)*($I1603=_cam2)*($J1603=_cam3)*($K1603=_cam4)*($L1603=res_enc1)*($M1603=res_enc2)*($N1603=video_standard)*($Q1603=codec)*($R1603=scene_activity)*($S1603=iscsi_on)*($V1603=vca_on),0))","v":{"$error":"#N/A"}},{"$f":"INDEX(benchmark_records!Z$1:Z$6720,MATCH(1,($H1603=_cam1)*($I1603=_cam2)*($J1603=_cam3)*($K1603=_cam4)*($L1603=res_enc1)*($M1603=res_enc2)*($N1603=video_standard)*($Q1603=codec)*($R1603=scene_activity)*($S1603=iscsi_on)*($V1603=vca_on),0))","v":{"$error":"#N/A"}},{"$f":"INDEX(benchmark_records!AA$1:AA$6720,MATCH(1,($H1603=_cam1)*($I1603=_cam2)*($J1603=_cam3)*($K1603=_cam4)*($L1603=res_enc1)*($M1603=res_enc2)*($N1603=video_standard)*($Q1603=codec)*($R1603=scene_activity)*($S1603=iscsi_on)*($V1603=vca_on),0))","v":{"$error":"#N/A"}}]
[]
[null,null,null,"res","Devices","active channels","H264/H263","c1","c2","c3","c4","VCA capable"]
[null,null,null,null,"none",0,"-",null,null,null,null,null,null,null,null,null,null,null,null,null,null,null,null,null,null,null,null,{"$f":"INDEX(benchmark_records!M$1:M$6720,MATCH(1,($H1600=_cam1),0))","v":{"$error":"#N/A"}}]
[null,null,null,"1080p","DINION IP 5000 HD",1,"CPP4_1080p",1,0,0,0,0,null,null,null,null,null,null,null,null,null,null,null,null,null,null,null,{"$f":"INDEX(benchmark_records!M$1:M$6720,MATCH(1,($H1600=_cam1)*($I1600=_cam2)*($J1600=_cam3)*($K1600=_cam4)*($L1600=res_enc1)*($M1600=res_enc2)*($N1600=video_standard)*($Q1600=codec)*($R1600=scene_activity)*($S1600=iscsi_on)*($V1600=vca_on),0))","v":{"$error":"#N/A"}}]
[null,null,null,"1080p","AUTODOME 4000i",1,"CPP7.3_1080p",1,0,0,0,1,null,null,null,null,null,null,null,null,null,null,null,null,null,null,null,{"$f":"MATCH(1,($H1600=_cam1)*($I1600=_cam2)*($J1600=_cam3)*($K1600=_cam4)*($L1600=res_enc1)*($M1600=res_enc2)*($N1600=video_standard)*($Q1600=codec)*($R1600=scene_activity)*($S1600=iscsi_on)*($V1600=vca_on),0)","v":{"$error":"#N/A"}}]
[null,null,null,"1080p","AUTODOME 5000i",1,"CPP7.3_1080p",1,0,0,0,1]
[null,null,null,"1080p","AUTODOME 5000 HD",1,"CPP4_1080p",1,0,0,0,0]
[null,null,null,"1080p","AUTODOME 7000 HD",1,"CPP4_1080p_720p60",1,0,0,0,1,null,null,null,null,null,null,null,null,null,null,null,null,null,null,null,{"$f":"MATCH(1,($H1601=_cam1)*($I1601=_cam2)*($J1601=_cam3)*($K1601=_cam4)*($L1601=res_enc1)*($M1601=res_enc2)*($N1601=video_standard)*($Q1601=codec)*($R1601=scene_activity)*($S1601=iscsi_on)*($V1601=vca_on),0)","v":{"$error":"#N/A"}},{"$f":"codec","v":0}]
[null,null,null,"1080p","IP micro 2000 HD",1,"CPP4_1080p",1,0,0,0,0,null,null,null,"PAL","NTSC","MP",null,null,null,"12MP",null,null,null,null,null,{"$f":"MATCH(1,($H1601=_cam1)*($I1601=_cam2)*($J1601=_cam3)*($K1601=_cam4)*($L1601=res_enc1)*($M1601=res_enc2)*($N1601=video_standard)*($Q1601=codec)*($R1601=scene_activity)*($S1601=iscsi_on)*($V1601=vca_on),0)","v":{"$error":"#N/A"}}]
[null,null,null,"1080p","DINION IP 4000i IR",1,"CPP7.3_1080p",1,0,0,0,1]
[null,null,null,"1080p","FLEXIDOME 4000i",1,"CPP7.3_1080p",1,0,0,0,1,null,null,null,25,30,60,null,null,null,20]
[null,null,null,"1080p","FLEXIDOME micro 5000 HD",1,"CPP4_1080p",1,0,0,0,0,null,null,null,12,15,30,null,null,null,10]
[null,null,null,"1080p","IP bullet 5000 HD",1,"CPP4_1080p",1,0,0,0,0,null,null,null,8,10,15,null,null,null,7]
[null,null,null,"1080p","FLEXIDOME indoor 5000 HD",1,"CPP4_1080p",1,0,0,0,0,null,null,null,6,7,10,null,null,null,5]
[null,null,null,"1080p","FLEXIDOME outdoor 5000 HD",1,"CPP4_1080p",1,0,0,0,0,null,null,null,5,6,7,null,null,null,4]
[null,null,null,"1080p","FLEXIDOME micro 5000 HD",1,"CPP4_1080p",1,0,0,0,0]
[null,null,null,"1080p","DINION IP starlight 6000 HD 1080p",1,"CPP7_1080p",1,0,0,0,0]
[null,null,null,"1080p","FLEXIDOME IP starlight 6000 VR 1080p",1,"CPP7_1080p",1,0,0,0,0]
[null,null,null,"1080p","DINION IP starlight 7000 HD 1080p",1,"CPP7_1080p",1,0,0,0,1]
[null,null,null,"1080p","FLEXIDOME IP starlight 7000 VR 1080p",1,"CPP7_1080p",1,0,0,0,1,null,null,null,4,5,6,null,null,null,3]
[null,null,null,"1080p","FLEXIDOME corner 5000 HD",1,"CPP4_1080p",1,0,0,0,0,null,null,null,3,4,5,null,null,null,2]
[null,null,null,"1080p","DINION 1080p 7000",1,"CPP4_1080p",1,0,0,0,1,null,null,null,2,2,4,null,null,null,1]
[null,null,null,"1080p","FLEXIDOME 1080p 7000 RD",1,"CPP4_1080p",1,0,0,0,1,null,null,null,1,1,2]
[null,null,null,"1080p","FLEXIDOME HDR 7000 VR",1,"CPP4_1080p",1,0,0,0,1,null,null,null,null,null,1]
[null,null,null,"1080p","DINION HDR 7000",1,"CPP4_1080p",1,0,0,0,1]
[null,null,null,"1080p","FLEXIDOME imager 9000",1,"CPP4_1080p",1,0,0,0,1]
[null,null,null,"1080p","DINION corner 9000",1,"CPP4_1080p",1,0,0,0,1,null,null,null,null,"SD",null,null,null,null,{"$f":"MATCH(Q1630,D1607:D1693,0)","v":62}]
[null,null,null,"1080p","AUTODOME 800 HD (EOL)",1,"CPP3_1080p_720p60",1,0,0,0,1,null,null,null,null,{"$f":"OFFSET(#REF!,MATCH(Q1630,D1607:D1693,0)-1,1,COUNTIF($D1607:$D1693,Q1630),1)","v":{"$error":"#REF!"}}]
[null,null,null,"1080p","AUTODOME Junior HD",1,"CPP3_1080p",1,0,0,0,1,null,null,null,null,{"$f":"COUNTIF($D1607:$D1693,Q1630)","v":23}]
[null,null,null,"1080p","NDC Micro 274",1,"CPP3_1080p",1,0,0,0,0,null,null,null,null,"AUTODOME 7000 IP"]
[null,null,null,"1080p","FLEXIDOME  1080p 7000 VR",1,"CPP4_1080p",1,0,0,0,1]
[null,null,null,"1080p","NxN-832 / NxN-932",1,"CPP4_1080p",1,0,0,0,1]
[null,null,null,"1080p","MIC IP Dynamic 7000",1,"CPP4_1080p",1,0,0,0,1]
[null,null,null,"1080p","DINION IP 6000i IR",1,"CPP7.3_1080p60",1,0,0,0,1]
[null,null,null,"5MP","NDC Micro 284",1,"CPP4_MP",1,0,0,0,0]
[null,null,null,"5MP","FLEXIDOME indoor 5000 MP",1,"CPP4_MP",1,0,0,0,0]
[null,null,null,"5MP","FLEXIDOME outdoor 5000 MP",1,"CPP4_MP",1,0,0,0,0]
[null,null,null,"5MP","FLEXIDOME micro 5000 MP",1,"CPP4_MP",1,0,0,0,0]
[null,null,null,"5MP","FLEXIDOME IP 5000 panoramic",1,"CPP4_MP",1,0,0,0,0,null,null,null,null,{"$f":"E1666","v":"NxC 265"}]
[null,null,null,"5MP","DINION IP 5000 MP",1,"CPP4_MP",1,0,0,0,0]
[null,null,null,"5MP","DINION IP Starlight 8000 MP - 5MP",1,"CPP6_5MP_2992x1680",1,0,0,0,1,null,null,null,null,{"$f":"OFFSET(#REF!,(MATCH(Q1642,E1607:E1693,0))-1,0)","v":{"$error":"#REF!"}}]
[null,null,null,"5MP","DINION IP Starlight 8000 MP - 4by3",1,"CPP6_5MP_2704x2032",1,0,0,0,1]
[null,null,null,"5MP","DINION IP Starlight 8000 MP - 1080p",1,"CPP6_5MP_1080p",1,0,0,0,1]
[null,null,null,"5MP","FLEXIDOME 5000i",1,"CPP7.3_MP",1,0,0,0,1]
[null,null,null,"5MP","DINION IP 5000i IR",1,"CPP7.3_MP",1,0,0,0,1]
[null,null,null,"UHD","DINION IP Ultra 8000 MP - UHD",1,"CPP6_12MP_UHD",1,0,0,0,1]
[null,null,null,"UHD","DINION IP Ultra 8000 MP - 3584x2016",1,"CPP6_12MP_3584x2016",1,0,0,0,1]
[null,null,null,"UHD","DINION IP Ultra 8000 MP - 12MP",1,"CPP6_12MP_12MP",1,0,0,0,1]
[null,null,null,"UHD","FLEXIDOME IP 7000 panoramic 360",1,"CPP6_Panoramic_360",1,0,0,0,1]
[null,null,null,"UHD","FLEXIDOME IP 7000 panoramic 180",1,"CPP6_Panoramic_180",1,0,0,0,1]
[null,null,null,"720p","FLEXIDOME micro 2000 HD",1,"CPP4_720p",1,0,0,0,0]
[null,null,null,"720p","DINION IP 4000 HD",1,"CPP4_720p",1,0,0,0,0]
[null,null,null,"720p","FLEXIDOME indoor 4000 HD",1,"CPP4_720p",1,0,0,0,0]
[null,null,null,"720p","FLEXIDOME outdoor 4000 HD",1,"CPP4_720p",1,0,0,0,0]
[null,null,null,"720p","DINION starlight 7000",1,"CPP4_720p",1,0,0,0,1]
[null,null,null,"720p","FLEXIDOME starlight  7000 RD",1,"CPP4_720p",1,0,0,0,1]
[null,null,null,"720p","FLEXIDOME starlight  7000 VR",1,"CPP4_720p",1,0,0,0,1]
[null,null,null,"720p","DINION IP starlight 6000 HD 720p",1,"CPP7_720p",1,0,0,0,0]
[null,null,null,"720p","FLEXIDOME IP starlight 6000 VR 720p",1,"CPP7_720p",1,0,0,0,0]
[null,null,null,"720p","DINION IP starlight 7000 HD 720p",1,"CPP7_720p",1,0,0,0,1]
[null,null,null,"720p","FLEXIDOME IP starlight 7000 VR 720p",1,"CPP7_720p",1,0,0,0,1]
[null,null,null,"720p","NxN-921",1,"CPP3_720p",1,0,0,0,1]
[null,null,null,"720p","NxC 265",1,"CPP3_720p",1,0,0,0,0]
[null,null,null,"720p","MIC IP Starlight 7000",1,"CPP4_720p",1,0,0,0,1]
[null,null,null,"SD","AUTODOME 7000 IP",1,"CPP4_SD",1,0,0,0,1]
[null,null,null,"SD","FLEXIDOME capture 9000",1,"CPP4_SD",1,0,0,0,1]
[null,null,null,"SD","VIP-X1XF",1,"CPP3_SD",1,0,0,0,1]
[null,null,null,"SD","VIP-X1XF-E",1,"CPP3_SD",1,0,0,0,0]
[null,null,null,"SD","VIP-X16XF-E",16,"CPP5_SD",1,1,1,1,0]
[null,null,null,"SD","VJM-4016-EU",16,"CPP5_SD",1,1,1,1,0]
[null,null,null,"SD","VIP-X1600-XFM4",4,"CPP_ENC",1,1,1,1,1]
[null,null,null,"SD","VIDEOJET X20 XF-E",2,"CPP_ENC",1,1,0,0,0]
[null,null,null,"SD","VIDEOJET X40 XF-E",4,"CPP_ENC",1,1,1,1,0]
[null,null,null,"SD","AUTODOME 700 (EOL)",1,"CPP3_SD",1,0,0,0,1]
[null,null,null,"SD","AUTODOME EZ II IP",1,"CPP3_SD",1,0,0,0,1]
[null,null,null,"SD","MIC 550/612 IP Power Supply",1,"CPP3_SD",1,0,0,0,1]
[null,null,null,"SD","NxN-455/NxN-498",1,"CPP3_SD",1,0,0,0,1]
[null,null,null,"SD","VIP X1600 M2 MPEG4 (EOL)",2,"H.263",1,0,1,0,1]
[null,null,null,"SD","VIP X1600 M4 MPEG4 (EOL)",4,"H.263",1,1,1,1,1]
[null,null,null,"SD","VIP X1600 M4 MPEG4 (EOL) (skipped channels)",2,"H.263",1,0,1,0,1]
[null,null,null,"SD","VJ X10 (EOL)",1,"H.263",1,0,0,0,1]
[null,null,null,"SD","VJ X20 (EOL)",2,"H.263",1,0,1,0,1]
[null,null,null,"SD","VJ X20 VCA (EOL)",1,"H.263",1,0,0,0,1]
[null,null,null,"SD","VJ X40 (EOL)",4,"H.263",1,1,1,1,1]
[null,null,null,"SD","VG4 Autodome MPEG4 (EOL)",1,"H.263",1,0,0,0,1]
[null,null,null,"SD","VIP X1 (EOL)",1,"H.263_legacy",1,0,0,0,1]
[null,null,null,"SD","VIP X2 (EOL)",2,"H.263_legacy",1,1,0,0,1]
[null,null,null,"VGA","IP micro 2000 IP",1,"CPP4_VGA",1,0,0,0,0]
[null,null,null,"VGA","FLEXIDOME micro 2000 IP",1,"CPP4_VGA",1,0,0,0,0]
[null,null,null,"VGA","NxC 225/255",1,"CPP3_VGA",1,0,0,0,0]
[null,null,null,"none","none"]
[]
[null,null,"group1"]
[null,null,"group2"]
[null,null,"group3",null,{"$f":"VLOOKUP($G$69,$E$1606:$K$1694,1,FALSE)","v":"none"},{"$f":"VLOOKUP($G$69,$E$1606:$K$1694,2,FALSE)","v":0},{"$f":"VLOOKUP($G$69,$E$1606:$K$1694,3,FALSE)","v":"-"},{"$f":"VLOOKUP($G$69,$E$1606:$K$1693,4,FALSE)","v":0},{"$f":"VLOOKUP($G$69,$E$1606:$K$1693,5,FALSE)","v":0},{"$f":"VLOOKUP($G$69,$E$1606:$K$1693,6,FALSE)","v":0},{"$f":"VLOOKUP($G$69,$E$1606:$K$1693,7,FALSE)","v":0},{"$f":"VLOOKUP($G$69,$E$1606:$L$1693,8,FALSE)","v":0}]
[null,null,"group4",null,{"$f":"VLOOKUP($I$69,$E$1606:$K$1693,1,FALSE)","v":"none"},{"$f":"VLOOKUP($I$69,$E$1606:$K$1693,2,FALSE)","v":0},{"$f":"VLOOKUP($I$69,$E$1606:$K$1693,3,FALSE)","v":"-"},{"$f":"VLOOKUP($I$69,$E$1606:$K$1693,4,FALSE)","v":0},{"$f":"VLOOKUP($I$69,$E$1606:$K$1693,5,FALSE)","v":0},{"$f":"VLOOKUP($I$69,$E$1606:$K$1693,6,FALSE)","v":0},{"$f":"VLOOKUP($I$69,$E$1606:$K$1693,7,FALSE)","v":0},{"$f":"VLOOKUP($I$69,$E$1606:$L$1693,8,FALSE)","v":0}]
[null,null,null,null,{"$f":"VLOOKUP($K$69,$E$1606:$K$1693,1,FALSE)","v":"none"},{"$f":"VLOOKUP($K$69,$E$1606:$K$1693,2,FALSE)","v":0},{"$f":"VLOOKUP($K$69,$E$1606:$K$1693,3,FALSE)","v":"-"},{"$f":"VLOOKUP($K$69,$E$1606:$K$1693,4,FALSE)","v":0},{"$f":"VLOOKUP($K$69,$E$1606:$K$1693,5,FALSE)","v":0},{"$f":"VLOOKUP($K$69,$E$1606:$K$1693,6,FALSE)","v":0},{"$f":"VLOOKUP($K$69,$E$1606:$K$1693,7,FALSE)","v":0},{"$f":"VLOOKUP($K$69,$E$1606:$L$1693,8,FALSE)","v":0}]
[null,null,null,null,{"$f":"VLOOKUP($M$69,$E$1606:$K$1693,1,FALSE)","v":"none"},{"$f":"VLOOKUP($M$69,$E$1606:$K$1693,2,FALSE)","v":0},{"$f":"VLOOKUP($M$69,$E$1606:$K$1693,3,FALSE)","v":"-"},{"$f":"VLOOKUP($M$69,$E$1606:$K$1693,4,FALSE)","v":0},{"$f":"VLOOKUP($M$69,$E$1606:$K$1693,5,FALSE)","v":0},{"$f":"VLOOKUP($M$69,$E$1606:$K$1693,6,FALSE)","v":0},{"$f":"VLOOKUP($M$69,$E$1606:$K$1693,7,FALSE)","v":0},{"$f":"VLOOKUP($M$69,$E$1606:$L$1693,8,FALSE)","v":0}]
[]
[]
[]
[]
[]
[]
[]
[]
[]
[]
[]
[]
[]
[]
[]
[null,null,null,null,null,"Month indexer"]
[null,null,null,"Year indexer",null,"N.A.",null,null,"Resolution-o-meter"]
[null,null,null,2010,1,"January",1,"str1","H263_str1","H.264_XFM4_str1","H.264_str1","H.264_NBC200_str1","H.264_NBC200_720p_str1","H.264_720p_str1",null,null,"CPP4_1080p_str1","CPP3_1080p_str1","CPP3_720p_str1","CPP4_MP_str1","CPP4_720p_str1","CPP4_SD_str1","CPP3_SD_str1","CPP4_VGA_str1","CPP5_SD_str1","CPP4_1080p_720p60_str1","CPP3_1080p_str1",null,"CPP3_1080p_720p60_str1",null,null,null,null,null,null,"CPP-ENC_str1",null,null,null,null,null,"CPP_ENC_str1","CPP3_VGA_str1","CPP6_5MP_2992x1680_str1","CPP6_5MP_2704x2032_str1","CPP6_5MP_1080p_str1","CPP6_12MP_UHD_str1","CPP6_12MP_3584x2016_str1","CPP6_12MP_12MP_str1","CPP6_Panoramic_360_str1","CPP6_Panoramic_180_str1","CPP7_1080p_str1","CPP7_720p_str1","CPP7.3_MP_str1","CPP7.3_1080p_str1","CPP7.3_1080p60_str1"]
[null,null,null,2011,2,"February",2,null,"QCIF","QCIF","CIF","VGA","720p30","720p30",null,null,"1080p","1080p","720p","5MP","720p","CIF","CIF","VGA","CIF","1080p","1080p",null,"1080p",null,null,null,null,null,null,"QCIF",null,null,null,null,null,"CIF","VGA","2992x1680","2704x2032","1080p","3840x2160","3584x2016","4000x3000","2640x2640","3648x2160","1080p","720p","5MP","1080p","1080p"]
[null,null,null,2012,3,"March",3,null,"CIF","CIF","4CIF","QVGA",null,null,null,null,"720p","720p",null,null,null,"4CIF","4CIF","QVGA","2CIF","720p","720p",null,"720p",null,null,null,null,null,null,"CIF",null,null,null,null,null,"4CIF","QVGA",null,null,null,null,null,null,null,null,"720p","480p","4MP","720p","720p"]
[null,null,null,2013,4,"April",4,null,"2CIF","2CIF",null,null,null,null,null,null,"480p",null,null,null,null,null,null,null,"4CIF","480p",null,null,null,null,null,null,null,null,null,"2CIF",null,null,null,null,null,null,null,null,null,null,null,null,null,null,null,"480p",null,"3MP"]
[null,null,null,2014,5,"May",5,null,"HALF-D1","HALF-D1",null,null,null,null,null,null,null,null,null,null,null,null,null,null,null,null,null,null,null,null,null,null,null,null,null,"HALF-D1",null,null,null,null,null,null,null,null,null,null,null,null,null,null,null,null,null,"1080p"]
[null,null,null,2015,6,"June",6,null,"2/3D1","2/3D2",null,null,null,null,null,null,null,null,null,null,null,null,null,null,null,null,null,null,null,null,null,null,null,null,null,"2/3D2",null,null,null,null,null,null,null,null,null,null,null,null,null,null,null,null,null,"720p"]
[null,null,null,2016,7,"July",7,null,"4CIF","4CIF",null,null,null,null,null,null,null,null,null,null,null,null,null,null,null,null,null,null,null,null,null,null,null,null,null,"4CIF"]
[null,null,null,2017,8,"August",8,"str2","H.263","H.264_XFM4","H.264","H.264_NBC200","H.264_NBC200_720p","H.264_720p",null,null,"CPP4_1080p","CPP3_1080p","CPP3_720p","CPP4_MP","CPP4_720p","CPP4_SD","CPP3_SD","CPP4_VGA","CPP5_SD","CPP4_1080p_720p60","CPP3_1080p",null,"CPP3_1080p_720p60",null,null,null,null,null,null,"CPP-ENC",null,null,null,null,null,"CPP4_ENC","CPP3_VGA","CPP6_5MP_2992x1680","CPP6_5MP_2704x2032","CPP6_5MP_1080p","CPP6_12MP_UHD","CPP6_12MP_3584x2016","CPP6_12MP_12MP","CPP6_Panoramic_360","CPP6_Panoramic_180","CPP7_1080p","CPP7_720p","CPP7.3_MP","CPP7.3_1080p","CPP7.3_1080p60"]
[null,null,null,2018,9,"September",9,null,"QCIF","QCIF","CIF","VGA","720p30","720p30",null,null,"Copy stream1","Copy stream1","Copy stream1","Copy stream1","Copy stream1","Copy stream1","Copy stream1","Copy stream1","Copy stream1","Copy stream1","Copy stream1",null,"Copy stream1","Copy stream2","Copy stream3","Copy stream4","Copy stream5","Copy stream6","Copy stream7","Copy stream8","Copy stream9",null,null,null,null,"Copy stream1","Copy stream1","Copy stream1","Copy stream1","Copy stream1","Copy stream1","SD","Copy stream1","Copy stream1","Copy stream1","Copy stream1","Copy stream1","Copy stream1","Copy stream1","Copy stream1"]
[null,null,null,2019,10,"October",10,null,"CIF","CIF","4CIF","QVGA","480p","480p",null,null,"1080p","480p","480p","480p","720p","CIF","CIF","VGA","CIF","1080p","480p",null,"480p",null,null,null,null,null,null,"QCIF",null,null,null,null,null,"CIF","VGA","SD","SD","SD",null,"SD ROI",null,"800x800","800x800","720p","SD","1080p","720p","720p"]
[null,null,null,2020,11,"November",11,null,"2CIF","2CIF",null,null,"240p","240p",null,null,"720p",null,null,null,"480p","4CIF","4CIF","QVGA","2CIF","720p",null,null,null,null,null,null,null,null,null,"CIF",null,null,null,null,null,"4CIF","QVGA","720p","400x720","720p",null,"400x720",null,null,null,"SD","SD ROI","720p","D1 4:3","D1 4:3"]
[null,null,null,2021,12,"December",12,null,"HALF-D1","HALF-D1",null,null,"I-frame str1","I-frame str1",null,null,"480p",null,null,null,"480p ROI",null,null,null,"4CIF","480p",null,null,null,null,null,null,null,null,null,"2CIF",null,null,null,null,null,null,null,"1080p","SD dual ROI","1080p",null,"D1 4:3",null,null,null,"SD ROI","400x720","D1 4:3","SD","SD"]
[null,null,null,null,{"$f":"VLOOKUP($H$53,$D$1719:$E$1730,2,FALSE)","v":{"$error":"#N/A"}},null,{"$f":"VLOOKUP($J$53,$F$1719:$G$1730,2,FALSE)","v":{"$error":"#N/A"}},null,"2/3D1","2/3D2",null,null,null,null,null,null,"480p ROI",null,null,null,"480p 4:3",null,null,null,null,"480p ROI",null,null,null,null,null,null,null,null,null,"HALF-D1",null,null,null,null,null,null,null,"SD ROI","800x600","SD ROI",null,"SD dual ROI",null,null,null,"400x720","D1 4:3","SD","SD ROI","SD ROI"]
[null,null,null,null,null,null,null,null,"4CIF","4CIF",null,null,null,null,null,null,"480p 4:3",null,null,null,null,null,null,null,null,"480p 4:3",null,null,null,null,null,null,null,null,null,"2/3D2",null,null,null,null,null,null,null,"400x720","1024x768","400x720",null,null,null,null,null,"D1 4:3",null,"SD ROI"]
[null,null,null,null,null,null,null,null,null,null,null,null,null,null,null,null,"1.3MP (Cropped)",null,null,null,null,null,null,null,null,"1.3MP (Cropped)",null,null,null,null,null,null,null,null,null,"4CIF",null,null,null,null,null,null,null,"D1 4:3","1280x960","D1 4:3"]
[null,null,null,null,null,null,null,null,null,null,null,null,null,null,null,null,null,null,null,null,null,null,null,null,null,null,null,null,null,null,null,null,null,null,null,null,null,null,null,null,null,null,null,"SD dual ROI","1600x1200","SD dual ROI"]
[]
[]
[null,null,null,null,null,null,null,null,"Live only",null,null,null,0]
[null,null,null,null,null,null,null,null,"VRM",null,null,null,1]
[null,null,null,null,null,null,null,null,"NVR",null,null,null,2]
[null,null,null,null,null,null,null,null,"VRM+NVR mixed-mode",null,null,null,3]
[null,null,null,null,null,null,null,null,null,null,null,null,{"$f":"VLOOKUP($G$62,$I$1737:$M$1740,5,FALSE)","v":3}]

{"sheet":"Project set up","index":2,"n_rows":47,"n_cols":7,"rows_kept":47,"cut":false,"hidden":true,"merged":[[44,3,44,4],[45,3,45,4],[8,2,9,8],[46,6,46,12],[43,6,43,12],[44,6,44,12],[45,6,45,12],[46,3,46,4],[43,3,43,4],[6,4,6,8],[4,2,4,3],[5,2,5,3],[6,2,6,3],[4,4,4,8],[5,4,5,8],[1,2,1,3],[1,4,1,8],[2,2,2,3],[3,2,3,3],[2,4,2,8],[3,4,3,8]]}
[]
[null,null,"End user/ operator"]
[null,null,"Investor"]
[null,null,"General Contractor"]
[null,null,"Consultant/ Architect"]
[null,null,"System Integrator"]
[null,null,"Other"]
[]
[null,null,"Please use the area below to show the set up (among all involved parties) for this project - including the contractual connection and multiple flows listed at the bottom of this sheet. "]
[]
[]
[]
[]
[]
[]
[]
[]
[]
[]
[]
[]
[]
[]
[]
[]
[]
[]
[]
[]
[]
[]
[]
[]
[]
[]
[]
[]
[]
[]
[]
[]
[]
[null,null,null,null,null,"Remarks/ Main questions to be considered"]
[null,null,1,"Contractual connection",null,1,"Who is contracted by whom?\nWith which of the players would Bosch have a contract?"]
[null,null,2,"Flow of  project requirements",null,2,"By whom are project requirements for security defined?"]
[null,null,3,"Flow of technical proposal and discussions",null,3,"Whith wich party do we have the technical discussions for this project and do we have to convince for our technical solution?"]
[null,null,4,"Flow of quotation",null,4,"To whom do we have to provide the quotation and will we have commercial/ financial discussion?"]

{"sheet":"HD_H.264 Data Rate","index":3,"n_rows":50,"n_cols":33,"rows_kept":50,"cut":false,"hidden":true,"merged":[[8,1,9,1],[8,3,9,3],[8,14,9,14],[7,16,7,19],[8,16,8,19],[9,16,9,19],[8,9,9,9],[5,1,6,1],[2,14,2,17],[3,14,3,17],[4,14,4,17],[5,3,6,3],[5,16,5,19],[6,16,6,19]]}
[]
[null,null,null,null,null,null,null,null,null,null,null,null,null,null,null,"legenda:"]
[null,null,null,null,null,null,null,null,null,null,null,null,null,null,"measured"]
[null,null,null,null,null,null,null,null,null,null,null,null,null,null,"assumption (sometimes based on extrapolation)"]
[null,null,null,null,null,null,null,null,null,null,null,null,null,null,"average (extrapolated)"]
[null,"I-frame distance",null,25,null,null,null,null,null,null,null,null,null,null,null,null,"input field"]
[null,null,null,null,null,null,null,null,null,null,null,null,null,null,null,null,"Images Per Second [IPS]"]
[null,null,null,null,null,null,null,null,null,null,null,null,null,null,null,null,"I-frames in 1 sec [IFPS]"]
[null,"Mains frequency",null,60,null,null,null,null,null,{"$f":"D9/2","v":30},null,null,null,null,"IPS basis",null,"output: Bitrate [kbps]"]
[null,null,null,null,null,null,null,null,null,null,null,null,null,null,null,null,"output: I-frame only bitrate [kbps]"]
[]
[null,"720p",null,null,null,null,null,null,null,null,null,null,null,null,null,null,null,"720p"]
[null,"Low activity",null,null,null,null,null,null,null,null,null,null,null,null,null,null,null,"medium"]
[null,"I-frame distance","Skip frame ratio","Images Per Second [IPS]","Bitrate target ","Bitrate@measurement@25_iframe_dist","I frame size [len]","P-frame size [len]","I/P frame coefficient","I-frames in 1 sec [IFPS]","I-frames in 5 sec [IFP5S]","P-frames in 1 sec [PFPS]","reassembled I-frame only bitrate [kbps]","Verify calculation - check Coeffiecient","Bitrate [kbps]","I-frame only bitrate [kbps]",null,"I-frame distance","Skip frame ratio","Images Per Second [IPS]","Bitrate target ","Bitrate@measurement@25_iframe_dist","I frame size [len]","P-frame size [len]","I/P frame coefficient","I-frames in 1 sec [IFPS]","I-frames in 5 sec [IFP5S]","P-frames in 1 sec [PFPS]","reassembled I-frame only bitrate [kbps]","Verify calculation - check Coeffiecient","Bitrate [kbps]","I-frame only bitrate [kbps]"]
[null,null,null,null,null,null,null,null,"measured","calculated constant","calculated constant","calculated constant","calculated from measument","calculated","calculated from measument","calculated from measument",null,null,null,null,null,null,null,null,"measured","calculated constant","calculated constant","calculated constant","calculated from measument","calculated","calculated from measument","calculated from measument"]
[null,{"$f":"$D$6","v":25},1,{"$f":"$J$9*2/C16","v":60},4500,{"$f":"F17*1.5","v":8221.5},74600,{"$f":"G16/I16","v":10657.142857142857},7,{"$f":"D16/B16","v":2.4},{"$f":"D16/B16*5","v":12},{"$f":"D16-J16","v":57.6},{"$f":"(G16*8*J16)/1000*(30/$J$9)","v":1432.32},{"$f":"((O16)/(J16+(1/I16)*L16))*J16","v":1432.32},{"$f":"(G16*8*J16+H16*8*L16)/1000*30/$J$9","v":6343.1314285714279},{"$f":"((O16)/(J16+(1/I16)*L16))*J16","v":1432.32},{"$f":"IF(J16<1,\"< than 1 IPS\",\"\")","v":""},{"$f":"$D$6","v":25},1,{"$f":"$J$9*2/S16","v":60},9100,{"$f":"V17*1.5","v":8353.5},{"$f":"AVERAGE(W18,W17)","v":115995},11500,7.8,{"$f":"T16/R16","v":2.4},{"$f":"T16/R16*5","v":12},{"$f":"T16-Z16","v":57.6},{"$f":"(W16*8*Z16)/1000*(30/$J$9)","v":2227.1039999999998},{"$f":"((AE16)/(Z16+(1/Y16)*AB16))*Z16","v":1846.0745660377356},{"$f":"(W16*8*Z16+X16*8*AB16)/1000*30/$J$9","v":7526.3040000000001},{"$f":"((AE16)/(Z16+(1/Y16)*AB16))*Z16","v":1846.0745660377356},{"$f":"IF(Z16<1,\"< than 1 IPS\",\"\")","v":""}]
[null,25,1,{"$f":"$J$9/C17","v":30},3700,5481,74600,18758,{"$f":"G17/H17","v":3.9769698262074846},1.2,6,28.8,716.16,{"$f":"((O17)/(J17+(1/I17)*L17))*J17*30/$J$9","v":716.16000000000008},5038.0032000000001,{"$f":"((O17)/(J17+(1/I17)*L17))*J17","v":716.16000000000008},{"$f":"IF(J17<1,\"< than 1 IPS\",\"\")","v":""},25,1,{"$f":"$J$9/S17","v":30},6000,5569,118425,18828,{"$f":"W17/X17","v":6.2898342893562775},1.2,{"$f":"T17/R17*5","v":6},28.8,1136.8800000000001,1136.8799999999999,5474.8512000000001,{"$f":"((AE17)/(Z17+(1/Y17)*AB17))*Z17","v":1136.8799999999999},{"$f":"IF(Z17<1,\"< than 1 IPS\",\"\")","v":""}]
[null,25,2,15,2000,2884,77475,23634,{"$f":"G18/H18","v":3.2781162731657782},0.6,3,14.4,371.88,371.88000000000005,3094.5168000000003,371.88000000000005,{"$f":"IF(J18<1,\"< than 1 IFPS\",\"\")","v":"< than 1 IFPS"},25,2,15,3800,2962,113565,28000,{"$f":"W18/X18","v":4.0558928571428572},0.6,3,14.4,545.11199999999997,545.11199999999997,3770.712,545.11199999999997,{"$f":"IF(Z18<1,\"< than 1 IFPS\",\"\")","v":"< than 1 IFPS"}]
[null,25,3,10,1500,1882,72717,21988,3.3071220665817718,0.4,2,9.6,232.69440000000003,232.69439999999997,1921.3727999999999,232.69439999999997,"< than 1 IFPS",25,3,10,2600,1996,119160,32000,3.7237499999999999,0.4,2,9.6,381.31200000000001,381.31200000000001,2838.9119999999998,381.31200000000001,"< than 1 IFPS"]
[null,25,4,7.5,1200,1283,72302,22505,3.2127082870473229,0.3,1.5,7.2,173.5248,173.52480000000006,1469.8128000000002,173.52480000000006,"< than 1 IFPS",25,4,7.5,2200,1461,122509,32000,3.82840625,0.3,1.5,7.2,294.02159999999998,294.02160000000003,2137.2216000000003,294.02160000000003,"< than 1 IFPS"]
[null,25,5,6,1000,{"$f":"AVERAGE(F20,F22)","v":1106.5},{"$f":"AVERAGE(G20,G22)","v":72128},22505,3.2049766718506998,0.24,1.2,5.76,138.48576,138.48576,1175.5161599999999,138.48576,"< than 1 IFPS",25,5,6,2000,{"$f":"AVERAGE(V20,V22)","v":1417},{"$f":"AVERAGE(W20,W22)","v":121900},35000,3.4828571428571427,0.24,1.2,5.76,234.048,234.048,1846.8480000000002,234.048,"< than 1 IFPS"]
[null,25,6,5,{"$f":"F22","v":930},930,71954,22505,3.1972450566540767,0.2,1,4.8,115.1264,115.12640000000002,979.3184,115.12640000000002,"< than 1 IFPS",25,6,5,{"$f":"V22","v":1373},1373,121291,34178,3.5488033237755281,0.2,1,4.8,194.06560000000002,194.06560000000002,1506.5008,194.06560000000002,"< than 1 IFPS"]
[null,25,10,3,{"$f":"F23","v":567},567,73365,19212,3.8187070580886946,0.12,0.6,2.88,70.430399999999992,70.430400000000006,513.07488000000001,70.430400000000006,"< than 1 IFPS",25,10,3,{"$f":"V23","v":706},706,120356,25399,4.7386117563683605,0.12,0.6,2.88,115.54176,115.54175999999998,700.73471999999992,115.54175999999998,"< than 1 IFPS"]
[null,25,{"$f":"$J$9/2","v":15},2,{"$f":"F24","v":306},306,68347,13508,5.0597423748889545,0.08,0.4,1.92,43.742080000000001,43.742079999999994,251.22496000000001,43.742079999999994,"< than 1 IFPS",25,{"$f":"$J$9/2","v":15},2,{"$f":"V24","v":345},345,125916,18957,6.6421902199715142,0.08,0.4,1.92,80.586240000000004,80.586239999999989,371.76575999999994,80.586239999999989,"< than 1 IFPS"]
[null,25,{"$f":"$J$9","v":30},1,{"$f":"F25","v":158},158,67886,11391,5.9596172416820297,0.04,0.2,0.96,21.723520000000001,21.723520000000001,109.20639999999999,21.723520000000001,"< than 1 IFPS",25,{"$f":"$J$9","v":30},1,{"$f":"V25","v":341},341,127664,28524,4.4756696115551815,0.04,0.2,0.96,40.85248,40.85248,259.91679999999997,40.85248,"< than 1 IFPS"]
[]
[]
[]
[null,"1080p",null,null,null,null,null,null,null,null,null,null,null,null,null,null,null,"1080p"]
[null,"Low activity",null,null,null,null,null,null,null,null,null,null,null,null,null,null,null,"medium"]
[null,"I-frame distance","Skip frame ratio","Images Per Second [IPS]","Bitrate target ","Bitrate@measurement@25_iframe_dist","I frame size [len]","P-frame size [len]","I/P frame coefficient","I-frames in 1 sec [IFPS]","I-frames in 5 sec [IFP5S]","P-frames in 1 sec [PFPS]","reassembled I-frame only bitrate [kbps]","Verify calculation - check Coeffiecient","Bitrate [kbps]","I-frame only bitrate [kbps]",null,"I-frame distance","Skip frame ratio","Images Per Second [IPS]","Bitrate target ","Bitrate@measurement@25_iframe_dist","I frame size [len]","P-frame size [len]","I/P frame coefficient","I-frames in 1 sec [IFPS]","I-frames in 5 sec [IFP5S]","P-frames in 1 sec [PFPS]","reassembled I-frame only bitrate [kbps]","Verify calculation - check Coeffiecient","Bitrate [kbps]","I-frame only bitrate [kbps]"]
[null,null,null,null,null,null,null,null,"measured","calculated constant",null,"calculated constant","calculated from measument","calculated","calculated from measument","calculated from measument",null,null,null,null,null,null,null,null,"measured","calculated constant",null,"calculated constant","calculated from measument","calculated","calculated from measument","calculated from measument"]
[null,{"$f":"$D$6","v":25},1,{"$f":"$J$9/C33","v":30},6000,6987,145572,{"$f":"G33/I33","v":24262},6,{"$f":"D33/B33","v":1.2},{"$f":"D33/B33*5","v":6},{"$f":"D33-J33","v":28.8},{"$f":"(G33*8*J33)/1000*(30/$J$9)","v":1397.4911999999999},{"$f":"((O33)/(J33+(1/I33)*L33))*J33","v":1397.4911999999999},{"$f":"(G33*8*J33+H33*8*L33)/1000*30/$J$9","v":6987.4560000000001},{"$f":"((O33)/(J33+(1/I33)*L33))*J33","v":1397.4911999999999},{"$f":"IF(J33<1,\"< than 1 IPS\",\"\")","v":""},{"$f":"$D$6","v":25},1,{"$f":"$J$9/S33","v":30},10000,11034,259533,37076.142857142855,7,{"$f":"T33/R33","v":1.2},{"$f":"T33/R33*5","v":6},{"$f":"T33-Z33","v":28.8},{"$f":"(W33*8*Z33)/1000*(30/$J$9)","v":2491.5167999999999},{"$f":"((AE33)/(Z33+(1/Y33)*AB33))*Z33","v":2491.5167999999999},{"$f":"(W33*8*Z33+X33*8*AB33)/1000*30/$J$9","v":11033.860114285715},{"$f":"((AE33)/(Z33+(1/Y33)*AB33))*Z33","v":2491.5167999999999},{"$f":"IF(Z33<1,\"< than 1 IPS\",\"\")","v":""}]
[null,25,2,15,4800,5000,138404,34761,{"$f":"G34/H34","v":3.9815885618940765},0.6,3,14.4,664.33920000000001,664.33920000000012,4668.8064000000004,{"$f":"((O34)/(J34+(1/I34)*L34))*J34","v":664.33920000000012},{"$f":"IF(J34<1,\"< than 1 IFPS\",\"\")","v":"< than 1 IFPS"},25,2,15,8700,5038,259356,60315.348837209305,4.3,0.6,{"$f":"T34/R34*5","v":3},14.4,1244.9088000000002,1244.9087999999999,8193.2369860465114,{"$f":"((AE34)/(Z34+(1/Y34)*AB34))*Z34","v":1244.9087999999999},{"$f":"IF(Z34<1,\"< than 1 IFPS\",\"\")","v":"< than 1 IFPS"}]
[null,25,3,10,3900,5293,144487,46000,{"$f":"G35/H35","v":3.1410217391304349},0.4,2,9.6,462.35840000000002,462.35840000000002,3995.1583999999998,462.35840000000002,"< than 1 IFPS",25,3,10,8700,5016,259462,72000,{"$f":"W35/X35","v":3.6036388888888888},0.4,2,9.6,830.27840000000003,830.27840000000015,6359.8784000000005,830.27840000000015,"< than 1 IFPS"]
[null,25,4,7.5,3000,3517,145606,54479,2.6726995723122671,0.3,1.5,7.2,349.45439999999996,349.45439999999996,3487.4447999999998,349.45439999999996,"< than 1 IFPS",25,4,7.5,7500,5082,260634,79000,3.2991645569620252,0.3,1.5,7.2,625.52159999999992,625.52160000000003,5175.9215999999997,625.52160000000003,"< than 1 IFPS"]
[null,25,5,6,2000,{"$f":"AVERAGE(F36,F38)","v":3082},142768,{"$f":"AVERAGE(H36,H38)","v":58119.5},2.4564560947702576,0.24,1.2,5.76,274.11455999999998,274.11455999999998,2952.2611200000001,274.11455999999998,"< than 1 IFPS",25,5,6,6200,{"$f":"AVERAGE(V36,V38)","v":4566},{"$f":"AVERAGE(W36,W38)","v":260746},85000,3.0676000000000001,0.24,1.2,5.76,500.63231999999999,500.63232000000016,4417.4323200000008,500.63232000000016,"< than 1 IFPS"]
[null,25,6,5,{"$f":"F38","v":2647},2647,139930,61760,2.2657059585492227,0.2,1,4.8,223.88800000000001,223.88800000000003,2595.4720000000002,223.88800000000003,"< than 1 IFPS",25,6,5,4800,4050,260858,91517,2.850377525487068,0.2,1,4.8,417.37280000000004,417.37280000000004,3931.6255999999998,417.37280000000004,"< than 1 IFPS"]
[null,25,10,3,{"$f":"F39","v":1388},1388,143728,57026,2.5203942061515798,0.12,0.6,2.88,137.97888,137.97887999999998,1451.8579199999999,137.97887999999998,"< than 1 IFPS",25,10,3,{"$f":"V39","v":2261},2261,262164,86942,3.0153895700581996,0.12,0.6,2.88,251.67743999999999,251.67744000000005,2254.8211200000001,251.67744000000005,"< than 1 IFPS"]
[null,25,{"$f":"$J$9/2","v":15},2,{"$f":"F40","v":179},179,135299,45000,3.0066444444444445,0.08,0.4,1.92,86.591359999999995,86.591360000000009,777.79135999999994,86.591360000000009,"< than 1 IFPS",25,{"$f":"$J$9/2","v":15},2,{"$f":"V40","v":259},259,263164,65000,4.0486769230769228,0.08,0.4,1.92,168.42496,168.42496000000003,1166.8249600000001,168.42496000000003,"< than 1 IFPS"]
[null,25,{"$f":"$J$9","v":30},1,{"$f":"F41","v":156},156,139388,9125,15.275397260273973,0.04,0.2,0.96,44.60416,44.604160000000014,114.68416000000001,44.604160000000014,"< than 1 IFPS",25,{"$f":"$J$9","v":30},1,{"$f":"V41","v":149},149,264164,10573,24.984772533812542,0.04,0.2,0.96,84.532479999999993,84.532479999999993,165.73311999999999,84.532479999999993,"< than 1 IFPS"]
[]
[]
[null,"Notes"]
[null,1,null,"For Dinion 720p & FlexiDome 720p, the Sharpness level was adjusted to -10"]
[null,2,null,"Dinion 720p and Flexidome 720p have FW 4.53 build 10"]
[null,3,null,"Dinion 1080p has FW 5.00 build 46"]
[null,4,null,"Above table gives the reccomended average datarates, the actual datarates at some installation site may vary depending on the scene complexities and illumination level"]
[null,5,null,"At measurement: Target_datarate = 5mbps / Max set to 11Mbps / I frame Quality = auto / P frame quality = auto / I frame distance = 25"]
[null,6,null,"Advised not to use BVMS or BVC at an I-frame playback speed < than 1 IFPS (Intra Frame Per Seconde)"]

{"sheet":"benchmark_records","index":4,"n_rows":967,"n_cols":27,"rows_kept":967,"cut":false,"hidden":true,"merged":[[0,15,0,18],[0,19,0,22],[0,23,0,26],[1,13,1,14],[1,15,1,16],[1,17,1,18],[1,19,1,20],[1,21,1,22],[1,23,1,24],[1,25,1,26]]}
["Used Cameras",null,null,null,null,null,null,null,null,null,null,"Camera 1",null,null,null,"Camera 2",null,null,null,"Camera 3",null,null,null,"Camera 4"]
[null,null,null,null,"Resolution",null,"Video",null,"Video",null,null,"Encoder 1",null,"Encoder 2",null,"Encoder 1",null,"Encoder 2",null,"Encoder 1",null,"Encoder 2",null,"Encoder 1",null,"Encoder 2"]
[1,2,3,4,"Encoder 1","Encoder 2","Standard","Codec","Scene","ISCSI","IVMD","Data Rate","Frame Rate","Data Rate","Frame Rate","Data Rate","Frame Rate","Data Rate","Frame Rate","Data Rate","Frame Rate","Data Rate","Frame Rate","Data Rate","Frame Rate","Data Rate","Frame Rate"]
[1,0,0,0,"QCIF","n.c","PAL","H.263","MEDIUM",0,0,119,25,0,0,0,0,0,0,0,0,0,0,0,0,0,0]
[1,0,0,0,"CIF","n.c","PAL","H.263","MEDIUM",0,0,521,25,0,0,0,0,0,0,0,0,0,0,0,0,0,0]
[1,0,0,0,"2CIF","n.c","PAL","H.263","MEDIUM",0,0,1054,25,0,0,0,0,0,0,0,0,0,0,0,0,0,0]
[1,0,0,0,"4CIF","n.c","PAL","H.263","MEDIUM",0,0,1880,25,0,0,0,0,0,0,0,0,0,0,0,0,0,0]
[1,0,0,0,"HALF-D1","n.c","PAL","H.263","MEDIUM",0,0,1140,25,0,0,0,0,0,0,0,0,0,0,0,0,0,0]
[1,0,0,0,"2/3D1","n.c","PAL","H.263","MEDIUM",0,0,1395,25,0,0,0,0,0,0,0,0,0,0,0,0,0,0]
[1,0,0,0,"QCIF","QCIF","PAL","H.263","MEDIUM",0,0,113,25,115,25,0,0,0,0,0,0,0,0,0,0,0,0]
[1,0,0,0,"CIF","QCIF","PAL","H.263","MEDIUM",0,0,515,25,80,25,0,0,0,0,0,0,0,0,0,0,0,0]
[1,0,0,0,"2CIF","QCIF","PAL","H.263","MEDIUM",0,0,1109,25,118,25,0,0,0,0,0,0,0,0,0,0,0,0]
[1,0,0,0,"4CIF","QCIF","PAL","H.263","MEDIUM",0,0,1865,25,109,25,0,0,0,0,0,0,0,0,0,0,0,0]
[1,0,0,0,"HALF-D1","QCIF","PAL","H.263","MEDIUM",0,0,1087,25,88,25,0,0,0,0,0,0,0,0,0,0,0,0]
[1,0,0,0,"2/3D1","QCIF","PAL","H.263","MEDIUM",0,0,1427,25,89,25,0,0,0,0,0,0,0,0,0,0,0,0]
[1,0,0,0,"QCIF","CIF","PAL","H.263","MEDIUM",0,0,80,25,522,25,0,0,0,0,0,0,0,0,0,0,0,0]
[1,0,0,0,"CIF","CIF","PAL","H.263","MEDIUM",0,0,514,25,545,25,0,0,0,0,0,0,0,0,0,0,0,0]
[1,0,0,0,"2CIF","CIF","PAL","H.263","MEDIUM",0,0,1087,25,538,25,0,0,0,0,0,0,0,0,0,0,0,0]
[1,0,0,0,"4CIF","CIF","PAL","H.263","MEDIUM",0,0,1874,25,508,24,0,0,0,0,0,0,0,0,0,0,0,0]
[1,0,0,0,"HALF-D1","CIF","PAL","H.263","MEDIUM",0,0,1074,25,556,25,0,0,0,0,0,0,0,0,0,0,0,0]
[1,0,0,0,"2/3D1","CIF","PAL","H.263","MEDIUM",0,0,1440,25,513,25,0,0,0,0,0,0,0,0,0,0,0,0]
[1,0,0,0,"QCIF","2CIF","PAL","H.263","MEDIUM",0,0,114,25,1000,25,0,0,0,0,0,0,0,0,0,0,0,0]
[1,0,0,0,"CIF","2CIF","PAL","H.263","MEDIUM",0,0,535,25,1027,25,0,0,0,0,0,0,0,0,0,0,0,0]
[1,0,0,0,"2CIF","2CIF","PAL","H.263","MEDIUM",0,0,1016,25,1099,25,0,0,0,0,0,0,0,0,0,0,0,0]
[1,0,0,0,"4CIF","2CIF","PAL","H.263","MEDIUM",0,0,1922,25,870,19,0,0,0,0,0,0,0,0,0,0,0,0]
[1,0,0,0,"HALF-D1","2CIF","PAL","H.263","MEDIUM",0,0,1122,25,1037,25,0,0,0,0,0,0,0,0,0,0,0,0]
[1,0,0,0,"2/3D1","2CIF","PAL","H.263","MEDIUM",0,0,1418,25,1098,25,0,0,0,0,0,0,0,0,0,0,0,0]
[1,0,0,0,"QCIF","4CIF","PAL","H.263","MEDIUM",0,0,121,25,1856,25,0,0,0,0,0,0,0,0,0,0,0,0]
[1,0,0,0,"CIF","4CIF","PAL","H.263","MEDIUM",0,0,533,25,1828,25,0,0,0,0,0,0,0,0,0,0,0,0]
[1,0,0,0,"2CIF","4CIF","PAL","H.263","MEDIUM",0,0,1041,25,1653,22,0,0,0,0,0,0,0,0,0,0,0,0]
[1,0,0,0,"4CIF","4CIF","PAL","H.263","MEDIUM",0,0,1896,25,717,9,0,0,0,0,0,0,0,0,0,0,0,0]
[1,0,0,0,"HALF-D1","4CIF","PAL","H.263","MEDIUM",0,0,1144,25,1419,19,0,0,0,0,0,0,0,0,0,0,0,0]
[1,0,0,0,"2/3D1","4CIF","PAL","H.263","MEDIUM",0,0,1392,25,1114,14,0,0,0,0,0,0,0,0,0,0,0,0]
[1,0,0,0,"QCIF","HALF-D1","PAL","H.263","MEDIUM",0,0,81,25,925,25,0,0,0,0,0,0,0,0,0,0,0,0]
[1,0,0,0,"CIF","HALF-D1","PAL","H.263","MEDIUM",0,0,523,25,923,25,0,0,0,0,0,0,0,0,0,0,0,0]
[1,0,0,0,"2CIF","HALF-D1","PAL","H.263","MEDIUM",0,0,1059,25,926,25,0,0,0,0,0,0,0,0,0,0,0,0]
[1,0,0,0,"4CIF","HALF-D1","PAL","H.263","MEDIUM",0,0,1856,25,547,15,0,0,0,0,0,0,0,0,0,0,0,0]
[1,0,0,0,"HALF-D1","HALF-D1","PAL","H.263","MEDIUM",0,0,1126,25,932,25,0,0,0,0,0,0,0,0,0,0,0,0]
[1,0,0,0,"2/3D1","HALF-D1","PAL","H.263","MEDIUM",0,0,1456,25,797,23,0,0,0,0,0,0,0,0,0,0,0,0]
[1,0,0,0,"QCIF","2/3D1","PAL","H.263","MEDIUM",0,0,99,25,1373,25,0,0,0,0,0,0,0,0,0,0,0,0]
[1,0,0,0,"CIF","2/3D1","PAL","H.263","MEDIUM",0,0,525,25,1312,25,0,0,0,0,0,0,0,0,0,0,0,0]
[1,0,0,0,"2CIF","2/3D1","PAL","H.263","MEDIUM",0,0,1041,25,1320,25,0,0,0,0,0,0,0,0,0,0,0,0]
[1,0,0,0,"4CIF","2/3D1","PAL","H.263","MEDIUM",0,0,1872,25,687,12,0,0,0,0,0,0,0,0,0,0,0,0]
[1,0,0,0,"HALF-D1","2/3D1","PAL","H.263","MEDIUM",0,0,1057,25,1288,24,0,0,0,0,0,0,0,0,0,0,0,0]
[1,0,0,0,"2/3D1","2/3D1","PAL","H.263","MEDIUM",0,0,1484,25,1178,23,0,0,0,0,0,0,0,0,0,0,0,0]
[1,0,1,0,"QCIF","n.c","PAL","H.263","MEDIUM",0,0,123,25,0,0,0,0,0,0,125,25,0,0,0,0,0,0]
[1,0,1,0,"CIF","n.c","PAL","H.263","MEDIUM",0,0,542,25,0,0,0,0,0,0,549,25,0,0,0,0,0,0]
[1,0,1,0,"2CIF","n.c","PAL","H.263","MEDIUM",0,0,1107,25,0,0,0,0,0,0,1129,25,0,0,0,0,0,0]
[1,0,1,0,"4CIF","n.c","PAL","H.263","MEDIUM",0,0,1891,25,0,0,0,0,0,0,1909,25,0,0,0,0,0,0]
[1,0,1,0,"HALF-D1","n.c","PAL","H.263","MEDIUM",0,0,1081,25,0,0,0,0,0,0,1127,25,0,0,0,0,0,0]
[1,0,1,0,"2/3D1","n.c","PAL","H.263","MEDIUM",0,0,1434,25,0,0,0,0,0,0,1442,25,0,0,0,0,0,0]
[1,0,1,0,"QCIF","QCIF","PAL","H.263","MEDIUM",0,0,122,25,115,25,0,0,0,0,115,25,121,25,0,0,0,0]
[1,0,1,0,"CIF","QCIF","PAL","H.263","MEDIUM",0,0,539,25,72,25,0,0,0,0,548,25,73,25,0,0,0,0]
[1,0,1,0,"2CIF","QCIF","PAL","H.263","MEDIUM",0,0,1045,25,115,25,0,0,0,0,1048,25,118,25,0,0,0,0]
[1,0,1,0,"4CIF","QCIF","PAL","H.263","MEDIUM",0,0,1869,25,111,25,0,0,0,0,1940,25,114,25,0,0,0,0]
[1,0,1,0,"HALF-D1","QCIF","PAL","H.263","MEDIUM",0,0,1129,25,84,25,0,0,0,0,1151,25,86,25,0,0,0,0]
[1,0,1,0,"2/3D1","QCIF","PAL","H.263","MEDIUM",0,0,1428,25,92,25,0,0,0,0,1479,25,94,25,0,0,0,0]
[1,0,1,0,"QCIF","CIF","PAL","H.263","MEDIUM",0,0,77,25,535,25,0,0,0,0,81,25,539,25,0,0,0,0]
[1,0,1,0,"CIF","CIF","PAL","H.263","MEDIUM",0,0,519,25,564,25,0,0,0,0,529,25,571,25,0,0,0,0]
[1,0,1,0,"2CIF","CIF","PAL","H.263","MEDIUM",0,0,1108,25,525,25,0,0,0,0,1085,25,531,25,0,0,0,0]
[1,0,1,0,"4CIF","CIF","PAL","H.263","MEDIUM",0,0,1904,25,378,18,0,0,0,0,1882,25,568,25,0,0,0,0]
[1,0,1,0,"HALF-D1","CIF","PAL","H.263","MEDIUM",0,0,1082,25,549,25,0,0,0,0,1131,25,555,25,0,0,0,0]
[1,0,1,0,"2/3D1","CIF","PAL","H.263","MEDIUM",0,0,1485,25,512,24,0,0,0,0,1455,25,537,25,0,0,0,0]
[1,0,1,0,"QCIF","2CIF","PAL","H.263","MEDIUM",0,0,109,25,1077,25,0,0,0,0,124,25,1093,25,0,0,0,0]
[1,0,1,0,"CIF","2CIF","PAL","H.263","MEDIUM",0,0,538,25,1059,25,0,0,0,0,554,25,1091,25,0,0,0,0]
[1,0,1,0,"2CIF","2CIF","PAL","H.263","MEDIUM",0,0,1010,25,1031,25,0,0,0,0,1072,25,1051,25,0,0,0,0]
[1,0,1,0,"4CIF","2CIF","PAL","H.263","MEDIUM",0,0,1879,25,452,10,0,0,0,0,1885,25,1082,25,0,0,0,0]
[1,0,1,0,"HALF-D1","2CIF","PAL","H.263","MEDIUM",0,0,1092,25,1070,24,0,0,0,0,1141,25,1087,25,0,0,0,0]
[1,0,1,0,"2/3D1","2CIF","PAL","H.263","MEDIUM",0,0,1450,25,931,21,0,0,0,0,1546,25,1084,25,0,0,0,0]
[1,0,1,0,"QCIF","4CIF","PAL","H.263","MEDIUM",0,0,117,25,1880,25,0,0,0,0,122,25,1916,25,0,0,0,0]
[1,0,1,0,"CIF","4CIF","PAL","H.263","MEDIUM",0,0,558,25,1689,22,0,0,0,0,581,25,1902,25,0,0,0,0]
[1,0,1,0,"2CIF","4CIF","PAL","H.263","MEDIUM",0,0,1089,25,1410,18,0,0,0,0,1067,25,1902,25,0,0,0,0]
[1,0,1,0,"4CIF","4CIF","PAL","H.263","MEDIUM",0,0,1865,25,467,6,0,0,0,0,1656,21,1667,22,0,0,0,0]
[1,0,1,0,"HALF-D1","4CIF","PAL","H.263","MEDIUM",0,0,1143,25,1110,14,0,0,0,0,1152,25,1889,25,0,0,0,0]
[1,0,1,0,"2/3D1","4CIF","PAL","H.263","MEDIUM",0,0,1523,25,809,11,0,0,0,0,1425,24,1847,24,0,0,0,0]
[1,0,1,0,"QCIF","HALF-D1","PAL","H.263","MEDIUM",0,0,80,25,954,25,0,0,0,0,89,25,945,25,0,0,0,0]
[1,0,1,0,"CIF","HALF-D1","PAL","H.263","MEDIUM",0,0,563,25,943,25,0,0,0,0,560,25,950,25,0,0,0,0]
[1,0,1,0,"2CIF","HALF-D1","PAL","H.263","MEDIUM",0,0,1119,25,910,24,0,0,0,0,1088,25,950,25,0,0,0,0]
[1,0,1,0,"4CIF","HALF-D1","PAL","H.263","MEDIUM",0,0,1871,25,263,7,0,0,0,0,1878,25,924,25,0,0,0,0]
[1,0,1,0,"HALF-D1","HALF-D1","PAL","H.263","MEDIUM",0,0,1139,25,873,23,0,0,0,0,1123,25,940,25,0,0,0,0]
[1,0,1,0,"2/3D1","HALF-D1","PAL","H.263","MEDIUM",0,0,1549,25,515,14,0,0,0,0,1473,25,947,25,0,0,0,0]
[1,0,1,0,"QCIF","2/3D1","PAL","H.263","MEDIUM",0,0,100,25,1337,25,0,0,0,0,106,25,1373,25,0,0,0,0]
[1,0,1,0,"CIF","2/3D1","PAL","H.263","MEDIUM",0,0,535,25,1322,24,0,0,0,0,505,25,1394,25,0,0,0,0]
[1,0,1,0,"2CIF","2/3D1","PAL","H.263","MEDIUM",0,0,1099,25,1161,21,0,0,0,0,1067,25,1368,25,0,0,0,0]
[1,0,1,0,"4CIF","2/3D1","PAL","H.263","MEDIUM",0,0,1861,25,316,6,0,0,0,0,1815,24,1288,24,0,0,0,0]
[1,0,1,0,"HALF-D1","2/3D1","PAL","H.263","MEDIUM",0,0,1120,25,935,17,0,0,0,0,1083,25,1349,25,0,0,0,0]
[1,0,1,0,"2/3D1","2/3D1","PAL","H.263","MEDIUM",0,0,1547,25,724,13,0,0,0,0,1491,25,1410,25,0,0,0,0]
[1,1,1,1,"QCIF","n.c","PAL","H.263","MEDIUM",0,0,112,25,0,0,116,25,0,0,115,25,0,0,118,25,0,0]
[1,1,1,1,"CIF","n.c","PAL","H.263","MEDIUM",0,0,570,25,0,0,578,25,0,0,567,25,0,0,573,25,0,0]
[1,1,1,1,"2CIF","n.c","PAL","H.263","MEDIUM",0,0,1094,25,0,0,1102,25,0,0,1135,25,0,0,1150,25,0,0]
[1,1,1,1,"4CIF","n.c","PAL","H.263","MEDIUM",0,0,1116,14,0,0,1114,14,0,0,1655,22,0,0,1654,22,0,0]
[1,1,1,1,"HALF-D1","n.c","PAL","H.263","MEDIUM",0,0,1019,22,0,0,1046,22,0,0,1166,25,0,0,1187,25,0,0]
[1,1,1,1,"2/3D1","n.c","PAL","H.263","MEDIUM",0,0,1132,18,0,0,1131,18,0,0,1519,25,0,0,1542,25,0,0]
[1,1,1,1,"QCIF","QCIF","PAL","H.263","MEDIUM",0,0,111,25,118,25,120,25,121,25,119,25,116,25,122,25,120,25]
[1,1,1,1,"CIF","QCIF","PAL","H.263","MEDIUM",0,0,543,25,81,25,532,25,77,24,533,25,84,25,539,25,87,25]
[1,1,1,1,"2CIF","QCIF","PAL","H.263","MEDIUM",0,0,1141,25,55,12,1143,25,37,8,1151,25,122,25,1173,25,126,25]
[1,1,1,1,"4CIF","QCIF","PAL","H.263","MEDIUM",0,0,1068,14,6,1,1068,14,7,1,1463,19,93,19,1457,19,95,19]
[1,1,1,1,"HALF-D1","QCIF","PAL","H.263","MEDIUM",0,0,968,21,7,1,971,21,7,1,1140,25,82,25,1165,25,78,25]
[1,1,1,1,"2/3D1","QCIF","PAL","H.263","MEDIUM",0,0,1041,17,7,1,1042,17,7,1,1414,24,91,23,1418,24,94,23]
[1,1,1,1,"QCIF","CIF","PAL","H.263","MEDIUM",0,0,80,25,531,25,86,25,513,24,78,25,539,25,84,25,533,25]
[1,1,1,1,"CIF","CIF","PAL","H.263","MEDIUM",0,0,560,25,341,16,559,25,394,18,557,25,551,25,567,25,560,25]
[1,1,1,1,"2CIF","CIF","PAL","H.263","MEDIUM",0,0,1024,25,47,2,1025,24,93,5,1045,25,550,25,1061,25,554,25]
[1,1,1,1,"4CIF","CIF","PAL","H.263","MEDIUM",0,0,1040,13,28,1,1037,13,27,1,1233,16,356,16,1236,16,358,16]
[1,1,1,1,"HALF-D1","CIF","PAL","H.263","MEDIUM",0,0,935,20,26,1,938,20,26,1,1092,23,509,24,1100,23,510,24]
[1,1,1,1,"2/3D1","CIF","PAL","H.263","MEDIUM",0,0,1005,17,27,1,1011,16,26,1,1185,19,404,19,1182,19,409,19]
[1,1,1,1,"QCIF","2CIF","PAL","H.263","MEDIUM",0,0,118,25,1008,24,152,25,765,18,113,25,1052,25,116,25,1067,25]
[1,1,1,1,"CIF","2CIF","PAL","H.263","MEDIUM",0,0,520,25,268,5,521,25,470,11,527,25,1109,25,530,25,1119,25]
[1,1,1,1,"2CIF","2CIF","PAL","H.263","MEDIUM",0,0,1036,23,90,1,1035,23,99,2,1011,22,988,22,1023,22,990,22]
[1,1,1,1,"4CIF","2CIF","PAL","H.263","MEDIUM",0,0,977,13,71,1,968,12,71,1,1102,14,685,15,1101,14,705,14]
[1,1,1,1,"HALF-D1","2CIF","PAL","H.263","MEDIUM",0,0,853,18,71,1,856,19,73,1,883,19,896,19,883,19,898,19]
[1,1,1,1,"2/3D1","2CIF","PAL","H.263","MEDIUM",0,0,984,16,68,1,987,16,68,1,1054,17,760,17,1024,17,757,17]
[1,1,1,1,"QCIF","4CIF","PAL","H.263","MEDIUM",0,0,116,25,904,12,126,25,606,8,95,19,1438,19,95,19,1455,19]
[1,1,1,1,"CIF","4CIF","PAL","H.263","MEDIUM",0,0,544,24,355,4,515,24,347,4,359,16,1220,16,369,16,1211,16]
[1,1,1,1,"2CIF","4CIF","PAL","H.263","MEDIUM",0,0,1046,24,165,2,1065,24,173,2,710,14,1086,14,701,14,1087,14]
[1,1,1,1,"4CIF","4CIF","PAL","H.263","MEDIUM",0,0,1019,13,91,1,1033,13,89,1,832,10,824,10,825,10,824,10]
[1,1,1,1,"HALF-D1","4CIF","PAL","H.263","MEDIUM",0,0,889,20,92,1,909,20,94,1,621,13,1000,13,637,13,1001,13]
[1,1,1,1,"2/3D1","4CIF","PAL","H.263","MEDIUM",0,0,1038,17,85,1,1037,16,88,1,784,12,914,12,783,12,914,12]
[1,1,1,1,"QCIF","HALF-D1","PAL","H.263","MEDIUM",0,0,158,25,406,10,124,25,767,20,81,25,937,25,82,25,942,25]
[1,1,1,1,"CIF","HALF-D1","PAL","H.263","MEDIUM",0,0,662,25,251,6,675,25,272,7,497,22,872,23,523,22,872,23]
[1,1,1,1,"2CIF","HALF-D1","PAL","H.263","MEDIUM",0,0,1062,23,72,2,1046,23,78,2,866,18,704,18,869,18,703,18]
[1,1,1,1,"4CIF","HALF-D1","PAL","H.263","MEDIUM",0,0,1032,13,53,1,1037,13,50,1,956,12,483,12,954,12,484,12]
[1,1,1,1,"HALF-D1","HALF-D1","PAL","H.263","MEDIUM",0,0,948,20,45,1,956,20,49,1,855,18,691,18,878,18,692,18]
[1,1,1,1,"2/3D1","HALF-D1","PAL","H.263","MEDIUM",0,0,1029,17,47,1,1047,17,47,1,961,15,564,15,970,15,561,15]
[1,1,1,1,"QCIF","2/3D1","PAL","H.263","MEDIUM",0,0,148,25,292,5,132,25,1099,20,97,22,1266,22,100,23,1269,22]
[1,1,1,1,"CIF","2/3D1","PAL","H.263","MEDIUM",0,0,535,25,361,6,534,25,313,5,391,19,1033,19,394,19,1032,19]
[1,1,1,1,"2CIF","2/3D1","PAL","H.263","MEDIUM",0,0,1082,24,137,2,1093,24,114,2,788,17,897,16,810,16,898,16]
[1,1,1,1,"4CIF","2/3D1","PAL","H.263","MEDIUM",0,0,1045,13,59,1,1049,13,65,1,903,11,674,12,924,12,676,12]
[1,1,1,1,"HALF-D1","2/3D1","PAL","H.263","MEDIUM",0,0,933,20,64,1,935,20,65,1,691,15,820,14,693,14,820,14]
[1,1,1,1,"2/3D1","2/3D1","PAL","H.263","MEDIUM",0,0,999,17,61,1,1008,17,61,1,893,15,808,15,887,15,805,15]
[1,0,0,0,"QCIF","n.c","PAL","H.263","MEDIUM",2,0,168,25,172,25,0,0,0,0,0,0,0,0,0,0,0,0]
[1,0,0,0,"CIF","n.c","PAL","H.263","MEDIUM",2,0,645,25,129,25,0,0,0,0,0,0,0,0,0,0,0,0]
[1,0,0,0,"2CIF","n.c","PAL","H.263","MEDIUM",2,0,1380,25,164,25,0,0,0,0,0,0,0,0,0,0,0,0]
[1,0,0,0,"4CIF","n.c","PAL","H.263","MEDIUM",2,0,1988,25,160,25,0,0,0,0,0,0,0,0,0,0,0,0]
[1,0,0,0,"HALF-D1","n.c","PAL","H.263","MEDIUM",2,0,1403,25,131,25,0,0,0,0,0,0,0,0,0,0,0,0]
[1,0,0,0,"2/3D1","n.c","PAL","H.263","MEDIUM",2,0,1828,25,149,25,0,0,0,0,0,0,0,0,0,0,0,0]
[1,0,0,0,"QCIF","QCIF","PAL","H.263","MEDIUM",2,0,163,25,164,25,0,0,0,0,0,0,0,0,0,0,0,0]
[1,0,0,0,"CIF","QCIF","PAL","H.263","MEDIUM",2,0,644,25,127,25,0,0,0,0,0,0,0,0,0,0,0,0]
[1,0,0,0,"2CIF","QCIF","PAL","H.263","MEDIUM",2,0,1322,25,160,25,0,0,0,0,0,0,0,0,0,0,0,0]
[1,0,0,0,"4CIF","QCIF","PAL","H.263","MEDIUM",2,0,1993,25,158,24,0,0,0,0,0,0,0,0,0,0,0,0]
[1,0,0,0,"HALF-D1","QCIF","PAL","H.263","MEDIUM",2,0,1365,25,131,25,0,0,0,0,0,0,0,0,0,0,0,0]
[1,0,0,0,"2/3D1","QCIF","PAL","H.263","MEDIUM",2,0,1847,25,147,25,0,0,0,0,0,0,0,0,0,0,0,0]
[1,0,0,0,"QCIF","CIF","PAL","H.263","MEDIUM",2,0,130,25,653,25,0,0,0,0,0,0,0,0,0,0,0,0]
[1,0,0,0,"CIF","CIF","PAL","H.263","MEDIUM",2,0,647,25,647,25,0,0,0,0,0,0,0,0,0,0,0,0]
[1,0,0,0,"2CIF","CIF","PAL","H.263","MEDIUM",2,0,1285,25,631,25,0,0,0,0,0,0,0,0,0,0,0,0]
[1,0,0,0,"4CIF","CIF","PAL","H.263","MEDIUM",2,0,1976,25,396,15,0,0,0,0,0,0,0,0,0,0,0,0]
[1,0,0,0,"HALF-D1","CIF","PAL","H.263","MEDIUM",2,0,1391,25,638,25,0,0,0,0,0,0,0,0,0,0,0,0]
[1,0,0,0,"2/3D1","CIF","PAL","H.263","MEDIUM",2,0,1821,25,628,25,0,0,0,0,0,0,0,0,0,0,0,0]
[1,0,0,0,"QCIF","2CIF","PAL","H.263","MEDIUM",2,0,165,25,1378,25,0,0,0,0,0,0,0,0,0,0,0,0]
[1,0,0,0,"CIF","2CIF","PAL","H.263","MEDIUM",2,0,665,25,1419,25,0,0,0,0,0,0,0,0,0,0,0,0]
[1,0,0,0,"2CIF","2CIF","PAL","H.263","MEDIUM",2,0,1333,25,1336,25,0,0,0,0,0,0,0,0,0,0,0,0]
[1,0,0,0,"4CIF","2CIF","PAL","H.263","MEDIUM",2,0,2006,25,742,13,0,0,0,0,0,0,0,0,0,0,0,0]
[1,0,0,0,"HALF-D1","2CIF","PAL","H.263","MEDIUM",2,0,1394,25,1356,25,0,0,0,0,0,0,0,0,0,0,0,0]
[1,0,0,0,"2/3D1","2CIF","PAL","H.263","MEDIUM",2,0,1815,25,1192,22,0,0,0,0,0,0,0,0,0,0,0,0]
[1,0,0,0,"QCIF","4CIF","PAL","H.263","MEDIUM",2,0,164,25,1985,25,0,0,0,0,0,0,0,0,0,0,0,0]
[1,0,0,0,"CIF","4CIF","PAL","H.263","MEDIUM",2,0,654,25,1795,22,0,0,0,0,0,0,0,0,0,0,0,0]
[1,0,0,0,"2CIF","4CIF","PAL","H.263","MEDIUM",2,0,1415,25,1409,18,0,0,0,0,0,0,0,0,0,0,0,0]
[1,0,0,0,"4CIF","4CIF","PAL","H.263","MEDIUM",2,0,1969,25,510,6,0,0,0,0,0,0,0,0,0,0,0,0]
[1,0,0,0,"HALF-D1","4CIF","PAL","H.263","MEDIUM",2,0,1384,25,1185,15,0,0,0,0,0,0,0,0,0,0,0,0]
[1,0,0,0,"2/3D1","4CIF","PAL","H.263","MEDIUM",2,0,1775,25,930,12,0,0,0,0,0,0,0,0,0,0,0,0]
[1,0,0,0,"QCIF","HALF-D1","PAL","H.263","MEDIUM",2,0,123,25,1002,25,0,0,0,0,0,0,0,0,0,0,0,0]
[1,0,0,0,"CIF","HALF-D1","PAL","H.263","MEDIUM",2,0,645,25,994,25,0,0,0,0,0,0,0,0,0,0,0,0]
[1,0,0,0,"2CIF","HALF-D1","PAL","H.263","MEDIUM",2,0,1400,25,996,25,0,0,0,0,0,0,0,0,0,0,0,0]
[1,0,0,0,"4CIF","HALF-D1","PAL","H.263","MEDIUM",2,0,1987,25,398,9,0,0,0,0,0,0,0,0,0,0,0,0]
[1,0,0,0,"HALF-D1","HALF-D1","PAL","H.263","MEDIUM",2,0,1383,25,979,25,0,0,0,0,0,0,0,0,0,0,0,0]
[1,0,0,0,"2/3D1","HALF-D1","PAL","H.263","MEDIUM",2,0,1826,25,716,18,0,0,0,0,0,0,0,0,0,0,0,0]
[1,0,0,0,"QCIF","2/3D1","PAL","H.263","MEDIUM",2,0,136,25,1491,25,0,0,0,0,0,0,0,0,0,0,0,0]
[1,0,0,0,"CIF","2/3D1","PAL","H.263","MEDIUM",2,0,623,25,1480,25,0,0,0,0,0,0,0,0,0,0,0,0]
[1,0,0,0,"2CIF","2/3D1","PAL","H.263","MEDIUM",2,0,1405,25,1332,22,0,0,0,0,0,0,0,0,0,0,0,0]
[1,0,0,0,"4CIF","2/3D1","PAL","H.263","MEDIUM",2,0,1987,25,459,7,0,0,0,0,0,0,0,0,0,0,0,0]
[1,0,0,0,"HALF-D1","2/3D1","PAL","H.263","MEDIUM",2,0,1374,25,1167,19,0,0,0,0,0,0,0,0,0,0,0,0]
[1,0,0,0,"2/3D1","2/3D1","PAL","H.263","MEDIUM",2,0,1808,25,969,16,0,0,0,0,0,0,0,0,0,0,0,0]
[1,0,1,0,"QCIF","n.c","PAL","H.263","MEDIUM",2,0,112,25,0,0,0,0,0,0,114,25,0,0,0,0,0,0]
[1,0,1,0,"CIF","n.c","PAL","H.263","MEDIUM",2,0,635,25,124,25,0,0,0,0,652,25,129,25,0,0,0,0]
[1,0,1,0,"2CIF","n.c","PAL","H.263","MEDIUM",2,0,1377,25,165,25,0,0,0,0,1398,25,171,25,0,0,0,0]
[1,0,1,0,"4CIF","n.c","PAL","H.263","MEDIUM",2,0,1950,24,60,10,0,0,0,0,1994,25,157,25,0,0,0,0]
[1,0,1,0,"HALF-D1","n.c","PAL","H.263","MEDIUM",2,0,1402,25,129,25,0,0,0,0,1387,25,130,25,0,0,0,0]
[1,0,1,0,"2/3D1","n.c","PAL","H.263","MEDIUM",2,0,1817,25,134,24,0,0,0,0,1832,25,141,25,0,0,0,0]
[1,0,1,0,"QCIF","QCIF","PAL","H.263","MEDIUM",2,0,171,25,170,25,0,0,0,0,168,25,169,25,0,0,0,0]
[1,0,1,0,"CIF","QCIF","PAL","H.263","MEDIUM",2,0,653,25,125,25,0,0,0,0,657,25,122,25,0,0,0,0]
[1,0,1,0,"2CIF","QCIF","PAL","H.263","MEDIUM",2,0,1393,25,169,25,0,0,0,0,1365,25,164,25,0,0,0,0]
[1,0,1,0,"4CIF","QCIF","PAL","H.263","MEDIUM",2,0,1928,24,49,8,0,0,0,0,2004,25,168,25,0,0,0,0]
[1,0,1,0,"HALF-D1","QCIF","PAL","H.263","MEDIUM",2,0,1404,25,132,25,0,0,0,0,1380,25,129,25,0,0,0,0]
[1,0,1,0,"2/3D1","QCIF","PAL","H.263","MEDIUM",2,0,1868,25,142,24,0,0,0,0,1877,25,147,25,0,0,0,0]
[1,0,1,0,"QCIF","CIF","PAL","H.263","MEDIUM",2,0,124,25,648,25,0,0,0,0,129,25,644,25,0,0,0,0]
[1,0,1,0,"CIF","CIF","PAL","H.263","MEDIUM",2,0,638,25,642,25,0,0,0,0,646,25,662,25,0,0,0,0]
[1,0,1,0,"2CIF","CIF","PAL","H.263","MEDIUM",2,0,1331,25,634,25,0,0,0,0,1365,25,644,25,0,0,0,0]
[1,0,1,0,"4CIF","CIF","PAL","H.263","MEDIUM",2,0,1845,23,75,3,0,0,0,0,2003,25,647,25,0,0,0,0]
[1,0,1,0,"HALF-D1","CIF","PAL","H.263","MEDIUM",2,0,1405,25,649,25,0,0,0,0,1441,25,665,25,0,0,0,0]
[1,0,1,0,"2/3D1","CIF","PAL","H.263","MEDIUM",2,0,1764,25,382,16,0,0,0,0,1783,25,647,25,0,0,0,0]
[1,0,1,0,"QCIF","2CIF","PAL","H.263","MEDIUM",2,0,161,25,1355,25,0,0,0,0,163,25,1337,25,0,0,0,0]
[1,0,1,0,"CIF","2CIF","PAL","H.263","MEDIUM",2,0,640,25,1344,25,0,0,0,0,658,25,1373,25,0,0,0,0]
[1,0,1,0,"2CIF","2CIF","PAL","H.263","MEDIUM",2,0,1378,25,1165,21,0,0,0,0,1440,25,1416,25,0,0,0,0]
[1,0,1,0,"4CIF","2CIF","PAL","H.263","MEDIUM",2,0,1786,22,117,2,0,0,0,0,1990,25,1385,25,0,0,0,0]
[1,0,1,0,"HALF-D1","2CIF","PAL","H.263","MEDIUM",2,0,1391,25,868,15,0,0,0,0,1413,25,1392,25,0,0,0,0]
[1,0,1,0,"2/3D1","2CIF","PAL","H.263","MEDIUM",2,0,1761,24,450,7,0,0,0,0,1816,25,1366,25,0,0,0,0]
[1,0,1,0,"QCIF","4CIF","PAL","H.263","MEDIUM",2,0,174,25,1604,20,0,0,0,0,168,25,2004,25,0,0,0,0]
[1,0,1,0,"CIF","4CIF","PAL","H.263","MEDIUM",2,0,661,25,1135,14,0,0,0,0,650,25,1980,25,0,0,0,0]
[1,0,1,0,"2CIF","4CIF","PAL","H.263","MEDIUM",2,0,1333,24,766,9,0,0,0,0,1382,25,1990,25,0,0,0,0]
[1,0,1,0,"4CIF","4CIF","PAL","H.263","MEDIUM",2,0,1646,21,123,1,0,0,0,0,1618,20,1640,21,0,0,0,0]
[1,0,1,0,"HALF-D1","4CIF","PAL","H.263","MEDIUM",2,0,1333,23,550,7,0,0,0,0,1343,25,1949,24,0,0,0,0]
[1,0,1,0,"2/3D1","4CIF","PAL","H.263","MEDIUM",2,0,1701,23,323,4,0,0,0,0,1696,23,1823,23,0,0,0,0]
[1,0,1,0,"QCIF","HALF-D1","PAL","H.263","MEDIUM",2,0,128,25,995,25,0,0,0,0,126,25,1006,25,0,0,0,0]
[1,0,1,0,"CIF","HALF-D1","PAL","H.263","MEDIUM",2,0,663,25,929,23,0,0,0,0,665,25,999,25,0,0,0,0]
[1,0,1,0,"2CIF","HALF-D1","PAL","H.263","MEDIUM",2,0,1339,25,643,16,0,0,0,0,1356,25,1002,25,0,0,0,0]
[1,0,1,0,"4CIF","HALF-D1","PAL","H.263","MEDIUM",2,0,1710,21,60,1,0,0,0,0,1934,24,966,24,0,0,0,0]
[1,0,1,0,"HALF-D1","HALF-D1","PAL","H.263","MEDIUM",2,0,1375,25,535,13,0,0,0,0,1388,25,1000,25,0,0,0,0]
[1,0,1,0,"2/3D1","HALF-D1","PAL","H.263","MEDIUM",2,0,1723,24,297,7,0,0,0,0,1842,25,1006,25,0,0,0,0]
[1,0,1,0,"QCIF","2/3D1","PAL","H.263","MEDIUM",2,0,141,25,1456,25,0,0,0,0,150,25,1479,25,0,0,0,0]
[1,0,1,0,"CIF","2/3D1","PAL","H.263","MEDIUM",2,0,632,25,1211,20,0,0,0,0,638,25,1501,25,0,0,0,0]
[1,0,1,0,"2CIF","2/3D1","PAL","H.263","MEDIUM",2,0,1330,25,852,14,0,0,0,0,1364,25,1474,25,0,0,0,0]
[1,0,1,0,"4CIF","2/3D1","PAL","H.263","MEDIUM",2,0,1709,21,111,2,0,0,0,0,1761,22,1368,23,0,0,0,0]
[1,0,1,0,"HALF-D1","2/3D1","PAL","H.263","MEDIUM",2,0,1346,24,573,10,0,0,0,0,1353,25,1486,25,0,0,0,0]
[1,0,1,0,"2/3D1","2/3D1","PAL","H.263","MEDIUM",2,0,1699,24,255,4,0,0,0,0,1849,25,1490,25,0,0,0,0]
[1,1,1,1,"QCIF","n.c","PAL","H.263","MEDIUM",2,0,117,25,0,0,120,25,0,0,122,25,0,0,126,25,0,0]
[1,1,1,1,"CIF","n.c","PAL","H.263","MEDIUM",2,0,639,25,81,17,633,25,55,11,649,25,122,25,648,25,129,25]
[1,1,1,1,"2CIF","n.c","PAL","H.263","MEDIUM",2,0,1047,18,10,1,1027,18,8,1,1429,25,172,25,1446,25,168,25]
[1,1,1,1,"4CIF","n.c","PAL","H.263","MEDIUM",2,0,788,10,8,1,776,10,7,1,1420,17,119,17,1406,17,120,18]
[1,1,1,1,"HALF-D1","n.c","PAL","H.263","MEDIUM",2,0,776,14,7,1,776,14,7,1,1404,25,132,25,1410,25,136,25]
[1,1,1,1,"2/3D1","n.c","PAL","H.263","MEDIUM",2,0,854,11,9,1,852,11,7,1,1632,23,136,22,1673,22,134,23]
[1,1,1,1,"QCIF","QCIF","PAL","H.263","MEDIUM",2,0,163,25,164,25,171,25,166,24,177,25,173,25,178,25,181,25]
[1,1,1,1,"CIF","QCIF","PAL","H.263","MEDIUM",2,0,639,24,44,9,626,24,45,8,659,25,128,25,658,25,134,25]
[1,1,1,1,"2CIF","QCIF","PAL","H.263","MEDIUM",2,0,951,17,9,1,961,17,9,1,1368,25,164,25,1380,25,166,25]
[1,1,1,1,"4CIF","QCIF","PAL","H.263","MEDIUM",2,0,742,9,8,1,727,9,9,1,1424,18,120,17,1414,18,119,18]
[1,1,1,1,"HALF-D1","QCIF","PAL","H.263","MEDIUM",2,0,757,13,7,1,754,13,7,1,1414,25,130,25,1418,25,136,25]
[1,1,1,1,"2/3D1","QCIF","PAL","H.263","MEDIUM",2,0,765,11,8,1,792,11,8,1,1609,23,131,22,1625,23,133,23]
[1,1,1,1,"QCIF","CIF","PAL","H.263","MEDIUM",2,0,154,25,442,17,159,25,506,19,124,25,635,25,127,25,644,25]
[1,1,1,1,"CIF","CIF","PAL","H.263","MEDIUM",2,0,577,23,57,2,585,23,82,3,644,25,653,25,644,25,650,25]
[1,1,1,1,"2CIF","CIF","PAL","H.263","MEDIUM",2,0,868,15,34,1,847,15,37,1,1393,25,642,25,1404,25,645,25]
[1,1,1,1,"4CIF","CIF","PAL","H.263","MEDIUM",2,0,700,8,29,1,704,8,33,1,1206,15,391,15,1214,15,398,15]
[1,1,1,1,"HALF-D1","CIF","PAL","H.263","MEDIUM",2,0,688,12,33,1,685,12,29,1,1255,23,582,23,1260,23,574,22]
[1,1,1,1,"2/3D1","CIF","PAL","H.263","MEDIUM",2,0,756,10,33,1,744,10,34,1,1367,18,470,19,1357,19,480,19]
[1,1,1,1,"QCIF","2CIF","PAL","H.263","MEDIUM",2,0,181,25,524,9,189,24,678,12,170,25,1433,25,172,25,1432,25]
[1,1,1,1,"CIF","2CIF","PAL","H.263","MEDIUM",2,0,554,21,99,1,545,21,95,1,640,25,1396,25,655,25,1410,25]
[1,1,1,1,"2CIF","2CIF","PAL","H.263","MEDIUM",2,0,812,14,88,1,845,14,73,1,1258,22,1212,22,1257,22,1241,22]
[1,1,1,1,"4CIF","2CIF","PAL","H.263","MEDIUM",2,0,678,8,81,1,675,8,67,1,1070,14,861,13,1114,14,856,14]
[1,1,1,1,"HALF-D1","2CIF","PAL","H.263","MEDIUM",2,0,680,12,76,1,671,12,73,1,1048,18,1062,19,1046,19,1068,19]
[1,1,1,1,"2/3D1","2CIF","PAL","H.263","MEDIUM",2,0,726,10,78,1,728,10,81,1,1227,16,977,16,1232,16,966,16]
[1,1,1,1,"QCIF","4CIF","PAL","H.263","MEDIUM",2,0,151,23,514,6,160,23,465,6,124,17,1392,17,126,17,1382,17]
[1,1,1,1,"CIF","4CIF","PAL","H.263","MEDIUM",2,0,547,21,164,1,554,22,142,1,399,15,1226,15,397,15,1205,15]
[1,1,1,1,"2CIF","4CIF","PAL","H.263","MEDIUM",2,0,933,16,98,1,894,16,99,1,823,14,1095,14,832,14,1121,14]
[1,1,1,1,"4CIF","4CIF","PAL","H.263","MEDIUM",2,0,717,9,102,1,712,9,105,1,845,10,821,10,844,10,822,10]
[1,1,1,1,"HALF-D1","4CIF","PAL","H.263","MEDIUM",2,0,727,13,107,1,740,13,98,1,716,12,983,12,713,12,992,12]
[1,1,1,1,"2/3D1","4CIF","PAL","H.263","MEDIUM",2,0,771,10,96,1,785,10,110,1,863,11,897,11,864,11,919,11]
[1,1,1,1,"QCIF","HALF-D1","PAL","H.263","MEDIUM",2,0,178,24,365,9,185,24,288,7,135,25,1002,25,143,25,1003,25]
[1,1,1,1,"CIF","HALF-D1","PAL","H.263","MEDIUM",2,0,610,22,65,1,607,22,87,2,582,21,880,22,566,22,873,22]
[1,1,1,1,"2CIF","HALF-D1","PAL","H.263","MEDIUM",2,0,883,16,52,1,905,15,51,1,1028,18,729,18,1070,18,712,18]
[1,1,1,1,"4CIF","HALF-D1","PAL","H.263","MEDIUM",2,0,726,9,54,1,724,9,56,1,959,12,502,12,973,12,495,12]
[1,1,1,1,"HALF-D1","HALF-D1","PAL","H.263","MEDIUM",2,0,714,12,48,1,703,12,52,1,974,17,700,17,988,17,708,17]
[1,1,1,1,"2/3D1","HALF-D1","PAL","H.263","MEDIUM",2,0,810,11,42,1,789,10,49,1,1069,14,577,14,1067,14,580,14]
[1,1,1,1,"QCIF","2/3D1","PAL","H.263","MEDIUM",2,0,179,24,402,7,187,24,448,7,123,22,1302,22,127,22,1313,22]
[1,1,1,1,"CIF","2/3D1","PAL","H.263","MEDIUM",2,0,548,21,108,1,547,21,97,1,456,18,1076,18,470,18,1066,18]
[1,1,1,1,"2CIF","2/3D1","PAL","H.263","MEDIUM",2,0,921,16,68,1,909,16,64,1,960,16,929,16,972,16,943,16]
[1,1,1,1,"4CIF","2/3D1","PAL","H.263","MEDIUM",2,0,722,9,73,1,697,9,76,1,867,11,652,11,858,11,647,11]
[1,1,1,1,"HALF-D1","2/3D1","PAL","H.263","MEDIUM",2,0,722,13,67,1,719,13,76,1,778,14,872,14,787,14,834,14]
[1,1,1,1,"2/3D1","2/3D1","PAL","H.263","MEDIUM",2,0,790,10,59,1,800,10,60,1,1056,14,849,14,1064,14,849,14]
[1,0,0,0,"QCIF","n.c","PAL","H264","MEDIUM",0,0,189,25,0,0,0,0,0,0,0,0,0,0,0,0,0,0]
[1,0,0,0,"CIF","n.c","PAL","H264","MEDIUM",0,0,694,25,0,0,0,0,0,0,0,0,0,0,0,0,0,0]
[1,0,0,0,"2CIF","n.c","PAL","H264","MEDIUM",0,0,2002,25,0,0,0,0,0,0,0,0,0,0,0,0,0,0]
[1,0,0,0,"2/3D1","n.c","PAL","H264","MEDIUM",0,0,2008,25,0,0,0,0,0,0,0,0,0,0,0,0,0,0]
[1,0,0,0,"QCIF","QCIF","PAL","H264","MEDIUM",0,0,197,25,196,25,0,0,0,0,0,0,0,0,0,0,0,0]
[1,0,0,0,"CIF","QCIF","PAL","H264","MEDIUM",0,0,699,25,197,25,0,0,0,0,0,0,0,0,0,0,0,0]
[1,0,0,0,"2CIF","QCIF","PAL","H264","MEDIUM",0,0,2003,25,141,19,0,0,0,0,0,0,0,0,0,0,0,0]
[1,0,0,0,"2/3D1","QCIF","PAL","H264","MEDIUM",0,0,2002,25,196,25,0,0,0,0,0,0,0,0,0,0,0,0]
[1,0,0,0,"QCIF","CIF","PAL","H264","MEDIUM",0,0,193,25,693,25,0,0,0,0,0,0,0,0,0,0,0,0]
[1,0,0,0,"CIF","CIF","PAL","H264","MEDIUM",0,0,694,25,696,25,0,0,0,0,0,0,0,0,0,0,0,0]
[1,0,0,0,"2CIF","CIF","PAL","H264","MEDIUM",0,0,1992,25,184,7,0,0,0,0,0,0,0,0,0,0,0,0]
[1,0,0,0,"2/3D1","CIF","PAL","H264","MEDIUM",0,0,1997,25,317,11,0,0,0,0,0,0,0,0,0,0,0,0]
[1,0,0,0,"QCIF","2CIF","PAL","H264","MEDIUM",0,0,195,25,1923,24,0,0,0,0,0,0,0,0,0,0,0,0]
[1,0,0,0,"CIF","2CIF","PAL","H264","MEDIUM",0,0,699,25,1262,16,0,0,0,0,0,0,0,0,0,0,0,0]
[1,0,0,0,"2CIF","2CIF","PAL","H264","MEDIUM",0,0,1982,25,264,3,0,0,0,0,0,0,0,0,0,0,0,0]
[1,0,0,0,"2/3D1","2CIF","PAL","H264","MEDIUM",0,0,1998,25,469,6,0,0,0,0,0,0,0,0,0,0,0,0]
[1,0,0,0,"QCIF","2/3D1","PAL","H264","MEDIUM",0,0,191,25,1500,25,0,0,0,0,0,0,0,0,0,0,0,0]
[1,0,0,0,"CIF","2/3D1","PAL","H264","MEDIUM",0,0,697,25,1192,20,0,0,0,0,0,0,0,0,0,0,0,0]
[1,0,0,0,"2CIF","2/3D1","PAL","H264","MEDIUM",0,0,2003,25,238,4,0,0,0,0,0,0,0,0,0,0,0,0]
[1,0,0,0,"2/3D1","2/3D1","PAL","H264","MEDIUM",0,0,1991,25,497,8,0,0,0,0,0,0,0,0,0,0,0,0]
[1,0,1,0,"QCIF","n.c","PAL","H264","MEDIUM",0,0,193,25,0,0,0,0,0,0,194,25,0,0,0,0,0,0]
[1,0,1,0,"CIF","n.c","PAL","H264","MEDIUM",0,0,691,25,0,0,0,0,0,0,693,25,0,0,0,0,0,0]
[1,0,1,0,"2CIF","n.c","PAL","H264","MEDIUM",0,0,2005,25,0,0,0,0,0,0,1994,25,0,0,0,0,0,0]
[1,0,1,0,"2/3D1","n.c","PAL","H264","MEDIUM",0,0,1996,25,0,0,0,0,0,0,1996,25,0,0,0,0,0,0]
[1,0,1,0,"QCIF","QCIF","PAL","H264","MEDIUM",0,0,193,25,193,25,0,0,0,0,191,25,192,25,0,0,0,0]
[1,0,1,0,"CIF","QCIF","PAL","H264","MEDIUM",0,0,697,25,192,25,0,0,0,0,699,25,193,25,0,0,0,0]
[1,0,1,0,"2CIF","QCIF","PAL","H264","MEDIUM",0,0,1953,24,22,3,0,0,0,0,2006,25,193,25,0,0,0,0]
[1,0,1,0,"2/3D1","QCIF","PAL","H264","MEDIUM",0,0,2006,25,164,21,0,0,0,0,1999,25,196,25,0,0,0,0]
[1,0,1,0,"QCIF","CIF","PAL","H264","MEDIUM",0,0,196,25,695,25,0,0,0,0,196,25,694,25,0,0,0,0]
[1,0,1,0,"CIF","CIF","PAL","H264","MEDIUM",0,0,700,25,698,25,0,0,0,0,695,25,700,25,0,0,0,0]
[1,0,1,0,"2CIF","CIF","PAL","H264","MEDIUM",0,0,1991,25,52,2,0,0,0,0,1891,24,659,24,0,0,0,0]
[1,0,1,0,"2/3D1","CIF","PAL","H264","MEDIUM",0,0,1991,25,169,6,0,0,0,0,1993,25,693,25,0,0,0,0]
[1,0,1,0,"QCIF","2CIF","PAL","H264","MEDIUM",0,0,196,25,1734,22,0,0,0,0,193,25,1992,25,0,0,0,0]
[1,0,1,0,"CIF","2CIF","PAL","H264","MEDIUM",0,0,695,25,1068,13,0,0,0,0,659,24,1893,24,0,0,0,0]
[1,0,1,0,"2CIF","2CIF","PAL","H264","MEDIUM",0,0,1930,24,122,1,0,0,0,0,1433,18,1439,18,0,0,0,0]
[1,0,1,0,"2/3D1","2CIF","PAL","H264","MEDIUM",0,0,1963,25,248,3,0,0,0,0,1506,19,1504,19,0,0,0,0]
[1,0,1,0,"QCIF","2/3D1","PAL","H264","MEDIUM",0,0,196,25,1498,25,0,0,0,0,196,25,1506,25,0,0,0,0]
[1,0,1,0,"CIF","2/3D1","PAL","H264","MEDIUM",0,0,695,25,979,16,0,0,0,0,701,25,1510,25,0,0,0,0]
[1,0,1,0,"2CIF","2/3D1","PAL","H264","MEDIUM",0,0,1935,24,75,1,0,0,0,0,1573,20,1184,20,0,0,0,0]
[1,0,1,0,"2/3D1","2/3D1","PAL","H264","MEDIUM",0,0,1990,25,251,4,0,0,0,0,1792,22,1338,22,0,0,0,0]
[1,1,1,1,"QCIF","n.c","PAL","H264","MEDIUM",0,0,193,25,0,0,192,25,0,0,192,25,0,0,192,25,0,0]
[1,1,1,1,"CIF","n.c","PAL","H264","MEDIUM",0,0,701,25,0,0,697,25,0,0,702,25,0,0,702,25,0,0]
[1,1,1,1,"2CIF","n.c","PAL","H264","MEDIUM",0,0,1029,13,0,0,1028,13,0,0,1435,18,0,0,1431,18,0,0]
[1,1,1,1,"2/3D1","n.c","PAL","H264","MEDIUM",0,0,1130,14,0,0,1128,14,0,0,1585,20,0,0,1584,20,0,0]
[1,1,1,1,"QCIF","QCIF","PAL","H264","MEDIUM",0,0,195,25,195,25,197,25,194,25,195,25,197,25,194,25,196,25]
[1,1,1,1,"CIF","QCIF","PAL","H264","MEDIUM",0,0,631,22,7,1,626,22,7,1,704,25,194,25,703,25,194,25]
[1,1,1,1,"2CIF","QCIF","PAL","H264","MEDIUM",0,0,952,12,7,1,954,12,7,1,1212,15,117,15,1216,15,117,15]
[1,1,1,1,"2/3D1","QCIF","PAL","H264","MEDIUM",0,0,1040,13,7,1,1043,13,8,1,1339,17,129,17,1338,17,129,17]
[1,1,1,1,"QCIF","CIF","PAL","H264","MEDIUM",0,0,191,25,307,11,191,25,533,20,196,25,692,25,196,25,689,25]
[1,1,1,1,"CIF","CIF","PAL","H264","MEDIUM",0,0,603,22,29,1,605,22,29,1,519,18,520,18,518,18,519,18]
[1,1,1,1,"2CIF","CIF","PAL","H264","MEDIUM",0,0,938,12,27,1,940,12,26,1,955,12,331,12,955,12,329,12]
[1,1,1,1,"2/3D1","CIF","PAL","H264","MEDIUM",0,0,1016,13,28,1,1017,13,29,1,1017,13,355,13,1017,13,354,13]
[1,1,1,1,"QCIF","2CIF","PAL","H264","MEDIUM",0,0,197,25,633,8,198,25,620,8,117,15,1220,15,117,15,1218,15]
[1,1,1,1,"CIF","2CIF","PAL","H264","MEDIUM",0,0,622,22,78,1,618,22,78,1,332,12,953,12,329,12,950,12]
[1,1,1,1,"2CIF","2CIF","PAL","H264","MEDIUM",0,0,930,12,74,1,935,12,71,1,715,9,716,9,719,9,719,9]
[1,1,1,1,"2/3D1","2CIF","PAL","H264","MEDIUM",0,0,1030,13,75,1,1033,13,72,1,756,9,756,9,758,9,758,9]
[1,1,1,1,"QCIF","2/3D1","PAL","H264","MEDIUM",0,0,197,25,444,7,198,25,726,12,143,18,1090,18,143,18,1089,18]
[1,1,1,1,"CIF","2/3D1","PAL","H264","MEDIUM",0,0,638,23,59,1,635,23,57,1,376,14,808,14,377,14,809,14]
[1,1,1,1,"2CIF","2/3D1","PAL","H264","MEDIUM",0,0,948,12,54,1,947,12,53,1,794,10,594,10,793,10,593,10]
[1,1,1,1,"2/3D1","2/3D1","PAL","H264","MEDIUM",0,0,1040,13,56,1,1044,13,51,1,897,11,673,11,899,11,672,11]
[1,0,0,0,"QCIF","n.c","PAL","H264","MEDIUM",2,0,195,25,197,25,0,0,0,0,0,0,0,0,0,0,0,0]
[1,0,0,0,"CIF","n.c","PAL","H264","MEDIUM",2,0,708,25,195,25,0,0,0,0,0,0,0,0,0,0,0,0]
[1,0,0,0,"2CIF","n.c","PAL","H264","MEDIUM",2,0,1995,25,150,19,0,0,0,0,0,0,0,0,0,0,0,0]
[1,0,0,0,"2/3D1","n.c","PAL","H264","MEDIUM",2,0,2001,25,197,25,0,0,0,0,0,0,0,0,0,0,0,0]
[1,0,0,0,"QCIF","QCIF","PAL","H264","MEDIUM",2,0,196,25,193,25,0,0,0,0,0,0,0,0,0,0,0,0]
[1,0,0,0,"CIF","QCIF","PAL","H264","MEDIUM",2,0,698,25,195,25,0,0,0,0,0,0,0,0,0,0,0,0]
[1,0,0,0,"2CIF","QCIF","PAL","H264","MEDIUM",2,0,1992,25,122,15,0,0,0,0,0,0,0,0,0,0,0,0]
[1,0,0,0,"2/3D1","QCIF","PAL","H264","MEDIUM",2,0,2007,25,196,25,0,0,0,0,0,0,0,0,0,0,0,0]
[1,0,0,0,"QCIF","CIF","PAL","H264","MEDIUM",2,0,196,25,701,25,0,0,0,0,0,0,0,0,0,0,0,0]
[1,0,0,0,"CIF","CIF","PAL","H264","MEDIUM",2,0,695,25,698,25,0,0,0,0,0,0,0,0,0,0,0,0]
[1,0,0,0,"2CIF","CIF","PAL","H264","MEDIUM",2,0,1995,25,164,6,0,0,0,0,0,0,0,0,0,0,0,0]
[1,0,0,0,"2/3D1","CIF","PAL","H264","MEDIUM",2,0,2006,25,332,12,0,0,0,0,0,0,0,0,0,0,0,0]
[1,0,0,0,"QCIF","2CIF","PAL","H264","MEDIUM",2,0,197,25,1942,24,0,0,0,0,0,0,0,0,0,0,0,0]
[1,0,0,0,"CIF","2CIF","PAL","H264","MEDIUM",2,0,699,25,1315,16,0,0,0,0,0,0,0,0,0,0,0,0]
[1,0,0,0,"2CIF","2CIF","PAL","H264","MEDIUM",2,0,1970,25,317,4,0,0,0,0,0,0,0,0,0,0,0,0]
[1,0,0,0,"2/3D1","2CIF","PAL","H264","MEDIUM",2,0,1980,25,427,5,0,0,0,0,0,0,0,0,0,0,0,0]
[1,0,0,0,"QCIF","2/3D1","PAL","H264","MEDIUM",2,0,197,25,1501,25,0,0,0,0,0,0,0,0,0,0,0,0]
[1,0,0,0,"CIF","2/3D1","PAL","H264","MEDIUM",2,0,698,25,1190,20,0,0,0,0,0,0,0,0,0,0,0,0]
[1,0,0,0,"2CIF","2/3D1","PAL","H264","MEDIUM",2,0,1993,25,254,4,0,0,0,0,0,0,0,0,0,0,0,0]
[1,0,0,0,"2/3D1","2/3D1","PAL","H264","MEDIUM",2,0,1993,25,427,7,0,0,0,0,0,0,0,0,0,0,0,0]
[1,0,1,0,"QCIF","n.c","PAL","H264","MEDIUM",2,0,191,25,0,0,0,0,0,0,191,25,0,0,0,0,0,0]
[1,0,1,0,"CIF","n.c","PAL","H264","MEDIUM",2,0,697,25,198,25,0,0,0,0,703,25,196,25,0,0,0,0]
[1,0,1,0,"2CIF","n.c","PAL","H264","MEDIUM",2,0,1814,23,14,1,0,0,0,0,1992,25,197,25,0,0,0,0]
[1,0,1,0,"2/3D1","n.c","PAL","H264","MEDIUM",2,0,1945,24,41,5,0,0,0,0,2000,25,196,25,0,0,0,0]
[1,0,1,0,"QCIF","QCIF","PAL","H264","MEDIUM",2,0,194,25,196,25,0,0,0,0,196,25,194,25,0,0,0,0]
[1,0,1,0,"CIF","QCIF","PAL","H264","MEDIUM",2,0,693,25,194,25,0,0,0,0,700,25,198,25,0,0,0,0]
[1,0,1,0,"2CIF","QCIF","PAL","H264","MEDIUM",2,0,1782,22,10,1,0,0,0,0,2004,25,196,25,0,0,0,0]
[1,0,1,0,"2/3D1","QCIF","PAL","H264","MEDIUM",2,0,1909,24,21,3,0,0,0,0,2004,25,199,25,0,0,0,0]
[1,0,1,0,"QCIF","CIF","PAL","H264","MEDIUM",2,0,195,25,698,25,0,0,0,0,195,25,701,25,0,0,0,0]
[1,0,1,0,"CIF","CIF","PAL","H264","MEDIUM",2,0,694,25,646,23,0,0,0,0,697,25,701,25,0,0,0,0]
[1,0,1,0,"2CIF","CIF","PAL","H264","MEDIUM",2,0,1733,22,33,1,0,0,0,0,1940,24,679,24,0,0,0,0]
[1,0,1,0,"2/3D1","CIF","PAL","H264","MEDIUM",2,0,1866,23,50,1,0,0,0,0,2007,25,698,25,0,0,0,0]
[1,0,1,0,"QCIF","2CIF","PAL","H264","MEDIUM",2,0,198,25,1497,19,0,0,0,0,194,25,1988,25,0,0,0,0]
[1,0,1,0,"CIF","2CIF","PAL","H264","MEDIUM",2,0,684,25,815,10,0,0,0,0,687,24,1946,24,0,0,0,0]
[1,0,1,0,"2CIF","2CIF","PAL","H264","MEDIUM",2,0,1704,21,105,1,0,0,0,0,1478,18,1462,18,0,0,0,0]
[1,0,1,0,"2/3D1","2CIF","PAL","H264","MEDIUM",2,0,1787,23,143,2,0,0,0,0,1542,19,1536,19,0,0,0,0]
[1,0,1,0,"QCIF","2/3D1","PAL","H264","MEDIUM",2,0,200,25,1407,24,0,0,0,0,198,25,1496,25,0,0,0,0]
[1,0,1,0,"CIF","2/3D1","PAL","H264","MEDIUM",2,0,693,25,784,13,0,0,0,0,699,25,1491,25,0,0,0,0]
[1,0,1,0,"2CIF","2/3D1","PAL","H264","MEDIUM",2,0,1705,21,66,1,0,0,0,0,1611,20,1216,20,0,0,0,0]
[1,0,1,0,"2/3D1","2/3D1","PAL","H264","MEDIUM",2,0,1804,23,112,1,0,0,0,0,1831,23,1380,23,0,0,0,0]
[1,1,1,1,"QCIF","n.c","PAL","H264","MEDIUM",2,0,195,25,0,0,195,25,0,0,192,25,0,0,192,25,0,0]
[1,1,1,1,"CIF","n.c","PAL","H264","MEDIUM",2,0,565,20,8,1,559,20,9,1,702,25,197,25,701,25,194,25]
[1,1,1,1,"2CIF","n.c","PAL","H264","MEDIUM",2,0,797,10,8,1,815,10,8,1,1250,16,123,15,1254,16,127,16]
[1,1,1,1,"2/3D1","n.c","PAL","H264","MEDIUM",2,0,871,11,8,1,879,11,8,1,1374,17,135,17,1369,17,136,17]
[1,1,1,1,"QCIF","QCIF","PAL","H264","MEDIUM",2,0,195,25,194,25,197,25,189,24,195,25,196,25,195,25,196,25]
[1,1,1,1,"CIF","QCIF","PAL","H264","MEDIUM",2,0,525,19,8,1,523,19,8,1,705,25,197,25,704,25,200,25]
[1,1,1,1,"2CIF","QCIF","PAL","H264","MEDIUM",2,0,783,10,8,1,782,10,8,1,1249,15,121,16,1253,15,122,16]
[1,1,1,1,"2/3D1","QCIF","PAL","H264","MEDIUM",2,0,831,10,8,1,828,10,6,1,1367,17,134,17,1359,17,135,17]
[1,1,1,1,"QCIF","CIF","PAL","H264","MEDIUM",2,0,193,25,377,14,197,25,244,8,198,25,696,25,197,25,692,25]
[1,1,1,1,"CIF","CIF","PAL","H264","MEDIUM",2,0,486,17,29,1,483,17,30,1,533,19,539,19,532,19,540,19]
[1,1,1,1,"2CIF","CIF","PAL","H264","MEDIUM",2,0,748,9,28,1,749,9,27,1,981,12,344,12,985,12,345,12]
[1,1,1,1,"2/3D1","CIF","PAL","H264","MEDIUM",2,0,816,10,28,1,814,10,31,1,1041,13,367,13,1044,13,362,13]
[1,1,1,1,"QCIF","2CIF","PAL","H264","MEDIUM",2,0,190,24,444,5,191,24,482,6,124,16,1250,16,123,16,1248,16]
[1,1,1,1,"CIF","2CIF","PAL","H264","MEDIUM",2,0,505,18,74,1,501,18,79,1,342,12,967,12,340,12,976,12]
[1,1,1,1,"2CIF","2CIF","PAL","H264","MEDIUM",2,0,751,9,76,1,753,9,73,1,741,9,741,9,737,9,736,9]
[1,1,1,1,"2/3D1","2CIF","PAL","H264","MEDIUM",2,0,815,10,79,1,813,10,81,1,773,10,775,10,777,10,771,10]
[1,1,1,1,"QCIF","2/3D1","PAL","H264","MEDIUM",2,0,193,24,364,6,193,24,426,7,145,19,1113,19,148,19,1118,19]
[1,1,1,1,"CIF","2/3D1","PAL","H264","MEDIUM",2,0,502,18,61,1,496,18,64,1,391,14,841,14,392,14,840,14]
[1,1,1,1,"2CIF","2/3D1","PAL","H264","MEDIUM",2,0,766,9,61,1,767,9,59,1,820,10,608,10,808,10,608,10]
[1,1,1,1,"2/3D1","2/3D1","PAL","H264","MEDIUM",2,0,802,10,58,1,811,10,53,1,920,11,690,11,920,11,686,11]
[1,0,0,0,"QCIF","n.c","PAL","H.263","MEDIUM",1,0,178,25,0,0,0,0,0,0,0,0,0,0,0,0,0,0]
[1,0,0,0,"CIF","n.c","PAL","H.263","MEDIUM",1,0,683,25,0,0,0,0,0,0,0,0,0,0,0,0,0,0]
[1,0,0,0,"2CIF","n.c","PAL","H.263","MEDIUM",1,0,1698,25,0,0,0,0,0,0,0,0,0,0,0,0,0,0]
[1,0,0,0,"4CIF","n.c","PAL","H.263","MEDIUM",1,0,2020,25,0,0,0,0,0,0,0,0,0,0,0,0,0,0]
[1,0,0,0,"HALF-D1","n.c","PAL","H.263","MEDIUM",1,0,1441,25,0,0,0,0,0,0,0,0,0,0,0,0,0,0]
[1,0,0,0,"2/3D1","n.c","PAL","H.263","MEDIUM",1,0,1889,25,0,0,0,0,0,0,0,0,0,0,0,0,0,0]
[1,0,0,0,"QCIF","QCIF","PAL","H.263","MEDIUM",1,0,180,25,136,25,0,0,0,0,0,0,0,0,0,0,0,0]
[1,0,0,0,"CIF","QCIF","PAL","H.263","MEDIUM",1,0,689,25,95,25,0,0,0,0,0,0,0,0,0,0,0,0]
[1,0,0,0,"2CIF","QCIF","PAL","H.263","MEDIUM",1,0,1748,25,138,25,0,0,0,0,0,0,0,0,0,0,0,0]
[1,0,0,0,"4CIF","QCIF","PAL","H.263","MEDIUM",1,0,2009,25,133,25,0,0,0,0,0,0,0,0,0,0,0,0]
[1,0,0,0,"HALF-D1","QCIF","PAL","H.263","MEDIUM",1,0,1440,25,93,25,0,0,0,0,0,0,0,0,0,0,0,0]
[1,0,0,0,"2/3D1","QCIF","PAL","H.263","MEDIUM",1,0,1920,25,107,25,0,0,0,0,0,0,0,0,0,0,0,0]
[1,0,0,0,"QCIF","CIF","PAL","H.263","MEDIUM",1,0,146,25,572,25,0,0,0,0,0,0,0,0,0,0,0,0]
[1,0,0,0,"CIF","CIF","PAL","H.263","MEDIUM",1,0,696,25,613,25,0,0,0,0,0,0,0,0,0,0,0,0]
[1,0,0,0,"2CIF","CIF","PAL","H.263","MEDIUM",1,0,1708,25,578,25,0,0,0,0,0,0,0,0,0,0,0,0]
[1,0,0,0,"4CIF","CIF","PAL","H.263","MEDIUM",1,0,2014,25,559,25,0,0,0,0,0,0,0,0,0,0,0,0]
[1,0,0,0,"HALF-D1","CIF","PAL","H.263","MEDIUM",1,0,1401,25,569,25,0,0,0,0,0,0,0,0,0,0,0,0]
[1,0,0,0,"2/3D1","CIF","PAL","H.263","MEDIUM",1,0,1932,25,514,25,0,0,0,0,0,0,0,0,0,0,0,0]
[1,0,0,0,"QCIF","2CIF","PAL","H.263","MEDIUM",1,0,184,25,1463,25,0,0,0,0,0,0,0,0,0,0,0,0]
[1,0,0,0,"CIF","2CIF","PAL","H.263","MEDIUM",1,0,686,25,1445,25,0,0,0,0,0,0,0,0,0,0,0,0]
[1,0,0,0,"2CIF","2CIF","PAL","H.263","MEDIUM",1,0,1709,25,1393,25,0,0,0,0,0,0,0,0,0,0,0,0]
[1,0,0,0,"4CIF","2CIF","PAL","H.263","MEDIUM",1,0,2013,25,980,17,0,0,0,0,0,0,0,0,0,0,0,0]
[1,0,0,0,"HALF-D1","2CIF","PAL","H.263","MEDIUM",1,0,1439,25,1388,25,0,0,0,0,0,0,0,0,0,0,0,0]
[1,0,0,0,"2/3D1","2CIF","PAL","H.263","MEDIUM",1,0,1912,25,1415,25,0,0,0,0,0,0,0,0,0,0,0,0]
[1,0,0,0,"QCIF","4CIF","PAL","H.263","MEDIUM",1,0,181,25,1996,25,0,0,0,0,0,0,0,0,0,0,0,0]
[1,0,0,0,"CIF","4CIF","PAL","H.263","MEDIUM",1,0,677,25,1984,25,0,0,0,0,0,0,0,0,0,0,0,0]
[1,0,0,0,"2CIF","4CIF","PAL","H.263","MEDIUM",1,0,1712,25,1693,21,0,0,0,0,0,0,0,0,0,0,0,0]
[1,0,0,0,"4CIF","4CIF","PAL","H.263","MEDIUM",1,0,2004,25,575,7,0,0,0,0,0,0,0,0,0,0,0,0]
[1,0,0,0,"HALF-D1","4CIF","PAL","H.263","MEDIUM",1,0,1408,25,1434,18,0,0,0,0,0,0,0,0,0,0,0,0]
[1,0,0,0,"2/3D1","4CIF","PAL","H.263","MEDIUM",1,0,1937,25,1112,14,0,0,0,0,0,0,0,0,0,0,0,0]
[1,0,0,0,"QCIF","HALF-D1","PAL","H.263","MEDIUM",1,0,141,25,959,25,0,0,0,0,0,0,0,0,0,0,0,0]
[1,0,0,0,"CIF","HALF-D1","PAL","H.263","MEDIUM",1,0,671,25,949,25,0,0,0,0,0,0,0,0,0,0,0,0]
[1,0,0,0,"2CIF","HALF-D1","PAL","H.263","MEDIUM",1,0,1657,25,970,25,0,0,0,0,0,0,0,0,0,0,0,0]
[1,0,0,0,"4CIF","HALF-D1","PAL","H.263","MEDIUM",1,0,2014,25,454,12,0,0,0,0,0,0,0,0,0,0,0,0]
[1,0,0,0,"HALF-D1","HALF-D1","PAL","H.263","MEDIUM",1,0,1419,25,974,25,0,0,0,0,0,0,0,0,0,0,0,0]
[1,0,0,0,"2/3D1","HALF-D1","PAL","H.263","MEDIUM",1,0,1969,25,844,23,0,0,0,0,0,0,0,0,0,0,0,0]
[1,0,0,0,"QCIF","2/3D1","PAL","H.263","MEDIUM",1,0,165,25,1425,25,0,0,0,0,0,0,0,0,0,0,0,0]
[1,0,0,0,"CIF","2/3D1","PAL","H.263","MEDIUM",1,0,670,25,1407,25,0,0,0,0,0,0,0,0,0,0,0,0]
[1,0,0,0,"2CIF","2/3D1","PAL","H.263","MEDIUM",1,0,1677,25,1427,25,0,0,0,0,0,0,0,0,0,0,0,0]
[1,0,0,0,"4CIF","2/3D1","PAL","H.263","MEDIUM",1,0,2026,25,523,9,0,0,0,0,0,0,0,0,0,0,0,0]
[1,0,0,0,"HALF-D1","2/3D1","PAL","H.263","MEDIUM",1,0,1407,25,1336,23,0,0,0,0,0,0,0,0,0,0,0,0]
[1,0,0,0,"2/3D1","2/3D1","PAL","H.263","MEDIUM",1,0,1964,25,1209,21,0,0,0,0,0,0,0,0,0,0,0,0]
[1,0,1,0,"QCIF","n.c","PAL","H.263","MEDIUM",1,0,142,25,0,0,0,0,0,0,0,0,0,0,0,0,0,0]
[1,0,1,0,"CIF","n.c","PAL","H.263","MEDIUM",1,0,687,25,0,0,0,0,0,0,701,25,0,0,0,0,0,0]
[1,0,1,0,"2CIF","n.c","PAL","H.263","MEDIUM",1,0,1777,25,0,0,0,0,0,0,2046,25,0,0,0,0,0,0]
[1,0,1,0,"4CIF","n.c","PAL","H.263","MEDIUM",1,0,2015,25,0,0,0,0,0,0,2059,25,0,0,0,0,0,0]
[1,0,1,0,"HALF-D1","n.c","PAL","H.263","MEDIUM",1,0,1455,25,0,0,0,0,0,0,1489,25,0,0,0,0,0,0]
[1,0,1,0,"2/3D1","n.c","PAL","H.263","MEDIUM",1,0,1941,25,0,0,0,0,0,0,2008,25,0,0,0,0,0,0]
[1,0,1,0,"QCIF","QCIF","PAL","H.263","MEDIUM",1,0,177,25,126,25,0,0,0,0,203,25,0,0,0,0,0,0]
[1,0,1,0,"CIF","QCIF","PAL","H.263","MEDIUM",1,0,674,25,94,25,0,0,0,0,704,25,0,0,0,0,0,0]
[1,0,1,0,"2CIF","QCIF","PAL","H.263","MEDIUM",1,0,1747,25,144,25,0,0,0,0,2054,25,0,0,0,0,0,0]
[1,0,1,0,"4CIF","QCIF","PAL","H.263","MEDIUM",1,0,2028,25,123,25,0,0,0,0,2046,25,0,0,0,0,0,0]
[1,0,1,0,"HALF-D1","QCIF","PAL","H.263","MEDIUM",1,0,1417,25,92,25,0,0,0,0,1511,25,0,0,0,0,0,0]
[1,0,1,0,"2/3D1","QCIF","PAL","H.263","MEDIUM",1,0,1893,25,96,25,0,0,0,0,2018,25,0,0,0,0,0,0]
[1,0,1,0,"QCIF","CIF","PAL","H.263","MEDIUM",1,0,137,25,519,25,0,0,0,0,201,25,0,0,0,0,0,0]
[1,0,1,0,"CIF","CIF","PAL","H.263","MEDIUM",1,0,675,25,515,25,0,0,0,0,720,25,0,0,0,0,0,0]
[1,0,1,0,"2CIF","CIF","PAL","H.263","MEDIUM",1,0,1663,25,521,25,0,0,0,0,2061,25,0,0,0,0,0,0]
[1,0,1,0,"4CIF","CIF","PAL","H.263","MEDIUM",1,0,2010,25,325,15,0,0,0,0,2093,25,0,0,0,0,0,0]
[1,0,1,0,"HALF-D1","CIF","PAL","H.263","MEDIUM",1,0,1390,25,543,25,0,0,0,0,1493,25,0,0,0,0,0,0]
[1,0,1,0,"2/3D1","CIF","PAL","H.263","MEDIUM",1,0,1874,25,505,25,0,0,0,0,2011,25,0,0,0,0,0,0]
[1,0,1,0,"QCIF","2CIF","PAL","H.263","MEDIUM",1,0,172,25,1299,25,0,0,0,0,209,25,0,0,0,0,0,0]
[1,0,1,0,"CIF","2CIF","PAL","H.263","MEDIUM",1,0,658,25,1291,25,0,0,0,0,700,25,0,0,0,0,0,0]
[1,0,1,0,"2CIF","2CIF","PAL","H.263","MEDIUM",1,0,1647,25,1351,25,0,0,0,0,2082,25,0,0,0,0,0,0]
[1,0,1,0,"4CIF","2CIF","PAL","H.263","MEDIUM",1,0,2022,25,561,10,0,0,0,0,2063,25,0,0,0,0,0,0]
[1,0,1,0,"HALF-D1","2CIF","PAL","H.263","MEDIUM",1,0,1377,25,1321,25,0,0,0,0,1504,25,0,0,0,0,0,0]
[1,0,1,0,"2/3D1","2CIF","PAL","H.263","MEDIUM",1,0,1877,25,1151,22,0,0,0,0,1994,25,0,0,0,0,0,0]
[1,0,1,0,"QCIF","4CIF","PAL","H.263","MEDIUM",1,0,170,25,1983,25,0,0,0,0,200,25,0,0,0,0,0,0]
[1,0,1,0,"CIF","4CIF","PAL","H.263","MEDIUM",1,0,674,25,1890,24,0,0,0,0,713,25,0,0,0,0,0,0]
[1,0,1,0,"2CIF","4CIF","PAL","H.263","MEDIUM",1,0,1667,25,1464,18,0,0,0,0,2080,25,0,0,0,0,0,0]
[1,0,1,0,"4CIF","4CIF","PAL","H.263","MEDIUM",1,0,1971,25,390,5,0,0,0,0,2059,25,0,0,0,0,0,0]
[1,0,1,0,"HALF-D1","4CIF","PAL","H.263","MEDIUM",1,0,1376,25,1225,15,0,0,0,0,1506,25,0,0,0,0,0,0]
[1,0,1,0,"2/3D1","4CIF","PAL","H.263","MEDIUM",1,0,1862,25,830,10,0,0,0,0,2006,25,0,0,0,0,0,0]
[1,0,1,0,"QCIF","HALF-D1","PAL","H.263","MEDIUM",1,0,137,25,922,25,0,0,0,0,206,25,0,0,0,0,0,0]
[1,0,1,0,"CIF","HALF-D1","PAL","H.263","MEDIUM",1,0,659,25,941,25,0,0,0,0,720,25,0,0,0,0,0,0]
[1,0,1,0,"2CIF","HALF-D1","PAL","H.263","MEDIUM",1,0,1609,25,924,25,0,0,0,0,2057,25,0,0,0,0,0,0]
[1,0,1,0,"4CIF","HALF-D1","PAL","H.263","MEDIUM",1,0,2000,25,277,7,0,0,0,0,2088,25,0,0,0,0,0,0]
[1,0,1,0,"HALF-D1","HALF-D1","PAL","H.263","MEDIUM",1,0,1347,25,913,25,0,0,0,0,1501,25,0,0,0,0,0,0]
[1,0,1,0,"2/3D1","HALF-D1","PAL","H.263","MEDIUM",1,0,1862,25,661,19,0,0,0,0,2007,25,0,0,0,0,0,0]
[1,0,1,0,"QCIF","2/3D1","PAL","H.263","MEDIUM",1,0,151,25,1375,25,0,0,0,0,201,25,0,0,0,0,0,0]
[1,0,1,0,"CIF","2/3D1","PAL","H.263","MEDIUM",1,0,623,25,1358,25,0,0,0,0,705,25,0,0,0,0,0,0]
[1,0,1,0,"2CIF","2/3D1","PAL","H.263","MEDIUM",1,0,1603,25,1263,24,0,0,0,0,2076,25,0,0,0,0,0,0]
[1,0,1,0,"4CIF","2/3D1","PAL","H.263","MEDIUM",1,0,2001,25,336,6,0,0,0,0,2101,25,0,0,0,0,0,0]
[1,0,1,0,"HALF-D1","2/3D1","PAL","H.263","MEDIUM",1,0,1340,25,1144,20,0,0,0,0,1506,25,0,0,0,0,0,0]
[1,0,1,0,"2/3D1","2/3D1","PAL","H.263","MEDIUM",1,0,1908,25,904,17,0,0,0,0,2005,25,0,0,0,0,0,0]
[1,1,1,1,"QCIF","n.c","PAL","H.263","MEDIUM",1,0,119,25,0,0,127,25,0,0,0,0,0,0,0,0,0,0]
[1,1,1,1,"CIF","n.c","PAL","H.263","MEDIUM",1,0,676,25,0,0,672,25,0,0,703,25,0,0,705,25,0,0]
[1,1,1,1,"2CIF","n.c","PAL","H.263","MEDIUM",1,0,1669,25,0,0,1659,25,0,0,1526,19,0,0,1548,19,0,0]
[1,1,1,1,"4CIF","n.c","PAL","H.263","MEDIUM",1,0,1083,13,0,0,1092,13,0,0,1544,19,0,0,1550,19,0,0]
[1,1,1,1,"HALF-D1","n.c","PAL","H.263","MEDIUM",1,0,1201,21,0,0,1204,21,0,0,1496,25,0,0,1496,25,0,0]
[1,1,1,1,"2/3D1","n.c","PAL","H.263","MEDIUM",1,0,1293,17,0,0,1276,17,0,0,1676,21,0,0,1686,21,0,0]
[1,1,1,1,"QCIF","QCIF","PAL","H.263","MEDIUM",1,0,168,25,112,25,172,25,112,25,200,25,0,0,203,25,0,0]
[1,1,1,1,"CIF","QCIF","PAL","H.263","MEDIUM",1,0,662,25,86,25,666,25,86,25,713,25,0,0,708,25,0,0]
[1,1,1,1,"2CIF","QCIF","PAL","H.263","MEDIUM",1,0,1610,25,36,8,1573,25,29,6,1560,19,0,0,1566,19,0,0]
[1,1,1,1,"4CIF","QCIF","PAL","H.263","MEDIUM",1,0,1090,13,7,1,1080,13,7,1,1558,19,0,0,1570,19,0,0]
[1,1,1,1,"HALF-D1","QCIF","PAL","H.263","MEDIUM",1,0,1173,21,6,1,1141,21,6,1,1501,25,0,0,1502,25,0,0]
[1,1,1,1,"2/3D1","QCIF","PAL","H.263","MEDIUM",1,0,1277,17,7,1,1262,17,7,1,1675,21,0,0,1679,21,0,0]
[1,1,1,1,"QCIF","CIF","PAL","H.263","MEDIUM",1,0,135,25,537,25,141,25,528,25,203,25,0,0,201,25,0,0]
[1,1,1,1,"CIF","CIF","PAL","H.263","MEDIUM",1,0,656,25,520,24,666,25,461,22,713,25,0,0,715,25,0,0]
[1,1,1,1,"2CIF","CIF","PAL","H.263","MEDIUM",1,0,1593,25,71,3,1568,25,74,3,1557,19,0,0,1584,19,0,0]
[1,1,1,1,"4CIF","CIF","PAL","H.263","MEDIUM",1,0,1072,13,28,1,1074,13,28,1,1551,19,0,0,1548,19,0,0]
[1,1,1,1,"HALF-D1","CIF","PAL","H.263","MEDIUM",1,0,1145,20,27,1,1132,21,31,1,1496,25,0,0,1498,25,0,0]
[1,1,1,1,"2/3D1","CIF","PAL","H.263","MEDIUM",1,0,1264,17,29,1,1249,16,28,1,1679,21,0,0,1685,21,0,0]
[1,1,1,1,"QCIF","2CIF","PAL","H.263","MEDIUM",1,0,177,25,1310,25,186,25,1203,23,201,25,0,0,203,25,0,0]
[1,1,1,1,"CIF","2CIF","PAL","H.263","MEDIUM",1,0,675,25,782,15,677,25,579,11,705,25,0,0,708,25,0,0]
[1,1,1,1,"2CIF","2CIF","PAL","H.263","MEDIUM",1,0,1588,24,144,2,1584,24,140,2,1548,19,0,0,1559,19,0,0]
[1,1,1,1,"4CIF","2CIF","PAL","H.263","MEDIUM",1,0,1056,13,70,1,1062,13,71,1,1558,19,0,0,1555,19,0,0]
[1,1,1,1,"HALF-D1","2CIF","PAL","H.263","MEDIUM",1,0,1129,20,80,1,1132,20,82,1,1504,25,0,0,1504,25,0,0]
[1,1,1,1,"2/3D1","2CIF","PAL","H.263","MEDIUM",1,0,1215,16,76,1,1206,16,78,1,1684,21,0,0,1688,21,0,0]
[1,1,1,1,"QCIF","4CIF","PAL","H.263","MEDIUM",1,0,173,25,1095,14,173,25,787,10,200,25,0,0,199,25,0,0]
[1,1,1,1,"CIF","4CIF","PAL","H.263","MEDIUM",1,0,646,25,371,4,643,25,597,7,706,25,0,0,717,25,0,0]
[1,1,1,1,"2CIF","4CIF","PAL","H.263","MEDIUM",1,0,1525,24,123,1,1493,24,136,2,1549,19,0,0,1584,19,0,0]
[1,1,1,1,"4CIF","4CIF","PAL","H.263","MEDIUM",1,0,1002,12,90,1,1011,12,91,1,1537,19,0,0,1573,19,0,0]
[1,1,1,1,"HALF-D1","4CIF","PAL","H.263","MEDIUM",1,0,1097,20,93,1,1093,19,95,1,1493,25,0,0,1500,25,0,0]
[1,1,1,1,"2/3D1","4CIF","PAL","H.263","MEDIUM",1,0,1204,16,96,1,1186,16,98,1,1672,21,0,0,1686,21,0,0]
[1,1,1,1,"QCIF","HALF-D1","PAL","H.263","MEDIUM",1,0,220,25,539,14,144,25,920,25,202,25,0,0,205,25,0,0]
[1,1,1,1,"CIF","HALF-D1","PAL","H.263","MEDIUM",1,0,698,25,209,5,735,25,521,14,716,25,0,0,714,25,0,0]
[1,1,1,1,"2CIF","HALF-D1","PAL","H.263","MEDIUM",1,0,1608,24,68,2,1572,24,85,2,1549,19,0,0,1551,19,0,0]
[1,1,1,1,"4CIF","HALF-D1","PAL","H.263","MEDIUM",1,0,1042,13,45,1,1058,12,46,1,1564,19,0,0,1560,19,0,0]
[1,1,1,1,"HALF-D1","HALF-D1","PAL","H.263","MEDIUM",1,0,1138,20,45,1,1146,21,44,1,1496,25,0,0,1501,25,0,0]
[1,1,1,1,"2/3D1","HALF-D1","PAL","H.263","MEDIUM",1,0,1233,16,45,1,1207,16,47,1,1680,21,0,0,1685,21,0,0]
[1,1,1,1,"QCIF","2/3D1","PAL","H.263","MEDIUM",1,0,174,25,1093,19,209,25,655,11,203,25,0,0,203,25,0,0]
[1,1,1,1,"CIF","2/3D1","PAL","H.263","MEDIUM",1,0,665,25,328,6,659,25,547,10,710,25,0,0,707,25,0,0]
[1,1,1,1,"2CIF","2/3D1","PAL","H.263","MEDIUM",1,0,1576,24,92,1,1550,24,98,2,1561,19,0,0,1558,19,0,0]
[1,1,1,1,"4CIF","2/3D1","PAL","H.263","MEDIUM",1,0,1034,13,66,1,1034,13,64,1,1558,19,0,0,1550,19,0,0]
[1,1,1,1,"HALF-D1","2/3D1","PAL","H.263","MEDIUM",1,0,1100,20,63,1,1097,20,66,1,1504,25,0,0,1512,25,0,0]
[1,1,1,1,"2/3D1","2/3D1","PAL","H.263","MEDIUM",1,0,1209,16,65,1,1206,16,64,1,1679,21,0,0,1687,21,0,0]
[1,0,0,0,"QCIF","n.c","PAL","H264","MEDIUM",1,0,199,25,0,0,0,0,0,0,0,0,0,0,0,0,0,0]
[1,0,0,0,"CIF","n.c","PAL","H264","MEDIUM",1,0,706,25,0,0,0,0,0,0,0,0,0,0,0,0,0,0]
[1,0,0,0,"2CIF","n.c","PAL","H264","MEDIUM",1,0,2088,25,0,0,0,0,0,0,0,0,0,0,0,0,0,0]
[1,0,0,0,"2/3D1","n.c","PAL","H264","MEDIUM",1,0,2002,25,0,0,0,0,0,0,0,0,0,0,0,0,0,0]
[1,0,0,0,"QCIF","QCIF","PAL","H264","MEDIUM",1,0,202,25,197,25,0,0,0,0,0,0,0,0,0,0,0,0]
[1,0,0,0,"CIF","QCIF","PAL","H264","MEDIUM",1,0,712,25,201,25,0,0,0,0,0,0,0,0,0,0,0,0]
[1,0,0,0,"2CIF","QCIF","PAL","H264","MEDIUM",1,0,2068,25,181,23,0,0,0,0,0,0,0,0,0,0,0,0]
[1,0,0,0,"2/3D1","QCIF","PAL","H264","MEDIUM",1,0,2015,25,196,25,0,0,0,0,0,0,0,0,0,0,0,0]
[1,0,0,0,"QCIF","CIF","PAL","H264","MEDIUM",1,0,199,25,703,25,0,0,0,0,0,0,0,0,0,0,0,0]
[1,0,0,0,"CIF","CIF","PAL","H264","MEDIUM",1,0,710,25,710,25,0,0,0,0,0,0,0,0,0,0,0,0]
[1,0,0,0,"2CIF","CIF","PAL","H264","MEDIUM",1,0,2072,25,213,7,0,0,0,0,0,0,0,0,0,0,0,0]
[1,0,0,0,"2/3D1","CIF","PAL","H264","MEDIUM",1,0,2010,25,359,13,0,0,0,0,0,0,0,0,0,0,0,0]
[1,0,0,0,"QCIF","2CIF","PAL","H264","MEDIUM",1,0,201,25,2052,25,0,0,0,0,0,0,0,0,0,0,0,0]
[1,0,0,0,"CIF","2CIF","PAL","H264","MEDIUM",1,0,709,25,1396,17,0,0,0,0,0,0,0,0,0,0,0,0]
[1,0,0,0,"2CIF","2CIF","PAL","H264","MEDIUM",1,0,2042,25,353,4,0,0,0,0,0,0,0,0,0,0,0,0]
[1,0,0,0,"2/3D1","2CIF","PAL","H264","MEDIUM",1,0,1999,25,518,7,0,0,0,0,0,0,0,0,0,0,0,0]
[1,0,0,0,"QCIF","2/3D1","PAL","H264","MEDIUM",1,0,202,25,1505,25,0,0,0,0,0,0,0,0,0,0,0,0]
[1,0,0,0,"CIF","2/3D1","PAL","H264","MEDIUM",1,0,702,25,1264,21,0,0,0,0,0,0,0,0,0,0,0,0]
[1,0,0,0,"2CIF","2/3D1","PAL","H264","MEDIUM",1,0,2063,25,296,5,0,0,0,0,0,0,0,0,0,0,0,0]
[1,0,0,0,"2/3D1","2/3D1","PAL","H264","MEDIUM",1,0,2003,25,536,9,0,0,0,0,0,0,0,0,0,0,0,0]
[1,0,1,0,"QCIF","n.c","PAL","H264","MEDIUM",1,0,198,25,0,0,0,0,0,0,199,25,0,0,0,0,0,0]
[1,0,1,0,"CIF","n.c","PAL","H264","MEDIUM",1,0,703,25,0,0,0,0,0,0,713,25,0,0,0,0,0,0]
[1,0,1,0,"2CIF","n.c","PAL","H264","MEDIUM",1,0,2054,25,0,0,0,0,0,0,2053,25,0,0,0,0,0,0]
[1,0,1,0,"2/3D1","n.c","PAL","H264","MEDIUM",1,0,2004,25,0,0,0,0,0,0,2018,25,0,0,0,0,0,0]
[1,0,1,0,"QCIF","QCIF","PAL","H264","MEDIUM",1,0,200,25,199,25,0,0,0,0,200,25,199,25,0,0,0,0]
[1,0,1,0,"CIF","QCIF","PAL","H264","MEDIUM",1,0,711,25,198,25,0,0,0,0,701,25,199,25,0,0,0,0]
[1,0,1,0,"2CIF","QCIF","PAL","H264","MEDIUM",1,0,1930,24,14,2,0,0,0,0,2055,25,198,25,0,0,0,0]
[1,0,1,0,"2/3D1","QCIF","PAL","H264","MEDIUM",1,0,1984,25,69,9,0,0,0,0,2010,25,203,25,0,0,0,0]
[1,0,1,0,"QCIF","CIF","PAL","H264","MEDIUM",1,0,204,25,703,25,0,0,0,0,203,25,705,25,0,0,0,0]
[1,0,1,0,"CIF","CIF","PAL","H264","MEDIUM",1,0,703,25,695,25,0,0,0,0,705,25,702,25,0,0,0,0]
[1,0,1,0,"2CIF","CIF","PAL","H264","MEDIUM",1,0,1887,23,33,1,0,0,0,0,2010,25,693,25,0,0,0,0]
[1,0,1,0,"2/3D1","CIF","PAL","H264","MEDIUM",1,0,1952,24,70,2,0,0,0,0,2017,25,703,25,0,0,0,0]
[1,0,1,0,"QCIF","2CIF","PAL","H264","MEDIUM",1,0,209,25,1699,21,0,0,0,0,200,25,2033,25,0,0,0,0]
[1,0,1,0,"CIF","2CIF","PAL","H264","MEDIUM",1,0,702,25,1002,12,0,0,0,0,690,24,2019,24,0,0,0,0]
[1,0,1,0,"2CIF","2CIF","PAL","H264","MEDIUM",1,0,1857,23,111,1,0,0,0,0,1538,18,1526,18,0,0,0,0]
[1,0,1,0,"2/3D1","2CIF","PAL","H264","MEDIUM",1,0,1893,24,216,3,0,0,0,0,1555,19,1602,19,0,0,0,0]
[1,0,1,0,"QCIF","2/3D1","PAL","H264","MEDIUM",1,0,204,25,1496,25,0,0,0,0,202,25,1503,25,0,0,0,0]
[1,0,1,0,"CIF","2/3D1","PAL","H264","MEDIUM",1,0,705,25,910,15,0,0,0,0,701,25,1502,25,0,0,0,0]
[1,0,1,0,"2CIF","2/3D1","PAL","H264","MEDIUM",1,0,1875,23,70,1,0,0,0,0,1687,20,1224,20,0,0,0,0]
[1,0,1,0,"2/3D1","2/3D1","PAL","H264","MEDIUM",1,0,1928,24,158,3,0,0,0,0,1855,23,1399,23,0,0,0,0]
[1,1,1,1,"QCIF","n.c","PAL","H264","MEDIUM",1,0,200,25,0,0,142,25,0,0,200,25,0,0,200,25,0,0]
[1,1,1,1,"CIF","n.c","PAL","H264","MEDIUM",1,0,706,25,0,0,683,25,0,0,705,25,0,0,705,25,0,0]
[1,1,1,1,"2CIF","n.c","PAL","H264","MEDIUM",1,0,1176,14,0,0,1035,14,0,0,1537,19,0,0,1552,19,0,0]
[1,1,1,1,"2/3D1","n.c","PAL","H264","MEDIUM",1,0,1028,13,0,0,983,13,0,0,1664,21,0,0,1661,21,0,0]
[1,1,1,1,"QCIF","QCIF","PAL","H264","MEDIUM",1,0,201,25,195,25,178,25,138,24,200,25,198,25,202,25,197,25]
[1,1,1,1,"CIF","QCIF","PAL","H264","MEDIUM",1,0,651,23,9,1,628,23,8,1,700,25,198,25,704,25,200,25]
[1,1,1,1,"2CIF","QCIF","PAL","H264","MEDIUM",1,0,1108,13,7,1,1000,13,7,1,1299,16,127,16,1296,16,127,16]
[1,1,1,1,"2/3D1","QCIF","PAL","H264","MEDIUM",1,0,976,12,6,1,941,12,6,1,1390,17,137,17,1395,17,136,17]
[1,1,1,1,"QCIF","CIF","PAL","H264","MEDIUM",1,0,202,25,593,21,182,25,109,4,202,25,709,25,199,25,709,25]
[1,1,1,1,"CIF","CIF","PAL","H264","MEDIUM",1,0,621,22,27,1,592,22,29,1,538,19,538,19,538,19,538,19]
[1,1,1,1,"2CIF","CIF","PAL","H264","MEDIUM",1,0,1105,13,27,1,967,13,29,1,1007,12,346,12,1007,12,345,12]
[1,1,1,1,"2/3D1","CIF","PAL","H264","MEDIUM",1,0,956,12,28,1,935,12,28,1,1056,13,370,13,1051,13,370,13]
[1,1,1,1,"QCIF","2CIF","PAL","H264","MEDIUM",1,0,213,25,434,5,205,25,1011,17,127,16,1280,16,128,16,1284,16]
[1,1,1,1,"CIF","2CIF","PAL","H264","MEDIUM",1,0,652,23,99,1,617,23,85,1,349,12,995,12,349,12,1009,12]
[1,1,1,1,"2CIF","2CIF","PAL","H264","MEDIUM",1,0,1126,14,73,1,981,14,74,1,763,9,759,9,767,9,758,9]
[1,1,1,1,"2/3D1","2CIF","PAL","H264","MEDIUM",1,0,980,12,77,1,960,12,76,1,783,10,789,10,786,10,794,10]
[1,1,1,1,"QCIF","2/3D1","PAL","H264","MEDIUM",1,0,211,25,421,7,199,25,669,11,148,19,1112,19,154,19,1114,19]
[1,1,1,1,"CIF","2/3D1","PAL","H264","MEDIUM",1,0,645,23,61,1,635,23,75,1,391,14,834,14,391,14,833,14]
[1,1,1,1,"2CIF","2/3D1","PAL","H264","MEDIUM",1,0,1112,13,56,1,975,13,62,1,835,10,612,10,836,10,612,10]
[1,1,1,1,"2/3D1","2/3D1","PAL","H264","MEDIUM",1,0,959,12,55,1,936,12,68,1,940,12,702,12,921,12,702,12]
[1,0,0,0,"QCIF","n.c","PAL","H.263_legacy","MEDIUM",0,0,200,25,0,0,0,0,0,0,0,0,0,0,0,0,0,0]
[1,0,0,0,"CIF","n.c","PAL","H.263_legacy","MEDIUM",0,0,635,25,0,0,0,0,0,0,0,0,0,0,0,0,0,0]
[1,0,0,0,"2CIF","n.c","PAL","H.263_legacy","MEDIUM",0,0,1852,25,0,0,0,0,0,0,0,0,0,0,0,0,0,0]
[1,0,0,0,"4CIF","n.c","PAL","H.263_legacy","MEDIUM",0,0,2037,25,0,0,0,0,0,0,0,0,0,0,0,0,0,0]
[1,0,0,0,"HALF-D1","n.c","PAL","H.263_legacy","MEDIUM",0,0,1189,25,0,0,0,0,0,0,0,0,0,0,0,0,0,0]
[1,0,0,0,"2/3D1","n.c","PAL","H.263_legacy","MEDIUM",0,0,1441,25,0,0,0,0,0,0,0,0,0,0,0,0,0,0]
[1,0,0,0,"QCIF","QCIF","PAL","H.263_legacy","MEDIUM",0,0,327,25,165,21,0,0,0,0,0,0,0,0,0,0,0,0]
[1,0,0,0,"CIF","QCIF","PAL","H.263_legacy","MEDIUM",0,0,664,25,193,25,0,0,0,0,0,0,0,0,0,0,0,0]
[1,0,0,0,"2CIF","QCIF","PAL","H.263_legacy","MEDIUM",0,0,1758,25,195,25,0,0,0,0,0,0,0,0,0,0,0,0]
[1,0,0,0,"4CIF","QCIF","PAL","H.263_legacy","MEDIUM",0,0,2031,25,200,25,0,0,0,0,0,0,0,0,0,0,0,0]
[1,0,0,0,"HALF-D1","QCIF","PAL","H.263_legacy","MEDIUM",0,0,1136,25,192,25,0,0,0,0,0,0,0,0,0,0,0,0]
[1,0,0,0,"2/3D1","QCIF","PAL","H.263_legacy","MEDIUM",0,0,1469,25,193,25,0,0,0,0,0,0,0,0,0,0,0,0]
[1,0,0,0,"QCIF","CIF","PAL","H.263_legacy","MEDIUM",0,0,227,25,657,25,0,0,0,0,0,0,0,0,0,0,0,0]
[1,0,0,0,"CIF","CIF","PAL","H.263_legacy","MEDIUM",0,0,628,25,689,25,0,0,0,0,0,0,0,0,0,0,0,0]
[1,0,0,0,"2CIF","CIF","PAL","H.263_legacy","MEDIUM",0,0,1823,25,706,25,0,0,0,0,0,0,0,0,0,0,0,0]
[1,0,0,0,"4CIF","CIF","PAL","H.263_legacy","MEDIUM",0,0,1955,24,682,24,0,0,0,0,0,0,0,0,0,0,0,0]
[1,0,0,0,"HALF-D1","CIF","PAL","H.263_legacy","MEDIUM",0,0,1062,25,684,25,0,0,0,0,0,0,0,0,0,0,0,0]
[1,0,0,0,"2/3D1","CIF","PAL","H.263_legacy","MEDIUM",0,0,1404,25,696,25,0,0,0,0,0,0,0,0,0,0,0,0]
[1,0,0,0,"QCIF","2CIF","PAL","H.263_legacy","MEDIUM",0,0,369,25,1948,25,0,0,0,0,0,0,0,0,0,0,0,0]
[1,0,0,0,"CIF","2CIF","PAL","H.263_legacy","MEDIUM",0,0,660,25,1921,25,0,0,0,0,0,0,0,0,0,0,0,0]
[1,0,0,0,"2CIF","2CIF","PAL","H.263_legacy","MEDIUM",0,0,1919,25,1967,25,0,0,0,0,0,0,0,0,0,0,0,0]
[1,0,0,0,"4CIF","2CIF","PAL","H.263_legacy","MEDIUM",0,0,1742,22,1688,21,0,0,0,0,0,0,0,0,0,0,0,0]
[1,0,0,0,"HALF-D1","2CIF","PAL","H.263_legacy","MEDIUM",0,0,1145,25,1940,25,0,0,0,0,0,0,0,0,0,0,0,0]
[1,0,0,0,"2/3D1","2CIF","PAL","H.263_legacy","MEDIUM",0,0,1363,24,1874,24,0,0,0,0,0,0,0,0,0,0,0,0]
[1,0,0,0,"QCIF","4CIF","PAL","H.263_legacy","MEDIUM",0,0,282,25,1988,25,0,0,0,0,0,0,0,0,0,0,0,0]
[1,0,0,0,"CIF","4CIF","PAL","H.263_legacy","MEDIUM",0,0,658,24,1945,24,0,0,0,0,0,0,0,0,0,0,0,0]
[1,0,0,0,"2CIF","4CIF","PAL","H.263_legacy","MEDIUM",0,0,1486,21,1731,21,0,0,0,0,0,0,0,0,0,0,0,0]
[1,0,0,0,"4CIF","4CIF","PAL","H.263_legacy","MEDIUM",0,0,1404,16,1389,17,0,0,0,0,0,0,0,0,0,0,0,0]
[1,0,0,0,"HALF-D1","4CIF","PAL","H.263_legacy","MEDIUM",0,0,861,19,1548,19,0,0,0,0,0,0,0,0,0,0,0,0]
[1,0,0,0,"2/3D1","4CIF","PAL","H.263_legacy","MEDIUM",0,0,1026,17,1480,17,0,0,0,0,0,0,0,0,0,0,0,0]
[1,0,0,0,"QCIF","HALF D1","PAL","H.263_legacy","MEDIUM",0,0,337,24,1061,24,0,0,0,0,0,0,0,0,0,0,0,0]
[1,0,0,0,"CIF","HALF D1","PAL","H.263_legacy","MEDIUM",0,0,632,25,1020,25,0,0,0,0,0,0,0,0,0,0,0,0]
[1,0,0,0,"2CIF","HALF D1","PAL","H.263_legacy","MEDIUM",0,0,1814,25,1005,25,0,0,0,0,0,0,0,0,0,0,0,0]
[1,0,0,0,"4CIF","HALF D1","PAL","H.263_legacy","MEDIUM",0,0,1582,19,819,20,0,0,0,0,0,0,0,0,0,0,0,0]
[1,0,0,0,"HALF-D1","HALF D1","PAL","H.263_legacy","MEDIUM",0,0,1109,24,1006,25,0,0,0,0,0,0,0,0,0,0,0,0]
[1,0,0,0,"2/3D1","HALF D1","PAL","H.263_legacy","MEDIUM",0,0,1273,22,914,22,0,0,0,0,0,0,0,0,0,0,0,0]
[1,0,0,0,"QCIF","2/3 D1","PAL","H.263_legacy","MEDIUM",0,0,343,25,1400,25,0,0,0,0,0,0,0,0,0,0,0,0]
[1,0,0,0,"CIF","2/3 D1","PAL","H.263_legacy","MEDIUM",0,0,663,25,1515,25,0,0,0,0,0,0,0,0,0,0,0,0]
[1,0,0,0,"2CIF","2/3 D1","PAL","H.263_legacy","MEDIUM",0,0,1822,24,1441,24,0,0,0,0,0,0,0,0,0,0,0,0]
[1,0,0,0,"4CIF","2/3 D1","PAL","H.263_legacy","MEDIUM",0,0,1487,18,1063,18,0,0,0,0,0,0,0,0,0,0,0,0]
[1,0,0,0,"HALF-D1","2/3 D1","PAL","H.263_legacy","MEDIUM",0,0,950,21,1315,22,0,0,0,0,0,0,0,0,0,0,0,0]
[1,0,0,0,"2/3D1","2/3 D1","PAL","H.263_legacy","MEDIUM",0,0,1231,21,1313,21,0,0,0,0,0,0,0,0,0,0,0,0]
[1,0,0,0,"QCIF","n.c","PAL","H.263_legacy","MEDIUM",1,0,306,25,0,0,0,0,0,0,0,0,0,0,0,0,0,0]
[1,0,0,0,"CIF","n.c","PAL","H.263_legacy","MEDIUM",1,0,760,25,0,0,0,0,0,0,0,0,0,0,0,0,0,0]
[1,0,0,0,"2CIF","n.c","PAL","H.263_legacy","MEDIUM",1,0,1982,25,0,0,0,0,0,0,0,0,0,0,0,0,0,0]
[1,0,0,0,"4CIF","n.c","PAL","H.263_legacy","MEDIUM",1,0,2388,25,0,0,0,0,0,0,0,0,0,0,0,0,0,0]
[1,0,0,0,"HALF-D1","n.c","PAL","H.263_legacy","MEDIUM",1,0,1351,25,0,0,0,0,0,0,0,0,0,0,0,0,0,0]
[1,0,0,0,"2/3D1","n.c","PAL","H.263_legacy","MEDIUM",1,0,1714,25,0,0,0,0,0,0,0,0,0,0,0,0,0,0]
[1,0,0,0,"QCIF","QCIF","PAL","H.263_legacy","MEDIUM",1,0,237,25,198,25,0,0,0,0,0,0,0,0,0,0,0,0]
[1,0,0,0,"CIF","QCIF","PAL","H.263_legacy","MEDIUM",1,0,753,25,192,25,0,0,0,0,0,0,0,0,0,0,0,0]
[1,0,0,0,"2CIF","QCIF","PAL","H.263_legacy","MEDIUM",1,0,1999,25,198,25,0,0,0,0,0,0,0,0,0,0,0,0]
[1,0,0,0,"4CIF","QCIF","PAL","H.263_legacy","MEDIUM",1,0,2392,25,200,25,0,0,0,0,0,0,0,0,0,0,0,0]
[1,0,0,0,"HALF-D1","QCIF","PAL","H.263_legacy","MEDIUM",1,0,1346,25,192,25,0,0,0,0,0,0,0,0,0,0,0,0]
[1,0,0,0,"2/3D1","QCIF","PAL","H.263_legacy","MEDIUM",1,0,1715,25,192,25,0,0,0,0,0,0,0,0,0,0,0,0]
[1,0,0,0,"QCIF","CIF","PAL","H.263_legacy","MEDIUM",1,0,242,25,704,25,0,0,0,0,0,0,0,0,0,0,0,0]
[1,0,0,0,"CIF","CIF","PAL","H.263_legacy","MEDIUM",1,0,754,25,693,25,0,0,0,0,0,0,0,0,0,0,0,0]
[1,0,0,0,"2CIF","CIF","PAL","H.263_legacy","MEDIUM",1,0,1986,25,686,25,0,0,0,0,0,0,0,0,0,0,0,0]
[1,0,0,0,"4CIF","CIF","PAL","H.263_legacy","MEDIUM",1,0,2195,23,651,23,0,0,0,0,0,0,0,0,0,0,0,0]
[1,0,0,0,"HALF-D1","CIF","PAL","H.263_legacy","MEDIUM",1,0,1336,25,693,25,0,0,0,0,0,0,0,0,0,0,0,0]
[1,0,0,0,"2/3D1","CIF","PAL","H.263_legacy","MEDIUM",1,0,1676,25,704,25,0,0,0,0,0,0,0,0,0,0,0,0]
[1,0,0,0,"QCIF","2CIF","PAL","H.263_legacy","MEDIUM",1,0,229,25,1818,25,0,0,0,0,0,0,0,0,0,0,0,0]
[1,0,0,0,"CIF","2CIF","PAL","H.263_legacy","MEDIUM",1,0,775,25,1975,25,0,0,0,0,0,0,0,0,0,0,0,0]
[1,0,0,0,"2CIF","2CIF","PAL","H.263_legacy","MEDIUM",1,0,1984,25,1980,25,0,0,0,0,0,0,0,0,0,0,0,0]
[1,0,0,0,"4CIF","2CIF","PAL","H.263_legacy","MEDIUM",1,0,2017,20,1591,20,0,0,0,0,0,0,0,0,0,0,0,0]
[1,0,0,0,"HALF-D1","2CIF","PAL","H.263_legacy","MEDIUM",1,0,1325,25,1912,25,0,0,0,0,0,0,0,0,0,0,0,0]
[1,0,0,0,"2/3D1","2CIF","PAL","H.263_legacy","MEDIUM",1,0,1548,23,1759,23,0,0,0,0,0,0,0,0,0,0,0,0]
[1,0,0,0,"QCIF","4CIF","PAL","H.263_legacy","MEDIUM",1,0,222,25,1993,24,0,0,0,0,0,0,0,0,0,0,0,0]
[1,0,0,0,"CIF","4CIF","PAL","H.263_legacy","MEDIUM",1,0,693,23,1887,23,0,0,0,0,0,0,0,0,0,0,0,0]
[1,0,0,0,"2CIF","4CIF","PAL","H.263_legacy","MEDIUM",1,0,1604,20,1668,20,0,0,0,0,0,0,0,0,0,0,0,0]
[1,0,0,0,"4CIF","4CIF","PAL","H.263_legacy","MEDIUM",1,0,1627,15,1333,15,0,0,0,0,0,0,0,0,0,0,0,0]
[1,0,0,0,"HALF-D1","4CIF","PAL","H.263_legacy","MEDIUM",1,0,1011,18,1508,18,0,0,0,0,0,0,0,0,0,0,0,0]
[1,0,0,0,"2/3D1","4CIF","PAL","H.263_legacy","MEDIUM",1,0,1202,17,1398,17,0,0,0,0,0,0,0,0,0,0,0,0]
[1,0,0,0,"QCIF","HALF D1","PAL","H.263_legacy","MEDIUM",1,0,229,25,1073,24,0,0,0,0,0,0,0,0,0,0,0,0]
[1,0,0,0,"CIF","HALF D1","PAL","H.263_legacy","MEDIUM",1,0,761,25,1011,25,0,0,0,0,0,0,0,0,0,0,0,0]
[1,0,0,0,"2CIF","HALF D1","PAL","H.263_legacy","MEDIUM",1,0,1975,25,1003,25,0,0,0,0,0,0,0,0,0,0,0,0]
[1,0,0,0,"4CIF","HALF D1","PAL","H.263_legacy","MEDIUM",1,0,1869,18,779,18,0,0,0,0,0,0,0,0,0,0,0,0]
[1,0,0,0,"HALF-D1","HALF D1","PAL","H.263_legacy","MEDIUM",1,0,1345,25,1017,25,0,0,0,0,0,0,0,0,0,0,0,0]
[1,0,0,0,"2/3D1","HALF D1","PAL","H.263_legacy","MEDIUM",1,0,1494,21,883,21,0,0,0,0,0,0,0,0,0,0,0,0]
[1,0,0,0,"QCIF","2/3 D1","PAL","H.263_legacy","MEDIUM",1,0,232,25,1440,24,0,0,0,0,0,0,0,0,0,0,0,0]
[1,0,0,0,"CIF","2/3 D1","PAL","H.263_legacy","MEDIUM",1,0,748,25,1504,25,0,0,0,0,0,0,0,0,0,0,0,0]
[1,0,0,0,"2CIF","2/3 D1","PAL","H.263_legacy","MEDIUM",1,0,1798,23,1348,23,0,0,0,0,0,0,0,0,0,0,0,0]
[1,0,0,0,"4CIF","2/3 D1","PAL","H.263_legacy","MEDIUM",1,0,1748,16,1008,16,0,0,0,0,0,0,0,0,0,0,0,0]
[1,0,0,0,"HALF-D1","2/3 D1","PAL","H.263_legacy","MEDIUM",1,0,1141,21,1260,21,0,0,0,0,0,0,0,0,0,0,0,0]
[1,0,0,0,"2/3D1","2/3 D1","PAL","H.263_legacy","MEDIUM",1,0,1441,21,1239,21,0,0,0,0,0,0,0,0,0,0,0,0]
[1,"1",0,0,"QCIF","n.c","PAL","H.263_legacy","MEDIUM",0,0,1230,21,0,0,1228,21,0,0,0,0,0,0,0,0,0,0]
[1,1,0,0,"CIF","n.c","PAL","H.263_legacy","MEDIUM",0,0,791,25,0,0,792,25,0,0,0,0,0,0,0,0,0,0]
[1,1,0,0,"2CIF","n.c","PAL","H.263_legacy","MEDIUM",0,0,1853,25,0,0,1816,25,0,0,0,0,0,0,0,0,0,0]
[1,1,0,0,"4CIF","n.c","PAL","H.263_legacy","MEDIUM",0,0,2009,25,0,0,2005,25,0,0,0,0,0,0,0,0,0,0]
[1,1,0,0,"HALF-D1","n.c","PAL","H.263_legacy","MEDIUM",0,0,1188,25,0,0,1185,25,0,0,0,0,0,0,0,0,0,0]
[1,1,0,0,"2/3D1","n.c","PAL","H.263_legacy","MEDIUM",0,0,1442,25,0,0,1440,25,0,0,0,0,0,0,0,0,0,0]
[1,1,0,0,"QCIF","QCIF","PAL","H.263_legacy","MEDIUM",0,0,320,25,165,21,325,25,166,21,0,0,0,0,0,0,0,0]
[1,1,0,0,"CIF","QCIF","PAL","H.263_legacy","MEDIUM",0,0,672,25,189,25,675,25,188,25,0,0,0,0,0,0,0,0]
[1,1,0,0,"2CIF","QCIF","PAL","H.263_legacy","MEDIUM",0,0,1698,25,195,25,1666,25,198,25,0,0,0,0,0,0,0,0]
[1,1,0,0,"4CIF","QCIF","PAL","H.263_legacy","MEDIUM",0,0,1970,25,195,24,1977,25,199,25,0,0,0,0,0,0,0,0]
[1,1,0,0,"HALF-D1","QCIF","PAL","H.263_legacy","MEDIUM",0,0,1134,25,186,25,1131,25,187,25,0,0,0,0,0,0,0,0]
[1,1,0,0,"2/3D1","QCIF","PAL","H.263_legacy","MEDIUM",0,0,1447,25,191,25,1452,25,191,25,0,0,0,0,0,0,0,0]
[1,1,0,0,"QCIF","CIF","PAL","H.263_legacy","MEDIUM",0,0,237,25,655,25,241,25,658,25,0,0,0,0,0,0,0,0]
[1,1,0,0,"CIF","CIF","PAL","H.263_legacy","MEDIUM",0,0,620,25,693,25,624,25,692,25,0,0,0,0,0,0,0,0]
[1,1,0,0,"2CIF","CIF","PAL","H.263_legacy","MEDIUM",0,0,1771,25,701,25,1757,25,702,25,0,0,0,0,0,0,0,0]
[1,1,0,0,"4CIF","CIF","PAL","H.263_legacy","MEDIUM",0,0,1679,21,597,21,1967,24,684,25,0,0,0,0,0,0,0,0]
[1,1,0,0,"HALF-D1","CIF","PAL","H.263_legacy","MEDIUM",0,0,1061,25,676,25,1068,25,687,25,0,0,0,0,0,0,0,0]
[1,1,0,0,"2/3D1","CIF","PAL","H.263_legacy","MEDIUM",0,0,1374,25,680,24,1406,25,703,25,0,0,0,0,0,0,0,0]
[1,1,0,0,"QCIF","2CIF","PAL","H.263_legacy","MEDIUM",0,0,369,25,1860,25,387,25,1894,25,0,0,0,0,0,0,0,0]
[1,1,0,0,"CIF","2CIF","PAL","H.263_legacy","MEDIUM",0,0,652,25,1934,25,656,25,1906,25,0,0,0,0,0,0,0,0]
[1,1,0,0,"2CIF","2CIF","PAL","H.263_legacy","MEDIUM",0,0,1862,25,1906,25,1858,25,1873,25,0,0,0,0,0,0,0,0]
[1,1,0,0,"4CIF","2CIF","PAL","H.263_legacy","MEDIUM",0,0,1550,19,1486,19,1781,22,1707,22,0,0,0,0,0,0,0,0]
[1,1,0,0,"HALF-D1","2CIF","PAL","H.263_legacy","MEDIUM",0,0,1028,23,1774,23,1109,25,1853,25,0,0,0,0,0,0,0,0]
[1,1,0,0,"2/3D1","2CIF","PAL","H.263_legacy","MEDIUM",0,0,1171,21,1600,21,1399,24,1826,25,0,0,0,0,0,0,0,0]
[1,1,0,0,"QCIF","4CIF","PAL","H.263_legacy","MEDIUM",0,0,281,24,1952,24,310,25,1986,25,0,0,0,0,0,0,0,0]
[1,1,0,0,"CIF","4CIF","PAL","H.263_legacy","MEDIUM",0,0,559,21,1711,21,668,24,1970,24,0,0,0,0,0,0,0,0]
[1,1,0,0,"2CIF","4CIF","PAL","H.263_legacy","MEDIUM",0,0,1291,18,1511,18,1526,22,1792,22,0,0,0,0,0,0,0,0]
[1,1,0,0,"4CIF","4CIF","PAL","H.263_legacy","MEDIUM",0,0,1254,15,1241,14,1400,17,1420,17,0,0,0,0,0,0,0,0]
[1,1,0,0,"HALF-D1","4CIF","PAL","H.263_legacy","MEDIUM",0,0,766,17,1359,17,852,19,1530,19,0,0,0,0,0,0,0,0]
[1,1,0,0,"2/3D1","4CIF","PAL","H.263_legacy","MEDIUM",0,0,901,15,1333,15,1025,18,1489,18,0,0,0,0,0,0,0,0]
[1,1,0,0,"QCIF","HALF-D1","PAL","H.263_legacy","MEDIUM",0,0,212,25,1043,24,320,24,1028,24,0,0,0,0,0,0,0,0]
[1,1,0,0,"CIF","HALF-D1","PAL","H.263_legacy","MEDIUM",0,0,624,25,1013,25,632,25,1015,25,0,0,0,0,0,0,0,0]
[1,1,0,0,"2CIF","HALF-D1","PAL","H.263_legacy","MEDIUM",0,0,1689,24,989,24,1777,25,1028,25,0,0,0,0,0,0,0,0]
[1,1,0,0,"4CIF","HALF-D1","PAL","H.263_legacy","MEDIUM",0,0,1457,18,753,18,1643,20,825,20,0,0,0,0,0,0,0,0]
[1,1,0,0,"HALF-D1","HALF-D1","PAL","H.263_legacy","MEDIUM",0,0,1009,24,939,23,1085,24,997,25,0,0,0,0,0,0,0,0]
[1,1,0,0,"2/3D1","HALF-D1","PAL","H.263_legacy","MEDIUM",0,0,1108,20,814,20,1267,23,928,22,0,0,0,0,0,0,0,0]
[1,1,0,0,"QCIF","2/3D1","PAL","H.263_legacy","MEDIUM",0,0,325,24,1465,25,351,25,1381,25,0,0,0,0,0,0,0,0]
[1,1,0,0,"CIF","2/3D1","PAL","H.263_legacy","MEDIUM",0,0,635,25,1467,24,653,25,1511,25,0,0,0,0,0,0,0,0]
[1,1,0,0,"2CIF","2/3D1","PAL","H.263_legacy","MEDIUM",0,0,1523,21,1268,21,1787,24,1476,25,0,0,0,0,0,0,0,0]
[1,1,0,0,"4CIF","2/3D1","PAL","H.263_legacy","MEDIUM",0,0,1290,15,946,16,1540,19,1085,18,0,0,0,0,0,0,0,0]
[1,1,0,0,"HALF-D1","2/3D1","PAL","H.263_legacy","MEDIUM",0,0,895,18,1143,19,987,22,1330,22,0,0,0,0,0,0,0,0]
[1,1,0,0,"2/3D1","2/3D1","PAL","H.263_legacy","MEDIUM",0,0,1063,19,1131,18,1255,22,1319,22,0,0,0,0,0,0,0,0]
[1,1,0,0,"QCIF","n.c","PAL","H.263_legacy","MEDIUM",1,0,1644,25,0,0,1477,25,0,0,0,0,0,0,0,0,0,0]
[1,1,0,0,"CIF","n.c","PAL","H.263_legacy","MEDIUM",1,0,774,25,0,0,851,25,0,0,0,0,0,0,0,0,0,0]
[1,1,0,0,"2CIF","n.c","PAL","H.263_legacy","MEDIUM",1,0,1962,25,0,0,1838,25,0,0,0,0,0,0,0,0,0,0]
[1,1,0,0,"4CIF","n.c","PAL","H.263_legacy","MEDIUM",1,0,2236,23,0,0,2241,25,0,0,0,0,0,0,0,0,0,0]
[1,1,0,0,"HALF-D1","n.c","PAL","H.263_legacy","MEDIUM",1,0,1297,25,0,0,1434,25,0,0,0,0,0,0,0,0,0,0]
[1,1,0,0,"2/3D1","n.c","PAL","H.263_legacy","MEDIUM",1,0,1645,25,0,0,1661,25,0,0,0,0,0,0,0,0,0,0]
[1,1,0,0,"QCIF","QCIF","PAL","H.263_legacy","MEDIUM",1,0,235,25,194,25,317,25,195,25,0,0,0,0,0,0,0,0]
[1,1,0,0,"CIF","QCIF","PAL","H.263_legacy","MEDIUM",1,0,741,25,187,25,695,25,187,25,0,0,0,0,0,0,0,0]
[1,1,0,0,"2CIF","QCIF","PAL","H.263_legacy","MEDIUM",1,0,1981,25,199,25,1854,25,200,25,0,0,0,0,0,0,0,0]
[1,1,0,0,"4CIF","QCIF","PAL","H.263_legacy","MEDIUM",1,0,1889,19,152,19,2252,25,199,25,0,0,0,0,0,0,0,0]
[1,1,0,0,"HALF-D1","QCIF","PAL","H.263_legacy","MEDIUM",1,0,1293,25,186,24,1398,25,191,25,0,0,0,0,0,0,0,0]
[1,1,0,0,"2/3D1","QCIF","PAL","H.263_legacy","MEDIUM",1,0,1649,24,187,25,1630,25,190,25,0,0,0,0,0,0,0,0]
[1,1,0,0,"QCIF","CIF","PAL","H.263_legacy","MEDIUM",1,0,227,25,699,25,305,25,700,25,0,0,0,0,0,0,0,0]
[1,1,0,0,"CIF","CIF","PAL","H.263_legacy","MEDIUM",1,0,737,25,686,25,702,25,689,25,0,0,0,0,0,0,0,0]
[1,1,0,0,"2CIF","CIF","PAL","H.263_legacy","MEDIUM",1,0,1931,25,672,24,1890,25,692,25,0,0,0,0,0,0,0,0]
[1,1,0,0,"4CIF","CIF","PAL","H.263_legacy","MEDIUM",1,0,1653,16,449,16,2271,25,703,25,0,0,0,0,0,0,0,0]
[1,1,0,0,"HALF-D1","CIF","PAL","H.263_legacy","MEDIUM",1,0,1274,25,666,24,1428,25,693,25,0,0,0,0,0,0,0,0]
[1,1,0,0,"2/3D1","CIF","PAL","H.263_legacy","MEDIUM",1,0,1410,20,582,21,1608,25,704,25,0,0,0,0,0,0,0,0]
[1,1,0,0,"QCIF","2CIF","PAL","H.263_legacy","MEDIUM",1,0,220,25,1871,25,299,25,1760,25,0,0,0,0,0,0,0,0]
[1,1,0,0,"CIF","2CIF","PAL","H.263_legacy","MEDIUM",1,0,738,25,1906,25,703,25,1878,25,0,0,0,0,0,0,0,0]
[1,1,0,0,"2CIF","2CIF","PAL","H.263_legacy","MEDIUM",1,0,1650,21,1622,21,1910,25,1924,25,0,0,0,0,0,0,0,0]
[1,1,0,0,"4CIF","2CIF","PAL","H.263_legacy","MEDIUM",1,0,1502,14,1126,14,2137,23,1729,23,0,0,0,0,0,0,0,0]
[1,1,0,0,"HALF-D1","2CIF","PAL","H.263_legacy","MEDIUM",1,0,1037,20,1474,19,1404,25,1852,25,0,0,0,0,0,0,0,0]
[1,1,0,0,"2/3D1","2CIF","PAL","H.263_legacy","MEDIUM",1,0,1189,16,1293,17,1611,25,1831,25,0,0,0,0,0,0,0,0]
[1,1,0,0,"QCIF","4CIF","PAL","H.263_legacy","MEDIUM",1,0,189,22,1723,22,257,25,1961,25,0,0,0,0,0,0,0,0]
[1,1,0,0,"CIF","4CIF","PAL","H.263_legacy","MEDIUM",1,0,561,18,1507,18,707,25,2000,25,0,0,0,0,0,0,0,0]
[1,1,0,0,"2CIF","4CIF","PAL","H.263_legacy","MEDIUM",1,0,1185,15,1281,15,1676,22,1826,22,0,0,0,0,0,0,0,0]
[1,1,0,0,"4CIF","4CIF","PAL","H.263_legacy","MEDIUM",1,0,1343,11,1116,11,1696,17,1424,17,0,0,0,0,0,0,0,0]
[1,1,0,0,"HALF-D1","4CIF","PAL","H.263_legacy","MEDIUM",1,0,845,14,1238,14,1152,19,1598,20,0,0,0,0,0,0,0,0]
[1,1,0,0,"2/3D1","4CIF","PAL","H.263_legacy","MEDIUM",1,0,982,13,1168,13,1261,18,1479,18,0,0,0,0,0,0,0,0]
[1,1,0,0,"QCIF","HALF-D1","PAL","H.263_legacy","MEDIUM",1,0,213,25,997,23,274,25,1053,24,0,0,0,0,0,0,0,0]
[1,1,0,0,"CIF","HALF-D1","PAL","H.263_legacy","MEDIUM",1,0,737,25,1008,25,738,25,1012,25,0,0,0,0,0,0,0,0]
[1,1,0,0,"2CIF","HALF-D1","PAL","H.263_legacy","MEDIUM",1,0,1454,18,770,18,1909,25,1015,25,0,0,0,0,0,0,0,0]
[1,1,0,0,"4CIF","HALF-D1","PAL","H.263_legacy","MEDIUM",1,0,1482,13,592,13,1993,20,841,20,0,0,0,0,0,0,0,0]
[1,1,0,0,"HALF-D1","HALF-D1","PAL","H.263_legacy","MEDIUM",1,0,1095,21,848,20,1352,25,1014,25,0,0,0,0,0,0,0,0]
[1,1,0,0,"2/3D1","HALF-D1","PAL","H.263_legacy","MEDIUM",1,0,1149,16,690,16,1497,23,947,23,0,0,0,0,0,0,0,0]
[1,1,0,0,"QCIF","2/3D1","PAL","H.263_legacy","MEDIUM",1,0,220,25,1381,23,254,25,1429,25,0,0,0,0,0,0,0,0]
[1,1,0,0,"CIF","2/3D1","PAL","H.263_legacy","MEDIUM",1,0,639,22,1352,22,708,25,1514,25,0,0,0,0,0,0,0,0]
[1,1,0,0,"2CIF","2/3D1","PAL","H.263_legacy","MEDIUM",1,0,1295,16,982,16,1900,25,1489,25,0,0,0,0,0,0,0,0]
[1,1,0,0,"4CIF","2/3D1","PAL","H.263_legacy","MEDIUM",1,0,1394,12,763,12,1871,19,1095,18,0,0,0,0,0,0,0,0]
[1,1,0,0,"HALF-D1","2/3D1","PAL","H.263_legacy","MEDIUM",1,0,907,17,984,16,1233,22,1337,23,0,0,0,0,0,0,0,0]
[1,1,0,0,"2/3D1","2/3D1","PAL","H.263_legacy","MEDIUM",1,0,1150,16,957,16,1506,22,1337,23,0,0,0,0,0,0,0,0]
[1,0,0,0,"1080p","1080p","PAL","CPP4_1080p","MEDIUM",1,0,0,30,0,5,0,0,0,0,0,0,0,0,0,0,0,0]
[1,0,0,0,"1080p","Copy stream1","PAL","CPP4_1080p","MEDIUM",1,0,0,30,0,30,0,0,0,0,0,0,0,0,0,0,0,0]
[1,0,0,0,"1080p","720p","PAL","CPP4_1080p","MEDIUM",1,0,0,30,0,10,0,0,0,0,0,0,0,0,0,0,0,0]
[1,0,0,0,"1080p","480p","PAL","CPP4_1080p","MEDIUM",1,0,0,30,0,30,0,0,0,0,0,0,0,0,0,0,0,0]
[1,0,0,0,"1080p","480p ROI","PAL","CPP4_1080p","MEDIUM",1,0,0,30,0,30,0,0,0,0,0,0,0,0,0,0,0,0]
[1,0,0,0,"1080p","480p 4:3","PAL","CPP4_1080p","MEDIUM",1,0,0,30,0,30,0,0,0,0,0,0,0,0,0,0,0,0]
[1,0,0,0,"720p","720p","PAL","CPP4_1080p","MEDIUM",1,0,0,30,0,30,0,0,0,0,0,0,0,0,0,0,0,0]
[1,0,0,0,"720p","Copy stream1","PAL","CPP4_1080p","MEDIUM",1,0,0,30,0,30,0,0,0,0,0,0,0,0,0,0,0,0]
[1,0,0,0,"720p","480p","PAL","CPP4_1080p","MEDIUM",1,0,0,30,0,30,0,0,0,0,0,0,0,0,0,0,0,0]
[1,0,0,0,"720p","1.3MP","PAL","CPP4_1080p","MEDIUM",1,0,0,30,0,30,0,0,0,0,0,0,0,0,0,0,0,0]
[1,0,0,0,"720p","480p ROI","PAL","CPP4_1080p","MEDIUM",1,0,0,30,0,30,0,0,0,0,0,0,0,0,0,0,0,0]
[1,0,0,0,"720p","480p 4:3","PAL","CPP4_1080p","MEDIUM",1,0,0,30,0,30,0,0,0,0,0,0,0,0,0,0,0,0]
[1,0,0,0,"720p","1.3MP (Cropped)","PAL","CPP4_1080p","MEDIUM",1,0,0,30,0,30,0,0,0,0,0,0,0,0,0,0,0,0]
[1,0,0,0,"480p","480p","PAL","CPP4_1080p","MEDIUM",1,0,0,30,0,30,0,0,0,0,0,0,0,0,0,0,0,0]
[1,0,0,0,"1080p","1080p","PAL","CPP4_1080p_720p60","MEDIUM",1,0,0,30,0,5,0,0,0,0,0,0,0,0,0,0,0,0]
[1,0,0,0,"1080p","Copy stream1","PAL","CPP4_1080p_720p60","MEDIUM",1,0,0,30,0,30,0,0,0,0,0,0,0,0,0,0,0,0]
[1,0,0,0,"1080p","720p","PAL","CPP4_1080p_720p60","MEDIUM",1,0,0,30,0,10,0,0,0,0,0,0,0,0,0,0,0,0]
[1,0,0,0,"1080p","480p","PAL","CPP4_1080p_720p60","MEDIUM",1,0,0,30,0,30,0,0,0,0,0,0,0,0,0,0,0,0]
[1,0,0,0,"1080p","480p ROI","PAL","CPP4_1080p_720p60","MEDIUM",1,0,0,30,0,30,0,0,0,0,0,0,0,0,0,0,0,0]
[1,0,0,0,"1080p","480p 4:3","PAL","CPP4_1080p_720p60","MEDIUM",1,0,0,30,0,30,0,0,0,0,0,0,0,0,0,0,0,0]
[1,0,0,0,"720p","720p","PAL","CPP4_1080p_720p60","MEDIUM",1,0,0,60,0,8,0,0,0,0,0,0,0,0,0,0,0,0]
[1,0,0,0,"720p","Copy stream1","PAL","CPP4_1080p_720p60","MEDIUM",1,0,0,60,0,60,0,0,0,0,0,0,0,0,0,0,0,0]
[1,0,0,0,"720p","1.3MP (Cropped)","PAL","CPP4_1080p_720p60","MEDIUM",1,0,0,30,0,30,0,0,0,0,0,0,0,0,0,0,0,0]
[1,0,0,0,"720p","480p","PAL","CPP4_1080p_720p60","MEDIUM",1,0,0,30,0,30,0,0,0,0,0,0,0,0,0,0,0,0]
[1,0,0,0,"720p","1.3MP","PAL","CPP4_1080p_720p60","MEDIUM",1,0,0,30,0,30,0,0,0,0,0,0,0,0,0,0,0,0]
[1,0,0,0,"720p","480p ROI","PAL","CPP4_1080p_720p60","MEDIUM",1,0,0,30,0,30,0,0,0,0,0,0,0,0,0,0,0,0]
[1,0,0,0,"720p","480p 4:3","PAL","CPP4_1080p_720p60","MEDIUM",1,0,0,30,0,30,0,0,0,0,0,0,0,0,0,0,0,0]
[1,0,0,0,"480p","480p","PAL","CPP4_1080p_720p60","MEDIUM",1,0,0,30,0,30,0,0,0,0,0,0,0,0,0,0,0,0]
[1,0,0,0,"1080p","Copy stream1","PAL","CPP3_1080p","MEDIUM",1,0,0,30,0,30,0,0,0,0,0,0,0,0,0,0,0,0]
[1,0,0,0,"720p","Copy stream1","PAL","CPP3_1080p","MEDIUM",1,0,0,30,0,30,0,0,0,0,0,0,0,0,0,0,0,0]
[1,0,0,0,"720p","480p","PAL","CPP3_1080p","MEDIUM",1,0,0,30,0,30,0,0,0,0,0,0,0,0,0,0,0,0]
[1,0,0,0,"1080p","Copy stream1","PAL","CPP3_1080p_720p60","MEDIUM",1,0,0,30,0,30,0,0,0,0,0,0,0,0,0,0,0,0]
[1,0,0,0,"720p","Copy stream1","PAL","CPP3_1080p_720p60","MEDIUM",1,0,0,60,0,60,0,0,0,0,0,0,0,0,0,0,0,0]
[1,0,0,0,"720p","480p","PAL","CPP3_1080p_720p60","MEDIUM",1,0,0,30,0,30,0,0,0,0,0,0,0,0,0,0,0,0]
[1,0,0,0,"5MP","Copy stream1","PAL","CPP4_MP","MEDIUM",1,0,0,12,0,12,0,0,0,0,0,0,0,0,0,0,0,0]
[1,0,0,0,"5MP","480p","PAL","CPP4_MP","MEDIUM",1,0,0,12,0,12,0,0,0,0,0,0,0,0,0,0,0,0]
[1,0,0,0,"720p","720p","PAL","CPP4_720p","MEDIUM",1,0,0,60,0,60,0,0,0,0,0,0,0,0,0,0,0,0]
[1,0,0,0,"720p","Copy stream1","PAL","CPP4_720p","MEDIUM",1,0,0,60,0,60,0,0,0,0,0,0,0,0,0,0,0,0]
[1,0,0,0,"720p","480p","PAL","CPP4_720p","MEDIUM",1,0,0,60,0,30,0,0,0,0,0,0,0,0,0,0,0,0]
[1,0,0,0,"720p","480p","PAL","CPP4_720p","MEDIUM",1,0,0,60,0,30,0,0,0,0,0,0,0,0,0,0,0,0]
[1,0,0,0,"720p","480p ROI","PAL","CPP4_720p","MEDIUM",1,0,0,60,0,30,0,0,0,0,0,0,0,0,0,0,0,0]
[1,0,0,0,"720p","480p 4:3","PAL","CPP4_720p","MEDIUM",1,0,0,60,0,30,0,0,0,0,0,0,0,0,0,0,0,0]
[1,0,0,0,"720p","Copy stream1","PAL","CPP3_720p","MEDIUM",1,0,0,30,0,30,0,0,0,0,0,0,0,0,0,0,0,0]
[1,0,0,0,"720p","480p","PAL","CPP3_720p","MEDIUM",1,0,0,30,0,30,0,0,0,0,0,0,0,0,0,0,0,0]
[1,0,0,0,"720p","480p","PAL","CPP3_720p","MEDIUM",1,0,0,60,0,30,0,0,0,0,0,0,0,0,0,0,0,0]
[1,0,0,0,"4CIF","4CIF","PAL","CPP4_SD","MEDIUM",1,0,0,25,0,25,0,0,0,0,0,0,0,0,0,0,0,0]
[1,0,0,0,"4CIF","CIF","PAL","CPP4_SD","MEDIUM",1,0,0,25,0,25,0,0,0,0,0,0,0,0,0,0,0,0]
[1,0,0,0,"4CIF","Copy stream1","PAL","CPP4_SD","MEDIUM",1,0,0,25,0,25,0,0,0,0,0,0,0,0,0,0,0,0]
[1,0,0,0,"4CIF","4CIF","PAL","CPP4_SD","MEDIUM",1,0,0,25,0,25,0,0,0,0,0,0,0,0,0,0,0,0]
[1,0,0,0,"CIF","4CIF","PAL","CPP4_SD","MEDIUM",1,0,0,25,0,25,0,0,0,0,0,0,0,0,0,0,0,0]
[1,0,0,0,"CIF","CIF","PAL","CPP4_SD","MEDIUM",1,0,0,25,0,25,0,0,0,0,0,0,0,0,0,0,0,0]
[1,0,0,0,"CIF","Copy stream1","PAL","CPP4_SD","MEDIUM",1,0,0,25,0,25,0,0,0,0,0,0,0,0,0,0,0,0]
[1,0,0,0,"CIF","4CIF","PAL","CPP4_SD","MEDIUM",1,0,0,25,0,25,0,0,0,0,0,0,0,0,0,0,0,0]
[1,1,0,0,"4CIF","4CIF","PAL","CPP_ENC","MEDIUM",1,0,0,25,0,25,0,25,0,25,0,25,0,25,0,25,0,25]
[1,1,0,0,"4CIF","Copy stream1","PAL","CPP_ENC","MEDIUM",1,0,0,25,0,25,0,25,0,25,0,25,0,25,0,25,0,25]
[1,1,0,0,"4CIF","2CIF","PAL","CPP_ENC","MEDIUM",1,0,0,25,0,25,0,25,0,25,0,25,0,25,0,25,0,25]
[1,1,0,0,"4CIF","CIF","PAL","CPP_ENC","MEDIUM",1,0,0,25,0,25,0,25,0,25,0,25,0,25,0,25,0,25]
[1,1,0,0,"2CIF","4CIF","PAL","CPP_ENC","MEDIUM",1,0,0,25,0,25,0,25,0,25,0,25,0,25,0,25,0,25]
[1,1,0,0,"2CIF","Copy stream1","PAL","CPP_ENC","MEDIUM",1,0,0,25,0,25,0,25,0,25,0,25,0,25,0,25,0,25]
[1,1,0,0,"2CIF","2CIF","PAL","CPP_ENC","MEDIUM",1,0,0,25,0,25,0,25,0,25,0,25,0,25,0,25,0,25]
[1,1,0,0,"2CIF","CIF","PAL","CPP_ENC","MEDIUM",1,0,0,25,0,25,0,25,0,25,0,25,0,25,0,25,0,25]
[1,1,0,0,"CIF","4CIF","PAL","CPP_ENC","MEDIUM",1,0,0,25,0,25,0,25,0,25,0,25,0,25,0,25,0,25]
[1,1,0,0,"CIF","Copy stream1","PAL","CPP_ENC","MEDIUM",1,0,0,25,0,25,0,25,0,25,0,25,0,25,0,25,0,25]
[1,1,0,0,"CIF","2CIF","PAL","CPP_ENC","MEDIUM",1,0,0,25,0,25,0,25,0,25,0,25,0,25,0,25,0,25]
[1,1,0,0,"CIF","CIF","PAL","CPP_ENC","MEDIUM",1,0,0,25,0,25,0,25,0,25,0,25,0,25,0,25,0,25]
[1,1,0,0,"4CIF","4CIF","PAL","CPP5","MEDIUM",1,0,0,25,0,6,0,25,0,6,0,25,0,6,0,25,0,6]
[1,1,0,0,"4CIF","Copy stream1","PAL","CPP5","MEDIUM",1,0,0,25,0,6,0,25,0,6,0,25,0,6,0,25,0,6]
[1,1,1,1,"4CIF","4CIF","PAL","CPP_ENC","MEDIUM",1,0,0,25,0,25,0,25,0,25,0,25,0,25,0,25,0,25]
[1,1,1,1,"4CIF","Copy stream1","PAL","CPP_ENC","MEDIUM",1,0,0,25,0,25,0,25,0,25,0,25,0,25,0,25,0,25]
[1,1,1,1,"4CIF","2CIF","PAL","CPP_ENC","MEDIUM",1,0,0,25,0,25,0,25,0,25,0,25,0,25,0,25,0,25]
[1,1,1,1,"4CIF","CIF","PAL","CPP_ENC","MEDIUM",1,0,0,25,0,25,0,25,0,25,0,25,0,25,0,25,0,25]
[1,1,1,1,"2CIF","4CIF","PAL","CPP_ENC","MEDIUM",1,0,0,25,0,25,0,25,0,25,0,25,0,25,0,25,0,25]
[1,1,1,1,"2CIF","Copy stream1","PAL","CPP_ENC","MEDIUM",1,0,0,25,0,25,0,25,0,25,0,25,0,25,0,25,0,25]
[1,1,1,1,"2CIF","2CIF","PAL","CPP_ENC","MEDIUM",1,0,0,25,0,25,0,25,0,25,0,25,0,25,0,25,0,25]
[1,1,1,1,"2CIF","CIF","PAL","CPP_ENC","MEDIUM",1,0,0,25,0,25,0,25,0,25,0,25,0,25,0,25,0,25]
[1,1,1,1,"CIF","4CIF","PAL","CPP_ENC","MEDIUM",1,0,0,25,0,25,0,25,0,25,0,25,0,25,0,25,0,25]
[1,1,1,1,"CIF","Copy stream1","PAL","CPP_ENC","MEDIUM",1,0,0,25,0,25,0,25,0,25,0,25,0,25,0,25,0,25]
[1,1,1,1,"CIF","2CIF","PAL","CPP_ENC","MEDIUM",1,0,0,25,0,25,0,25,0,25,0,25,0,25,0,25,0,25]
[1,1,1,1,"CIF","CIF","PAL","CPP_ENC","MEDIUM",1,0,0,25,0,25,0,25,0,25,0,25,0,25,0,25,0,25]
[1,0,0,0,"4CIF","4CIF","PAL","CPP3_SD","MEDIUM",1,0,0,25,0,25,0,0,0,0,0,0,0,0,0,0,0,0]
[1,0,0,0,"4CIF","CIF","PAL","CPP3_SD","MEDIUM",1,0,0,25,0,25,0,0,0,0,0,0,0,0,0,0,0,0]
[1,0,0,0,"4CIF","Copy stream1","PAL","CPP3_SD","MEDIUM",1,0,0,25,0,25,0,0,0,0,0,0,0,0,0,0,0,0]
[1,0,0,0,"4CIF","4CIF","PAL","CPP3_SD","MEDIUM",1,0,0,25,0,25,0,0,0,0,0,0,0,0,0,0,0,0]
[1,0,0,0,"CIF","4CIF","PAL","CPP3_SD","MEDIUM",1,0,0,25,0,25,0,0,0,0,0,0,0,0,0,0,0,0]
[1,0,0,0,"CIF","CIF","PAL","CPP3_SD","MEDIUM",1,0,0,25,0,25,0,0,0,0,0,0,0,0,0,0,0,0]
[1,0,0,0,"CIF","Copy stream1","PAL","CPP3_SD","MEDIUM",1,0,0,25,0,25,0,0,0,0,0,0,0,0,0,0,0,0]
[1,0,0,0,"CIF","4CIF","PAL","CPP3_SD","MEDIUM",1,0,0,25,0,25,0,0,0,0,0,0,0,0,0,0,0,0]
[1,1,0,0,"4CIF","4CIF","PAL","CPP_ENC","MEDIUM",1,0,0,30,0,30,0,30,0,30,0,30,0,30,0,30,0,30]
[1,1,0,0,"4CIF","Copy stream1","PAL","CPP_ENC","MEDIUM",1,0,0,30,0,30,0,30,0,30,0,30,0,30,0,30,0,30]
[1,1,0,0,"4CIF","2CIF","PAL","CPP_ENC","MEDIUM",1,0,0,30,0,30,0,30,0,30,0,30,0,30,0,30,0,30]
[1,1,0,0,"4CIF","CIF","PAL","CPP_ENC","MEDIUM",1,0,0,30,0,30,0,30,0,30,0,30,0,30,0,30,0,30]
[1,1,0,0,"2CIF","4CIF","PAL","CPP_ENC","MEDIUM",1,0,0,30,0,30,0,30,0,30,0,30,0,30,0,30,0,30]
[1,1,0,0,"2CIF","Copy stream1","PAL","CPP_ENC","MEDIUM",1,0,0,30,0,30,0,30,0,30,0,30,0,30,0,30,0,30]
[1,1,0,0,"2CIF","2CIF","PAL","CPP_ENC","MEDIUM",1,0,0,30,0,30,0,30,0,30,0,30,0,30,0,30,0,30]
[1,1,0,0,"2CIF","CIF","PAL","CPP_ENC","MEDIUM",1,0,0,30,0,30,0,30,0,30,0,30,0,30,0,30,0,30]
[1,1,0,0,"CIF","4CIF","PAL","CPP_ENC","MEDIUM",1,0,0,30,0,30,0,30,0,30,0,30,0,30,0,30,0,30]
[1,1,0,0,"CIF","Copy stream1","PAL","CPP_ENC","MEDIUM",1,0,0,30,0,30,0,30,0,30,0,30,0,30,0,30,0,30]
[1,1,0,0,"CIF","2CIF","PAL","CPP_ENC","MEDIUM",1,0,0,30,0,30,0,30,0,30,0,30,0,30,0,30,0,30]
[1,1,0,0,"CIF","CIF","PAL","CPP_ENC","MEDIUM",1,0,0,30,0,30,0,30,0,30,0,30,0,30,0,30,0,30]
[1,1,0,0,"4CIF","4CIF","PAL","CPP5","MEDIUM",1,0,0,25,0,6,0,30,0,6,0,30,0,6,0,30,0,6]
[1,1,0,0,"4CIF","Copy stream1","PAL","CPP5","MEDIUM",1,0,0,25,0,6,0,30,0,6,0,30,0,6,0,30,0,6]
[1,1,1,1,"4CIF","4CIF","PAL","CPP_ENC","MEDIUM",1,0,0,30,0,30,0,30,0,30,0,30,0,30,0,30,0,30]
[1,1,1,1,"4CIF","Copy stream1","PAL","CPP_ENC","MEDIUM",1,0,0,30,0,30,0,30,0,30,0,30,0,30,0,30,0,30]
[1,1,1,1,"4CIF","2CIF","PAL","CPP_ENC","MEDIUM",1,0,0,30,0,30,0,30,0,30,0,30,0,30,0,30,0,30]
[1,1,1,1,"4CIF","CIF","PAL","CPP_ENC","MEDIUM",1,0,0,30,0,30,0,30,0,30,0,30,0,30,0,30,0,30]
[1,1,1,1,"2CIF","4CIF","PAL","CPP_ENC","MEDIUM",1,0,0,30,0,30,0,30,0,30,0,30,0,30,0,30,0,30]
[1,1,1,1,"2CIF","Copy stream1","PAL","CPP_ENC","MEDIUM",1,0,0,30,0,30,0,30,0,30,0,30,0,30,0,30,0,30]
[1,1,1,1,"2CIF","2CIF","PAL","CPP_ENC","MEDIUM",1,0,0,30,0,30,0,30,0,30,0,30,0,30,0,30,0,30]
[1,1,1,1,"2CIF","CIF","PAL","CPP_ENC","MEDIUM",1,0,0,30,0,30,0,30,0,30,0,30,0,30,0,30,0,30]
[1,1,1,1,"CIF","4CIF","PAL","CPP_ENC","MEDIUM",1,0,0,30,0,30,0,30,0,30,0,30,0,30,0,30,0,30]
[1,1,1,1,"CIF","Copy stream1","PAL","CPP_ENC","MEDIUM",1,0,0,30,0,30,0,30,0,30,0,30,0,30,0,30,0,30]
[1,1,1,1,"CIF","2CIF","PAL","CPP_ENC","MEDIUM",1,0,0,30,0,30,0,30,0,30,0,30,0,30,0,30,0,30]
[1,1,1,1,"CIF","CIF","PAL","CPP_ENC","MEDIUM",1,0,0,30,0,30,0,30,0,30,0,30,0,30,0,30,0,30]
[1,1,1,1,"4CIF","4CIF","PAL","CPP5_SD","MEDIUM",1,0,0,25,0,12,0,25,0,12,0,25,0,12,0,25,0,12]
[1,1,1,1,"4CIF","Copy stream1","PAL","CPP5_SD","MEDIUM",1,0,0,25,0,30,0,25,0,30,0,25,0,30,0,25,0,30]
[1,1,1,1,"4CIF","2CIF","PAL","CPP5_SD","MEDIUM",1,0,0,25,0,30,0,25,0,30,0,25,0,30,0,25,0,30]
[1,1,1,1,"4CIF","CIF","PAL","CPP5_SD","MEDIUM",1,0,0,25,0,30,0,25,0,30,0,25,0,30,0,25,0,30]
[1,1,1,1,"2CIF","4CIF","PAL","CPP5_SD","MEDIUM",1,0,0,25,0,30,0,25,0,30,0,25,0,30,0,25,0,30]
[1,1,1,1,"2CIF","Copy stream1","PAL","CPP5_SD","MEDIUM",1,0,0,25,0,30,0,25,0,30,0,25,0,30,0,25,0,30]
[1,1,1,1,"2CIF","2CIF","PAL","CPP5_SD","MEDIUM",1,0,0,25,0,30,0,25,0,30,0,25,0,30,0,25,0,30]
[1,1,1,1,"2CIF","CIF","PAL","CPP5_SD","MEDIUM",1,0,0,25,0,30,0,25,0,30,0,25,0,30,0,25,0,30]
[1,1,1,1,"CIF","4CIF","PAL","CPP5_SD","MEDIUM",1,0,0,25,0,30,0,25,0,30,0,25,0,30,0,25,0,30]
[1,1,1,1,"CIF","Copy stream1","PAL","CPP5_SD","MEDIUM",1,0,0,25,0,30,0,25,0,30,0,25,0,30,0,25,0,30]
[1,1,1,1,"CIF","2CIF","PAL","CPP5_SD","MEDIUM",1,0,0,25,0,30,0,25,0,30,0,25,0,30,0,25,0,30]
[1,1,1,1,"CIF","CIF","PAL","CPP5_SD","MEDIUM",1,0,0,25,0,30,0,25,0,30,0,25,0,30,0,25,0,30]
[1,0,0,0,"VGA","VGA","PAL","CPP3_VGA","MEDIUM",1,0,0,30,0,30,0,0,0,0,0,0,0,0,0,0,0,0]
[1,0,0,0,"VGA","QVGA","PAL","CPP3_VGA","MEDIUM",1,0,0,30,0,30,0,0,0,0,0,0,0,0,0,0,0,0]
[1,0,0,0,"VGA","Copy stream1","PAL","CPP3_VGA","MEDIUM",1,0,0,30,0,30,0,0,0,0,0,0,0,0,0,0,0,0]
[1,0,0,0,"QVGA","VGA","PAL","CPP3_VGA","MEDIUM",1,0,0,30,0,30,0,0,0,0,0,0,0,0,0,0,0,0]
[1,0,0,0,"VGA","VGA","PAL","CPP4_VGA","MEDIUM",1,0,0,30,0,30,0,0,0,0,0,0,0,0,0,0,0,0]
[1,0,0,0,"VGA","QVGA","PAL","CPP4_VGA","MEDIUM",1,0,0,30,0,30,0,0,0,0,0,0,0,0,0,0,0,0]
[1,0,0,0,"VGA","Copy stream1","PAL","CPP4_VGA","MEDIUM",1,0,0,30,0,30,0,0,0,0,0,0,0,0,0,0,0,0]
[1,0,0,0,"QVGA","VGA","PAL","CPP4_VGA","MEDIUM",1,0,0,30,0,30,0,0,0,0,0,0,0,0,0,0,0,0]
[1,0,0,0,"2992x1680","Copy stream1","PAL","CPP6_5MP_2992x1680","MEDIUM",1,0,0,30,0,30,0,0,0,0,0,0,0,0,0,0,0,0]
[1,0,0,0,"2992x1680","SD","PAL","CPP6_5MP_2992x1680","MEDIUM",1,0,0,30,0,30,0,0,0,0,0,0,0,0,0,0,0,0]
[1,0,0,0,"2992x1680","720p","PAL","CPP6_5MP_2992x1680","MEDIUM",1,0,0,30,0,30,0,0,0,0,0,0,0,0,0,0,0,0]
[1,0,0,0,"2992x1680","1080p","PAL","CPP6_5MP_2992x1680","MEDIUM",1,0,0,30,0,30,0,0,0,0,0,0,0,0,0,0,0,0]
[1,0,0,0,"2992x1680","SD ROI","PAL","CPP6_5MP_2992x1680","MEDIUM",1,0,0,30,0,30,0,0,0,0,0,0,0,0,0,0,0,0]
[1,0,0,0,"2992x1680","400x720","PAL","CPP6_5MP_2992x1680","MEDIUM",1,0,0,30,0,30,0,0,0,0,0,0,0,0,0,0,0,0]
[1,0,0,0,"2992x1680","D1 4:3","PAL","CPP6_5MP_2992x1680","MEDIUM",1,0,0,30,0,30,0,0,0,0,0,0,0,0,0,0,0,0]
[1,0,0,0,"2992x1680","SD dual ROI","PAL","CPP6_5MP_2992x1680","MEDIUM",1,0,0,30,0,30,0,0,0,0,0,0,0,0,0,0,0,0]
[1,0,0,0,"2704x2032","Copy stream1","PAL","CPP6_5MP_2704x2032","MEDIUM",1,0,0,30,0,30,0,0,0,0,0,0,0,0,0,0,0,0]
[1,0,0,0,"2704x2032","SD","PAL","CPP6_5MP_2704x2032","MEDIUM",1,0,0,30,0,30,0,0,0,0,0,0,0,0,0,0,0,0]
[1,0,0,0,"2704x2032","400x720","PAL","CPP6_5MP_2704x2032","MEDIUM",1,0,0,30,0,30,0,0,0,0,0,0,0,0,0,0,0,0]
[1,0,0,0,"2704x2032","SD dual ROI","PAL","CPP6_5MP_2704x2032","MEDIUM",1,0,0,30,0,30,0,0,0,0,0,0,0,0,0,0,0,0]
[1,0,0,0,"2704x2032","800x600","PAL","CPP6_5MP_2704x2032","MEDIUM",1,0,0,30,0,30,0,0,0,0,0,0,0,0,0,0,0,0]
[1,0,0,0,"2704x2032","1024x768","PAL","CPP6_5MP_2704x2032","MEDIUM",1,0,0,30,0,30,0,0,0,0,0,0,0,0,0,0,0,0]
[1,0,0,0,"2704x2032","1280x960","PAL","CPP6_5MP_2704x2032","MEDIUM",1,0,0,30,0,30,0,0,0,0,0,0,0,0,0,0,0,0]
[1,0,0,0,"2704x2032","1600x1200","PAL","CPP6_5MP_2704x2032","MEDIUM",1,0,0,30,0,30,0,0,0,0,0,0,0,0,0,0,0,0]
[1,0,0,0,"1080p","Copy stream1","PAL","CPP6_5MP_1080p","MEDIUM",1,0,0,30,0,30,0,0,0,0,0,0,0,0,0,0,0,0]
[1,0,0,0,"1080p","SD","PAL","CPP6_5MP_1080p","MEDIUM",1,0,0,30,0,30,0,0,0,0,0,0,0,0,0,0,0,0]
[1,0,0,0,"1080p","720p","PAL","CPP6_5MP_1080p","MEDIUM",1,0,0,30,0,30,0,0,0,0,0,0,0,0,0,0,0,0]
[1,0,0,0,"1080p","1080p","PAL","CPP6_5MP_1080p","MEDIUM",1,0,0,30,0,30,0,0,0,0,0,0,0,0,0,0,0,0]
[1,0,0,0,"1080p","SD ROI","PAL","CPP6_5MP_1080p","MEDIUM",1,0,0,30,0,30,0,0,0,0,0,0,0,0,0,0,0,0]
[1,0,0,0,"1080p","400x720","PAL","CPP6_5MP_1080p","MEDIUM",1,0,0,30,0,30,0,0,0,0,0,0,0,0,0,0,0,0]
[1,0,0,0,"1080p","D1 4:3","PAL","CPP6_5MP_1080p","MEDIUM",1,0,0,30,0,30,0,0,0,0,0,0,0,0,0,0,0,0]
[1,0,0,0,"1080p","SD dual ROI","PAL","CPP6_5MP_1080p","MEDIUM",1,0,0,30,0,30,0,0,0,0,0,0,0,0,0,0,0,0]
[1,0,0,0,"3840x2160","Copy stream1","PAL","CPP6_12MP_UHD","MEDIUM",1,0,0,30,0,30,0,0,0,0,0,0,0,0,0,0,0,0]
[1,0,0,0,"3584x2016","SD","PAL","CPP6_12MP_3584x2016","MEDIUM",1,0,0,30,0,30,0,0,0,0,0,0,0,0,0,0,0,0]
[1,0,0,0,"3584x2016","SD ROI","PAL","CPP6_12MP_3584x2016","MEDIUM",1,0,0,30,0,30,0,0,0,0,0,0,0,0,0,0,0,0]
[1,0,0,0,"3584x2016","400x720","PAL","CPP6_12MP_3584x2016","MEDIUM",1,0,0,30,0,30,0,0,0,0,0,0,0,0,0,0,0,0]
[1,0,0,0,"3584x2016","D1 4:3","PAL","CPP6_12MP_3584x2016","MEDIUM",1,0,0,30,0,30,0,0,0,0,0,0,0,0,0,0,0,0]
[1,0,0,0,"3584x2016","SD dual ROI","PAL","CPP6_12MP_3584x2016","MEDIUM",1,0,0,30,0,30,0,0,0,0,0,0,0,0,0,0,0,0]
[1,0,0,0,"4000x3000","Copy stream1","PAL","CPP6_12MP_12MP","MEDIUM",1,0,0,20,0,20,0,0,0,0,0,0,0,0,0,0,0,0]
[1,0,0,0,"2640x2640","Copy stream1","PAL","CPP6_Panoramic_360","MEDIUM",1,0,0,30,0,30,0,0,0,0,0,0,0,0,0,0,0,0]
[1,0,0,0,"2640x2640","800x800","PAL","CPP6_Panoramic_360","MEDIUM",1,0,0,30,0,30,0,0,0,0,0,0,0,0,0,0,0,0]
[1,0,0,0,"3648x2160","Copy stream1","PAL","CPP6_Panoramic_180","MEDIUM",1,0,0,30,0,30,0,0,0,0,0,0,0,0,0,0,0,0]
[1,0,0,0,"3648x2160","800x800","PAL","CPP6_Panoramic_180","MEDIUM",1,0,0,30,0,30,0,0,0,0,0,0,0,0,0,0,0,0]
[1,0,0,0,"1080p","Copy stream1","PAL","CPP7_1080p","MEDIUM",1,0,0,60,0,60,0,0,0,0,0,0,0,0,0,0,0,0]
[1,0,0,0,"1080p","1080p","PAL","CPP7_1080p","MEDIUM",1,0,0,30,0,30,0,0,0,0,0,0,0,0,0,0,0,0]
[1,0,0,0,"1080p","720p","PAL","CPP7_1080p","MEDIUM",1,0,0,30,0,30,0,0,0,0,0,0,0,0,0,0,0,0]
[1,0,0,0,"1080p","SD","PAL","CPP7_1080p","MEDIUM",1,0,0,30,0,30,0,0,0,0,0,0,0,0,0,0,0,0]
[1,0,0,0,"1080p","SD ROI","PAL","CPP7_1080p","MEDIUM",1,0,0,30,0,30,0,0,0,0,0,0,0,0,0,0,0,0]
[1,0,0,0,"1080p","400x720","PAL","CPP7_1080p","MEDIUM",1,0,0,30,0,30,0,0,0,0,0,0,0,0,0,0,0,0]
[1,0,0,0,"1080p","D1 4:3","PAL","CPP7_1080p","MEDIUM",1,0,0,30,0,30,0,0,0,0,0,0,0,0,0,0,0,0]
[1,0,0,0,"720p","Copy stream1","PAL","CPP7_1080p","MEDIUM",1,0,0,60,0,60,0,0,0,0,0,0,0,0,0,0,0,0]
[1,0,0,0,"720p","SD","PAL","CPP7_1080p","MEDIUM",1,0,0,30,0,30,0,0,0,0,0,0,0,0,0,0,0,0]
[1,0,0,0,"720p","SD ROI","PAL","CPP7_1080p","MEDIUM",1,0,0,30,0,30,0,0,0,0,0,0,0,0,0,0,0,0]
[1,0,0,0,"720p","400x720","PAL","CPP7_1080p","MEDIUM",1,0,0,30,0,30,0,0,0,0,0,0,0,0,0,0,0,0]
[1,0,0,0,"720p","D1 4:3","PAL","CPP7_1080p","MEDIUM",1,0,0,30,0,30,0,0,0,0,0,0,0,0,0,0,0,0]
[1,0,0,0,"480p","Copy stream1","PAL","CPP7_1080p","MEDIUM",1,0,0,30,0,30,0,0,0,0,0,0,0,0,0,0,0,0]
[1,0,0,0,"720p","Copy stream1","PAL","CPP7_720p","MEDIUM",1,0,0,60,0,60,0,0,0,0,0,0,0,0,0,0,0,0]
[1,0,0,0,"720p","SD","PAL","CPP7_720p","MEDIUM",1,0,0,30,0,30,0,0,0,0,0,0,0,0,0,0,0,0]
[1,0,0,0,"720p","SD ROI","PAL","CPP7_720p","MEDIUM",1,0,0,30,0,30,0,0,0,0,0,0,0,0,0,0,0,0]
[1,0,0,0,"720p","400x720","PAL","CPP7_720p","MEDIUM",1,0,0,30,0,30,0,0,0,0,0,0,0,0,0,0,0,0]
[1,0,0,0,"720p","D1 4:3","PAL","CPP7_720p","MEDIUM",1,0,0,30,0,30,0,0,0,0,0,0,0,0,0,0,0,0]
[1,0,0,0,"480p","Copy stream1","PAL","CPP7_720p","MEDIUM",1,0,0,30,0,30,0,0,0,0,0,0,0,0,0,0,0,0]
[1,0,0,0,"5MP","Copy stream1","PAL","CPP7.3_MP","MEDIUM",1,0,0,30,0,30,0,0,0,0,0,0,0,0,0,0,0,0]
[1,0,0,0,"5MP","1080p","PAL","CPP7.3_MP","MEDIUM",1,0,0,30,0,30,0,0,0,0,0,0,0,0,0,0,0,0]
[1,0,0,0,"5MP","720p","PAL","CPP7.3_MP","MEDIUM",1,0,0,30,0,30,0,0,0,0,0,0,0,0,0,0,0,0]
[1,0,0,0,"5MP","SD","PAL","CPP7.3_MP","MEDIUM",1,0,0,30,0,30,0,0,0,0,0,0,0,0,0,0,0,0]
[1,0,0,0,"5MP","SD ROI","PAL","CPP7.3_MP","MEDIUM",1,0,0,30,0,30,0,0,0,0,0,0,0,0,0,0,0,0]
[1,0,0,0,"5MP","D1 4:3","PAL","CPP7.3_MP","MEDIUM",1,0,0,30,0,30,0,0,0,0,0,0,0,0,0,0,0,0]
[1,0,0,0,"4MP","Copy stream1","PAL","CPP7.3_MP","MEDIUM",1,0,0,30,0,30,0,0,0,0,0,0,0,0,0,0,0,0]
[1,0,0,0,"4MP","1080p","PAL","CPP7.3_MP","MEDIUM",1,0,0,30,0,30,0,0,0,0,0,0,0,0,0,0,0,0]
[1,0,0,0,"4MP","720p","PAL","CPP7.3_MP","MEDIUM",1,0,0,30,0,30,0,0,0,0,0,0,0,0,0,0,0,0]
[1,0,0,0,"4MP","SD","PAL","CPP7.3_MP","MEDIUM",1,0,0,30,0,30,0,0,0,0,0,0,0,0,0,0,0,0]
[1,0,0,0,"4MP","SD ROI","PAL","CPP7.3_MP","MEDIUM",1,0,0,30,0,30,0,0,0,0,0,0,0,0,0,0,0,0]
[1,0,0,0,"4MP","D1 4:3","PAL","CPP7.3_MP","MEDIUM",1,0,0,30,0,30,0,0,0,0,0,0,0,0,0,0,0,0]
[1,0,0,0,"3MP","Copy stream1","PAL","CPP7.3_MP","MEDIUM",1,0,0,30,0,30,0,0,0,0,0,0,0,0,0,0,0,0]
[1,0,0,0,"3MP","1080p","PAL","CPP7.3_MP","MEDIUM",1,0,0,30,0,30,0,0,0,0,0,0,0,0,0,0,0,0]
[1,0,0,0,"3MP","720p","PAL","CPP7.3_MP","MEDIUM",1,0,0,30,0,30,0,0,0,0,0,0,0,0,0,0,0,0]
[1,0,0,0,"3MP","SD","PAL","CPP7.3_MP","MEDIUM",1,0,0,30,0,30,0,0,0,0,0,0,0,0,0,0,0,0]
[1,0,0,0,"3MP","SD ROI","PAL","CPP7.3_MP","MEDIUM",1,0,0,30,0,30,0,0,0,0,0,0,0,0,0,0,0,0]
[1,0,0,0,"3MP","D1 4:3","PAL","CPP7.3_MP","MEDIUM",1,0,0,30,0,30,0,0,0,0,0,0,0,0,0,0,0,0]
[1,0,0,0,"1080p","Copy stream1","PAL","CPP7.3_MP","MEDIUM",1,0,0,30,0,30,0,0,0,0,0,0,0,0,0,0,0,0]
[1,0,0,0,"1080p","1080p","PAL","CPP7.3_MP","MEDIUM",1,0,0,30,0,30,0,0,0,0,0,0,0,0,0,0,0,0]
[1,0,0,0,"1080p","720p","PAL","CPP7.3_MP","MEDIUM",1,0,0,30,0,30,0,0,0,0,0,0,0,0,0,0,0,0]
[1,0,0,0,"1080p","SD","PAL","CPP7.3_MP","MEDIUM",1,0,0,30,0,30,0,0,0,0,0,0,0,0,0,0,0,0]
[1,0,0,0,"1080p","SD ROI","PAL","CPP7.3_MP","MEDIUM",1,0,0,30,0,30,0,0,0,0,0,0,0,0,0,0,0,0]
[1,0,0,0,"1080p","D1 4:3","PAL","CPP7.3_MP","MEDIUM",1,0,0,30,0,30,0,0,0,0,0,0,0,0,0,0,0,0]
[1,0,0,0,"720p","Copy stream1","PAL","CPP7.3_MP","MEDIUM",1,0,0,30,0,30,0,0,0,0,0,0,0,0,0,0,0,0]
[1,0,0,0,"720p","720p","PAL","CPP7.3_MP","MEDIUM",1,0,0,30,0,30,0,0,0,0,0,0,0,0,0,0,0,0]
[1,0,0,0,"720p","SD","PAL","CPP7.3_MP","MEDIUM",1,0,0,30,0,30,0,0,0,0,0,0,0,0,0,0,0,0]
[1,0,0,0,"720p","SD ROI","PAL","CPP7.3_MP","MEDIUM",1,0,0,30,0,30,0,0,0,0,0,0,0,0,0,0,0,0]
[1,0,0,0,"720p","D1 4:3","PAL","CPP7.3_MP","MEDIUM",1,0,0,30,0,30,0,0,0,0,0,0,0,0,0,0,0,0]
[1,0,0,0,"1080p","Copy stream1","PAL","CPP7.3_1080p","MEDIUM",1,0,0,30,0,30,0,0,0,0,0,0,0,0,0,0,0,0]
[1,0,0,0,"1080p","1080p","PAL","CPP7.3_1080p","MEDIUM",1,0,0,30,0,30,0,0,0,0,0,0,0,0,0,0,0,0]
[1,0,0,0,"1080p","720p","PAL","CPP7.3_1080p","MEDIUM",1,0,0,30,0,30,0,0,0,0,0,0,0,0,0,0,0,0]
[1,0,0,0,"1080p","SD","PAL","CPP7.3_1080p","MEDIUM",1,0,0,30,0,30,0,0,0,0,0,0,0,0,0,0,0,0]
[1,0,0,0,"1080p","SD ROI","PAL","CPP7.3_1080p","MEDIUM",1,0,0,30,0,30,0,0,0,0,0,0,0,0,0,0,0,0]
[1,0,0,0,"1080p","D1 4:3","PAL","CPP7.3_1080p","MEDIUM",1,0,0,30,0,30,0,0,0,0,0,0,0,0,0,0,0,0]
[1,0,0,0,"720p","Copy stream1","PAL","CPP7.3_1080p","MEDIUM",1,0,0,30,0,30,0,0,0,0,0,0,0,0,0,0,0,0]
[1,0,0,0,"720p","720p","PAL","CPP7.3_1080p","MEDIUM",1,0,0,30,0,30,0,0,0,0,0,0,0,0,0,0,0,0]
[1,0,0,0,"720p","SD","PAL","CPP7.3_1080p","MEDIUM",1,0,0,30,0,30,0,0,0,0,0,0,0,0,0,0,0,0]
[1,0,0,0,"720p","SD ROI","PAL","CPP7.3_1080p","MEDIUM",1,0,0,30,0,30,0,0,0,0,0,0,0,0,0,0,0,0]
[1,0,0,0,"720p","D1 4:3","PAL","CPP7.3_1080p","MEDIUM",1,0,0,30,0,30,0,0,0,0,0,0,0,0,0,0,0,0]
[1,0,0,0,"1080p","Copy stream1","PAL","CPP7.3_1080p60","MEDIUM",1,0,0,60,0,60,0,0,0,0,0,0,0,0,0,0,0,0]
[1,0,0,0,"1080p","1080p","PAL","CPP7.3_1080p60","MEDIUM",1,0,0,60,0,60,0,0,0,0,0,0,0,0,0,0,0,0]
[1,0,0,0,"1080p","720p","PAL","CPP7.3_1080p60","MEDIUM",1,0,0,60,0,60,0,0,0,0,0,0,0,0,0,0,0,0]
[1,0,0,0,"1080p","SD","PAL","CPP7.3_1080p60","MEDIUM",1,0,0,60,0,60,0,0,0,0,0,0,0,0,0,0,0,0]
[1,0,0,0,"1080p","SD ROI","PAL","CPP7.3_1080p60","MEDIUM",1,0,0,60,0,60,0,0,0,0,0,0,0,0,0,0,0,0]
[1,0,0,0,"1080p","D1 4:3","PAL","CPP7.3_1080p60","MEDIUM",1,0,0,60,0,60,0,0,0,0,0,0,0,0,0,0,0,0]
[1,0,0,0,"720p","Copy stream1","PAL","CPP7.3_1080p60","MEDIUM",1,0,0,60,0,60,0,0,0,0,0,0,0,0,0,0,0,0]
[1,0,0,0,"720p","720p","PAL","CPP7.3_1080p60","MEDIUM",1,0,0,60,0,60,0,0,0,0,0,0,0,0,0,0,0,0]
[1,0,0,0,"720p","SD","PAL","CPP7.3_1080p60","MEDIUM",1,0,0,60,0,60,0,0,0,0,0,0,0,0,0,0,0,0]
[1,0,0,0,"720p","SD ROI","PAL","CPP7.3_1080p60","MEDIUM",1,0,0,60,0,60,0,0,0,0,0,0,0,0,0,0,0,0]
[1,0,0,0,"720p","D1 4:3","PAL","CPP7.3_1080p60","MEDIUM",1,0,0,60,0,60,0,0,0,0,0,0,0,0,0,0,0,0]

{"sheet":"Bit Rate Guide new !!!!","index":5,"n_rows":238,"n_cols":228,"rows_kept":238,"cut":false,"hidden":false,"merged":[[11,2,11,6],[76,222,76,227],[55,2,55,3],[1,2,1,6],[76,2,76,12],[76,215,76,220],[76,211,76,212],[2,2,2,6],[14,2,14,5],[5,2,5,6],[13,2,13,6],[6,2,6,6],[10,2,10,6],[12,2,12,6],[3,2,3,6],[4,2,4,6],[7,2,7,6],[8,2,8,6],[9,2,9,6]]}
[]
[null,null,"BVMS Standard Profiles"]
[null,null,"Please select one of the standard profiles, that are available in a BVMS system.\n\nUse bit rate optimized profiles for maxmimum storage savings, please consider limitation in live and playback due to long GOP structures.\nUse balanced profiles for medium storage savings and standard live and playback behaviour.\nUse imaged optimized profiles for maximum image quality and maximum storage consumption.\n\nSelect per recording profile an expected scene type over the default averaging time of 1 day, the platform, resolution and frame rate:"]
[null,null,"quiet:          89% static, 10% normal, 1% busy, 0% crowded  "]
[null,null,"standard:    54% static, 35% normal, 0% busy, 11% crowded"]
[null,null,"busy:         30% static, 0% normal, 55% busy, 15% crowded"]
[]
[null,null,"Links to example videos related to the scene types (located on the Bosch internal Presales community page):"]
[null,null,"Example scene 1 static"]
[null,null,"Example scene 2 normal"]
[null,null,"Example scene 3 busy"]
[null,null,"Example scene 4 crowded"]
[null,null,"For customers: Please ask your local Bosch contact partner to download the scene example videos as .zip package from the Bosch internal BVMS Presales community:"]
[null,null,"Download .zip for customers from BVMS Presales Community"]
[null,null,"Use the recommended target bitrate for storage calculation!"]
[]
[null,null,null,"Profile","balanced standard"]
[null,null,null,"Platform","CPP_7"]
[null,null,null,"Codec","h_264",{"$f":"IF(E46=0,\"not supported\",\"supported\")","v":"supported"}]
[null,null,null,"Resolution","SD",{"$f":"IF(E38=0,\"not supported\",\"supported\")","v":"supported"},{"$f":"IF(E36=\"704288\",\"Note: only 2 CIF supported\",\"\")","v":""},null,"test resolution","1080p"]
[null,null,null,"Frame Rate",30,{"$f":"IF(E47=1,\"not supported\",\"supported\")","v":"supported"}]
[null,null,null,"Recommended target bandwidth corrected for special cases, like target bitrate = max bitrate / target bitrate > 90% of max bitrate",{"$f":"IF(E48=1,E25*0.89,IF(E49=1,E25*0.89,HO54))","v":731740.18825327698}]
[null,null,null,"Recommended target bandwidth from list",{"$f":"HO54","v":731740.18825327698},"bit/s"]
[null,null,null,"Recommended target bandwidth",{"$f":"E22/1000","v":731.74018825327698},"kbit/s"]
[null,null,null,"Recommended max bandwidth",{"$f":"HQ54","v":1835478.1647873262},"bit/s"]
[null,null,null,"Recommended max bandwidth",{"$f":"E25/1000","v":1835.4781647873263},"kbit/s"]
[]
[null,null,null,"Profile Settings:"]
[null,null,null,"Bitrate reduction mode",{"$f":"P54","v":"medium"}]
[null,null,null,"GOP structure",{"$f":"G54","v":"IBP"}]
[null,null,null,"I-Frame distance",{"$f":"H54","v":"60"}]
[null,null,null,"Recommended max bandwidth",{"$f":"E25/1000","v":1835.4781647873263},null,null,null,null,{"$f":"IF(E37=\"704288CPP_5\",2000000,E25/1000)","v":1835.4781647873263}]
[null,null,null,null,null,null,null,null,null,{"$f":"IF(E48=1,E25*0.89,IF(E49=1,E25*0.89,HO54))","v":731740.18825327698}]
[null,null,null,"aux01",{"$f":"VLOOKUP(E17,F88:G96,2,FALSE)","v":"mediumBalanced"}]
[null,null,null,"aux02",{"$f":"E18","v":"CPP_7"},null,null,null,null,{"$f":"IF(E48=1,E25*0.89,IF(E49=1,E25*0.89,HO54))","v":731740.18825327698}]
[null,null,null,"aux03",{"$f":"IF(E51=1,VLOOKUP(E50,A171:I224,9,FALSE),VLOOKUP(E20,L82:M87,2,FALSE))","v":"768432"},null,{"$f":"IF(E51=1,VLOOKUP(E50,A171:I224,9,FALSE),VLOOKUP(E20,L82:M87,2,FALSE))","v":"768432"}]
[null,null,null,"aux05",{"$f":"E36&E35","v":"768432CPP_7"}]
[null,null,null,"aux06 is resolution in list",{"$f":"COUNTIF(G99:G135,E37)","v":1}]
[null,null,null,"aux07",{"$f":"E21&E36&E35","v":"30768432CPP_7"}]
[null,null,null,"aux09",{"$f":"VLOOKUP(E17,F88:I96,3,FALSE)","v":"medium"}]
[null,null,null,"aux10",{"$f":"VLOOKUP(E17,F88:I96,4,FALSE)","v":"balanced"}]
[null,null,null,"aux11 if profile and resolution is in exception list, use form exception list, otherwise from table resolution_new",{"$f":"IF(E51=1,VLOOKUP(E50,A171:I224,5,FALSE),VLOOKUP(E20,L82:O87,3,FALSE))","v":768}]
[null,null,null,"aux12  if profile and resolution is in exception list, use form exception list, otherwise from table resolution_new",{"$f":"IF(E51=1,VLOOKUP(E50,A171:I224,6,FALSE),VLOOKUP(E20,L82:O87,4,FALSE))","v":432}]
[null,null,null,"aux 13 for H265",{"$f":"IF(E18=\"CPP_7_3\",1,0)","v":0}]
[null,null,null,"aux14 for h265",{"$f":"E18&E19","v":"CPP_7h_264"}]
[null,null,null,"aux15",{"$f":"COUNTIF(H160:H166,E45)","v":1}]
[null,null,null,"aux16",{"$f":"COUNTIF(G138:G153,E39)","v":0},null,{"$f":"IF(E47=\"1\"&E35=\"CPP4\",12,\"not supported\")","v":"not supported"}]
[null,null,null,"aux19 if target = max und bitrate optimization off",{"$f":"IF(AND(E23=E25,HS54=\"OFF\"),1,0)","v":0},null,{"$f":"IF(AND(E23=E25>0.9,HS54=\"OFF\"),1,0)","v":0},{"$f":"IF(E23=E25,1,0)","v":0}]
[null,null,null,"aux20 if target >90 of max",{"$f":"IF(AND(E23/E25>0.9,HS54=\"OFF\"),1,0)","v":0},null,{"$f":"IF(AND(E23/E25>0.9,HS54=\"OFF\"),1,0)","v":0}]
[null,null,null,"aux21 if SD is selected create all necessary information",{"$f":"E17&E18&E20","v":"balanced standardCPP_7SD"}]
[null,null,null,"aux22 check if E39 is in exception list, used to provide the right resolution",{"$f":"COUNTIF(A171:A224,E50)","v":1}]
[null,null,null,null,null,null,null,null,null,{"$f":"IF(AND(E21=30,OR(E50=\"balanced standardCPP_5SD\",E50=\"balanced busyCPP_5SD\",E50=\"image optimized quietCPP_5SD\",E50=\"image optimized standardCPP_5SD\",E50=\"image optimized busyCPP_5SD\")),1,0)","v":0}]
[null,null,"Scene profiles","Recording quality","isThermal","static scene Type","GOP Type","I-Frame distance","Framerate","Width","Height","VideoStandard","Platform",null,"dynamic scene type","Bitrate reduction mode",null,"static scene Type","GOP Type","I-Frame distance","Framerate","Width","Height","VideoStandard","Platform","special camera",null,"I-Frames/sec","Framesize Base","Modified by Bitrate red mode","Modified I-Framesize","noise base","is special Camera","overrule noise base","noise offset","Framesize Base","Modified by bitrate red mode","Modified by dynamic scene","I-Frame size","P-Frames/sec","Framesize Base","Framesize Base","Prediction Distance","Framerate modifier","Modified by Bitrate red mode","Modified Frame Size","Framesize Base","Modified by bitrate red mode","Modified by dynamic scene","Modified Frame Size","P-Frame Size","B-Frames/sec","Framesize Base","Framesize Base","Prediction Distance","Framerate modifier","Modified by Bitrate red mode","Modified Frame Size","Framesize Base","Modified by bitrate red mode","Modified by dynamic scene","Modified Frame Size","B-Framesize","static modifier","dynamic modifier","Bitrate","Resolution modifier","video standard modifier",null,"Bitrate",null,null,"dynamic scene type","Bitrate reduction mode",null,"static scene Type","GOP Type","I-Frame distance","Framerate","Width","Height","VideoStandard","Platform","special camera",null,"I-Frames/sec","Framesize Base","Modified by Bitrate red mode","Modified I-Framesize","noise base","is special Camera","overrule noise base","noise offset","Framesize Base","Modified by bitrate red mode","Modified by dynamic scene","I-Frame size","P-Frames/sec","Framesize Base","Framesize Base","Prediction Distance","Framerate modifier","Modified by Bitrate red mode","Modified Frame Size","Framesize Base","Modified by bitrate red mode","Modified by dynamic scene","Modified Frame Size","P-Frame Size","B-Frames/sec","Framesize Base","Framesize Base","Prediction Distance","Framerate modifier","Modified by Bitrate red mode","Modified Frame Size","Framesize Base","Modified by bitrate red mode","Modified by dynamic scene","Modified Frame Size","B-Framesize","static modifier","dynamic modifier","Bitrate","Resolution modifier","video standard modifier",null,"Bitrate",null,null,"dynamic scene type","Bitrate reduction mode",null,"static scene Type","GOP Type","I-Frame distance","Framerate","Width","Height","VideoStandard","Platform","special camera",null,"I-Frames/sec","Framesize Base","Modified by Bitrate red mode","Modified I-Framesize","noise base","is special Camera","overrule noise base","noise offset","Framesize Base","Modified by bitrate red mode","Modified by dynamic scene","I-Frame size","P-Frames/sec","Framesize Base","Framesize Base","Prediction Distance","Framerate modifier","Modified by Bitrate red mode","Modified Frame Size","Framesize Base","Modified by bitrate red mode","Modified by dynamic scene","Modified Frame Size","P-Frame Size","B-Frames/sec","Framesize Base","Framesize Base","Prediction Distance","Framerate modifier","Modified by Bitrate red mode","Modified Frame Size","Framesize Base","Modified by bitrate red mode","Modified by dynamic scene","Modified Frame Size","B-Framesize","static modifier","dynamic modifier","Bitrate","Resolution modifier","video standard modifier",null,"Bitrate",null,null,"Anteil Typ 0","Anteil Typ 1","Anteil Typ 2",null,"Bitrate Typ0",null,"Bitrate Typ1",null,"Bitrate Typ2",null,null,"expected Bitrate",null,null,"maximum Bitrate",null,"support long term rate control",null,"max relation","saftey factor","maximum platform bitrate",null,null,"expected bitrate",null,null,"quality driven mode is supported","target bitrate",null,"max bitrate",null,"bitrate reduction mode","Averaging time",null,"target bitrate",null,"max bitrate",null,"bitrate reduction mode","Averaging time"]
[null,null,{"$f":"E40","v":"medium"},{"$f":"E41","v":"balanced"},null,"normale z.B. typische parkplatz Straßenszene",{"$f":"IF(D54=\"bitrate optimized\",\"IBBP\",IF(D54=\"balanced\",\"IBP\",IF(D54=\"image optimized\",\"IP\",\"Error\")))","v":"IBP"},{"$f":"IF(D54=\"bitrate optimized\",\"255\",IF(D54=\"balanced\",\"60\",IF(D54=\"image optimized\",\"30\",\"Error\")))","v":"60"},{"$f":"E21","v":30},{"$f":"E42","v":768},{"$f":"E43","v":432},{"$f":"E19","v":"h_264"},{"$f":"E18","v":"CPP_7"},null,{"$f":"IF(C54=DataBase!$J$49,DataBase!$K$49,IF(C54=DataBase!$J$50,DataBase!$K$50,IF(C54=DataBase!$J$51,DataBase!$K$51,IF(C54=DataBase!$J$52,DataBase!$K$52))))","v":"static"},{"$f":"IF(D54=\"bitrate optimized\",\"medium\",IF(D54=\"balanced\",\"medium\",IF(D54=\"image optimized\",\"high qual\",\"Error\")))","v":"medium"},null,{"$f":"$F54","v":"normale z.B. typische parkplatz Straßenszene"},{"$f":"$G54","v":"IBP"},{"$f":"$H54","v":"60"},{"$f":"$I54","v":30},{"$f":"$J54","v":768},{"$f":"$K54","v":432},{"$f":"$L54","v":"h_264"},{"$f":"$M54","v":"CPP_7"},{"$f":"$E54","v":0},null,{"$f":"1/T54*U54","v":0.5},{"$f":"IF(R54=DataBase!$B$14,DataBase!$C$14,IF(R54=DataBase!$B$15,DataBase!$C$15,IF(R54=DataBase!$B$16,DataBase!$C$16)))","v":300000},{"$f":"IF(P54=DataBase!$B$30,DataBase!$C$30,IF(P54=DataBase!$B$31,DataBase!$C$31,IF(P54=DataBase!$B$32,DataBase!$C$32,IF(P54=DataBase!$B$33,DataBase!$C$33,IF(P54=DataBase!$B$34,DataBase!$C$34)))))","v":1},{"$f":"AC54*AD54","v":300000},{"$f":"IF(R54=DataBase!$B$14,DataBase!$G$14,IF(R54=DataBase!$B$15,DataBase!$G$15,IF(R54=DataBase!$B$16,DataBase!$G$16)))","v":200},{"$f":"IF(Z54=DataBase!$K$20,1,IF(Z54=DataBase!$K$21,1,0))","v":0},{"$f":"IF(Z54=DataBase!$K$20,DataBase!$M$20,IF(Z54=DataBase!$K$21,DataBase!$M$21,0))","v":0},{"$f":"IF(AG54=1,IF(AH54<>0,AH54,AF54),AF54)","v":200},{"$f":"IF(P54=DataBase!$B$30,DataBase!$H$30,IF(P54=DataBase!$B$31,DataBase!$H$31,IF(P54=DataBase!$B$32,DataBase!$H$32,IF(P54=DataBase!$B$33,DataBase!$H$33,IF(P54=DataBase!$B$34,DataBase!$H$34)))))","v":1},{"$f":"IF(O54=DataBase!$B$21,DataBase!$G$21,IF(O54=DataBase!$B$22,DataBase!$G$22,IF(O54=DataBase!$B$23,DataBase!$G$23,IF(O54=DataBase!$B$24,DataBase!$G$24,IF(O54=DataBase!$B$25,DataBase!$G$25)))))","v":1},{"$f":"IF(Y54=DataBase!$B$44,DataBase!$G$44,IF($F54=DataBase!$B$45,DataBase!$G$45,IF(Y54=DataBase!$B$46,DataBase!$G$46,IF(Y54=DataBase!$B$47,DataBase!$G$47,IF(Y54=DataBase!$B$48,DataBase!$G$48,IF(Y54=DataBase!$B$49,DataBase!$G$49))))))+AI54*AJ54*AK54","v":200},{"$f":"AL54+AE54*BL54","v":300200},{"$f":"((T54-1)/T54)/IF(S54=DataBase!$B$8,DataBase!$C$8,IF(S54=DataBase!$B$9,DataBase!$C$9,IF(S54=DataBase!$B$10,DataBase!$C$10)))*U54","v":14.75},{"$f":"IF(R54=DataBase!$B$14,DataBase!$E$14,IF(R54=DataBase!$B$15,DataBase!$E$15,IF(R54=DataBase!$B$16,DataBase!$E$16)))","v":125},{"$f":"IF(O54=DataBase!$B$21,DataBase!$E$21,IF(O54=DataBase!$B$22,DataBase!$E$22,IF(O54=DataBase!$B$23,DataBase!$E$23,IF(O54=DataBase!$B$24,DataBase!$E$24,IF(O54=DataBase!$B$25,DataBase!$E$25)))))","v":0},{"$f":"IF(S54=DataBase!$B$8,DataBase!$C$8,IF(S54=DataBase!$B$9,DataBase!$C$9,IF(S54=DataBase!$B$10,DataBase!$C$10)))","v":2},{"$f":"POWER(U54/((DataBase!$F$5*AQ54)),DataBase!$E$52)*DataBase!$F$5*AQ54/U54","v":1.25},{"$f":"IF(P54=DataBase!$B$30,DataBase!$F$30,IF(P54=DataBase!$B$31,DataBase!$F$31,IF(P54=DataBase!$B$32,DataBase!$F$32,IF(P54=DataBase!$B$33,DataBase!$F$33,IF(P54=DataBase!$B$34,DataBase!$F$34)))))","v":1},{"$f":"AP54*AR54*AS54*BM54","v":0},{"$f":"IF(R54=DataBase!$B$14,DataBase!$H$14,IF(R54=DataBase!$B$15,DataBase!$H$15,IF(R54=DataBase!$B$16,DataBase!$H$16)))*AI54","v":100},{"$f":"IF(P54=DataBase!$B$30,DataBase!$H$30,IF(P54=DataBase!$B$31,DataBase!$H$31,IF(P54=DataBase!$B$32,DataBase!$H$32,IF(P54=DataBase!$B$33,DataBase!$H$33,IF(P54=DataBase!$B$34,DataBase!$H$34)))))","v":1},{"$f":"IF(O54=DataBase!$B$21,DataBase!$G$21,IF(O54=DataBase!$B$22,DataBase!$G$22,IF(O54=DataBase!$B$23,DataBase!$G$23,IF(O54=DataBase!$B$24,DataBase!$G$24,IF(O54=DataBase!$B$25,DataBase!$G$25)))))","v":1},{"$f":"AU54*AV54*AW54+IF(Y54=DataBase!$B$44,DataBase!$G$44,IF(Y54=DataBase!$B$45,DataBase!$G$45,IF(Y54=DataBase!$B$46,DataBase!$G$46,IF(Y54=DataBase!$B$47,DataBase!$G$47,IF(Y54=DataBase!$B$48,DataBase!$G$48,IF(Y54=DataBase!$B$49,DataBase!$G$49))))))","v":100},{"$f":"AO54+AT54+AX54","v":225},{"$f":"IF(S54=DataBase!$B$8,0,((T54-1)/T54)/IF(S54=DataBase!$B$9,2,IF(S54=DataBase!$B$10,3/2))*U54)","v":14.75},{"$f":"IF(R54=DataBase!$B$14,DataBase!$F$14,IF(R54=DataBase!$B$15,DataBase!$F$15,IF(R54=DataBase!$B$16,DataBase!$F$16)))","v":125},{"$f":"IF(O54=DataBase!$B$21,DataBase!$F$21,IF(O54=DataBase!$B$22,DataBase!$F$22,IF(O54=DataBase!$B$23,DataBase!$F$23,IF(O54=DataBase!$B$24,DataBase!$F$24,IF(O54=DataBase!$B$25,DataBase!$F$25)))))","v":0},{"$f":"IF(S54=DataBase!$B$8,DataBase!$E$8,IF(S54=DataBase!$B$9,DataBase!$E$9,IF(S54=DataBase!$B$10,DataBase!$E$10)))","v":1},{"$f":"IF(BC54=0,0,POWER(U54/((DataBase!$F$5*BC54)),DataBase!$E$52)*DataBase!$F$5*BC54/U54)","v":1},{"$f":"IF(P54=DataBase!$B$30,DataBase!$G$30,IF(P54=DataBase!$B$31,DataBase!$G$31,IF(P54=DataBase!$B$32,DataBase!$G$32,IF(P54=DataBase!$B$33,DataBase!$G$33,IF(P54=DataBase!$B$34,DataBase!$G$34)))))","v":1},{"$f":"BB54*BD54*BE54*BM54","v":0},{"$f":"IF(R54=DataBase!$B$14,DataBase!$J$14,IF(R54=DataBase!$B$15,DataBase!$J$15,IF(R54=DataBase!$B$16,DataBase!$J$16)))*AI54","v":50},{"$f":"IF(P54=DataBase!$B$30,DataBase!$H$30,IF(P54=DataBase!$B$31,DataBase!$H$31,IF(P54=DataBase!$B$32,DataBase!$H$32,IF(P54=DataBase!$B$33,DataBase!$H$33,IF(P54=DataBase!$B$34,DataBase!$H$34)))))","v":1},{"$f":"IF(O54=DataBase!$B$21,DataBase!$G$21,IF(O54=DataBase!$B$22,DataBase!$G$22,IF(O54=DataBase!$B$23,DataBase!$G$23,IF(O54=DataBase!$B$24,DataBase!$G$24,IF(O54=DataBase!$B$25,DataBase!$G$25)))))","v":1},{"$f":"BG54*BH54*BI54+IF(Y54=DataBase!$B$44,DataBase!$G$44,IF(Y54=DataBase!$B$45,DataBase!$G$45,IF(Y54=DataBase!$B$46,DataBase!$G$46,IF(Y54=DataBase!$B$47,DataBase!$G$47,IF(Y54=DataBase!$B$48,DataBase!$G$48,IF(Y54=DataBase!$B$49,DataBase!$G$49))))))","v":50},{"$f":"BA54+BF54+BJ54","v":175},{"$f":"IF(Y54=DataBase!$B$44,DataBase!$C$44,IF(Y54=DataBase!$B$45,DataBase!$C$45,IF(Y54=DataBase!$B$46,DataBase!$C$46,IF(Y54=DataBase!$B$47,DataBase!$C$47,IF(Y54=DataBase!$B$48,DataBase!$C$48,IF(Y54=DataBase!$B$49,DataBase!$C$49))))))","v":1},{"$f":"IF(Y54=DataBase!$B$44,DataBase!$D$44,IF(Y54=DataBase!$B$45,DataBase!$D$45,IF(Y54=DataBase!$B$46,DataBase!$D$46,IF(Y54=DataBase!$B$47,DataBase!$D$47,IF(Y54=DataBase!$B$48,DataBase!$D$48,IF(Y54=DataBase!$B$49,DataBase!$D$49))))))","v":1.1000000000000001},{"$f":"BK54*8*AZ54+AY54*8*AN54+AM54*AB54*8","v":1248000},{"$f":"POWER(((DataBase!$C$5*DataBase!$E$5)/(V54*W54)),DataBase!$E$53)","v":0.21139572834201978},{"$f":"IF(X54=DataBase!$B$37,DataBase!$C$37,IF(X54=DataBase!$B$38,DataBase!$C$38))","v":1},null,{"$f":"BP54*BO54*BN54","v":263821.8689708407},"bit/s",null,{"$f":"IF(C54=DataBase!$J$49,DataBase!$M$49,IF(C54=DataBase!$J$50,DataBase!$M$50,IF(C54=DataBase!$J$51,DataBase!$M$51,IF(C54=DataBase!$J$52,DataBase!$M$52))))","v":"standard"},{"$f":"IF(D54=DataBase!$J$44,DataBase!$L$44,IF(D54=DataBase!$J$45,DataBase!$L$45,IF(D54=DataBase!$J$46,DataBase!$L$46)))","v":"medium"},null,{"$f":"$F54","v":"normale z.B. typische parkplatz Straßenszene"},{"$f":"$G54","v":"IBP"},{"$f":"$H54","v":"60"},{"$f":"$I54","v":30},{"$f":"$J54","v":768},{"$f":"$K54","v":432},{"$f":"$L54","v":"h_264"},{"$f":"$M54","v":"CPP_7"},{"$f":"$E54","v":0},null,{"$f":"1/BZ54*CA54","v":0.5},{"$f":"IF(BX54=DataBase!$B$14,DataBase!$C$14,IF(BX54=DataBase!$B$15,DataBase!$C$15,IF(BX54=DataBase!$B$16,DataBase!$C$16)))","v":300000},{"$f":"IF(BV54=DataBase!$B$30,DataBase!$C$30,IF(BV54=DataBase!$B$31,DataBase!$C$31,IF(BV54=DataBase!$B$32,DataBase!$C$32,IF(BV54=DataBase!$B$33,DataBase!$C$33,IF(BV54=DataBase!$B$34,DataBase!$C$34)))))","v":1},{"$f":"CI54*CJ54","v":300000},{"$f":"IF(BX54=DataBase!$B$14,DataBase!$G$14,IF(BX54=DataBase!$B$15,DataBase!$G$15,IF(BX54=DataBase!$B$16,DataBase!$G$16)))","v":200},{"$f":"IF(CF54=DataBase!$K$20,1,IF(CF54=DataBase!$K$21,1,0))","v":0},{"$f":"IF(CF54=DataBase!$K$20,DataBase!$M$20,IF(CF54=DataBase!$K$21,DataBase!$M$21,0))","v":0},{"$f":"IF(CM54=1,IF(CN54<>0,CN54,CL54),CL54)","v":200},{"$f":"IF(BV54=DataBase!$B$30,DataBase!$H$30,IF(BV54=DataBase!$B$31,DataBase!$H$31,IF(BV54=DataBase!$B$32,DataBase!$H$32,IF(BV54=DataBase!$B$33,DataBase!$H$33,IF(BV54=DataBase!$B$34,DataBase!$H$34)))))","v":1},{"$f":"IF(BU54=DataBase!$B$21,DataBase!$G$21,IF(BU54=DataBase!$B$22,DataBase!$G$22,IF(BU54=DataBase!$B$23,DataBase!$G$23,IF(BU54=DataBase!$B$24,DataBase!$G$24,IF(BU54=DataBase!$B$25,DataBase!$G$25)))))","v":1.4},{"$f":"IF(CE54=DataBase!$B$44,DataBase!$G$44,IF($F54=DataBase!$B$45,DataBase!$G$45,IF(CE54=DataBase!$B$46,DataBase!$G$46,IF(CE54=DataBase!$B$47,DataBase!$G$47,IF(CE54=DataBase!$B$48,DataBase!$G$48,IF(CE54=DataBase!$B$49,DataBase!$G$49))))))+CO54*CP54*CQ54","v":280},{"$f":"CR54+CK54*DR54","v":300280},{"$f":"((BZ54-1)/BZ54)/IF(BY54=DataBase!$B$8,DataBase!$C$8,IF(BY54=DataBase!$B$9,DataBase!$C$9,IF(BY54=DataBase!$B$10,DataBase!$C$10)))*CA54","v":14.75},{"$f":"IF(BX54=DataBase!$B$14,DataBase!$E$14,IF(BX54=DataBase!$B$15,DataBase!$E$15,IF(BX54=DataBase!$B$16,DataBase!$E$16)))","v":125},{"$f":"IF(BU54=DataBase!$B$21,DataBase!$E$21,IF(BU54=DataBase!$B$22,DataBase!$E$22,IF(BU54=DataBase!$B$23,DataBase!$E$23,IF(BU54=DataBase!$B$24,DataBase!$E$24,IF(BU54=DataBase!$B$25,DataBase!$E$25)))))","v":2000},{"$f":"IF(BY54=DataBase!$B$8,DataBase!$C$8,IF(BY54=DataBase!$B$9,DataBase!$C$9,IF(BY54=DataBase!$B$10,DataBase!$C$10)))","v":2},{"$f":"POWER(CA54/((DataBase!$F$5*CW54)),DataBase!$E$52)*DataBase!$F$5*CW54/CA54","v":1.25},{"$f":"IF(BV54=DataBase!$B$30,DataBase!$F$30,IF(BV54=DataBase!$B$31,DataBase!$F$31,IF(BV54=DataBase!$B$32,DataBase!$F$32,IF(BV54=DataBase!$B$33,DataBase!$F$33,IF(BV54=DataBase!$B$34,DataBase!$F$34)))))","v":1},{"$f":"CV54*CX54*CY54*DS54","v":2750},{"$f":"IF(BX54=DataBase!$B$14,DataBase!$H$14,IF(BX54=DataBase!$B$15,DataBase!$H$15,IF(BX54=DataBase!$B$16,DataBase!$H$16)))*CO54","v":100},{"$f":"IF(BV54=DataBase!$B$30,DataBase!$H$30,IF(BV54=DataBase!$B$31,DataBase!$H$31,IF(BV54=DataBase!$B$32,DataBase!$H$32,IF(BV54=DataBase!$B$33,DataBase!$H$33,IF(BV54=DataBase!$B$34,DataBase!$H$34)))))","v":1},{"$f":"IF(BU54=DataBase!$B$21,DataBase!$G$21,IF(BU54=DataBase!$B$22,DataBase!$G$22,IF(BU54=DataBase!$B$23,DataBase!$G$23,IF(BU54=DataBase!$B$24,DataBase!$G$24,IF(BU54=DataBase!$B$25,DataBase!$G$25)))))","v":1.4},{"$f":"DA54*DB54*DC54+IF(CE54=DataBase!$B$44,DataBase!$G$44,IF(CE54=DataBase!$B$45,DataBase!$G$45,IF(CE54=DataBase!$B$46,DataBase!$G$46,IF(CE54=DataBase!$B$47,DataBase!$G$47,IF(CE54=DataBase!$B$48,DataBase!$G$48,IF(CE54=DataBase!$B$49,DataBase!$G$49))))))","v":140},{"$f":"CU54+CZ54+DD54","v":3015},{"$f":"IF(BY54=DataBase!$B$8,0,((BZ54-1)/BZ54)/IF(BY54=DataBase!$B$9,2,IF(BY54=DataBase!$B$10,3/2))*CA54)","v":14.75},{"$f":"IF(BX54=DataBase!$B$14,DataBase!$F$14,IF(BX54=DataBase!$B$15,DataBase!$F$15,IF(BX54=DataBase!$B$16,DataBase!$F$16)))","v":125},{"$f":"IF(BU54=DataBase!$B$21,DataBase!$F$21,IF(BU54=DataBase!$B$22,DataBase!$F$22,IF(BU54=DataBase!$B$23,DataBase!$F$23,IF(BU54=DataBase!$B$24,DataBase!$F$24,IF(BU54=DataBase!$B$25,DataBase!$F$25)))))","v":579},{"$f":"IF(BY54=DataBase!$B$8,DataBase!$E$8,IF(BY54=DataBase!$B$9,DataBase!$E$9,IF(BY54=DataBase!$B$10,DataBase!$E$10)))","v":1},{"$f":"IF(DI54=0,0,POWER(CA54/((DataBase!$F$5*DI54)),DataBase!$E$52)*DataBase!$F$5*DI54/CA54)","v":1},{"$f":"IF(BV54=DataBase!$B$30,DataBase!$G$30,IF(BV54=DataBase!$B$31,DataBase!$G$31,IF(BV54=DataBase!$B$32,DataBase!$G$32,IF(BV54=DataBase!$B$33,DataBase!$G$33,IF(BV54=DataBase!$B$34,DataBase!$G$34)))))","v":1},{"$f":"DH54*DJ54*DK54*DS54","v":636.90000000000009},{"$f":"IF(BX54=DataBase!$B$14,DataBase!$J$14,IF(BX54=DataBase!$B$15,DataBase!$J$15,IF(BX54=DataBase!$B$16,DataBase!$J$16)))*CO54","v":50},{"$f":"IF(BV54=DataBase!$B$30,DataBase!$H$30,IF(BV54=DataBase!$B$31,DataBase!$H$31,IF(BV54=DataBase!$B$32,DataBase!$H$32,IF(BV54=DataBase!$B$33,DataBase!$H$33,IF(BV54=DataBase!$B$34,DataBase!$H$34)))))","v":1},{"$f":"IF(BU54=DataBase!$B$21,DataBase!$G$21,IF(BU54=DataBase!$B$22,DataBase!$G$22,IF(BU54=DataBase!$B$23,DataBase!$G$23,IF(BU54=DataBase!$B$24,DataBase!$G$24,IF(BU54=DataBase!$B$25,DataBase!$G$25)))))","v":1.4},{"$f":"DM54*DN54*DO54+IF(CE54=DataBase!$B$44,DataBase!$G$44,IF(CE54=DataBase!$B$45,DataBase!$G$45,IF(CE54=DataBase!$B$46,DataBase!$G$46,IF(CE54=DataBase!$B$47,DataBase!$G$47,IF(CE54=DataBase!$B$48,DataBase!$G$48,IF(CE54=DataBase!$B$49,DataBase!$G$49))))))","v":70},{"$f":"DG54+DL54+DP54","v":831.90000000000009},{"$f":"IF(CE54=DataBase!$B$44,DataBase!$C$44,IF(CE54=DataBase!$B$45,DataBase!$C$45,IF(CE54=DataBase!$B$46,DataBase!$C$46,IF(CE54=DataBase!$B$47,DataBase!$C$47,IF(CE54=DataBase!$B$48,DataBase!$C$48,IF(CE54=DataBase!$B$49,DataBase!$C$49))))))","v":1},{"$f":"IF(CE54=DataBase!$B$44,DataBase!$D$44,IF(CE54=DataBase!$B$45,DataBase!$D$45,IF(CE54=DataBase!$B$46,DataBase!$D$46,IF(CE54=DataBase!$B$47,DataBase!$D$47,IF(CE54=DataBase!$B$48,DataBase!$D$48,IF(CE54=DataBase!$B$49,DataBase!$D$49))))))","v":1.1000000000000001},{"$f":"DQ54*8*DF54+DE54*8*CT54+CS54*CH54*8","v":1655054.2},{"$f":"POWER(((DataBase!$C$5*DataBase!$E$5)/(CB54*CC54)),DataBase!$E$53)","v":0.21139572834201978},{"$f":"IF(CD54=DataBase!$B$37,DataBase!$C$37,IF(CD54=DataBase!$B$38,DataBase!$C$38))","v":1},null,{"$f":"DV54*DU54*DT54","v":349871.38805451884},"bit/s",null,{"$f":"IF(C54=DataBase!$J$49,DataBase!$O$49,IF(C54=DataBase!$J$50,DataBase!$O$50,IF(C54=DataBase!$J$51,DataBase!$O$51,IF(C54=DataBase!$J$52,DataBase!$O$52))))","v":"crowd"},{"$f":"IF(D54=DataBase!$J$44,DataBase!$L$44,IF(D54=DataBase!$J$45,DataBase!$L$45,IF(D54=DataBase!$J$46,DataBase!$L$46)))","v":"medium"},null,{"$f":"$F54","v":"normale z.B. typische parkplatz Straßenszene"},{"$f":"$G54","v":"IBP"},{"$f":"$H54","v":"60"},{"$f":"$I54","v":30},{"$f":"$J54","v":768},{"$f":"$K54","v":432},{"$f":"$L54","v":"h_264"},{"$f":"$M54","v":"CPP_7"},{"$f":"$E54","v":0},null,{"$f":"1/EF54*EG54","v":0.5},{"$f":"IF(ED54=DataBase!$B$14,DataBase!$C$14,IF(ED54=DataBase!$B$15,DataBase!$C$15,IF(ED54=DataBase!$B$16,DataBase!$C$16)))","v":300000},{"$f":"IF(EB54=DataBase!$B$30,DataBase!$C$30,IF(EB54=DataBase!$B$31,DataBase!$C$31,IF(EB54=DataBase!$B$32,DataBase!$C$32,IF(EB54=DataBase!$B$33,DataBase!$C$33,IF(EB54=DataBase!$B$34,DataBase!$C$34)))))","v":1},{"$f":"EO54*EP54","v":300000},{"$f":"IF(ED54=DataBase!$B$14,DataBase!$G$14,IF(ED54=DataBase!$B$15,DataBase!$G$15,IF(ED54=DataBase!$B$16,DataBase!$G$16)))","v":200},{"$f":"IF(EL54=DataBase!$K$20,1,IF(EL54=DataBase!$K$21,1,0))","v":0},{"$f":"IF(EL54=DataBase!$K$20,DataBase!$M$20,IF(EL54=DataBase!$K$21,DataBase!$M$21,0))","v":0},{"$f":"IF(ES54=1,IF(ET54<>0,ET54,ER54),ER54)","v":200},{"$f":"IF(EB54=DataBase!$B$30,DataBase!$H$30,IF(EB54=DataBase!$B$31,DataBase!$H$31,IF(EB54=DataBase!$B$32,DataBase!$H$32,IF(EB54=DataBase!$B$33,DataBase!$H$33,IF(EB54=DataBase!$B$34,DataBase!$H$34)))))","v":1},{"$f":"IF(EA54=DataBase!$B$21,DataBase!$G$21,IF(EA54=DataBase!$B$22,DataBase!$G$22,IF(EA54=DataBase!$B$23,DataBase!$G$23,IF(EA54=DataBase!$B$24,DataBase!$G$24,IF(EA54=DataBase!$B$25,DataBase!$G$25)))))","v":2},{"$f":"IF(EK54=DataBase!$B$44,DataBase!$G$44,IF($F54=DataBase!$B$45,DataBase!$G$45,IF(EK54=DataBase!$B$46,DataBase!$G$46,IF(EK54=DataBase!$B$47,DataBase!$G$47,IF(EK54=DataBase!$B$48,DataBase!$G$48,IF(EK54=DataBase!$B$49,DataBase!$G$49))))))+EU54*EV54*EW54","v":400},{"$f":"EX54+EQ54*FX54","v":300400},{"$f":"((EF54-1)/EF54)/IF(EE54=DataBase!$B$8,DataBase!$C$8,IF(EE54=DataBase!$B$9,DataBase!$C$9,IF(EE54=DataBase!$B$10,DataBase!$C$10)))*EG54","v":14.75},{"$f":"IF(ED54=DataBase!$B$14,DataBase!$E$14,IF(ED54=DataBase!$B$15,DataBase!$E$15,IF(ED54=DataBase!$B$16,DataBase!$E$16)))","v":125},{"$f":"IF(EA54=DataBase!$B$21,DataBase!$E$21,IF(EA54=DataBase!$B$22,DataBase!$E$22,IF(EA54=DataBase!$B$23,DataBase!$E$23,IF(EA54=DataBase!$B$24,DataBase!$E$24,IF(EA54=DataBase!$B$25,DataBase!$E$25)))))","v":15780},{"$f":"IF(EE54=DataBase!$B$8,DataBase!$C$8,IF(EE54=DataBase!$B$9,DataBase!$C$9,IF(EE54=DataBase!$B$10,DataBase!$C$10)))","v":2},{"$f":"POWER(EG54/((DataBase!$F$5*FC54)),DataBase!$E$52)*DataBase!$F$5*FC54/EG54","v":1.25},{"$f":"IF(EB54=DataBase!$B$30,DataBase!$F$30,IF(EB54=DataBase!$B$31,DataBase!$F$31,IF(EB54=DataBase!$B$32,DataBase!$F$32,IF(EB54=DataBase!$B$33,DataBase!$F$33,IF(EB54=DataBase!$B$34,DataBase!$F$34)))))","v":1},{"$f":"FB54*FD54*FE54*FY54","v":21697.5},{"$f":"IF(ED54=DataBase!$B$14,DataBase!$H$14,IF(ED54=DataBase!$B$15,DataBase!$H$15,IF(ED54=DataBase!$B$16,DataBase!$H$16)))*EU54","v":100},{"$f":"IF(EB54=DataBase!$B$30,DataBase!$H$30,IF(EB54=DataBase!$B$31,DataBase!$H$31,IF(EB54=DataBase!$B$32,DataBase!$H$32,IF(EB54=DataBase!$B$33,DataBase!$H$33,IF(EB54=DataBase!$B$34,DataBase!$H$34)))))","v":1},{"$f":"IF(EA54=DataBase!$B$21,DataBase!$G$21,IF(EA54=DataBase!$B$22,DataBase!$G$22,IF(EA54=DataBase!$B$23,DataBase!$G$23,IF(EA54=DataBase!$B$24,DataBase!$G$24,IF(EA54=DataBase!$B$25,DataBase!$G$25)))))","v":2},{"$f":"FG54*FH54*FI54+IF(EK54=DataBase!$B$44,DataBase!$G$44,IF(EK54=DataBase!$B$45,DataBase!$G$45,IF(EK54=DataBase!$B$46,DataBase!$G$46,IF(EK54=DataBase!$B$47,DataBase!$G$47,IF(EK54=DataBase!$B$48,DataBase!$G$48,IF(EK54=DataBase!$B$49,DataBase!$G$49))))))","v":200},{"$f":"FA54+FF54+FJ54","v":22022.5},{"$f":"IF(EE54=DataBase!$B$8,0,((EF54-1)/EF54)/IF(EE54=DataBase!$B$9,2,IF(EE54=DataBase!$B$10,3/2))*EG54)","v":14.75},{"$f":"IF(ED54=DataBase!$B$14,DataBase!$F$14,IF(ED54=DataBase!$B$15,DataBase!$F$15,IF(ED54=DataBase!$B$16,DataBase!$F$16)))","v":125},{"$f":"IF(EA54=DataBase!$B$21,DataBase!$F$21,IF(EA54=DataBase!$B$22,DataBase!$F$22,IF(EA54=DataBase!$B$23,DataBase!$F$23,IF(EA54=DataBase!$B$24,DataBase!$F$24,IF(EA54=DataBase!$B$25,DataBase!$F$25)))))","v":3964},{"$f":"IF(EE54=DataBase!$B$8,DataBase!$E$8,IF(EE54=DataBase!$B$9,DataBase!$E$9,IF(EE54=DataBase!$B$10,DataBase!$E$10)))","v":1},{"$f":"IF(FO54=0,0,POWER(EG54/((DataBase!$F$5*FO54)),DataBase!$E$52)*DataBase!$F$5*FO54/EG54)","v":1},{"$f":"IF(EB54=DataBase!$B$30,DataBase!$G$30,IF(EB54=DataBase!$B$31,DataBase!$G$31,IF(EB54=DataBase!$B$32,DataBase!$G$32,IF(EB54=DataBase!$B$33,DataBase!$G$33,IF(EB54=DataBase!$B$34,DataBase!$G$34)))))","v":1},{"$f":"FN54*FP54*FQ54*FY54","v":4360.4000000000005},{"$f":"IF(ED54=DataBase!$B$14,DataBase!$J$14,IF(ED54=DataBase!$B$15,DataBase!$J$15,IF(ED54=DataBase!$B$16,DataBase!$J$16)))*EU54","v":50},{"$f":"IF(EB54=DataBase!$B$30,DataBase!$H$30,IF(EB54=DataBase!$B$31,DataBase!$H$31,IF(EB54=DataBase!$B$32,DataBase!$H$32,IF(EB54=DataBase!$B$33,DataBase!$H$33,IF(EB54=DataBase!$B$34,DataBase!$H$34)))))","v":1},{"$f":"IF(EA54=DataBase!$B$21,DataBase!$G$21,IF(EA54=DataBase!$B$22,DataBase!$G$22,IF(EA54=DataBase!$B$23,DataBase!$G$23,IF(EA54=DataBase!$B$24,DataBase!$G$24,IF(EA54=DataBase!$B$25,DataBase!$G$25)))))","v":2},{"$f":"FS54*FT54*FU54+IF(EK54=DataBase!$B$44,DataBase!$G$44,IF(EK54=DataBase!$B$45,DataBase!$G$45,IF(EK54=DataBase!$B$46,DataBase!$G$46,IF(EK54=DataBase!$B$47,DataBase!$G$47,IF(EK54=DataBase!$B$48,DataBase!$G$48,IF(EK54=DataBase!$B$49,DataBase!$G$49))))))","v":100},{"$f":"FM54+FR54+FV54","v":4585.4000000000005},{"$f":"IF(EK54=DataBase!$B$44,DataBase!$C$44,IF(EK54=DataBase!$B$45,DataBase!$C$45,IF(EK54=DataBase!$B$46,DataBase!$C$46,IF(EK54=DataBase!$B$47,DataBase!$C$47,IF(EK54=DataBase!$B$48,DataBase!$C$48,IF(EK54=DataBase!$B$49,DataBase!$C$49))))))","v":1},{"$f":"IF(EK54=DataBase!$B$44,DataBase!$D$44,IF(EK54=DataBase!$B$45,DataBase!$D$45,IF(EK54=DataBase!$B$46,DataBase!$D$46,IF(EK54=DataBase!$B$47,DataBase!$D$47,IF(EK54=DataBase!$B$48,DataBase!$D$48,IF(EK54=DataBase!$B$49,DataBase!$D$49))))))","v":1.1000000000000001},{"$f":"FW54*8*FL54+FK54*8*EZ54+EY54*EN54*8","v":4341332.2},{"$f":"POWER(((DataBase!$C$5*DataBase!$E$5)/(EH54*EI54)),DataBase!$E$53)","v":0.21139572834201978},{"$f":"IF(EJ54=DataBase!$B$37,DataBase!$C$37,IF(EJ54=DataBase!$B$38,DataBase!$C$38))","v":1},null,{"$f":"GB54*GA54*FZ54","v":917739.08239366312},"bit/s",null,{"$f":"IF($C54=DataBase!$J$49,DataBase!$L$49,IF($C54=DataBase!$J$50,DataBase!$L$50,IF($C54=DataBase!$J$51,DataBase!$L$51,IF($C54=DataBase!$J$52,DataBase!$L$52))))","v":0.54},{"$f":"IF($C54=DataBase!$J$49,DataBase!$N$49,IF($C54=DataBase!$J$50,DataBase!$N$50,IF($C54=DataBase!$J$51,DataBase!$N$51,IF($C54=DataBase!$J$52,DataBase!$N$52))))","v":0.35},{"$f":"IF($C54=DataBase!$J$49,DataBase!$P$49,IF($C54=DataBase!$J$50,DataBase!$P$50,IF($C54=DataBase!$J$51,DataBase!$P$51,IF($C54=DataBase!$J$52,DataBase!$P$52))))","v":0.10999999999999999},null,{"$f":"$GG54*BR54","v":142463.80924425399},"bit/s",{"$f":"$DX54*GH54","v":122454.98581908159},"bit/s",{"$f":"$GD54*GI54","v":100951.29906330293},"bit/s",null,{"$f":"GO54+GM54+GK54","v":365870.09412663849},"bit/s",null,{"$f":"MAX($GD54,$DX54,$BR54)","v":917739.08239366312},"bit/s",{"$f":"IF($M54=DataBase!$B$44,DataBase!$E$44,IF($M54=DataBase!$B$45,DataBase!$E$45,IF($M54=DataBase!$B$46,DataBase!$E$46,IF($M54=DataBase!$B$47,DataBase!$E$47,IF($M54=DataBase!$B$48,DataBase!$E$48,IF($M54=DataBase!$B$49,DataBase!$E$49))))))","v":1},null,{"$f":"IF($D54=DataBase!$J$44,DataBase!$M$44,IF($D54=DataBase!$J$45,DataBase!$M$45,IF($D54=DataBase!$J$46,DataBase!$M$46)))","v":4},{"$f":"IF($D54=DataBase!$J$44,DataBase!$K$44,IF($D54=DataBase!$J$45,DataBase!$K$45,IF($D54=DataBase!$J$46,DataBase!$K$46)))","v":2},{"$f":"IF($M54=DataBase!$B$44,DataBase!$F$44,IF($M54=DataBase!$B$45,DataBase!$F$45,IF($M54=DataBase!$B$46,DataBase!$F$46,IF($M54=DataBase!$B$47,DataBase!$F$47,IF($M54=DataBase!$B$48,DataBase!$F$48,IF($M54=DataBase!$B$49,DataBase!$F$49))))))","v":16000000},"bit/s",{"$f":"C54&D54&I54&J54&K54&L54&M54","v":"mediumbalanced30768432h_264CPP_7"},{"$f":"MIN(HA54,MAX(GZ54*IF(0=GW54,GR54,IF(1=GW54,GR54,IF(2=GW54,GU54)))))","v":731740.18825327698},"bit/s",null,{"$f":"IF(GW54=1,\"SUPPORTED\",\"NOT SUPPORTED\")","v":"SUPPORTED"},{"$f":"HJ54","v":1835478.1647873262},"bit/s",{"$f":"MIN(HA54,GZ54*IF(GW54=0,2*GR54,GU54))","v":1835478.1647873262},"bit/s",{"$f":"IF(GW54=1,IF($D54=DataBase!$J$44,DataBase!$L$44,IF($D54=DataBase!$J$45,DataBase!$L$45,IF($D54=DataBase!$J$46,DataBase!$L$46))),\"OFF\")","v":"medium"},{"$f":"0","v":0},null,{"$f":"MIN(HA54,MAX(HQ54/GY54,GZ54*IF(0=GW54,GR54,IF(1=GW54,GR54,IF(2=GW54,GU54)))))","v":731740.18825327698},"bit/s",{"$f":"MIN(HA54,GZ54*IF(GW54=0,2*GR54,GU54))","v":1835478.1647873262},"bit/s",{"$f":"IF(GW54=1,IF($D54=DataBase!$J$44,DataBase!$L$44,IF($D54=DataBase!$J$45,DataBase!$L$45,IF($D54=DataBase!$J$46,DataBase!$L$46))),\"OFF\")","v":"medium"},{"$f":"IF(GW54=1,3600*24*GW54,0)","v":86400}]
[null,null,{"$f":"E40","v":"medium"}]
[null,null,"Customized Profiles",null,null,null,"Target bitrate","maximum bitrate"]
[null,null,"nicht in BVMS","Static scene type","normale z.B. typische parkplatz Straßenszene",null,{"$f":"HO73","v":{"$error":"#N/A"}},{"$f":"HQ73","v":{"$error":"#N/A"}}]
[null,null,"nicht in BVMS","dynamic scene type","crowded"]
[null,null,null,"Safety factor","minimum"]
[null,null,"wird auf kamera geschrieben","Bit rate optimization","medium"]
[null,null,"fixer Wert in BVMS","Averaging",86400]
[null,null,"Framerate","Encoding Interval",60]
[null,null,"wird auf kamera geschrieben","GOP Structure","IBBP"]
[null,null,"wird auf kamera geschrieben","I-Frame distance",255]
[null,null,"für Kalkulation","Resolution","1080p","Jan Brandstätter schickt noch die Werte für safety factor und max target max"]
[null,null,"für Kalkulation","Platform","CPP_7_3"]
[null,null,"für Kalkulation","video codec","h_265"]
[]
[null,null,"hilf01",{"$f":"VLOOKUP(E65,L82:O87,3,0)","v":1920}]
[null,null,"hilf02",{"$f":"VLOOKUP(E65,L82:O87,4,0)","v":1080}]
[null,null,"hilf03",{"$f":"VLOOKUP(E59,G142:I144,2,0)","v":{"$error":"#N/A"}}]
[null,null,"hilf04",{"$f":"VLOOKUP(E59,G142:I144,3,0)","v":{"$error":"#N/A"}}]
[null,null,{"$f":"E58","v":"crowded"},{"$f":"E60","v":"medium"},null,{"$f":"E57","v":"normale z.B. typische parkplatz Straßenszene"},{"$f":"E63","v":"IBBP"},{"$f":"E64","v":255},{"$f":"E62","v":60},{"$f":"D69","v":1920},{"$f":"D70","v":1080},{"$f":"E67","v":"h_265"},{"$f":"E66","v":"CPP_7_3"},null,{"$f":"IF(C73=DataBase!$J$49,DataBase!$K$49,IF(C73=DataBase!$J$50,DataBase!$K$50,IF(C73=DataBase!$J$51,DataBase!$K$51,IF(C73=DataBase!$J$52,DataBase!$K$52))))","v":"standard"},{"$f":"E60","v":"medium"},null,{"$f":"$F73","v":"normale z.B. typische parkplatz Straßenszene"},{"$f":"$G73","v":"IBBP"},{"$f":"$H73","v":255},{"$f":"$I73","v":60},{"$f":"$J73","v":1920},{"$f":"$K73","v":1080},{"$f":"$L73","v":"h_265"},{"$f":"$M73","v":"CPP_7_3"},{"$f":"$E73","v":0},null,{"$f":"1/T73*U73","v":0.23529411764705882},{"$f":"IF(R73=DataBase!$B$14,DataBase!$C$14,IF(R73=DataBase!$B$15,DataBase!$C$15,IF(R73=DataBase!$B$16,DataBase!$C$16)))","v":300000},{"$f":"IF(P73=DataBase!$B$30,DataBase!$C$30,IF(P73=DataBase!$B$31,DataBase!$C$31,IF(P73=DataBase!$B$32,DataBase!$C$32,IF(P73=DataBase!$B$33,DataBase!$C$33,IF(P73=DataBase!$B$34,DataBase!$C$34)))))","v":1},{"$f":"AC73*AD73","v":300000},{"$f":"IF(R73=DataBase!$B$14,DataBase!$G$14,IF(R73=DataBase!$B$15,DataBase!$G$15,IF(R73=DataBase!$B$16,DataBase!$G$16)))","v":200},{"$f":"IF(Z73=DataBase!$K$20,1,IF(Z73=DataBase!$K$21,1,0))","v":0},{"$f":"IF(Z73=DataBase!$K$20,DataBase!$M$20,IF(Z73=DataBase!$K$21,DataBase!$M$21,0))","v":0},{"$f":"IF(AG73=1,IF(AH73<>0,AH73,AF73),AF73)","v":200},{"$f":"IF(P73=DataBase!$B$30,DataBase!$H$30,IF(P73=DataBase!$B$31,DataBase!$H$31,IF(P73=DataBase!$B$32,DataBase!$H$32,IF(P73=DataBase!$B$33,DataBase!$H$33,IF(P73=DataBase!$B$34,DataBase!$H$34)))))","v":1},{"$f":"IF(O73=DataBase!$B$21,DataBase!$G$21,IF(O73=DataBase!$B$22,DataBase!$G$22,IF(O73=DataBase!$B$23,DataBase!$G$23,IF(O73=DataBase!$B$24,DataBase!$G$24,IF(O73=DataBase!$B$25,DataBase!$G$25)))))","v":1.4},{"$f":"IF(Y73=DataBase!$B$44,DataBase!$G$44,IF($F73=DataBase!$B$45,DataBase!$G$45,IF(Y73=DataBase!$B$46,DataBase!$G$46,IF(Y73=DataBase!$B$47,DataBase!$G$47,IF(Y73=DataBase!$B$48,DataBase!$G$48,IF(Y73=DataBase!$B$49,DataBase!$G$49))))))+AI73*AJ73*AK73","v":280},{"$f":"AL73+AE73*BL73","v":360280},{"$f":"((T73-1)/T73)/IF(S73=DataBase!$B$8,DataBase!$C$8,IF(S73=DataBase!$B$9,DataBase!$C$9,IF(S73=DataBase!$B$10,DataBase!$C$10)))*U73","v":19.921568627450981},{"$f":"IF(R73=DataBase!$B$14,DataBase!$E$14,IF(R73=DataBase!$B$15,DataBase!$E$15,IF(R73=DataBase!$B$16,DataBase!$E$16)))","v":125},{"$f":"IF(O73=DataBase!$B$21,DataBase!$E$21,IF(O73=DataBase!$B$22,DataBase!$E$22,IF(O73=DataBase!$B$23,DataBase!$E$23,IF(O73=DataBase!$B$24,DataBase!$E$24,IF(O73=DataBase!$B$25,DataBase!$E$25)))))","v":2000},{"$f":"IF(S73=DataBase!$B$8,DataBase!$C$8,IF(S73=DataBase!$B$9,DataBase!$C$9,IF(S73=DataBase!$B$10,DataBase!$C$10)))","v":3},{"$f":"POWER(U73/((DataBase!$F$5*AQ73)),DataBase!$E$52)*DataBase!$F$5*AQ73/U73","v":1.1394328171664916},{"$f":"IF(P73=DataBase!$B$30,DataBase!$F$30,IF(P73=DataBase!$B$31,DataBase!$F$31,IF(P73=DataBase!$B$32,DataBase!$F$32,IF(P73=DataBase!$B$33,DataBase!$F$33,IF(P73=DataBase!$B$34,DataBase!$F$34)))))","v":1},{"$f":"AP73*AR73*AS73*BM73","v":3190.4118880661763},{"$f":"IF(R73=DataBase!$B$14,DataBase!$H$14,IF(R73=DataBase!$B$15,DataBase!$H$15,IF(R73=DataBase!$B$16,DataBase!$H$16)))*AI73","v":100},{"$f":"IF(P73=DataBase!$B$30,DataBase!$H$30,IF(P73=DataBase!$B$31,DataBase!$H$31,IF(P73=DataBase!$B$32,DataBase!$H$32,IF(P73=DataBase!$B$33,DataBase!$H$33,IF(P73=DataBase!$B$34,DataBase!$H$34)))))","v":1},{"$f":"IF(O73=DataBase!$B$21,DataBase!$G$21,IF(O73=DataBase!$B$22,DataBase!$G$22,IF(O73=DataBase!$B$23,DataBase!$G$23,IF(O73=DataBase!$B$24,DataBase!$G$24,IF(O73=DataBase!$B$25,DataBase!$G$25)))))","v":1.4},{"$f":"AU73*AV73*AW73+IF(Y73=DataBase!$B$44,DataBase!$G$44,IF(Y73=DataBase!$B$45,DataBase!$G$45,IF(Y73=DataBase!$B$46,DataBase!$G$46,IF(Y73=DataBase!$B$47,DataBase!$G$47,IF(Y73=DataBase!$B$48,DataBase!$G$48,IF(Y73=DataBase!$B$49,DataBase!$G$49))))))","v":140},{"$f":"AO73+AT73+AX73","v":3455.4118880661763},{"$f":"IF(S73=DataBase!$B$8,0,((T73-1)/T73)/IF(S73=DataBase!$B$9,2,IF(S73=DataBase!$B$10,3/2))*U73)","v":39.843137254901961},{"$f":"IF(R73=DataBase!$B$14,DataBase!$F$14,IF(R73=DataBase!$B$15,DataBase!$F$15,IF(R73=DataBase!$B$16,DataBase!$F$16)))","v":125},{"$f":"IF(O73=DataBase!$B$21,DataBase!$F$21,IF(O73=DataBase!$B$22,DataBase!$F$22,IF(O73=DataBase!$B$23,DataBase!$F$23,IF(O73=DataBase!$B$24,DataBase!$F$24,IF(O73=DataBase!$B$25,DataBase!$F$25)))))","v":579},{"$f":"IF(S73=DataBase!$B$8,DataBase!$E$8,IF(S73=DataBase!$B$9,DataBase!$E$9,IF(S73=DataBase!$B$10,DataBase!$E$10)))","v":2},{"$f":"IF(BC73=0,0,POWER(U73/((DataBase!$F$5*BC73)),DataBase!$E$52)*DataBase!$F$5*BC73/U73)","v":1},{"$f":"IF(P73=DataBase!$B$30,DataBase!$G$30,IF(P73=DataBase!$B$31,DataBase!$G$31,IF(P73=DataBase!$B$32,DataBase!$G$32,IF(P73=DataBase!$B$33,DataBase!$G$33,IF(P73=DataBase!$B$34,DataBase!$G$34)))))","v":1},{"$f":"BB73*BD73*BE73*BM73","v":810.59999999999991},{"$f":"IF(R73=DataBase!$B$14,DataBase!$J$14,IF(R73=DataBase!$B$15,DataBase!$J$15,IF(R73=DataBase!$B$16,DataBase!$J$16)))*AI73","v":50},{"$f":"IF(P73=DataBase!$B$30,DataBase!$H$30,IF(P73=DataBase!$B$31,DataBase!$H$31,IF(P73=DataBase!$B$32,DataBase!$H$32,IF(P73=DataBase!$B$33,DataBase!$H$33,IF(P73=DataBase!$B$34,DataBase!$H$34)))))","v":1},{"$f":"IF(O73=DataBase!$B$21,DataBase!$G$21,IF(O73=DataBase!$B$22,DataBase!$G$22,IF(O73=DataBase!$B$23,DataBase!$G$23,IF(O73=DataBase!$B$24,DataBase!$G$24,IF(O73=DataBase!$B$25,DataBase!$G$25)))))","v":1.4},{"$f":"BG73*BH73*BI73+IF(Y73=DataBase!$B$44,DataBase!$G$44,IF(Y73=DataBase!$B$45,DataBase!$G$45,IF(Y73=DataBase!$B$46,DataBase!$G$46,IF(Y73=DataBase!$B$47,DataBase!$G$47,IF(Y73=DataBase!$B$48,DataBase!$G$48,IF(Y73=DataBase!$B$49,DataBase!$G$49))))))","v":70},{"$f":"BA73+BF73+BJ73","v":1005.5999999999999},{"$f":"IF(Y73=DataBase!$B$44,DataBase!$C$44,IF(Y73=DataBase!$B$45,DataBase!$C$45,IF(Y73=DataBase!$B$46,DataBase!$C$46,IF(Y73=DataBase!$B$47,DataBase!$C$47,IF(Y73=DataBase!$B$48,DataBase!$C$48,IF(Y73=DataBase!$B$49,DataBase!$C$49))))))","v":1.2},{"$f":"IF(Y73=DataBase!$B$44,DataBase!$D$44,IF(Y73=DataBase!$B$45,DataBase!$D$45,IF(Y73=DataBase!$B$46,DataBase!$D$46,IF(Y73=DataBase!$B$47,DataBase!$D$47,IF(Y73=DataBase!$B$48,DataBase!$D$48,IF(Y73=DataBase!$B$49,DataBase!$D$49))))))","v":1.4},{"$f":"BK73*8*AZ73+AY73*8*AN73+AM73*AB73*8","v":1549401.9887490566},{"$f":"POWER(((DataBase!$C$5*DataBase!$E$5)/(V73*W73)),DataBase!$E$53)","v":1},{"$f":"IF(X73=DataBase!$B$37,DataBase!$C$37,IF(X73=DataBase!$B$38,DataBase!$C$38))","v":0.75},null,{"$f":"BP73*BO73*BN73","v":1162051.4915617923},"bit/s",null,{"$f":"IF(C73=DataBase!$J$49,DataBase!$M$49,IF(C73=DataBase!$J$50,DataBase!$M$50,IF(C73=DataBase!$J$51,DataBase!$M$51,IF(C73=DataBase!$J$52,DataBase!$M$52))))","v":"crowd"},{"$f":"E60","v":"medium"},null,{"$f":"$F73","v":"normale z.B. typische parkplatz Straßenszene"},{"$f":"$G73","v":"IBBP"},{"$f":"$H73","v":255},{"$f":"$I73","v":60},{"$f":"$J73","v":1920},{"$f":"$K73","v":1080},{"$f":"$L73","v":"h_265"},{"$f":"$M73","v":"CPP_7_3"},{"$f":"$E73","v":0},null,{"$f":"1/BZ73*CA73","v":0.23529411764705882},{"$f":"IF(BX73=DataBase!$B$14,DataBase!$C$14,IF(BX73=DataBase!$B$15,DataBase!$C$15,IF(BX73=DataBase!$B$16,DataBase!$C$16)))","v":300000},{"$f":"IF(BV73=DataBase!$B$30,DataBase!$C$30,IF(BV73=DataBase!$B$31,DataBase!$C$31,IF(BV73=DataBase!$B$32,DataBase!$C$32,IF(BV73=DataBase!$B$33,DataBase!$C$33,IF(BV73=DataBase!$B$34,DataBase!$C$34)))))","v":1},{"$f":"CI73*CJ73","v":300000},{"$f":"IF(BX73=DataBase!$B$14,DataBase!$G$14,IF(BX73=DataBase!$B$15,DataBase!$G$15,IF(BX73=DataBase!$B$16,DataBase!$G$16)))","v":200},{"$f":"IF(CF73=DataBase!$K$20,1,IF(CF73=DataBase!$K$21,1,0))","v":0},{"$f":"IF(CF73=DataBase!$K$20,DataBase!$M$20,IF(CF73=DataBase!$K$21,DataBase!$M$21,0))","v":0},{"$f":"IF(CM73=1,IF(CN73<>0,CN73,CL73),CL73)","v":200},{"$f":"IF(BV73=DataBase!$B$30,DataBase!$H$30,IF(BV73=DataBase!$B$31,DataBase!$H$31,IF(BV73=DataBase!$B$32,DataBase!$H$32,IF(BV73=DataBase!$B$33,DataBase!$H$33,IF(BV73=DataBase!$B$34,DataBase!$H$34)))))","v":1},{"$f":"IF(BU73=DataBase!$B$21,DataBase!$G$21,IF(BU73=DataBase!$B$22,DataBase!$G$22,IF(BU73=DataBase!$B$23,DataBase!$G$23,IF(BU73=DataBase!$B$24,DataBase!$G$24,IF(BU73=DataBase!$B$25,DataBase!$G$25)))))","v":2},{"$f":"IF(CE73=DataBase!$B$44,DataBase!$G$44,IF($F73=DataBase!$B$45,DataBase!$G$45,IF(CE73=DataBase!$B$46,DataBase!$G$46,IF(CE73=DataBase!$B$47,DataBase!$G$47,IF(CE73=DataBase!$B$48,DataBase!$G$48,IF(CE73=DataBase!$B$49,DataBase!$G$49))))))+CO73*CP73*CQ73","v":400},{"$f":"CR73+CK73*DR73","v":360400},{"$f":"((BZ73-1)/BZ73)/IF(BY73=DataBase!$B$8,DataBase!$C$8,IF(BY73=DataBase!$B$9,DataBase!$C$9,IF(BY73=DataBase!$B$10,DataBase!$C$10)))*CA73","v":19.921568627450981},{"$f":"IF(BX73=DataBase!$B$14,DataBase!$E$14,IF(BX73=DataBase!$B$15,DataBase!$E$15,IF(BX73=DataBase!$B$16,DataBase!$E$16)))","v":125},{"$f":"IF(BU73=DataBase!$B$21,DataBase!$E$21,IF(BU73=DataBase!$B$22,DataBase!$E$22,IF(BU73=DataBase!$B$23,DataBase!$E$23,IF(BU73=DataBase!$B$24,DataBase!$E$24,IF(BU73=DataBase!$B$25,DataBase!$E$25)))))","v":15780},{"$f":"IF(BY73=DataBase!$B$8,DataBase!$C$8,IF(BY73=DataBase!$B$9,DataBase!$C$9,IF(BY73=DataBase!$B$10,DataBase!$C$10)))","v":3},{"$f":"POWER(CA73/((DataBase!$F$5*CW73)),DataBase!$E$52)*DataBase!$F$5*CW73/CA73","v":1.1394328171664916},{"$f":"IF(BV73=DataBase!$B$30,DataBase!$F$30,IF(BV73=DataBase!$B$31,DataBase!$F$31,IF(BV73=DataBase!$B$32,DataBase!$F$32,IF(BV73=DataBase!$B$33,DataBase!$F$33,IF(BV73=DataBase!$B$34,DataBase!$F$34)))))","v":1},{"$f":"CV73*CX73*CY73*DS73","v":25172.349796842129},{"$f":"IF(BX73=DataBase!$B$14,DataBase!$H$14,IF(BX73=DataBase!$B$15,DataBase!$H$15,IF(BX73=DataBase!$B$16,DataBase!$H$16)))*CO73","v":100},{"$f":"IF(BV73=DataBase!$B$30,DataBase!$H$30,IF(BV73=DataBase!$B$31,DataBase!$H$31,IF(BV73=DataBase!$B$32,DataBase!$H$32,IF(BV73=DataBase!$B$33,DataBase!$H$33,IF(BV73=DataBase!$B$34,DataBase!$H$34)))))","v":1},{"$f":"IF(BU73=DataBase!$B$21,DataBase!$G$21,IF(BU73=DataBase!$B$22,DataBase!$G$22,IF(BU73=DataBase!$B$23,DataBase!$G$23,IF(BU73=DataBase!$B$24,DataBase!$G$24,IF(BU73=DataBase!$B$25,DataBase!$G$25)))))","v":2},{"$f":"DA73*DB73*DC73+IF(CE73=DataBase!$B$44,DataBase!$G$44,IF(CE73=DataBase!$B$45,DataBase!$G$45,IF(CE73=DataBase!$B$46,DataBase!$G$46,IF(CE73=DataBase!$B$47,DataBase!$G$47,IF(CE73=DataBase!$B$48,DataBase!$G$48,IF(CE73=DataBase!$B$49,DataBase!$G$49))))))","v":200},{"$f":"CU73+CZ73+DD73","v":25497.349796842129},{"$f":"IF(BY73=DataBase!$B$8,0,((BZ73-1)/BZ73)/IF(BY73=DataBase!$B$9,2,IF(BY73=DataBase!$B$10,3/2))*CA73)","v":39.843137254901961},{"$f":"IF(BX73=DataBase!$B$14,DataBase!$F$14,IF(BX73=DataBase!$B$15,DataBase!$F$15,IF(BX73=DataBase!$B$16,DataBase!$F$16)))","v":125},{"$f":"IF(BU73=DataBase!$B$21,DataBase!$F$21,IF(BU73=DataBase!$B$22,DataBase!$F$22,IF(BU73=DataBase!$B$23,DataBase!$F$23,IF(BU73=DataBase!$B$24,DataBase!$F$24,IF(BU73=DataBase!$B$25,DataBase!$F$25)))))","v":3964},{"$f":"IF(BY73=DataBase!$B$8,DataBase!$E$8,IF(BY73=DataBase!$B$9,DataBase!$E$9,IF(BY73=DataBase!$B$10,DataBase!$E$10)))","v":2},{"$f":"IF(DI73=0,0,POWER(CA73/((DataBase!$F$5*DI73)),DataBase!$E$52)*DataBase!$F$5*DI73/CA73)","v":1},{"$f":"IF(BV73=DataBase!$B$30,DataBase!$G$30,IF(BV73=DataBase!$B$31,DataBase!$G$31,IF(BV73=DataBase!$B$32,DataBase!$G$32,IF(BV73=DataBase!$B$33,DataBase!$G$33,IF(BV73=DataBase!$B$34,DataBase!$G$34)))))","v":1},{"$f":"DH73*DJ73*DK73*DS73","v":5549.5999999999995},{"$f":"IF(BX73=DataBase!$B$14,DataBase!$J$14,IF(BX73=DataBase!$B$15,DataBase!$J$15,IF(BX73=DataBase!$B$16,DataBase!$J$16)))*CO73","v":50},{"$f":"IF(BV73=DataBase!$B$30,DataBase!$H$30,IF(BV73=DataBase!$B$31,DataBase!$H$31,IF(BV73=DataBase!$B$32,DataBase!$H$32,IF(BV73=DataBase!$B$33,DataBase!$H$33,IF(BV73=DataBase!$B$34,DataBase!$H$34)))))","v":1},{"$f":"IF(BU73=DataBase!$B$21,DataBase!$G$21,IF(BU73=DataBase!$B$22,DataBase!$G$22,IF(BU73=DataBase!$B$23,DataBase!$G$23,IF(BU73=DataBase!$B$24,DataBase!$G$24,IF(BU73=DataBase!$B$25,DataBase!$G$25)))))","v":2},{"$f":"DM73*DN73*DO73+IF(CE73=DataBase!$B$44,DataBase!$G$44,IF(CE73=DataBase!$B$45,DataBase!$G$45,IF(CE73=DataBase!$B$46,DataBase!$G$46,IF(CE73=DataBase!$B$47,DataBase!$G$47,IF(CE73=DataBase!$B$48,DataBase!$G$48,IF(CE73=DataBase!$B$49,DataBase!$G$49))))))","v":100},{"$f":"DG73+DL73+DP73","v":5774.5999999999995},{"$f":"IF(CE73=DataBase!$B$44,DataBase!$C$44,IF(CE73=DataBase!$B$45,DataBase!$C$45,IF(CE73=DataBase!$B$46,DataBase!$C$46,IF(CE73=DataBase!$B$47,DataBase!$C$47,IF(CE73=DataBase!$B$48,DataBase!$C$48,IF(CE73=DataBase!$B$49,DataBase!$C$49))))))","v":1.2},{"$f":"IF(CE73=DataBase!$B$44,DataBase!$D$44,IF(CE73=DataBase!$B$45,DataBase!$D$45,IF(CE73=DataBase!$B$46,DataBase!$D$46,IF(CE73=DataBase!$B$47,DataBase!$D$47,IF(CE73=DataBase!$B$48,DataBase!$D$48,IF(CE73=DataBase!$B$49,DataBase!$D$49))))))","v":1.4},{"$f":"DQ73*8*DF73+DE73*8*CT73+CS73*CH73*8","v":6582603.0735045653},{"$f":"POWER(((DataBase!$C$5*DataBase!$E$5)/(CB73*CC73)),DataBase!$E$53)","v":1},{"$f":"IF(CD73=DataBase!$B$37,DataBase!$C$37,IF(CD73=DataBase!$B$38,DataBase!$C$38))","v":0.75},null,{"$f":"DV73*DU73*DT73","v":4936952.3051284235},"bit/s",null,{"$f":"IF(C73=DataBase!$J$49,DataBase!$O$49,IF(C73=DataBase!$J$50,DataBase!$O$50,IF(C73=DataBase!$J$51,DataBase!$O$51,IF(C73=DataBase!$J$52,DataBase!$O$52))))","v":"escape"},{"$f":"E60","v":"medium"},null,{"$f":"$F73","v":"normale z.B. typische parkplatz Straßenszene"},{"$f":"$G73","v":"IBBP"},{"$f":"$H73","v":255},{"$f":"$I73","v":60},{"$f":"$J73","v":1920},{"$f":"$K73","v":1080},{"$f":"$L73","v":"h_265"},{"$f":"$M73","v":"CPP_7_3"},{"$f":"$E73","v":0},null,{"$f":"1/EF73*EG73","v":0.23529411764705882},{"$f":"IF(ED73=DataBase!$B$14,DataBase!$C$14,IF(ED73=DataBase!$B$15,DataBase!$C$15,IF(ED73=DataBase!$B$16,DataBase!$C$16)))","v":300000},{"$f":"IF(EB73=DataBase!$B$30,DataBase!$C$30,IF(EB73=DataBase!$B$31,DataBase!$C$31,IF(EB73=DataBase!$B$32,DataBase!$C$32,IF(EB73=DataBase!$B$33,DataBase!$C$33,IF(EB73=DataBase!$B$34,DataBase!$C$34)))))","v":1},{"$f":"EO73*EP73","v":300000},{"$f":"IF(ED73=DataBase!$B$14,DataBase!$G$14,IF(ED73=DataBase!$B$15,DataBase!$G$15,IF(ED73=DataBase!$B$16,DataBase!$G$16)))","v":200},{"$f":"IF(EL73=DataBase!$K$20,1,IF(EL73=DataBase!$K$21,1,0))","v":0},{"$f":"IF(EL73=DataBase!$K$20,DataBase!$M$20,IF(EL73=DataBase!$K$21,DataBase!$M$21,0))","v":0},{"$f":"IF(ES73=1,IF(ET73<>0,ET73,ER73),ER73)","v":200},{"$f":"IF(EB73=DataBase!$B$30,DataBase!$H$30,IF(EB73=DataBase!$B$31,DataBase!$H$31,IF(EB73=DataBase!$B$32,DataBase!$H$32,IF(EB73=DataBase!$B$33,DataBase!$H$33,IF(EB73=DataBase!$B$34,DataBase!$H$34)))))","v":1},{"$f":"IF(EA73=DataBase!$B$21,DataBase!$G$21,IF(EA73=DataBase!$B$22,DataBase!$G$22,IF(EA73=DataBase!$B$23,DataBase!$G$23,IF(EA73=DataBase!$B$24,DataBase!$G$24,IF(EA73=DataBase!$B$25,DataBase!$G$25)))))","v":2},{"$f":"IF(EK73=DataBase!$B$44,DataBase!$G$44,IF($F73=DataBase!$B$45,DataBase!$G$45,IF(EK73=DataBase!$B$46,DataBase!$G$46,IF(EK73=DataBase!$B$47,DataBase!$G$47,IF(EK73=DataBase!$B$48,DataBase!$G$48,IF(EK73=DataBase!$B$49,DataBase!$G$49))))))+EU73*EV73*EW73","v":400},{"$f":"EX73+EQ73*FX73","v":360400},{"$f":"((EF73-1)/EF73)/IF(EE73=DataBase!$B$8,DataBase!$C$8,IF(EE73=DataBase!$B$9,DataBase!$C$9,IF(EE73=DataBase!$B$10,DataBase!$C$10)))*EG73","v":19.921568627450981},{"$f":"IF(ED73=DataBase!$B$14,DataBase!$E$14,IF(ED73=DataBase!$B$15,DataBase!$E$15,IF(ED73=DataBase!$B$16,DataBase!$E$16)))","v":125},{"$f":"IF(EA73=DataBase!$B$21,DataBase!$E$21,IF(EA73=DataBase!$B$22,DataBase!$E$22,IF(EA73=DataBase!$B$23,DataBase!$E$23,IF(EA73=DataBase!$B$24,DataBase!$E$24,IF(EA73=DataBase!$B$25,DataBase!$E$25)))))","v":34839},{"$f":"IF(EE73=DataBase!$B$8,DataBase!$C$8,IF(EE73=DataBase!$B$9,DataBase!$C$9,IF(EE73=DataBase!$B$10,DataBase!$C$10)))","v":3},{"$f":"POWER(EG73/((DataBase!$F$5*FC73)),DataBase!$E$52)*DataBase!$F$5*FC73/EG73","v":1.1394328171664916},{"$f":"IF(EB73=DataBase!$B$30,DataBase!$F$30,IF(EB73=DataBase!$B$31,DataBase!$F$31,IF(EB73=DataBase!$B$32,DataBase!$F$32,IF(EB73=DataBase!$B$33,DataBase!$F$33,IF(EB73=DataBase!$B$34,DataBase!$F$34)))))","v":1},{"$f":"FB73*FD73*FE73*FY73","v":55575.37988416876},{"$f":"IF(ED73=DataBase!$B$14,DataBase!$H$14,IF(ED73=DataBase!$B$15,DataBase!$H$15,IF(ED73=DataBase!$B$16,DataBase!$H$16)))*EU73","v":100},{"$f":"IF(EB73=DataBase!$B$30,DataBase!$H$30,IF(EB73=DataBase!$B$31,DataBase!$H$31,IF(EB73=DataBase!$B$32,DataBase!$H$32,IF(EB73=DataBase!$B$33,DataBase!$H$33,IF(EB73=DataBase!$B$34,DataBase!$H$34)))))","v":1},{"$f":"IF(EA73=DataBase!$B$21,DataBase!$G$21,IF(EA73=DataBase!$B$22,DataBase!$G$22,IF(EA73=DataBase!$B$23,DataBase!$G$23,IF(EA73=DataBase!$B$24,DataBase!$G$24,IF(EA73=DataBase!$B$25,DataBase!$G$25)))))","v":2},{"$f":"FG73*FH73*FI73+IF(EK73=DataBase!$B$44,DataBase!$G$44,IF(EK73=DataBase!$B$45,DataBase!$G$45,IF(EK73=DataBase!$B$46,DataBase!$G$46,IF(EK73=DataBase!$B$47,DataBase!$G$47,IF(EK73=DataBase!$B$48,DataBase!$G$48,IF(EK73=DataBase!$B$49,DataBase!$G$49))))))","v":200},{"$f":"FA73+FF73+FJ73","v":55900.37988416876},{"$f":"IF(EE73=DataBase!$B$8,0,((EF73-1)/EF73)/IF(EE73=DataBase!$B$9,2,IF(EE73=DataBase!$B$10,3/2))*EG73)","v":39.843137254901961},{"$f":"IF(ED73=DataBase!$B$14,DataBase!$F$14,IF(ED73=DataBase!$B$15,DataBase!$F$15,IF(ED73=DataBase!$B$16,DataBase!$F$16)))","v":125},{"$f":"IF(EA73=DataBase!$B$21,DataBase!$F$21,IF(EA73=DataBase!$B$22,DataBase!$F$22,IF(EA73=DataBase!$B$23,DataBase!$F$23,IF(EA73=DataBase!$B$24,DataBase!$F$24,IF(EA73=DataBase!$B$25,DataBase!$F$25)))))","v":11264},{"$f":"IF(EE73=DataBase!$B$8,DataBase!$E$8,IF(EE73=DataBase!$B$9,DataBase!$E$9,IF(EE73=DataBase!$B$10,DataBase!$E$10)))","v":2},{"$f":"IF(FO73=0,0,POWER(EG73/((DataBase!$F$5*FO73)),DataBase!$E$52)*DataBase!$F$5*FO73/EG73)","v":1},{"$f":"IF(EB73=DataBase!$B$30,DataBase!$G$30,IF(EB73=DataBase!$B$31,DataBase!$G$31,IF(EB73=DataBase!$B$32,DataBase!$G$32,IF(EB73=DataBase!$B$33,DataBase!$G$33,IF(EB73=DataBase!$B$34,DataBase!$G$34)))))","v":1},{"$f":"FN73*FP73*FQ73*FY73","v":15769.599999999999},{"$f":"IF(ED73=DataBase!$B$14,DataBase!$J$14,IF(ED73=DataBase!$B$15,DataBase!$J$15,IF(ED73=DataBase!$B$16,DataBase!$J$16)))*EU73","v":50},{"$f":"IF(EB73=DataBase!$B$30,DataBase!$H$30,IF(EB73=DataBase!$B$31,DataBase!$H$31,IF(EB73=DataBase!$B$32,DataBase!$H$32,IF(EB73=DataBase!$B$33,DataBase!$H$33,IF(EB73=DataBase!$B$34,DataBase!$H$34)))))","v":1},{"$f":"IF(EA73=DataBase!$B$21,DataBase!$G$21,IF(EA73=DataBase!$B$22,DataBase!$G$22,IF(EA73=DataBase!$B$23,DataBase!$G$23,IF(EA73=DataBase!$B$24,DataBase!$G$24,IF(EA73=DataBase!$B$25,DataBase!$G$25)))))","v":2},{"$f":"FS73*FT73*FU73+IF(EK73=DataBase!$B$44,DataBase!$G$44,IF(EK73=DataBase!$B$45,DataBase!$G$45,IF(EK73=DataBase!$B$46,DataBase!$G$46,IF(EK73=DataBase!$B$47,DataBase!$G$47,IF(EK73=DataBase!$B$48,DataBase!$G$48,IF(EK73=DataBase!$B$49,DataBase!$G$49))))))","v":100},{"$f":"FM73+FR73+FV73","v":15994.599999999999},{"$f":"IF(EK73=DataBase!$B$44,DataBase!$C$44,IF(EK73=DataBase!$B$45,DataBase!$C$45,IF(EK73=DataBase!$B$46,DataBase!$C$46,IF(EK73=DataBase!$B$47,DataBase!$C$47,IF(EK73=DataBase!$B$48,DataBase!$C$48,IF(EK73=DataBase!$B$49,DataBase!$C$49))))))","v":1.2},{"$f":"IF(EK73=DataBase!$B$44,DataBase!$D$44,IF(EK73=DataBase!$B$45,DataBase!$D$45,IF(EK73=DataBase!$B$46,DataBase!$D$46,IF(EK73=DataBase!$B$47,DataBase!$D$47,IF(EK73=DataBase!$B$48,DataBase!$D$48,IF(EK73=DataBase!$B$49,DataBase!$D$49))))))","v":1.4},{"$f":"FW73*8*FL73+FK73*8*EZ73+EY73*EN73*8","v":14685586.378402425},{"$f":"POWER(((DataBase!$C$5*DataBase!$E$5)/(EH73*EI73)),DataBase!$E$53)","v":1},{"$f":"IF(EJ73=DataBase!$B$37,DataBase!$C$37,IF(EJ73=DataBase!$B$38,DataBase!$C$38))","v":0.75},null,{"$f":"GB73*GA73*FZ73","v":11014189.783801818},"bit/s",null,{"$f":"IF($C73=DataBase!$J$49,DataBase!$L$49,IF($C73=DataBase!$J$50,DataBase!$L$50,IF($C73=DataBase!$J$51,DataBase!$L$51,IF($C73=DataBase!$J$52,DataBase!$L$52))))","v":0.3},{"$f":"IF($C73=DataBase!$J$49,DataBase!$N$49,IF($C73=DataBase!$J$50,DataBase!$N$50,IF($C73=DataBase!$J$51,DataBase!$N$51,IF($C73=DataBase!$J$52,DataBase!$N$52))))","v":0.3},{"$f":"IF($C73=DataBase!$J$49,DataBase!$P$49,IF($C73=DataBase!$J$50,DataBase!$P$50,IF($C73=DataBase!$J$51,DataBase!$P$51,IF($C73=DataBase!$J$52,DataBase!$P$52))))","v":0.39999999999999997},null,{"$f":"$GG73*BR73","v":348615.44746853766},"bit/s",{"$f":"$DX73*GH73","v":1481085.6915385269},"bit/s",{"$f":"$GD73*GI73","v":4405675.9135207273},"bit/s",null,{"$f":"GO73+GM73+GK73","v":6235377.0525277918},"bit/s",null,{"$f":"MAX($GD73,$DX73,$BR73)","v":11014189.783801818},"bit/s",{"$f":"IF($M73=DataBase!$B$44,DataBase!$E$44,IF($M73=DataBase!$B$45,DataBase!$E$45,IF($M73=DataBase!$B$46,DataBase!$E$46,IF($M73=DataBase!$B$47,DataBase!$E$47,IF($M73=DataBase!$B$48,DataBase!$E$48,IF($M73=DataBase!$B$49,DataBase!$E$49))))))","v":1},null,{"$f":"D71","v":{"$error":"#N/A"}},{"$f":"D72","v":{"$error":"#N/A"}},{"$f":"IF($M73=DataBase!$B$44,DataBase!$F$44,IF($M73=DataBase!$B$45,DataBase!$F$45,IF($M73=DataBase!$B$46,DataBase!$F$46,IF($M73=DataBase!$B$47,DataBase!$F$47,IF($M73=DataBase!$B$48,DataBase!$F$48,IF($M73=DataBase!$B$49,DataBase!$F$49))))))","v":32000000},"bit/s",{"$f":"C73&D73&I73&J73&K73&M73","v":"crowdedmedium6019201080CPP_7_3"},{"$f":"MIN(HA73,MAX(GZ73*IF(0=GW73,GR73,IF(1=GW73,GR73,IF(2=GW73,GU73)))))","v":{"$error":"#N/A"}},"bit/s",null,{"$f":"IF(GW73=1,\"SUPPORTED\",\"NOT SUPPORTED\")","v":"SUPPORTED"},{"$f":"HJ73","v":{"$error":"#N/A"}},"bit/s",{"$f":"MIN(HA73,GZ73*IF(GW73=0,2*GR73,GU73))","v":{"$error":"#N/A"}},"bit/s",{"$f":"E60","v":"medium"},{"$f":"0","v":0},null,{"$f":"MIN(HA73,MAX(HQ73/GY73,GZ73*IF(0=GW73,GR73,IF(1=GW73,GR73,IF(2=GW73,GU73)))))","v":{"$error":"#N/A"}},"bit/s",{"$f":"MIN(HA73,GZ73*IF(GW73=0,2*GR73,GU73))","v":{"$error":"#N/A"}},"bit/s",{"$f":"E60","v":"medium"},{"$f":"IF(GW73=1,3600*24*GW73,0)","v":86400}]
[]
[null,null,"static","bitrate optimized",null,"normale z.B. typische parkplatz Straßenszene","IBBP",255,30,1920,1080,"h_264","CPP_7_3",null,{"$f":"IF(C75=DataBase!$J$49,DataBase!$K$49,IF(C75=DataBase!$J$50,DataBase!$K$50,IF(C75=DataBase!$J$51,DataBase!$K$51,IF(C75=DataBase!$J$52,DataBase!$K$52))))","v":"static"},{"$f":"IF(D75=DataBase!$J$44,DataBase!$L$44,IF(D75=DataBase!$J$45,DataBase!$L$45,IF(D75=DataBase!$J$46,DataBase!$L$46)))","v":"medium"},null,{"$f":"$F75","v":"normale z.B. typische parkplatz Straßenszene"},{"$f":"$G75","v":"IBBP"},{"$f":"$H75","v":255},{"$f":"$I75","v":30},{"$f":"$J75","v":1920},{"$f":"$K75","v":1080},{"$f":"$L75","v":"h_264"},{"$f":"$M75","v":"CPP_7_3"},{"$f":"$E75","v":0},null,{"$f":"1/T75*U75","v":0.11764705882352941},{"$f":"IF(R75=DataBase!$B$14,DataBase!$C$14,IF(R75=DataBase!$B$15,DataBase!$C$15,IF(R75=DataBase!$B$16,DataBase!$C$16)))","v":300000},{"$f":"IF(P75=DataBase!$B$30,DataBase!$C$30,IF(P75=DataBase!$B$31,DataBase!$C$31,IF(P75=DataBase!$B$32,DataBase!$C$32,IF(P75=DataBase!$B$33,DataBase!$C$33,IF(P75=DataBase!$B$34,DataBase!$C$34)))))","v":1},{"$f":"AC75*AD75","v":300000},{"$f":"IF(R75=DataBase!$B$14,DataBase!$G$14,IF(R75=DataBase!$B$15,DataBase!$G$15,IF(R75=DataBase!$B$16,DataBase!$G$16)))","v":200},{"$f":"IF(Z75=DataBase!$K$20,1,IF(Z75=DataBase!$K$21,1,0))","v":0},{"$f":"IF(Z75=DataBase!$K$20,DataBase!$M$20,IF(Z75=DataBase!$K$21,DataBase!$M$21,0))","v":0},{"$f":"IF(AG75=1,IF(AH75<>0,AH75,AF75),AF75)","v":200},{"$f":"IF(P75=DataBase!$B$30,DataBase!$H$30,IF(P75=DataBase!$B$31,DataBase!$H$31,IF(P75=DataBase!$B$32,DataBase!$H$32,IF(P75=DataBase!$B$33,DataBase!$H$33,IF(P75=DataBase!$B$34,DataBase!$H$34)))))","v":1},{"$f":"IF(O75=DataBase!$B$21,DataBase!$G$21,IF(O75=DataBase!$B$22,DataBase!$G$22,IF(O75=DataBase!$B$23,DataBase!$G$23,IF(O75=DataBase!$B$24,DataBase!$G$24,IF(O75=DataBase!$B$25,DataBase!$G$25)))))","v":1},{"$f":"IF(Y75=DataBase!$B$44,DataBase!$G$44,IF($F75=DataBase!$B$45,DataBase!$G$45,IF(Y75=DataBase!$B$46,DataBase!$G$46,IF(Y75=DataBase!$B$47,DataBase!$G$47,IF(Y75=DataBase!$B$48,DataBase!$G$48,IF(Y75=DataBase!$B$49,DataBase!$G$49))))))+AI75*AJ75*AK75","v":200},{"$f":"AL75+AE75*BL75","v":360200},{"$f":"((T75-1)/T75)/IF(S75=DataBase!$B$8,DataBase!$C$8,IF(S75=DataBase!$B$9,DataBase!$C$9,IF(S75=DataBase!$B$10,DataBase!$C$10)))*U75","v":9.9607843137254903},{"$f":"IF(R75=DataBase!$B$14,DataBase!$E$14,IF(R75=DataBase!$B$15,DataBase!$E$15,IF(R75=DataBase!$B$16,DataBase!$E$16)))","v":125},{"$f":"IF(O75=DataBase!$B$21,DataBase!$E$21,IF(O75=DataBase!$B$22,DataBase!$E$22,IF(O75=DataBase!$B$23,DataBase!$E$23,IF(O75=DataBase!$B$24,DataBase!$E$24,IF(O75=DataBase!$B$25,DataBase!$E$25)))))","v":0},{"$f":"IF(S75=DataBase!$B$8,DataBase!$C$8,IF(S75=DataBase!$B$9,DataBase!$C$9,IF(S75=DataBase!$B$10,DataBase!$C$10)))","v":3},{"$f":"POWER(U75/((DataBase!$F$5*AQ75)),DataBase!$E$52)*DataBase!$F$5*AQ75/U75","v":1.4242910214581144},{"$f":"IF(P75=DataBase!$B$30,DataBase!$F$30,IF(P75=DataBase!$B$31,DataBase!$F$31,IF(P75=DataBase!$B$32,DataBase!$F$32,IF(P75=DataBase!$B$33,DataBase!$F$33,IF(P75=DataBase!$B$34,DataBase!$F$34)))))","v":1},{"$f":"AP75*AR75*AS75*BM75","v":0},{"$f":"IF(R75=DataBase!$B$14,DataBase!$H$14,IF(R75=DataBase!$B$15,DataBase!$H$15,IF(R75=DataBase!$B$16,DataBase!$H$16)))*AI75","v":100},{"$f":"IF(P75=DataBase!$B$30,DataBase!$H$30,IF(P75=DataBase!$B$31,DataBase!$H$31,IF(P75=DataBase!$B$32,DataBase!$H$32,IF(P75=DataBase!$B$33,DataBase!$H$33,IF(P75=DataBase!$B$34,DataBase!$H$34)))))","v":1},{"$f":"IF(O75=DataBase!$B$21,DataBase!$G$21,IF(O75=DataBase!$B$22,DataBase!$G$22,IF(O75=DataBase!$B$23,DataBase!$G$23,IF(O75=DataBase!$B$24,DataBase!$G$24,IF(O75=DataBase!$B$25,DataBase!$G$25)))))","v":1},{"$f":"AU75*AV75*AW75+IF(Y75=DataBase!$B$44,DataBase!$G$44,IF(Y75=DataBase!$B$45,DataBase!$G$45,IF(Y75=DataBase!$B$46,DataBase!$G$46,IF(Y75=DataBase!$B$47,DataBase!$G$47,IF(Y75=DataBase!$B$48,DataBase!$G$48,IF(Y75=DataBase!$B$49,DataBase!$G$49))))))","v":100},{"$f":"AO75+AT75+AX75","v":225},{"$f":"IF(S75=DataBase!$B$8,0,((T75-1)/T75)/IF(S75=DataBase!$B$9,2,IF(S75=DataBase!$B$10,3/2))*U75)","v":19.921568627450981},{"$f":"IF(R75=DataBase!$B$14,DataBase!$F$14,IF(R75=DataBase!$B$15,DataBase!$F$15,IF(R75=DataBase!$B$16,DataBase!$F$16)))","v":125},{"$f":"IF(O75=DataBase!$B$21,DataBase!$F$21,IF(O75=DataBase!$B$22,DataBase!$F$22,IF(O75=DataBase!$B$23,DataBase!$F$23,IF(O75=DataBase!$B$24,DataBase!$F$24,IF(O75=DataBase!$B$25,DataBase!$F$25)))))","v":0},{"$f":"IF(S75=DataBase!$B$8,DataBase!$E$8,IF(S75=DataBase!$B$9,DataBase!$E$9,IF(S75=DataBase!$B$10,DataBase!$E$10)))","v":2},{"$f":"IF(BC75=0,0,POWER(U75/((DataBase!$F$5*BC75)),DataBase!$E$52)*DataBase!$F$5*BC75/U75)","v":1.25},{"$f":"IF(P75=DataBase!$B$30,DataBase!$G$30,IF(P75=DataBase!$B$31,DataBase!$G$31,IF(P75=DataBase!$B$32,DataBase!$G$32,IF(P75=DataBase!$B$33,DataBase!$G$33,IF(P75=DataBase!$B$34,DataBase!$G$34)))))","v":1},{"$f":"BB75*BD75*BE75*BM75","v":0},{"$f":"IF(R75=DataBase!$B$14,DataBase!$J$14,IF(R75=DataBase!$B$15,DataBase!$J$15,IF(R75=DataBase!$B$16,DataBase!$J$16)))*AI75","v":50},{"$f":"IF(P75=DataBase!$B$30,DataBase!$H$30,IF(P75=DataBase!$B$31,DataBase!$H$31,IF(P75=DataBase!$B$32,DataBase!$H$32,IF(P75=DataBase!$B$33,DataBase!$H$33,IF(P75=DataBase!$B$34,DataBase!$H$34)))))","v":1},{"$f":"IF(O75=DataBase!$B$21,DataBase!$G$21,IF(O75=DataBase!$B$22,DataBase!$G$22,IF(O75=DataBase!$B$23,DataBase!$G$23,IF(O75=DataBase!$B$24,DataBase!$G$24,IF(O75=DataBase!$B$25,DataBase!$G$25)))))","v":1},{"$f":"BG75*BH75*BI75+IF(Y75=DataBase!$B$44,DataBase!$G$44,IF(Y75=DataBase!$B$45,DataBase!$G$45,IF(Y75=DataBase!$B$46,DataBase!$G$46,IF(Y75=DataBase!$B$47,DataBase!$G$47,IF(Y75=DataBase!$B$48,DataBase!$G$48,IF(Y75=DataBase!$B$49,DataBase!$G$49))))))","v":50},{"$f":"BA75+BF75+BJ75","v":175},{"$f":"IF(Y75=DataBase!$B$44,DataBase!$C$44,IF(Y75=DataBase!$B$45,DataBase!$C$45,IF(Y75=DataBase!$B$46,DataBase!$C$46,IF(Y75=DataBase!$B$47,DataBase!$C$47,IF(Y75=DataBase!$B$48,DataBase!$C$48,IF(Y75=DataBase!$B$49,DataBase!$C$49))))))","v":1.2},{"$f":"IF(Y75=DataBase!$B$44,DataBase!$D$44,IF(Y75=DataBase!$B$45,DataBase!$D$45,IF(Y75=DataBase!$B$46,DataBase!$D$46,IF(Y75=DataBase!$B$47,DataBase!$D$47,IF(Y75=DataBase!$B$48,DataBase!$D$48,IF(Y75=DataBase!$B$49,DataBase!$D$49))))))","v":1.4},{"$f":"BK75*8*AZ75+AY75*8*AN75+AM75*AB75*8","v":384831.37254901964},{"$f":"POWER(((DataBase!$C$5*DataBase!$E$5)/(V75*W75)),DataBase!$E$53)","v":1},{"$f":"IF(X75=DataBase!$B$37,DataBase!$C$37,IF(X75=DataBase!$B$38,DataBase!$C$38))","v":1},null,{"$f":"BP75*BO75*BN75","v":384831.37254901964},"bit/s",null,{"$f":"IF(C75=DataBase!$J$49,DataBase!$M$49,IF(C75=DataBase!$J$50,DataBase!$M$50,IF(C75=DataBase!$J$51,DataBase!$M$51,IF(C75=DataBase!$J$52,DataBase!$M$52))))","v":"standard"},{"$f":"IF(D75=DataBase!$J$44,DataBase!$L$44,IF(D75=DataBase!$J$45,DataBase!$L$45,IF(D75=DataBase!$J$46,DataBase!$L$46)))","v":"medium"},null,{"$f":"$F75","v":"normale z.B. typische parkplatz Straßenszene"},{"$f":"$G75","v":"IBBP"},{"$f":"$H75","v":255},{"$f":"$I75","v":30},{"$f":"$J75","v":1920},{"$f":"$K75","v":1080},{"$f":"$L75","v":"h_264"},{"$f":"$M75","v":"CPP_7_3"},{"$f":"$E75","v":0},null,{"$f":"1/BZ75*CA75","v":0.11764705882352941},{"$f":"IF(BX75=DataBase!$B$14,DataBase!$C$14,IF(BX75=DataBase!$B$15,DataBase!$C$15,IF(BX75=DataBase!$B$16,DataBase!$C$16)))","v":300000},{"$f":"IF(BV75=DataBase!$B$30,DataBase!$C$30,IF(BV75=DataBase!$B$31,DataBase!$C$31,IF(BV75=DataBase!$B$32,DataBase!$C$32,IF(BV75=DataBase!$B$33,DataBase!$C$33,IF(BV75=DataBase!$B$34,DataBase!$C$34)))))","v":1},{"$f":"CI75*CJ75","v":300000},{"$f":"IF(BX75=DataBase!$B$14,DataBase!$G$14,IF(BX75=DataBase!$B$15,DataBase!$G$15,IF(BX75=DataBase!$B$16,DataBase!$G$16)))","v":200},{"$f":"IF(CF75=DataBase!$K$20,1,IF(CF75=DataBase!$K$21,1,0))","v":0},{"$f":"IF(CF75=DataBase!$K$20,DataBase!$M$20,IF(CF75=DataBase!$K$21,DataBase!$M$21,0))","v":0},{"$f":"IF(CM75=1,IF(CN75<>0,CN75,CL75),CL75)","v":200},{"$f":"IF(BV75=DataBase!$B$30,DataBase!$H$30,IF(BV75=DataBase!$B$31,DataBase!$H$31,IF(BV75=DataBase!$B$32,DataBase!$H$32,IF(BV75=DataBase!$B$33,DataBase!$H$33,IF(BV75=DataBase!$B$34,DataBase!$H$34)))))","v":1},{"$f":"IF(BU75=DataBase!$B$21,DataBase!$G$21,IF(BU75=DataBase!$B$22,DataBase!$G$22,IF(BU75=DataBase!$B$23,DataBase!$G$23,IF(BU75=DataBase!$B$24,DataBase!$G$24,IF(BU75=DataBase!$B$25,DataBase!$G$25)))))","v":1.4},{"$f":"IF(CE75=DataBase!$B$44,DataBase!$G$44,IF($F75=DataBase!$B$45,DataBase!$G$45,IF(CE75=DataBase!$B$46,DataBase!$G$46,IF(CE75=DataBase!$B$47,DataBase!$G$47,IF(CE75=DataBase!$B$48,DataBase!$G$48,IF(CE75=DataBase!$B$49,DataBase!$G$49))))))+CO75*CP75*CQ75","v":280},{"$f":"CR75+CK75*DR75","v":360280},{"$f":"((BZ75-1)/BZ75)/IF(BY75=DataBase!$B$8,DataBase!$C$8,IF(BY75=DataBase!$B$9,DataBase!$C$9,IF(BY75=DataBase!$B$10,DataBase!$C$10)))*CA75","v":9.9607843137254903},{"$f":"IF(BX75=DataBase!$B$14,DataBase!$E$14,IF(BX75=DataBase!$B$15,DataBase!$E$15,IF(BX75=DataBase!$B$16,DataBase!$E$16)))","v":125},{"$f":"IF(BU75=DataBase!$B$21,DataBase!$E$21,IF(BU75=DataBase!$B$22,DataBase!$E$22,IF(BU75=DataBase!$B$23,DataBase!$E$23,IF(BU75=DataBase!$B$24,DataBase!$E$24,IF(BU75=DataBase!$B$25,DataBase!$E$25)))))","v":2000},{"$f":"IF(BY75=DataBase!$B$8,DataBase!$C$8,IF(BY75=DataBase!$B$9,DataBase!$C$9,IF(BY75=DataBase!$B$10,DataBase!$C$10)))","v":3},{"$f":"POWER(CA75/((DataBase!$F$5*CW75)),DataBase!$E$52)*DataBase!$F$5*CW75/CA75","v":1.4242910214581144},{"$f":"IF(BV75=DataBase!$B$30,DataBase!$F$30,IF(BV75=DataBase!$B$31,DataBase!$F$31,IF(BV75=DataBase!$B$32,DataBase!$F$32,IF(BV75=DataBase!$B$33,DataBase!$F$33,IF(BV75=DataBase!$B$34,DataBase!$F$34)))))","v":1},{"$f":"CV75*CX75*CY75*DS75","v":3988.0148600827197},{"$f":"IF(BX75=DataBase!$B$14,DataBase!$H$14,IF(BX75=DataBase!$B$15,DataBase!$H$15,IF(BX75=DataBase!$B$16,DataBase!$H$16)))*CO75","v":100},{"$f":"IF(BV75=DataBase!$B$30,DataBase!$H$30,IF(BV75=DataBase!$B$31,DataBase!$H$31,IF(BV75=DataBase!$B$32,DataBase!$H$32,IF(BV75=DataBase!$B$33,DataBase!$H$33,IF(BV75=DataBase!$B$34,DataBase!$H$34)))))","v":1},{"$f":"IF(BU75=DataBase!$B$21,DataBase!$G$21,IF(BU75=DataBase!$B$22,DataBase!$G$22,IF(BU75=DataBase!$B$23,DataBase!$G$23,IF(BU75=DataBase!$B$24,DataBase!$G$24,IF(BU75=DataBase!$B$25,DataBase!$G$25)))))","v":1.4},{"$f":"DA75*DB75*DC75+IF(CE75=DataBase!$B$44,DataBase!$G$44,IF(CE75=DataBase!$B$45,DataBase!$G$45,IF(CE75=DataBase!$B$46,DataBase!$G$46,IF(CE75=DataBase!$B$47,DataBase!$G$47,IF(CE75=DataBase!$B$48,DataBase!$G$48,IF(CE75=DataBase!$B$49,DataBase!$G$49))))))","v":140},{"$f":"CU75+CZ75+DD75","v":4253.0148600827197},{"$f":"IF(BY75=DataBase!$B$8,0,((BZ75-1)/BZ75)/IF(BY75=DataBase!$B$9,2,IF(BY75=DataBase!$B$10,3/2))*CA75)","v":19.921568627450981},{"$f":"IF(BX75=DataBase!$B$14,DataBase!$F$14,IF(BX75=DataBase!$B$15,DataBase!$F$15,IF(BX75=DataBase!$B$16,DataBase!$F$16)))","v":125},{"$f":"IF(BU75=DataBase!$B$21,DataBase!$F$21,IF(BU75=DataBase!$B$22,DataBase!$F$22,IF(BU75=DataBase!$B$23,DataBase!$F$23,IF(BU75=DataBase!$B$24,DataBase!$F$24,IF(BU75=DataBase!$B$25,DataBase!$F$25)))))","v":579},{"$f":"IF(BY75=DataBase!$B$8,DataBase!$E$8,IF(BY75=DataBase!$B$9,DataBase!$E$9,IF(BY75=DataBase!$B$10,DataBase!$E$10)))","v":2},{"$f":"IF(DI75=0,0,POWER(CA75/((DataBase!$F$5*DI75)),DataBase!$E$52)*DataBase!$F$5*DI75/CA75)","v":1.25},{"$f":"IF(BV75=DataBase!$B$30,DataBase!$G$30,IF(BV75=DataBase!$B$31,DataBase!$G$31,IF(BV75=DataBase!$B$32,DataBase!$G$32,IF(BV75=DataBase!$B$33,DataBase!$G$33,IF(BV75=DataBase!$B$34,DataBase!$G$34)))))","v":1},{"$f":"DH75*DJ75*DK75*DS75","v":1013.2499999999999},{"$f":"IF(BX75=DataBase!$B$14,DataBase!$J$14,IF(BX75=DataBase!$B$15,DataBase!$J$15,IF(BX75=DataBase!$B$16,DataBase!$J$16)))*CO75","v":50},{"$f":"IF(BV75=DataBase!$B$30,DataBase!$H$30,IF(BV75=DataBase!$B$31,DataBase!$H$31,IF(BV75=DataBase!$B$32,DataBase!$H$32,IF(BV75=DataBase!$B$33,DataBase!$H$33,IF(BV75=DataBase!$B$34,DataBase!$H$34)))))","v":1},{"$f":"IF(BU75=DataBase!$B$21,DataBase!$G$21,IF(BU75=DataBase!$B$22,DataBase!$G$22,IF(BU75=DataBase!$B$23,DataBase!$G$23,IF(BU75=DataBase!$B$24,DataBase!$G$24,IF(BU75=DataBase!$B$25,DataBase!$G$25)))))","v":1.4},{"$f":"DM75*DN75*DO75+IF(CE75=DataBase!$B$44,DataBase!$G$44,IF(CE75=DataBase!$B$45,DataBase!$G$45,IF(CE75=DataBase!$B$46,DataBase!$G$46,IF(CE75=DataBase!$B$47,DataBase!$G$47,IF(CE75=DataBase!$B$48,DataBase!$G$48,IF(CE75=DataBase!$B$49,DataBase!$G$49))))))","v":70},{"$f":"DG75+DL75+DP75","v":1208.25},{"$f":"IF(CE75=DataBase!$B$44,DataBase!$C$44,IF(CE75=DataBase!$B$45,DataBase!$C$45,IF(CE75=DataBase!$B$46,DataBase!$C$46,IF(CE75=DataBase!$B$47,DataBase!$C$47,IF(CE75=DataBase!$B$48,DataBase!$C$48,IF(CE75=DataBase!$B$49,DataBase!$C$49))))))","v":1.2},{"$f":"IF(CE75=DataBase!$B$44,DataBase!$D$44,IF(CE75=DataBase!$B$45,DataBase!$D$45,IF(CE75=DataBase!$B$46,DataBase!$D$46,IF(CE75=DataBase!$B$47,DataBase!$D$47,IF(CE75=DataBase!$B$48,DataBase!$D$48,IF(CE75=DataBase!$B$49,DataBase!$D$49))))))","v":1.4},{"$f":"DQ75*8*DF75+DE75*8*CT75+CS75*CH75*8","v":870555.85081129754},{"$f":"POWER(((DataBase!$C$5*DataBase!$E$5)/(CB75*CC75)),DataBase!$E$53)","v":1},{"$f":"IF(CD75=DataBase!$B$37,DataBase!$C$37,IF(CD75=DataBase!$B$38,DataBase!$C$38))","v":1},null,{"$f":"DV75*DU75*DT75","v":870555.85081129754},"bit/s",null,{"$f":"IF(C75=DataBase!$J$49,DataBase!$O$49,IF(C75=DataBase!$J$50,DataBase!$O$50,IF(C75=DataBase!$J$51,DataBase!$O$51,IF(C75=DataBase!$J$52,DataBase!$O$52))))","v":"busy"},{"$f":"IF(D75=DataBase!$J$44,DataBase!$L$44,IF(D75=DataBase!$J$45,DataBase!$L$45,IF(D75=DataBase!$J$46,DataBase!$L$46)))","v":"medium"},null,{"$f":"$F75","v":"normale z.B. typische parkplatz Straßenszene"},{"$f":"$G75","v":"IBBP"},{"$f":"$H75","v":255},{"$f":"$I75","v":30},{"$f":"$J75","v":1920},{"$f":"$K75","v":1080},{"$f":"$L75","v":"h_264"},{"$f":"$M75","v":"CPP_7_3"},{"$f":"$E75","v":0},null,{"$f":"1/EF75*EG75","v":0.11764705882352941},{"$f":"IF(ED75=DataBase!$B$14,DataBase!$C$14,IF(ED75=DataBase!$B$15,DataBase!$C$15,IF(ED75=DataBase!$B$16,DataBase!$C$16)))","v":300000},{"$f":"IF(EB75=DataBase!$B$30,DataBase!$C$30,IF(EB75=DataBase!$B$31,DataBase!$C$31,IF(EB75=DataBase!$B$32,DataBase!$C$32,IF(EB75=DataBase!$B$33,DataBase!$C$33,IF(EB75=DataBase!$B$34,DataBase!$C$34)))))","v":1},{"$f":"EO75*EP75","v":300000},{"$f":"IF(ED75=DataBase!$B$14,DataBase!$G$14,IF(ED75=DataBase!$B$15,DataBase!$G$15,IF(ED75=DataBase!$B$16,DataBase!$G$16)))","v":200},{"$f":"IF(EL75=DataBase!$K$20,1,IF(EL75=DataBase!$K$21,1,0))","v":0},{"$f":"IF(EL75=DataBase!$K$20,DataBase!$M$20,IF(EL75=DataBase!$K$21,DataBase!$M$21,0))","v":0},{"$f":"IF(ES75=1,IF(ET75<>0,ET75,ER75),ER75)","v":200},{"$f":"IF(EB75=DataBase!$B$30,DataBase!$H$30,IF(EB75=DataBase!$B$31,DataBase!$H$31,IF(EB75=DataBase!$B$32,DataBase!$H$32,IF(EB75=DataBase!$B$33,DataBase!$H$33,IF(EB75=DataBase!$B$34,DataBase!$H$34)))))","v":1},{"$f":"IF(EA75=DataBase!$B$21,DataBase!$G$21,IF(EA75=DataBase!$B$22,DataBase!$G$22,IF(EA75=DataBase!$B$23,DataBase!$G$23,IF(EA75=DataBase!$B$24,DataBase!$G$24,IF(EA75=DataBase!$B$25,DataBase!$G$25)))))","v":2},{"$f":"IF(EK75=DataBase!$B$44,DataBase!$G$44,IF($F75=DataBase!$B$45,DataBase!$G$45,IF(EK75=DataBase!$B$46,DataBase!$G$46,IF(EK75=DataBase!$B$47,DataBase!$G$47,IF(EK75=DataBase!$B$48,DataBase!$G$48,IF(EK75=DataBase!$B$49,DataBase!$G$49))))))+EU75*EV75*EW75","v":400},{"$f":"EX75+EQ75*FX75","v":360400},{"$f":"((EF75-1)/EF75)/IF(EE75=DataBase!$B$8,DataBase!$C$8,IF(EE75=DataBase!$B$9,DataBase!$C$9,IF(EE75=DataBase!$B$10,DataBase!$C$10)))*EG75","v":9.9607843137254903},{"$f":"IF(ED75=DataBase!$B$14,DataBase!$E$14,IF(ED75=DataBase!$B$15,DataBase!$E$15,IF(ED75=DataBase!$B$16,DataBase!$E$16)))","v":125},{"$f":"IF(EA75=DataBase!$B$21,DataBase!$E$21,IF(EA75=DataBase!$B$22,DataBase!$E$22,IF(EA75=DataBase!$B$23,DataBase!$E$23,IF(EA75=DataBase!$B$24,DataBase!$E$24,IF(EA75=DataBase!$B$25,DataBase!$E$25)))))","v":10000},{"$f":"IF(EE75=DataBase!$B$8,DataBase!$C$8,IF(EE75=DataBase!$B$9,DataBase!$C$9,IF(EE75=DataBase!$B$10,DataBase!$C$10)))","v":3},{"$f":"POWER(EG75/((DataBase!$F$5*FC75)),DataBase!$E$52)*DataBase!$F$5*FC75/EG75","v":1.4242910214581144},{"$f":"IF(EB75=DataBase!$B$30,DataBase!$F$30,IF(EB75=DataBase!$B$31,DataBase!$F$31,IF(EB75=DataBase!$B$32,DataBase!$F$32,IF(EB75=DataBase!$B$33,DataBase!$F$33,IF(EB75=DataBase!$B$34,DataBase!$F$34)))))","v":1},{"$f":"FB75*FD75*FE75*FY75","v":19940.074300413598},{"$f":"IF(ED75=DataBase!$B$14,DataBase!$H$14,IF(ED75=DataBase!$B$15,DataBase!$H$15,IF(ED75=DataBase!$B$16,DataBase!$H$16)))*EU75","v":100},{"$f":"IF(EB75=DataBase!$B$30,DataBase!$H$30,IF(EB75=DataBase!$B$31,DataBase!$H$31,IF(EB75=DataBase!$B$32,DataBase!$H$32,IF(EB75=DataBase!$B$33,DataBase!$H$33,IF(EB75=DataBase!$B$34,DataBase!$H$34)))))","v":1},{"$f":"IF(EA75=DataBase!$B$21,DataBase!$G$21,IF(EA75=DataBase!$B$22,DataBase!$G$22,IF(EA75=DataBase!$B$23,DataBase!$G$23,IF(EA75=DataBase!$B$24,DataBase!$G$24,IF(EA75=DataBase!$B$25,DataBase!$G$25)))))","v":2},{"$f":"FG75*FH75*FI75+IF(EK75=DataBase!$B$44,DataBase!$G$44,IF(EK75=DataBase!$B$45,DataBase!$G$45,IF(EK75=DataBase!$B$46,DataBase!$G$46,IF(EK75=DataBase!$B$47,DataBase!$G$47,IF(EK75=DataBase!$B$48,DataBase!$G$48,IF(EK75=DataBase!$B$49,DataBase!$G$49))))))","v":200},{"$f":"FA75+FF75+FJ75","v":20265.074300413598},{"$f":"IF(EE75=DataBase!$B$8,0,((EF75-1)/EF75)/IF(EE75=DataBase!$B$9,2,IF(EE75=DataBase!$B$10,3/2))*EG75)","v":19.921568627450981},{"$f":"IF(ED75=DataBase!$B$14,DataBase!$F$14,IF(ED75=DataBase!$B$15,DataBase!$F$15,IF(ED75=DataBase!$B$16,DataBase!$F$16)))","v":125},{"$f":"IF(EA75=DataBase!$B$21,DataBase!$F$21,IF(EA75=DataBase!$B$22,DataBase!$F$22,IF(EA75=DataBase!$B$23,DataBase!$F$23,IF(EA75=DataBase!$B$24,DataBase!$F$24,IF(EA75=DataBase!$B$25,DataBase!$F$25)))))","v":2500},{"$f":"IF(EE75=DataBase!$B$8,DataBase!$E$8,IF(EE75=DataBase!$B$9,DataBase!$E$9,IF(EE75=DataBase!$B$10,DataBase!$E$10)))","v":2},{"$f":"IF(FO75=0,0,POWER(EG75/((DataBase!$F$5*FO75)),DataBase!$E$52)*DataBase!$F$5*FO75/EG75)","v":1.25},{"$f":"IF(EB75=DataBase!$B$30,DataBase!$G$30,IF(EB75=DataBase!$B$31,DataBase!$G$31,IF(EB75=DataBase!$B$32,DataBase!$G$32,IF(EB75=DataBase!$B$33,DataBase!$G$33,IF(EB75=DataBase!$B$34,DataBase!$G$34)))))","v":1},{"$f":"FN75*FP75*FQ75*FY75","v":4375},{"$f":"IF(ED75=DataBase!$B$14,DataBase!$J$14,IF(ED75=DataBase!$B$15,DataBase!$J$15,IF(ED75=DataBase!$B$16,DataBase!$J$16)))*EU75","v":50},{"$f":"IF(EB75=DataBase!$B$30,DataBase!$H$30,IF(EB75=DataBase!$B$31,DataBase!$H$31,IF(EB75=DataBase!$B$32,DataBase!$H$32,IF(EB75=DataBase!$B$33,DataBase!$H$33,IF(EB75=DataBase!$B$34,DataBase!$H$34)))))","v":1},{"$f":"IF(EA75=DataBase!$B$21,DataBase!$G$21,IF(EA75=DataBase!$B$22,DataBase!$G$22,IF(EA75=DataBase!$B$23,DataBase!$G$23,IF(EA75=DataBase!$B$24,DataBase!$G$24,IF(EA75=DataBase!$B$25,DataBase!$G$25)))))","v":2},{"$f":"FS75*FT75*FU75+IF(EK75=DataBase!$B$44,DataBase!$G$44,IF(EK75=DataBase!$B$45,DataBase!$G$45,IF(EK75=DataBase!$B$46,DataBase!$G$46,IF(EK75=DataBase!$B$47,DataBase!$G$47,IF(EK75=DataBase!$B$48,DataBase!$G$48,IF(EK75=DataBase!$B$49,DataBase!$G$49))))))","v":100},{"$f":"FM75+FR75+FV75","v":4600},{"$f":"IF(EK75=DataBase!$B$44,DataBase!$C$44,IF(EK75=DataBase!$B$45,DataBase!$C$45,IF(EK75=DataBase!$B$46,DataBase!$C$46,IF(EK75=DataBase!$B$47,DataBase!$C$47,IF(EK75=DataBase!$B$48,DataBase!$C$48,IF(EK75=DataBase!$B$49,DataBase!$C$49))))))","v":1.2},{"$f":"IF(EK75=DataBase!$B$44,DataBase!$D$44,IF(EK75=DataBase!$B$45,DataBase!$D$45,IF(EK75=DataBase!$B$46,DataBase!$D$46,IF(EK75=DataBase!$B$47,DataBase!$D$47,IF(EK75=DataBase!$B$48,DataBase!$D$48,IF(EK75=DataBase!$B$49,DataBase!$D$49))))))","v":1.4},{"$f":"FW75*8*FL75+FK75*8*EZ75+EY75*EN75*8","v":2687161.9991545267},{"$f":"POWER(((DataBase!$C$5*DataBase!$E$5)/(EH75*EI75)),DataBase!$E$53)","v":1},{"$f":"IF(EJ75=DataBase!$B$37,DataBase!$C$37,IF(EJ75=DataBase!$B$38,DataBase!$C$38))","v":1},null,{"$f":"GB75*GA75*FZ75","v":2687161.9991545267},"bit/s",null,{"$f":"IF($C75=DataBase!$J$49,DataBase!$L$49,IF($C75=DataBase!$J$50,DataBase!$L$50,IF($C75=DataBase!$J$51,DataBase!$L$51,IF($C75=DataBase!$J$52,DataBase!$L$52))))","v":0.89},{"$f":"IF($C75=DataBase!$J$49,DataBase!$N$49,IF($C75=DataBase!$J$50,DataBase!$N$50,IF($C75=DataBase!$J$51,DataBase!$N$51,IF($C75=DataBase!$J$52,DataBase!$N$52))))","v":0.1},{"$f":"IF($C75=DataBase!$J$49,DataBase!$P$49,IF($C75=DataBase!$J$50,DataBase!$P$50,IF($C75=DataBase!$J$51,DataBase!$P$51,IF($C75=DataBase!$J$52,DataBase!$P$52))))","v":9.9999999999999811E-3},null,{"$f":"$GG75*BR75","v":342499.92156862747},"bit/s",{"$f":"$DX75*GH75","v":87055.585081129757},"bit/s",{"$f":"$GD75*GI75","v":26871.619991545216},"bit/s",null,{"$f":"GO75+GM75+GK75","v":456427.12664130243},"bit/s",null,{"$f":"MAX($GD75,$DX75,$BR75)","v":2687161.9991545267},"bit/s",{"$f":"IF($M75=DataBase!$B$44,DataBase!$E$44,IF($M75=DataBase!$B$45,DataBase!$E$45,IF($M75=DataBase!$B$46,DataBase!$E$46,IF($M75=DataBase!$B$47,DataBase!$E$47,IF($M75=DataBase!$B$48,DataBase!$E$48,IF($M75=DataBase!$B$49,DataBase!$E$49))))))","v":1},null,{"$f":"IF($D75=DataBase!$J$44,DataBase!$M$44,IF($D75=DataBase!$J$45,DataBase!$M$45,IF($D75=DataBase!$J$46,DataBase!$M$46)))","v":4},{"$f":"IF($D75=DataBase!$J$44,DataBase!$K$44,IF($D75=DataBase!$J$45,DataBase!$K$45,IF($D75=DataBase!$J$46,DataBase!$K$46)))","v":1},{"$f":"IF($M75=DataBase!$B$44,DataBase!$F$44,IF($M75=DataBase!$B$45,DataBase!$F$45,IF($M75=DataBase!$B$46,DataBase!$F$46,IF($M75=DataBase!$B$47,DataBase!$F$47,IF($M75=DataBase!$B$48,DataBase!$F$48,IF($M75=DataBase!$B$49,DataBase!$F$49))))))","v":32000000},"bit/s",{"$f":"C75&D75&I75&J75&K75&M75","v":"staticbitrate optimized3019201080CPP_7_3"},{"$f":"MIN(HA75,MAX(GZ75*IF(0=GW75,GR75,IF(1=GW75,GR75,IF(2=GW75,GU75)))))","v":456427.12664130243},"bit/s",null,{"$f":"IF(GW75=1,\"SUPPORTED\",\"NOT SUPPORTED\")","v":"SUPPORTED"},{"$f":"HJ75","v":2687161.9991545267},"bit/s",{"$f":"MIN(HA75,GZ75*IF(GW75=0,2*GR75,GU75))","v":2687161.9991545267},"bit/s",{"$f":"IF(GW75=1,IF($D75=DataBase!$J$44,DataBase!$L$44,IF($D75=DataBase!$J$45,DataBase!$L$45,IF($D75=DataBase!$J$46,DataBase!$L$46))),\"OFF\")","v":"medium"},{"$f":"0","v":0},null,{"$f":"MIN(HA75,MAX(HQ75/GY75,GZ75*IF(0=GW75,GR75,IF(1=GW75,GR75,IF(2=GW75,GU75)))))","v":671790.49978863169},"bit/s",{"$f":"MIN(HA75,GZ75*IF(GW75=0,2*GR75,GU75))","v":2687161.9991545267},"bit/s",{"$f":"IF(GW75=1,IF($D75=DataBase!$J$44,DataBase!$L$44,IF($D75=DataBase!$J$45,DataBase!$L$45,IF($D75=DataBase!$J$46,DataBase!$L$46))),\"OFF\")","v":"medium"},{"$f":"IF(GW75=1,3600*24*GW75,0)","v":86400}]
[null,null,"static","bitrate optimized",null,"normale z.B. typische parkplatz Straßenszene","IBBP",255,60,1920,1080,"h_264","CPP_7_3",null,{"$f":"IF(C76=DataBase!$J$49,DataBase!$K$49,IF(C76=DataBase!$J$50,DataBase!$K$50,IF(C76=DataBase!$J$51,DataBase!$K$51,IF(C76=DataBase!$J$52,DataBase!$K$52))))","v":"static"},{"$f":"IF(D76=DataBase!$J$44,DataBase!$L$44,IF(D76=DataBase!$J$45,DataBase!$L$45,IF(D76=DataBase!$J$46,DataBase!$L$46)))","v":"medium"},null,{"$f":"$F76","v":"normale z.B. typische parkplatz Straßenszene"},{"$f":"$G76","v":"IBBP"},{"$f":"$H76","v":255},{"$f":"$I76","v":60},{"$f":"$J76","v":1920},{"$f":"$K76","v":1080},{"$f":"$L76","v":"h_264"},{"$f":"$M76","v":"CPP_7_3"},{"$f":"$E76","v":0},null,{"$f":"1/T76*U76","v":0.23529411764705882},{"$f":"IF(R76=DataBase!$B$14,DataBase!$C$14,IF(R76=DataBase!$B$15,DataBase!$C$15,IF(R76=DataBase!$B$16,DataBase!$C$16)))","v":300000},{"$f":"IF(P76=DataBase!$B$30,DataBase!$C$30,IF(P76=DataBase!$B$31,DataBase!$C$31,IF(P76=DataBase!$B$32,DataBase!$C$32,IF(P76=DataBase!$B$33,DataBase!$C$33,IF(P76=DataBase!$B$34,DataBase!$C$34)))))","v":1},{"$f":"AC76*AD76","v":300000},{"$f":"IF(R76=DataBase!$B$14,DataBase!$G$14,IF(R76=DataBase!$B$15,DataBase!$G$15,IF(R76=DataBase!$B$16,DataBase!$G$16)))","v":200},{"$f":"IF(Z76=DataBase!$K$20,1,IF(Z76=DataBase!$K$21,1,0))","v":0},{"$f":"IF(Z76=DataBase!$K$20,DataBase!$M$20,IF(Z76=DataBase!$K$21,DataBase!$M$21,0))","v":0},{"$f":"IF(AG76=1,IF(AH76<>0,AH76,AF76),AF76)","v":200},{"$f":"IF(P76=DataBase!$B$30,DataBase!$H$30,IF(P76=DataBase!$B$31,DataBase!$H$31,IF(P76=DataBase!$B$32,DataBase!$H$32,IF(P76=DataBase!$B$33,DataBase!$H$33,IF(P76=DataBase!$B$34,DataBase!$H$34)))))","v":1},{"$f":"IF(O76=DataBase!$B$21,DataBase!$G$21,IF(O76=DataBase!$B$22,DataBase!$G$22,IF(O76=DataBase!$B$23,DataBase!$G$23,IF(O76=DataBase!$B$24,DataBase!$G$24,IF(O76=DataBase!$B$25,DataBase!$G$25)))))","v":1},{"$f":"IF(Y76=DataBase!$B$44,DataBase!$G$44,IF($F76=DataBase!$B$45,DataBase!$G$45,IF(Y76=DataBase!$B$46,DataBase!$G$46,IF(Y76=DataBase!$B$47,DataBase!$G$47,IF(Y76=DataBase!$B$48,DataBase!$G$48,IF(Y76=DataBase!$B$49,DataBase!$G$49))))))+AI76*AJ76*AK76","v":200},{"$f":"AL76+AE76*BL76","v":360200},{"$f":"((T76-1)/T76)/IF(S76=DataBase!$B$8,DataBase!$C$8,IF(S76=DataBase!$B$9,DataBase!$C$9,IF(S76=DataBase!$B$10,DataBase!$C$10)))*U76","v":19.921568627450981},{"$f":"IF(R76=DataBase!$B$14,DataBase!$E$14,IF(R76=DataBase!$B$15,DataBase!$E$15,IF(R76=DataBase!$B$16,DataBase!$E$16)))","v":125},{"$f":"IF(O76=DataBase!$B$21,DataBase!$E$21,IF(O76=DataBase!$B$22,DataBase!$E$22,IF(O76=DataBase!$B$23,DataBase!$E$23,IF(O76=DataBase!$B$24,DataBase!$E$24,IF(O76=DataBase!$B$25,DataBase!$E$25)))))","v":0},{"$f":"IF(S76=DataBase!$B$8,DataBase!$C$8,IF(S76=DataBase!$B$9,DataBase!$C$9,IF(S76=DataBase!$B$10,DataBase!$C$10)))","v":3},{"$f":"POWER(U76/((DataBase!$F$5*AQ76)),DataBase!$E$52)*DataBase!$F$5*AQ76/U76","v":1.1394328171664916},{"$f":"IF(P76=DataBase!$B$30,DataBase!$F$30,IF(P76=DataBase!$B$31,DataBase!$F$31,IF(P76=DataBase!$B$32,DataBase!$F$32,IF(P76=DataBase!$B$33,DataBase!$F$33,IF(P76=DataBase!$B$34,DataBase!$F$34)))))","v":1},{"$f":"AP76*AR76*AS76*BM76","v":0},{"$f":"IF(R76=DataBase!$B$14,DataBase!$H$14,IF(R76=DataBase!$B$15,DataBase!$H$15,IF(R76=DataBase!$B$16,DataBase!$H$16)))*AI76","v":100},{"$f":"IF(P76=DataBase!$B$30,DataBase!$H$30,IF(P76=DataBase!$B$31,DataBase!$H$31,IF(P76=DataBase!$B$32,DataBase!$H$32,IF(P76=DataBase!$B$33,DataBase!$H$33,IF(P76=DataBase!$B$34,DataBase!$H$34)))))","v":1},{"$f":"IF(O76=DataBase!$B$21,DataBase!$G$21,IF(O76=DataBase!$B$22,DataBase!$G$22,IF(O76=DataBase!$B$23,DataBase!$G$23,IF(O76=DataBase!$B$24,DataBase!$G$24,IF(O76=DataBase!$B$25,DataBase!$G$25)))))","v":1},{"$f":"AU76*AV76*AW76+IF(Y76=DataBase!$B$44,DataBase!$G$44,IF(Y76=DataBase!$B$45,DataBase!$G$45,IF(Y76=DataBase!$B$46,DataBase!$G$46,IF(Y76=DataBase!$B$47,DataBase!$G$47,IF(Y76=DataBase!$B$48,DataBase!$G$48,IF(Y76=DataBase!$B$49,DataBase!$G$49))))))","v":100},{"$f":"AO76+AT76+AX76","v":225},{"$f":"IF(S76=DataBase!$B$8,0,((T76-1)/T76)/IF(S76=DataBase!$B$9,2,IF(S76=DataBase!$B$10,3/2))*U76)","v":39.843137254901961},{"$f":"IF(R76=DataBase!$B$14,DataBase!$F$14,IF(R76=DataBase!$B$15,DataBase!$F$15,IF(R76=DataBase!$B$16,DataBase!$F$16)))","v":125},{"$f":"IF(O76=DataBase!$B$21,DataBase!$F$21,IF(O76=DataBase!$B$22,DataBase!$F$22,IF(O76=DataBase!$B$23,DataBase!$F$23,IF(O76=DataBase!$B$24,DataBase!$F$24,IF(O76=DataBase!$B$25,DataBase!$F$25)))))","v":0},{"$f":"IF(S76=DataBase!$B$8,DataBase!$E$8,IF(S76=DataBase!$B$9,DataBase!$E$9,IF(S76=DataBase!$B$10,DataBase!$E$10)))","v":2},{"$f":"IF(BC76=0,0,POWER(U76/((DataBase!$F$5*BC76)),DataBase!$E$52)*DataBase!$F$5*BC76/U76)","v":1},{"$f":"IF(P76=DataBase!$B$30,DataBase!$G$30,IF(P76=DataBase!$B$31,DataBase!$G$31,IF(P76=DataBase!$B$32,DataBase!$G$32,IF(P76=DataBase!$B$33,DataBase!$G$33,IF(P76=DataBase!$B$34,DataBase!$G$34)))))","v":1},{"$f":"BB76*BD76*BE76*BM76","v":0},{"$f":"IF(R76=DataBase!$B$14,DataBase!$J$14,IF(R76=DataBase!$B$15,DataBase!$J$15,IF(R76=DataBase!$B$16,DataBase!$J$16)))*AI76","v":50},{"$f":"IF(P76=DataBase!$B$30,DataBase!$H$30,IF(P76=DataBase!$B$31,DataBase!$H$31,IF(P76=DataBase!$B$32,DataBase!$H$32,IF(P76=DataBase!$B$33,DataBase!$H$33,IF(P76=DataBase!$B$34,DataBase!$H$34)))))","v":1},{"$f":"IF(O76=DataBase!$B$21,DataBase!$G$21,IF(O76=DataBase!$B$22,DataBase!$G$22,IF(O76=DataBase!$B$23,DataBase!$G$23,IF(O76=DataBase!$B$24,DataBase!$G$24,IF(O76=DataBase!$B$25,DataBase!$G$25)))))","v":1},{"$f":"BG76*BH76*BI76+IF(Y76=DataBase!$B$44,DataBase!$G$44,IF(Y76=DataBase!$B$45,DataBase!$G$45,IF(Y76=DataBase!$B$46,DataBase!$G$46,IF(Y76=DataBase!$B$47,DataBase!$G$47,IF(Y76=DataBase!$B$48,DataBase!$G$48,IF(Y76=DataBase!$B$49,DataBase!$G$49))))))","v":50},{"$f":"BA76+BF76+BJ76","v":175},{"$f":"IF(Y76=DataBase!$B$44,DataBase!$C$44,IF(Y76=DataBase!$B$45,DataBase!$C$45,IF(Y76=DataBase!$B$46,DataBase!$C$46,IF(Y76=DataBase!$B$47,DataBase!$C$47,IF(Y76=DataBase!$B$48,DataBase!$C$48,IF(Y76=DataBase!$B$49,DataBase!$C$49))))))","v":1.2},{"$f":"IF(Y76=DataBase!$B$44,DataBase!$D$44,IF(Y76=DataBase!$B$45,DataBase!$D$45,IF(Y76=DataBase!$B$46,DataBase!$D$46,IF(Y76=DataBase!$B$47,DataBase!$D$47,IF(Y76=DataBase!$B$48,DataBase!$D$48,IF(Y76=DataBase!$B$49,DataBase!$D$49))))))","v":1.4},{"$f":"BK76*8*AZ76+AY76*8*AN76+AM76*AB76*8","v":769662.74509803928},{"$f":"POWER(((DataBase!$C$5*DataBase!$E$5)/(V76*W76)),DataBase!$E$53)","v":1},{"$f":"IF(X76=DataBase!$B$37,DataBase!$C$37,IF(X76=DataBase!$B$38,DataBase!$C$38))","v":1},null,{"$f":"BP76*BO76*BN76","v":769662.74509803928},"bit/s",null,{"$f":"IF(C76=DataBase!$J$49,DataBase!$M$49,IF(C76=DataBase!$J$50,DataBase!$M$50,IF(C76=DataBase!$J$51,DataBase!$M$51,IF(C76=DataBase!$J$52,DataBase!$M$52))))","v":"standard"},{"$f":"IF(D76=DataBase!$J$44,DataBase!$L$44,IF(D76=DataBase!$J$45,DataBase!$L$45,IF(D76=DataBase!$J$46,DataBase!$L$46)))","v":"medium"},null,{"$f":"$F76","v":"normale z.B. typische parkplatz Straßenszene"},{"$f":"$G76","v":"IBBP"},{"$f":"$H76","v":255},{"$f":"$I76","v":60},{"$f":"$J76","v":1920},{"$f":"$K76","v":1080},{"$f":"$L76","v":"h_264"},{"$f":"$M76","v":"CPP_7_3"},{"$f":"$E76","v":0},null,{"$f":"1/BZ76*CA76","v":0.23529411764705882},{"$f":"IF(BX76=DataBase!$B$14,DataBase!$C$14,IF(BX76=DataBase!$B$15,DataBase!$C$15,IF(BX76=DataBase!$B$16,DataBase!$C$16)))","v":300000},{"$f":"IF(BV76=DataBase!$B$30,DataBase!$C$30,IF(BV76=DataBase!$B$31,DataBase!$C$31,IF(BV76=DataBase!$B$32,DataBase!$C$32,IF(BV76=DataBase!$B$33,DataBase!$C$33,IF(BV76=DataBase!$B$34,DataBase!$C$34)))))","v":1},{"$f":"CI76*CJ76","v":300000},{"$f":"IF(BX76=DataBase!$B$14,DataBase!$G$14,IF(BX76=DataBase!$B$15,DataBase!$G$15,IF(BX76=DataBase!$B$16,DataBase!$G$16)))","v":200},{"$f":"IF(CF76=DataBase!$K$20,1,IF(CF76=DataBase!$K$21,1,0))","v":0},{"$f":"IF(CF76=DataBase!$K$20,DataBase!$M$20,IF(CF76=DataBase!$K$21,DataBase!$M$21,0))","v":0},{"$f":"IF(CM76=1,IF(CN76<>0,CN76,CL76),CL76)","v":200},{"$f":"IF(BV76=DataBase!$B$30,DataBase!$H$30,IF(BV76=DataBase!$B$31,DataBase!$H$31,IF(BV76=DataBase!$B$32,DataBase!$H$32,IF(BV76=DataBase!$B$33,DataBase!$H$33,IF(BV76=DataBase!$B$34,DataBase!$H$34)))))","v":1},{"$f":"IF(BU76=DataBase!$B$21,DataBase!$G$21,IF(BU76=DataBase!$B$22,DataBase!$G$22,IF(BU76=DataBase!$B$23,DataBase!$G$23,IF(BU76=DataBase!$B$24,DataBase!$G$24,IF(BU76=DataBase!$B$25,DataBase!$G$25)))))","v":1.4},{"$f":"IF(CE76=DataBase!$B$44,DataBase!$G$44,IF($F76=DataBase!$B$45,DataBase!$G$45,IF(CE76=DataBase!$B$46,DataBase!$G$46,IF(CE76=DataBase!$B$47,DataBase!$G$47,IF(CE76=DataBase!$B$48,DataBase!$G$48,IF(CE76=DataBase!$B$49,DataBase!$G$49))))))+CO76*CP76*CQ76","v":280},{"$f":"CR76+CK76*DR76","v":360280},{"$f":"((BZ76-1)/BZ76)/IF(BY76=DataBase!$B$8,DataBase!$C$8,IF(BY76=DataBase!$B$9,DataBase!$C$9,IF(BY76=DataBase!$B$10,DataBase!$C$10)))*CA76","v":19.921568627450981},{"$f":"IF(BX76=DataBase!$B$14,DataBase!$E$14,IF(BX76=DataBase!$B$15,DataBase!$E$15,IF(BX76=DataBase!$B$16,DataBase!$E$16)))","v":125},{"$f":"IF(BU76=DataBase!$B$21,DataBase!$E$21,IF(BU76=DataBase!$B$22,DataBase!$E$22,IF(BU76=DataBase!$B$23,DataBase!$E$23,IF(BU76=DataBase!$B$24,DataBase!$E$24,IF(BU76=DataBase!$B$25,DataBase!$E$25)))))","v":2000},{"$f":"IF(BY76=DataBase!$B$8,DataBase!$C$8,IF(BY76=DataBase!$B$9,DataBase!$C$9,IF(BY76=DataBase!$B$10,DataBase!$C$10)))","v":3},{"$f":"POWER(CA76/((DataBase!$F$5*CW76)),DataBase!$E$52)*DataBase!$F$5*CW76/CA76","v":1.1394328171664916},{"$f":"IF(BV76=DataBase!$B$30,DataBase!$F$30,IF(BV76=DataBase!$B$31,DataBase!$F$31,IF(BV76=DataBase!$B$32,DataBase!$F$32,IF(BV76=DataBase!$B$33,DataBase!$F$33,IF(BV76=DataBase!$B$34,DataBase!$F$34)))))","v":1},{"$f":"CV76*CX76*CY76*DS76","v":3190.4118880661763},{"$f":"IF(BX76=DataBase!$B$14,DataBase!$H$14,IF(BX76=DataBase!$B$15,DataBase!$H$15,IF(BX76=DataBase!$B$16,DataBase!$H$16)))*CO76","v":100},{"$f":"IF(BV76=DataBase!$B$30,DataBase!$H$30,IF(BV76=DataBase!$B$31,DataBase!$H$31,IF(BV76=DataBase!$B$32,DataBase!$H$32,IF(BV76=DataBase!$B$33,DataBase!$H$33,IF(BV76=DataBase!$B$34,DataBase!$H$34)))))","v":1},{"$f":"IF(BU76=DataBase!$B$21,DataBase!$G$21,IF(BU76=DataBase!$B$22,DataBase!$G$22,IF(BU76=DataBase!$B$23,DataBase!$G$23,IF(BU76=DataBase!$B$24,DataBase!$G$24,IF(BU76=DataBase!$B$25,DataBase!$G$25)))))","v":1.4},{"$f":"DA76*DB76*DC76+IF(CE76=DataBase!$B$44,DataBase!$G$44,IF(CE76=DataBase!$B$45,DataBase!$G$45,IF(CE76=DataBase!$B$46,DataBase!$G$46,IF(CE76=DataBase!$B$47,DataBase!$G$47,IF(CE76=DataBase!$B$48,DataBase!$G$48,IF(CE76=DataBase!$B$49,DataBase!$G$49))))))","v":140},{"$f":"CU76+CZ76+DD76","v":3455.4118880661763},{"$f":"IF(BY76=DataBase!$B$8,0,((BZ76-1)/BZ76)/IF(BY76=DataBase!$B$9,2,IF(BY76=DataBase!$B$10,3/2))*CA76)","v":39.843137254901961},{"$f":"IF(BX76=DataBase!$B$14,DataBase!$F$14,IF(BX76=DataBase!$B$15,DataBase!$F$15,IF(BX76=DataBase!$B$16,DataBase!$F$16)))","v":125},{"$f":"IF(BU76=DataBase!$B$21,DataBase!$F$21,IF(BU76=DataBase!$B$22,DataBase!$F$22,IF(BU76=DataBase!$B$23,DataBase!$F$23,IF(BU76=DataBase!$B$24,DataBase!$F$24,IF(BU76=DataBase!$B$25,DataBase!$F$25)))))","v":579},{"$f":"IF(BY76=DataBase!$B$8,DataBase!$E$8,IF(BY76=DataBase!$B$9,DataBase!$E$9,IF(BY76=DataBase!$B$10,DataBase!$E$10)))","v":2},{"$f":"IF(DI76=0,0,POWER(CA76/((DataBase!$F$5*DI76)),DataBase!$E$52)*DataBase!$F$5*DI76/CA76)","v":1},{"$f":"IF(BV76=DataBase!$B$30,DataBase!$G$30,IF(BV76=DataBase!$B$31,DataBase!$G$31,IF(BV76=DataBase!$B$32,DataBase!$G$32,IF(BV76=DataBase!$B$33,DataBase!$G$33,IF(BV76=DataBase!$B$34,DataBase!$G$34)))))","v":1},{"$f":"DH76*DJ76*DK76*DS76","v":810.59999999999991},{"$f":"IF(BX76=DataBase!$B$14,DataBase!$J$14,IF(BX76=DataBase!$B$15,DataBase!$J$15,IF(BX76=DataBase!$B$16,DataBase!$J$16)))*CO76","v":50},{"$f":"IF(BV76=DataBase!$B$30,DataBase!$H$30,IF(BV76=DataBase!$B$31,DataBase!$H$31,IF(BV76=DataBase!$B$32,DataBase!$H$32,IF(BV76=DataBase!$B$33,DataBase!$H$33,IF(BV76=DataBase!$B$34,DataBase!$H$34)))))","v":1},{"$f":"IF(BU76=DataBase!$B$21,DataBase!$G$21,IF(BU76=DataBase!$B$22,DataBase!$G$22,IF(BU76=DataBase!$B$23,DataBase!$G$23,IF(BU76=DataBase!$B$24,DataBase!$G$24,IF(BU76=DataBase!$B$25,DataBase!$G$25)))))","v":1.4},{"$f":"DM76*DN76*DO76+IF(CE76=DataBase!$B$44,DataBase!$G$44,IF(CE76=DataBase!$B$45,DataBase!$G$45,IF(CE76=DataBase!$B$46,DataBase!$G$46,IF(CE76=DataBase!$B$47,DataBase!$G$47,IF(CE76=DataBase!$B$48,DataBase!$G$48,IF(CE76=DataBase!$B$49,DataBase!$G$49))))))","v":70},{"$f":"DG76+DL76+DP76","v":1005.5999999999999},{"$f":"IF(CE76=DataBase!$B$44,DataBase!$C$44,IF(CE76=DataBase!$B$45,DataBase!$C$45,IF(CE76=DataBase!$B$46,DataBase!$C$46,IF(CE76=DataBase!$B$47,DataBase!$C$47,IF(CE76=DataBase!$B$48,DataBase!$C$48,IF(CE76=DataBase!$B$49,DataBase!$C$49))))))","v":1.2},{"$f":"IF(CE76=DataBase!$B$44,DataBase!$D$44,IF(CE76=DataBase!$B$45,DataBase!$D$45,IF(CE76=DataBase!$B$46,DataBase!$D$46,IF(CE76=DataBase!$B$47,DataBase!$D$47,IF(CE76=DataBase!$B$48,DataBase!$D$48,IF(CE76=DataBase!$B$49,DataBase!$D$49))))))","v":1.4},{"$f":"DQ76*8*DF76+DE76*8*CT76+CS76*CH76*8","v":1549401.9887490566},{"$f":"POWER(((DataBase!$C$5*DataBase!$E$5)/(CB76*CC76)),DataBase!$E$53)","v":1},{"$f":"IF(CD76=DataBase!$B$37,DataBase!$C$37,IF(CD76=DataBase!$B$38,DataBase!$C$38))","v":1},null,{"$f":"DV76*DU76*DT76","v":1549401.9887490566},"bit/s",null,{"$f":"IF(C76=DataBase!$J$49,DataBase!$O$49,IF(C76=DataBase!$J$50,DataBase!$O$50,IF(C76=DataBase!$J$51,DataBase!$O$51,IF(C76=DataBase!$J$52,DataBase!$O$52))))","v":"busy"},{"$f":"IF(D76=DataBase!$J$44,DataBase!$L$44,IF(D76=DataBase!$J$45,DataBase!$L$45,IF(D76=DataBase!$J$46,DataBase!$L$46)))","v":"medium"},null,{"$f":"$F76","v":"normale z.B. typische parkplatz Straßenszene"},{"$f":"$G76","v":"IBBP"},{"$f":"$H76","v":255},{"$f":"$I76","v":60},{"$f":"$J76","v":1920},{"$f":"$K76","v":1080},{"$f":"$L76","v":"h_264"},{"$f":"$M76","v":"CPP_7_3"},{"$f":"$E76","v":0},null,{"$f":"1/EF76*EG76","v":0.23529411764705882},{"$f":"IF(ED76=DataBase!$B$14,DataBase!$C$14,IF(ED76=DataBase!$B$15,DataBase!$C$15,IF(ED76=DataBase!$B$16,DataBase!$C$16)))","v":300000},{"$f":"IF(EB76=DataBase!$B$30,DataBase!$C$30,IF(EB76=DataBase!$B$31,DataBase!$C$31,IF(EB76=DataBase!$B$32,DataBase!$C$32,IF(EB76=DataBase!$B$33,DataBase!$C$33,IF(EB76=DataBase!$B$34,DataBase!$C$34)))))","v":1},{"$f":"EO76*EP76","v":300000},{"$f":"IF(ED76=DataBase!$B$14,DataBase!$G$14,IF(ED76=DataBase!$B$15,DataBase!$G$15,IF(ED76=DataBase!$B$16,DataBase!$G$16)))","v":200},{"$f":"IF(EL76=DataBase!$K$20,1,IF(EL76=DataBase!$K$21,1,0))","v":0},{"$f":"IF(EL76=DataBase!$K$20,DataBase!$M$20,IF(EL76=DataBase!$K$21,DataBase!$M$21,0))","v":0},{"$f":"IF(ES76=1,IF(ET76<>0,ET76,ER76),ER76)","v":200},{"$f":"IF(EB76=DataBase!$B$30,DataBase!$H$30,IF(EB76=DataBase!$B$31,DataBase!$H$31,IF(EB76=DataBase!$B$32,DataBase!$H$32,IF(EB76=DataBase!$B$33,DataBase!$H$33,IF(EB76=DataBase!$B$34,DataBase!$H$34)))))","v":1},{"$f":"IF(EA76=DataBase!$B$21,DataBase!$G$21,IF(EA76=DataBase!$B$22,DataBase!$G$22,IF(EA76=DataBase!$B$23,DataBase!$G$23,IF(EA76=DataBase!$B$24,DataBase!$G$24,IF(EA76=DataBase!$B$25,DataBase!$G$25)))))","v":2},{"$f":"IF(EK76=DataBase!$B$44,DataBase!$G$44,IF($F76=DataBase!$B$45,DataBase!$G$45,IF(EK76=DataBase!$B$46,DataBase!$G$46,IF(EK76=DataBase!$B$47,DataBase!$G$47,IF(EK76=DataBase!$B$48,DataBase!$G$48,IF(EK76=DataBase!$B$49,DataBase!$G$49))))))+EU76*EV76*EW76","v":400},{"$f":"EX76+EQ76*FX76","v":360400},{"$f":"((EF76-1)/EF76)/IF(EE76=DataBase!$B$8,DataBase!$C$8,IF(EE76=DataBase!$B$9,DataBase!$C$9,IF(EE76=DataBase!$B$10,DataBase!$C$10)))*EG76","v":19.921568627450981},{"$f":"IF(ED76=DataBase!$B$14,DataBase!$E$14,IF(ED76=DataBase!$B$15,DataBase!$E$15,IF(ED76=DataBase!$B$16,DataBase!$E$16)))","v":125},{"$f":"IF(EA76=DataBase!$B$21,DataBase!$E$21,IF(EA76=DataBase!$B$22,DataBase!$E$22,IF(EA76=DataBase!$B$23,DataBase!$E$23,IF(EA76=DataBase!$B$24,DataBase!$E$24,IF(EA76=DataBase!$B$25,DataBase!$E$25)))))","v":10000},{"$f":"IF(EE76=DataBase!$B$8,DataBase!$C$8,IF(EE76=DataBase!$B$9,DataBase!$C$9,IF(EE76=DataBase!$B$10,DataBase!$C$10)))","v":3},{"$f":"POWER(EG76/((DataBase!$F$5*FC76)),DataBase!$E$52)*DataBase!$F$5*FC76/EG76","v":1.1394328171664916},{"$f":"IF(EB76=DataBase!$B$30,DataBase!$F$30,IF(EB76=DataBase!$B$31,DataBase!$F$31,IF(EB76=DataBase!$B$32,DataBase!$F$32,IF(EB76=DataBase!$B$33,DataBase!$F$33,IF(EB76=DataBase!$B$34,DataBase!$F$34)))))","v":1},{"$f":"FB76*FD76*FE76*FY76","v":15952.059440330882},{"$f":"IF(ED76=DataBase!$B$14,DataBase!$H$14,IF(ED76=DataBase!$B$15,DataBase!$H$15,IF(ED76=DataBase!$B$16,DataBase!$H$16)))*EU76","v":100},{"$f":"IF(EB76=DataBase!$B$30,DataBase!$H$30,IF(EB76=DataBase!$B$31,DataBase!$H$31,IF(EB76=DataBase!$B$32,DataBase!$H$32,IF(EB76=DataBase!$B$33,DataBase!$H$33,IF(EB76=DataBase!$B$34,DataBase!$H$34)))))","v":1},{"$f":"IF(EA76=DataBase!$B$21,DataBase!$G$21,IF(EA76=DataBase!$B$22,DataBase!$G$22,IF(EA76=DataBase!$B$23,DataBase!$G$23,IF(EA76=DataBase!$B$24,DataBase!$G$24,IF(EA76=DataBase!$B$25,DataBase!$G$25)))))","v":2},{"$f":"FG76*FH76*FI76+IF(EK76=DataBase!$B$44,DataBase!$G$44,IF(EK76=DataBase!$B$45,DataBase!$G$45,IF(EK76=DataBase!$B$46,DataBase!$G$46,IF(EK76=DataBase!$B$47,DataBase!$G$47,IF(EK76=DataBase!$B$48,DataBase!$G$48,IF(EK76=DataBase!$B$49,DataBase!$G$49))))))","v":200},{"$f":"FA76+FF76+FJ76","v":16277.059440330882},{"$f":"IF(EE76=DataBase!$B$8,0,((EF76-1)/EF76)/IF(EE76=DataBase!$B$9,2,IF(EE76=DataBase!$B$10,3/2))*EG76)","v":39.843137254901961},{"$f":"IF(ED76=DataBase!$B$14,DataBase!$F$14,IF(ED76=DataBase!$B$15,DataBase!$F$15,IF(ED76=DataBase!$B$16,DataBase!$F$16)))","v":125},{"$f":"IF(EA76=DataBase!$B$21,DataBase!$F$21,IF(EA76=DataBase!$B$22,DataBase!$F$22,IF(EA76=DataBase!$B$23,DataBase!$F$23,IF(EA76=DataBase!$B$24,DataBase!$F$24,IF(EA76=DataBase!$B$25,DataBase!$F$25)))))","v":2500},{"$f":"IF(EE76=DataBase!$B$8,DataBase!$E$8,IF(EE76=DataBase!$B$9,DataBase!$E$9,IF(EE76=DataBase!$B$10,DataBase!$E$10)))","v":2},{"$f":"IF(FO76=0,0,POWER(EG76/((DataBase!$F$5*FO76)),DataBase!$E$52)*DataBase!$F$5*FO76/EG76)","v":1},{"$f":"IF(EB76=DataBase!$B$30,DataBase!$G$30,IF(EB76=DataBase!$B$31,DataBase!$G$31,IF(EB76=DataBase!$B$32,DataBase!$G$32,IF(EB76=DataBase!$B$33,DataBase!$G$33,IF(EB76=DataBase!$B$34,DataBase!$G$34)))))","v":1},{"$f":"FN76*FP76*FQ76*FY76","v":3500},{"$f":"IF(ED76=DataBase!$B$14,DataBase!$J$14,IF(ED76=DataBase!$B$15,DataBase!$J$15,IF(ED76=DataBase!$B$16,DataBase!$J$16)))*EU76","v":50},{"$f":"IF(EB76=DataBase!$B$30,DataBase!$H$30,IF(EB76=DataBase!$B$31,DataBase!$H$31,IF(EB76=DataBase!$B$32,DataBase!$H$32,IF(EB76=DataBase!$B$33,DataBase!$H$33,IF(EB76=DataBase!$B$34,DataBase!$H$34)))))","v":1},{"$f":"IF(EA76=DataBase!$B$21,DataBase!$G$21,IF(EA76=DataBase!$B$22,DataBase!$G$22,IF(EA76=DataBase!$B$23,DataBase!$G$23,IF(EA76=DataBase!$B$24,DataBase!$G$24,IF(EA76=DataBase!$B$25,DataBase!$G$25)))))","v":2},{"$f":"FS76*FT76*FU76+IF(EK76=DataBase!$B$44,DataBase!$G$44,IF(EK76=DataBase!$B$45,DataBase!$G$45,IF(EK76=DataBase!$B$46,DataBase!$G$46,IF(EK76=DataBase!$B$47,DataBase!$G$47,IF(EK76=DataBase!$B$48,DataBase!$G$48,IF(EK76=DataBase!$B$49,DataBase!$G$49))))))","v":100},{"$f":"FM76+FR76+FV76","v":3725},{"$f":"IF(EK76=DataBase!$B$44,DataBase!$C$44,IF(EK76=DataBase!$B$45,DataBase!$C$45,IF(EK76=DataBase!$B$46,DataBase!$C$46,IF(EK76=DataBase!$B$47,DataBase!$C$47,IF(EK76=DataBase!$B$48,DataBase!$C$48,IF(EK76=DataBase!$B$49,DataBase!$C$49))))))","v":1.2},{"$f":"IF(EK76=DataBase!$B$44,DataBase!$D$44,IF(EK76=DataBase!$B$45,DataBase!$D$45,IF(EK76=DataBase!$B$46,DataBase!$D$46,IF(EK76=DataBase!$B$47,DataBase!$D$47,IF(EK76=DataBase!$B$48,DataBase!$D$48,IF(EK76=DataBase!$B$49,DataBase!$D$49))))))","v":1.4},{"$f":"FW76*8*FL76+FK76*8*EZ76+EY76*EN76*8","v":4459841.9437452834},{"$f":"POWER(((DataBase!$C$5*DataBase!$E$5)/(EH76*EI76)),DataBase!$E$53)","v":1},{"$f":"IF(EJ76=DataBase!$B$37,DataBase!$C$37,IF(EJ76=DataBase!$B$38,DataBase!$C$38))","v":1},null,{"$f":"GB76*GA76*FZ76","v":4459841.9437452834},"bit/s",null,{"$f":"IF($C76=DataBase!$J$49,DataBase!$L$49,IF($C76=DataBase!$J$50,DataBase!$L$50,IF($C76=DataBase!$J$51,DataBase!$L$51,IF($C76=DataBase!$J$52,DataBase!$L$52))))","v":0.89},{"$f":"IF($C76=DataBase!$J$49,DataBase!$N$49,IF($C76=DataBase!$J$50,DataBase!$N$50,IF($C76=DataBase!$J$51,DataBase!$N$51,IF($C76=DataBase!$J$52,DataBase!$N$52))))","v":0.1},{"$f":"IF($C76=DataBase!$J$49,DataBase!$P$49,IF($C76=DataBase!$J$50,DataBase!$P$50,IF($C76=DataBase!$J$51,DataBase!$P$51,IF($C76=DataBase!$J$52,DataBase!$P$52))))","v":9.9999999999999811E-3},null,{"$f":"$GG76*BR76","v":684999.84313725494},"bit/s",{"$f":"$DX76*GH76","v":154940.19887490568},"bit/s",{"$f":"$GD76*GI76","v":44598.419437452751},"bit/s",null,{"$f":"GO76+GM76+GK76","v":884538.46144961333},"bit/s",null,{"$f":"MAX($GD76,$DX76,$BR76)","v":4459841.9437452834},"bit/s",{"$f":"IF($M76=DataBase!$B$44,DataBase!$E$44,IF($M76=DataBase!$B$45,DataBase!$E$45,IF($M76=DataBase!$B$46,DataBase!$E$46,IF($M76=DataBase!$B$47,DataBase!$E$47,IF($M76=DataBase!$B$48,DataBase!$E$48,IF($M76=DataBase!$B$49,DataBase!$E$49))))))","v":1},null,{"$f":"IF($D76=DataBase!$J$44,DataBase!$M$44,IF($D76=DataBase!$J$45,DataBase!$M$45,IF($D76=DataBase!$J$46,DataBase!$M$46)))","v":4},{"$f":"IF($D76=DataBase!$J$44,DataBase!$K$44,IF($D76=DataBase!$J$45,DataBase!$K$45,IF($D76=DataBase!$J$46,DataBase!$K$46)))","v":1},{"$f":"IF($M76=DataBase!$B$44,DataBase!$F$44,IF($M76=DataBase!$B$45,DataBase!$F$45,IF($M76=DataBase!$B$46,DataBase!$F$46,IF($M76=DataBase!$B$47,DataBase!$F$47,IF($M76=DataBase!$B$48,DataBase!$F$48,IF($M76=DataBase!$B$49,DataBase!$F$49))))))","v":32000000},"bit/s",{"$f":"C76&D76&I76&J76&K76&M76","v":"staticbitrate optimized6019201080CPP_7_3"},{"$f":"MIN(HA76,MAX(GZ76*IF(0=GW76,GR76,IF(1=GW76,GR76,IF(2=GW76,GU76)))))","v":884538.46144961333},"bit/s",null,{"$f":"IF(GW76=1,\"SUPPORTED\",\"NOT SUPPORTED\")","v":"SUPPORTED"},{"$f":"HJ76","v":4459841.9437452834},"bit/s",{"$f":"MIN(HA76,GZ76*IF(GW76=0,2*GR76,GU76))","v":4459841.9437452834},"bit/s",{"$f":"IF(GW76=1,IF($D76=DataBase!$J$44,DataBase!$L$44,IF($D76=DataBase!$J$45,DataBase!$L$45,IF($D76=DataBase!$J$46,DataBase!$L$46))),\"OFF\")","v":"medium"},{"$f":"0","v":0},null,{"$f":"MIN(HA76,MAX(HQ76/GY76,GZ76*IF(0=GW76,GR76,IF(1=GW76,GR76,IF(2=GW76,GU76)))))","v":1114960.4859363209},"bit/s",{"$f":"MIN(HA76,GZ76*IF(GW76=0,2*GR76,GU76))","v":4459841.9437452834},"bit/s",{"$f":"IF(GW76=1,IF($D76=DataBase!$J$44,DataBase!$L$44,IF($D76=DataBase!$J$45,DataBase!$L$45,IF($D76=DataBase!$J$46,DataBase!$L$46))),\"OFF\")","v":"medium"},{"$f":"IF(GW76=1,3600*24*GW76,0)","v":86400}]
[null,null,"Input",null,null,null,null,null,null,null,null,null,null,null,"INPUT variabel",null,null,null,null,null,null,null,null,null,null,null,null,null,"I-Frame size static",null,null,"I-Frame noise bitrate",null,null,null,null,null,null,null,null,"Overhead","Dynamic frame size",null,null,null,null,"Noise based frame size",null,null,null,null,null,"Overhead","Dynamic frame size",null,null,null,null,"Noise based frame size",null,null,null,null,null,null,null,"global modifier",null,null,null,null,null,"INPUT variabel",null,null,null,null,null,null,null,null,null,null,null,null,null,"I-Frame size static",null,null,"I-Frame noise bitrate",null,null,null,null,null,null,null,null,"Overhead","Dynamic frame size",null,null,null,null,"Noise based frame size",null,null,null,null,null,"Overhead","Dynamic frame size",null,null,null,null,"Noise based frame size",null,null,null,null,null,null,null,"global modifier",null,null,null,null,null,"INPUT variabel",null,null,null,null,null,null,null,null,null,null,null,null,null,"I-Frame size static",null,null,"I-Frame noise bitrate",null,null,null,null,null,null,null,null,"Overhead","Dynamic frame size",null,null,null,null,"Noise based frame size",null,null,null,null,null,"Overhead","Dynamic frame size",null,null,null,null,"Noise based frame size",null,null,null,null,null,null,null,"global modifier",null,null,null,null,null,null,null,null,null,null,null,null,null,null,null,null,null,null,null,null,null,null,null,null,null,null,null,null,"INFO",null,null,null,"Output for quality driven mode",null,null,null,null,null,null,"Output for long term rate control"]
[null,null,"Scene profiles","Recording quality","isThermal","static scene Type","GOP Type","I-Frame distance","Framerate","Width","Height","VideoStandard","Platform",null,"dynamic scene type","Bitrate reduction mode",null,"static scene Type","GOP Type","I-Frame distance","Framerate","Width","Height","VideoStandard","Platform","special camera",null,"I-Frames/sec","Framesize Base","Modified by Bitrate red mode","Modified I-Framesize","noise base","is special Camera","overrule noise base","noise offset","Framesize Base","Modified by bitrate red mode","Modified by dynamic scene","I-Frame size","P-Frames/sec","Framesize Base","Framesize Base","Prediction Distance","Framerate modifier","Modified by Bitrate red mode","Modified Frame Size","Framesize Base","Modified by bitrate red mode","Modified by dynamic scene","Modified Frame Size","P-Frame Size","B-Frames/sec","Framesize Base","Framesize Base","Prediction Distance","Framerate modifier","Modified by Bitrate red mode","Modified Frame Size","Framesize Base","Modified by bitrate red mode","Modified by dynamic scene","Modified Frame Size","B-Framesize","static modifier","dynamic modifier","Bitrate","Resolution modifier","video standard modifier",null,"Bitrate",null,null,"dynamic scene type","Bitrate reduction mode",null,"static scene Type","GOP Type","I-Frame distance","Framerate","Width","Height","VideoStandard","Platform","special camera",null,"I-Frames/sec","Framesize Base","Modified by Bitrate red mode","Modified I-Framesize","noise base","is special Camera","overrule noise base","noise offset","Framesize Base","Modified by bitrate red mode","Modified by dynamic scene","I-Frame size","P-Frames/sec","Framesize Base","Framesize Base","Prediction Distance","Framerate modifier","Modified by Bitrate red mode","Modified Frame Size","Framesize Base","Modified by bitrate red mode","Modified by dynamic scene","Modified Frame Size","P-Frame Size","B-Frames/sec","Framesize Base","Framesize Base","Prediction Distance","Framerate modifier","Modified by Bitrate red mode","Modified Frame Size","Framesize Base","Modified by bitrate red mode","Modified by dynamic scene","Modified Frame Size","B-Framesize","static modifier","dynamic modifier","Bitrate","Resolution modifier","video standard modifier",null,"Bitrate",null,null,"dynamic scene type","Bitrate reduction mode",null,"static scene Type","GOP Type","I-Frame distance","Framerate","Width","Height","VideoStandard","Platform","special camera",null,"I-Frames/sec","Framesize Base","Modified by Bitrate red mode","Modified I-Framesize","noise base","is special Camera","overrule noise base","noise offset","Framesize Base","Modified by bitrate red mode","Modified by dynamic scene","I-Frame size","P-Frames/sec","Framesize Base","Framesize Base","Prediction Distance","Framerate modifier","Modified by Bitrate red mode","Modified Frame Size","Framesize Base","Modified by bitrate red mode","Modified by dynamic scene","Modified Frame Size","P-Frame Size","B-Frames/sec","Framesize Base","Framesize Base","Prediction Distance","Framerate modifier","Modified by Bitrate red mode","Modified Frame Size","Framesize Base","Modified by bitrate red mode","Modified by dynamic scene","Modified Frame Size","B-Framesize","static modifier","dynamic modifier","Bitrate","Resolution modifier","video standard modifier",null,"Bitrate",null,null,"Anteil Typ 0","Anteil Typ 1","Anteil Typ 2",null,"Bitrate Typ0",null,"Bitrate Typ1",null,"Bitrate Typ2",null,null,"expected Bitrate",null,null,"maximum Bitrate",null,"support long term rate control",null,"max relation","saftey factor","maximum platform bitrate",null,null,"expected bitrate",null,null,"quality driven mode is supported","target bitrate",null,"max bitrate",null,"bitrate reduction mode","Averaging time",null,"target bitrate",null,"max bitrate",null,"bitrate reduction mode","Averaging time"]
[]
[null,null,null,null,null,null,null,null,null,null,null,null,null,null,null,null,null,null,null,null,null,null,null,null,null,null,null,null,null,null,null,null,null,null,null,null,null,null,null,null,null,null,null,null,null,null,null,null,null,null,null,null,null,null,null,null,null,null,null,null,null,null,null,null,null,null,null,null,null,null,null,null,null,null,null,null,null,null,null,null,null,null,null,null,null,null,null,null,null,null,null,null,null,null,null,null,null,null,null,null,null,null,null,null,null,null,null,null,null,null,null,null,null,null,null,null,null,null,null,null,null,null,null,null,null,null,null,null,null,null,null,null,null,null,null,null,null,null,null,null,null,null,null,null,null,null,null,null,null,null,null,null,null,null,null,null,null,null,null,null,null,null,null,null,null,null,null,null,null,null,null,null,null,null,null,null,null,null,null,null,null,null,null,null,null,null,null,null,null,null,null,null,null,null,null,null,null,null,null,null,null,null,null,null,null,null,null,null,null,null,{"$f":"C80&D80&K80&M80","v":""}]
[]
[null,null,null,null,null,null,null,null,null,null,"1920x1080","1080p",19201080,1920,1080,null,null,null,null,null,null,null,null,null,null,null,null,null,null,null,null,null,null,null,null,null,null,null,null,null,null,null,null,null,null,null,null,null,null,null,null,null,null,null,null,null,null,null,null,null,null,null,null,null,null,null,null,null,null,null,null,null,null,null,null,null,null,null,null,null,null,null,null,null,null,null,null,null,null,null,null,null,null,null,null,null,null,null,null,null,null,null,null,null,null,null,null,null,null,null,null,null,null,null,null,null,null,null,null,null,null,null,null,null,null,null,null,null,null,null,null,null,null,null,null,null,null,null,null,null,null,null,null,null,null,null,null,null,null,null,null,null,null,null,null,null,null,null,null,null,null,null,null,null,null,null,null,null,null,null,null,null,null,null,null,null,null,null,null,null,null,null,null,null,null,null,null,null,null,null,null,null,null,null,null,null,null,null,null,null,null,null,null,null,null,null,null,null,null,null,1920,1080]
[null,null,null,null,null,null,null,null,null,null,"1280x720","720p",1280720,1280,720,null,null,null,null,null,null,null,null,null,null,null,null,null,null,null,null,null,null,null,null,null,null,null,null,null,null,null,null,null,null,null,null,null,null,null,null,null,null,null,null,null,null,null,null,null,null,null,null,null,null,null,null,null,null,null,null,null,null,null,null,null,null,null,null,null,null,null,null,null,null,null,null,null,null,null,null,null,null,null,null,null,null,null,null,null,null,null,null,null,null,null,null,null,null,null,null,null,null,null,null,null,null,null,null,null,null,null,null,null,null,null,null,null,null,null,null,null,null,null,null,null,null,null,null,null,null,null,null,null,null,null,null,null,null,null,null,null,null,null,null,null,null,null,null,null,null,null,null,null,null,null,null,null,null,null,null,null,null,null,null,null,null,null,null,null,null,null,null,null,null,null,null,null,null,null,null,null,null,null,null,null,null,null,null,null,null,null,null,null,null,null,null,null,null,null,1280,720]
[null,null,null,null,null,null,null,null,null,null,null,"SD",null,null,null,null,null,null,null,null,null,null,null,null,null,null,null,null,null,null,null,null,null,null,null,null,null,null,null,null,null,null,null,null,null,null,null,null,null,null,null,null,null,null,null,null,null,null,null,null,null,null,null,null,null,null,null,null,null,null,null,null,null,null,null,null,null,null,null,null,null,null,null,null,null,null,null,null,null,null,null,null,null,null,null,null,null,null,null,null,null,null,null,null,null,null,null,null,null,null,null,null,null,null,null,null,null,null,null,null,null,null,null,null,null,null,null,null,null,null,null,null,null,null,null,null,null,null,null,null,null,null,null,null,null,null,null,null,null,null,null,null,null,null,null,null,null,null,null,null,null,null,null,null,null,null,null,null,null,null,null,null,null,null,null,null,null,null,null,null,null,null,null,null,null,null,null,null,null,null,null,null,null,null,null,null,null,null,null,null,null,null,null,null,null,null,null,null,null,null,2592,1680]
[null,null,null,null,null,null,null,null,null,null,"2592x1680","5 MP",25921680,2592,1680,null,null,null,null,null,null,null,null,null,null,null,null,null,null,null,null,null,null,null,null,null,null,null,null,null,null,null,null,null,null,null,null,null,null,null,null,null,null,null,null,null,null,null,null,null,null,null,null,null,null,null,null,null,null,null,null,null,null,null,null,null,null,null,null,null,null,null,null,null,null,null,null,null,null,null,null,null,null,null,null,null,null,null,null,null,null,null,null,null,null,null,null,null,null,null,null,null,null,null,null,null,null,null,null,null,null,null,null,null,null,null,null,null,null,null,null,null,null,null,null,null,null,null,null,null,null,null,null,null,null,null,null,null,null,null,null,null,null,null,null,null,null,null,null,null,null,null,null,null,null,null,null,null,null,null,null,null,null,null,null,null,null,null,null,null,null,null,null,null,null,null,null,null,null,null,null,null,null,null,null,null,null,null,null,null,null,null,null,null,null,null,null,null,null,null,3840,2160]
[null,null,null,null,null,null,null,null,null,null,"3840x2160","8 MP",38402160,3840,2160,null,null,null,null,null,null,null,null,null,null,null,null,null,null,null,null,null,null,null,null,null,null,null,null,null,null,null,null,null,null,null,null,null,null,null,null,null,null,null,null,null,null,null,null,null,null,null,null,null,null,null,null,null,null,null,null,null,null,null,null,null,null,null,null,null,null,null,null,null,null,null,null,null,null,null,null,null,null,null,null,null,null,null,null,null,null,null,null,null,null,null,null,null,null,null,null,null,null,null,null,null,null,null,null,null,null,null,null,null,null,null,null,null,null,null,null,null,null,null,null,null,null,null,null,null,null,null,null,null,null,null,null,null,null,null,null,null,null,null,null,null,null,null,null,null,null,null,null,null,null,null,null,null,null,null,null,null,null,null,null,null,null,null,null,null,null,null,null,null,null,null,null,null,null,null,null,null,null,null,null,null,null,null,null,null,null,null,null,null,null,null,null,null,null,null,4000,3000]
[null,null,null,null,null,null,null,null,null,null,"4000x3000","12 MP",40003000,4000,3000]
[null,null,null,null,null,"bitrate optimized quiet","staticbitrate optimized","static","bitrate optimized"]
[null,null,null,null,null,"bitrate optimized standard","mediumbitrate optimized","medium","bitrate optimized",null,"SD","Width",{"$f":"VLOOKUP(K89,L82:O87,3,0)","v":0}]
[null,null,null,null,null,"bitrate optimized busy","busybitrate optimized","busy","bitrate optimized",null,null,"Heigth",{"$f":"VLOOKUP(K89,L82:O87,4,0)","v":0}]
[null,null,null,null,null,"balanced quiet","staticBalanced","static","balanced"]
[null,null,null,null,null,"balanced standard","mediumBalanced","medium","balanced"]
[null,null,null,null,null,"balanced busy","busyBalanced","busy","balanced"]
[null,null,null,null,null,"image optimized quiet","staticimage optimized","static","image optimized"]
[null,null,null,null,null,"image optimized standard","mediumimage optimized","medium","image optimized"]
[null,null,null,null,null,"image optimized busy","busyimage optimized","busy","image optimized"]
[null,null,null,null,null,"PTZ optimized"]
[null,null,null,null,null,null,"resolution"]
[null,null,30,704,288,"CPP_3",{"$f":"D99&E99&F99","v":"704288CPP_3"}]
[null,null,30,704,576,"CPP_3","704576CPP_3"]
[null,null,30,1280,720,"CPP_3","1280720CPP_3"]
[null,null,30,1920,1080,"CPP_3","19201080CPP_3"]
[null,null,30,704,288,"CPP_4",{"$f":"D103&E103&F103","v":"704288CPP_4"},null,null,null,null,"bitrate optimized quiet"]
[null,null,30,704,576,"CPP_4","704576CPP_4",null,null,null,null,"bitrate optimized standard"]
[null,null,30,1280,720,"CPP_4","1280720CPP_4",null,null,null,null,"bitrate optimized busy"]
[null,null,60,1280,720,"CPP_4","1280720CPP_4",null,null,null,null,"balanced quiet"]
[null,null,30,1920,1080,"CPP_4","19201080CPP_4",null,null,null,null,"balanced standard"]
[null,null,60,1920,1080,"CPP_4","19201080CPP_4","x",12,null,null,"balanced busy"]
[null,null,12,2592,1680,"CPP_4","25921680CPP_4",null,null,null,null,"image optimized quiet"]
[null,null,30,704,288,"CPP_5","704288CPP_5",null,null,null,null,"image optimized standard"]
[null,null,30,704,576,"CPP_5","704576CPP_5",null,null,null,null,"image optimized busy"]
[null,null,30,768,432,"CPP_6","768432CPP_6"]
[null,null,30,1280,720,"CPP_6","1280720CPP_6"]
[null,null,60,1280,720,"CPP_6","1280720CPP_6"]
[null,null,30,1920,1080,"CPP_6","19201080CPP_6","x",30]
[null,null,60,1920,1080,"CPP_6","19201080CPP_6","x",30]
[null,null,30,2592,1680,"CPP_6","25921680CPP_6","x",20]
[null,null,30,3840,2160,"CPP_6","38402160CPP_6"]
[null,null,20,4000,3000,"CPP_6","40003000CPP_6"]
[null,null,30,768,432,"CPP_7","768432CPP_7"]
[null,null,30,1280,720,"CPP_7","1280720CPP_7"]
[null,null,60,1280,720,"CPP_7","1280720CPP_7"]
[null,null,30,1920,1080,"CPP_7","19201080CPP_7","x",30]
[null,null,60,1920,1080,"CPP_7","19201080CPP_7","x",30]
[null,null,30,2592,1680,"CPP_7","25921680CPP_7","x",20]
[null,null,30,3840,2160,"CPP_7","38402160CPP_7"]
[null,null,20,4000,3000,"CPP_7","40003000CPP_7"]
[null,null,30,768,432,"CPP_7_3","768432CPP_7_3"]
[null,null,30,1280,720,"CPP_7_3","1280720CPP_7_3"]
[null,null,60,1280,720,"CPP_7_3","1280720CPP_7_3"]
[null,null,30,1920,1080,"CPP_7_3","19201080CPP_7_3","x",30]
[null,null,60,1920,1080,"CPP_7_3","19201080CPP_7_3","x",30]
[null,null,30,2592,1680,"CPP_7_3","25921680CPP_7_3","x",20,null,null,null,""]
[null,null,30,3840,2160,"CPP_7_3","38402160CPP_7_3"]
[null,null,20,4000,3000,"CPP_7_3","40003000CPP_7_3"]
[]
[null,null,null,null,"Encoding Interval",null,"not supported megapixel frame rates"]
[null,null,null,null,60,null,"1525921680CPP_4"]
[null,null,null,null,30,null,"2025921680CPP_4"]
[null,null,null,null,20,null,"3025921680CPP_4"]
[null,null,null,null,15,null,"6025921680CPP_4"]
[null,null,null,null,12,null,"6025921680CPP_6"]
[null,null,null,null,10,null,"6038402169CPP_6"]
[null,null,null,null,7.5,null,"3040003000CPP_6"]
[null,null,null,null,6,null,"6040003000CPP_6"]
[null,null,null,null,5,null,"6025921680CPP_7"]
[null,null,null,null,4,null,"6038402169CPP_7"]
[null,null,null,null,3,null,"3040003000CPP_7"]
[null,null,null,null,2,null,"6040003000CPP_7"]
[null,null,null,null,1,null,"6025921680CPP_7_3"]
[null,null,null,null,null,null,"6038402169CPP_7_3","h_264","h_265"]
[null,null,null,null,null,null,"3040003000CPP_7_3","CPP_3","CPP_7_3",null,"h_264","CPP_7_3"]
[null,null,null,null,null,null,"6040003000CPP_7_3","CPP_4"]
[null,null,null,null,null,null,null,"CPP_5"]
[null,null,null,null,null,null,null,"CPP_6"]
[null,null,null,null,null,null,null,"CPP_7"]
[null,null,null,null,null,null,null,"CPP_7_3"]
[]
[]
[null,null,null,null,null,null,null,"CPP_3h_264"]
[null,null,null,null,null,null,null,"CPP_4h_264"]
[null,null,null,null,null,null,null,"CPP_5h_264"]
[null,null,null,null,null,null,null,"CPP_6h_264"]
[null,null,null,null,null,null,null,"CPP_7h_264"]
[null,null,null,null,null,null,null,"CPP_7_3h_264"]
[null,null,null,null,null,null,null,"CPP_7_3h_265"]
[]
[]
[]
[null,null,null,"SD",null,null,null,null,null,null,"Exceptions SD resolution"]
[{"$f":"C171&D171&$D$170","v":"bitrate optimized quietCPP_3SD"},{"$f":"C171&D171&E171&F171","v":"bitrate optimized quietCPP_3704288"},"bitrate optimized quiet","CPP_3",704,288,null,null,{"$f":"E171&F171","v":"704288"},null,"balanced standardCPP_5"]
["bitrate optimized quietCPP_4SD",{"$f":"C172&D172&E172&F172","v":"bitrate optimized quietCPP_4704288"},"bitrate optimized quiet","CPP_4",704,288,null,null,{"$f":"E172&F172","v":"704288"},null,"balanced busyCPP_5"]
["bitrate optimized quietCPP_5SD","bitrate optimized quietCPP_5704288","bitrate optimized quiet","CPP_5",704,288,null,null,"704288",null,"image optimized quietCPP_3"]
["bitrate optimized quietCPP_6SD","bitrate optimized quietCPP_6768432","bitrate optimized quiet","CPP_6",768,432,null,null,"768432",null,"image optimized quietCPP_4"]
["bitrate optimized quietCPP_7SD","bitrate optimized quietCPP_7768432","bitrate optimized quiet","CPP_7",768,432,null,null,"768432",null,"image optimized quietCPP_5"]
["bitrate optimized quietCPP_7_3SD","bitrate optimized quietCPP_7_3768432","bitrate optimized quiet","CPP_7_3",768,432,null,null,"768432",null,"image optimized standardCPP_3"]
["bitrate optimized standardCPP_3SD","bitrate optimized standardCPP_3704288","bitrate optimized standard","CPP_3",704,288,null,null,"704288",null,"image optimized standardCPP_4"]
["bitrate optimized standardCPP_4SD","bitrate optimized standardCPP_4704288","bitrate optimized standard","CPP_4",704,288,null,null,"704288",null,"image optimized standardCPP_5"]
["bitrate optimized standardCPP_5SD","bitrate optimized standardCPP_5704288","bitrate optimized standard","CPP_5",704,288,null,null,"704288",null,"image optimized busyCPP_3"]
["bitrate optimized standardCPP_6SD","bitrate optimized standardCPP_6768432","bitrate optimized standard","CPP_6",768,432,null,null,"768432",null,"image optimized busyCPP_4"]
["bitrate optimized standardCPP_7SD","bitrate optimized standardCPP_7768432","bitrate optimized standard","CPP_7",768,432,null,null,"768432",null,"image optimized busyCPP_5"]
["bitrate optimized standardCPP_7_3SD","bitrate optimized standardCPP_7_3768432","bitrate optimized standard","CPP_7_3",768,432,null,null,"768432"]
["bitrate optimized busyCPP_3SD","bitrate optimized busyCPP_3704288","bitrate optimized busy","CPP_3",704,288,null,null,"704288"]
["bitrate optimized busyCPP_4SD","bitrate optimized busyCPP_4704288","bitrate optimized busy","CPP_4",704,288,null,null,"704288"]
["bitrate optimized busyCPP_5SD","bitrate optimized busyCPP_5704288","bitrate optimized busy","CPP_5",704,288,null,null,"704288"]
["bitrate optimized busyCPP_6SD","bitrate optimized busyCPP_6768432","bitrate optimized busy","CPP_6",768,432,null,null,"768432"]
["bitrate optimized busyCPP_7SD","bitrate optimized busyCPP_7768432","bitrate optimized busy","CPP_7",768,432,null,null,"768432"]
["bitrate optimized busyCPP_7_3SD","bitrate optimized busyCPP_7_3768432","bitrate optimized busy","CPP_7_3",768,432,null,null,"768432"]
["balanced quietCPP_3SD","balanced quietCPP_3704288","balanced quiet","CPP_3",704,288,null,null,"704288"]
["balanced quietCPP_4SD","balanced quietCPP_4704288","balanced quiet","CPP_4",704,288,null,null,"704288"]
["balanced quietCPP_5SD","balanced quietCPP_5704288","balanced quiet","CPP_5",704,288,null,null,"704288"]
["balanced quietCPP_6SD","balanced quietCPP_6768432","balanced quiet","CPP_6",768,432,null,null,"768432"]
["balanced quietCPP_7SD","balanced quietCPP_7768432","balanced quiet","CPP_7",768,432,null,null,"768432"]
["balanced quietCPP_7_3SD","balanced quietCPP_7_3768432","balanced quiet","CPP_7_3",768,432,null,null,"768432"]
["balanced standardCPP_3SD","balanced standardCPP_3704288","balanced standard","CPP_3",704,288,null,null,"704288"]
["balanced standardCPP_4SD","balanced standardCPP_4704288","balanced standard","CPP_4",704,288,null,null,"704288"]
["balanced standardCPP_5SD","balanced standardCPP_5704288","balanced standard","CPP_5",704,288,2000000,2000000,"704288"]
["balanced standardCPP_6SD","balanced standardCPP_6768432","balanced standard","CPP_6",768,432,null,null,"768432"]
["balanced standardCPP_7SD","balanced standardCPP_7768432","balanced standard","CPP_7",768,432,null,null,"768432"]
["balanced standardCPP_7_3SD","balanced standardCPP_7_3768432","balanced standard","CPP_7_3",768,432,null,null,"768432"]
["balanced busyCPP_3SD","balanced busyCPP_3704288","balanced busy","CPP_3",704,288,null,null,"704288"]
["balanced busyCPP_4SD","balanced busyCPP_4704288","balanced busy","CPP_4",704,288,null,null,"704288"]
[{"$f":"C203&D203&$D$170","v":"balanced busyCPP_5SD"},"balanced busyCPP_5704288","balanced busy","CPP_5",704,288,2000000,2000000,"704288"]
["balanced busyCPP_6SD","balanced busyCPP_6768432","balanced busy","CPP_6",768,432,null,null,"768432"]
["balanced busyCPP_7SD","balanced busyCPP_7768432","balanced busy","CPP_7",768,432,null,null,"768432"]
["balanced busyCPP_7_3SD","balanced busyCPP_7_3768432","balanced busy","CPP_7_3",768,432,null,null,"768432"]
["image optimized quietCPP_3SD","image optimized quietCPP_3704576","image optimized quiet","CPP_3",704,576,4858053,6000000,"704576"]
["image optimized quietCPP_4SD","image optimized quietCPP_4704576","image optimized quiet","CPP_4",704,576,2859061,5718122,"704576"]
["image optimized quietCPP_5SD","image optimized quietCPP_5704576","image optimized quiet","CPP_5",704,576,2000000,2000000,"704576"]
["image optimized quietCPP_6SD","image optimized quietCPP_6768432","image optimized quiet","CPP_6",768,432,null,null,"768432"]
["image optimized quietCPP_7SD","image optimized quietCPP_7768432","image optimized quiet","CPP_7",768,432,null,null,"768432"]
["image optimized quietCPP_7_3SD","image optimized quietCPP_7_3768432","image optimized quiet","CPP_7_3",768,432,null,null,"768432"]
["image optimized standardCPP_3SD","image optimized standardCPP_3704576","image optimized standard","CPP_3",704,576,5294.51,6000,"704576"]
["image optimized standardCPP_4SD","image optimized standardCPP_4704576","image optimized standard","CPP_4",704,576,3355739,6711477,"704576"]
["image optimized standardCPP_5SD","image optimized standardCPP_5704576","image optimized standard","CPP_5",704,576,2000000,2000000,"704576"]
["image optimized standardCPP_6SD","image optimized standardCPP_6768432","image optimized standard","CPP_6",768,432,null,null,"768432"]
["image optimized standardCPP_7SD","image optimized standardCPP_7768432","image optimized standard","CPP_7",768,432,null,null,"768432"]
["image optimized standardCPP_7_3SD","image optimized standardCPP_7_3768432","image optimized standard","CPP_7_3",768,432,null,null,"768432"]
["image optimized busyCPP_3SD","image optimized busyCPP_3704576","image optimized busy","CPP_3",704,576,6000,6000,"704576"]
["image optimized busyCPP_4SD","image optimized busyCPP_4704576","image optimized busy","CPP_4",704,576,4614387,92282775,"704576"]
["image optimized busyCPP_5SD","image optimized busyCPP_5704576","image optimized busy","CPP_5",704,576,2000000,2000000,"704576"]
["image optimized busyCPP_6SD","image optimized busyCPP_6768432","image optimized busy","CPP_6",768,432,null,null,"768432"]
["image optimized busyCPP_7SD","image optimized busyCPP_7768432","image optimized busy","CPP_7",768,432,null,null,"768432"]
["image optimized busyCPP_7_3SD","image optimized busyCPP_7_3768432","image optimized busy","CPP_7_3",768,432,null,null,"768432"]
[]
[]
[]
[]
[]
[]
[]
[]
[null,null,null,null,null,null,null,null,null,null,"1920x1080","1080p",19201080,1920,1080]
[null,null,null,null,null,null,null,null,null,null,"1280x720","720p",1280720,1280,720]
[null,null,null,null,null,null,null,null,null,null,null,"SD"]
[null,null,null,null,null,null,null,null,null,null,"2592x1680","5 MP",25921680,2592,1680]
[null,null,null,null,null,null,null,null,null,null,"3840x2160","8 MP",38402160,3840,2160]
[null,null,null,null,null,null,null,null,null,null,"4000x3000","12 MP",40003000,4000,3000]

{"sheet":"Licenses","index":6,"n_rows":113,"n_cols":21,"rows_kept":113,"cut":false,"hidden":false,"merged":[[0,0,1,0],[0,1,1,1],[0,2,1,2],[0,3,0,6]]}
[null,"Readable Name","Type ID","______________ max values in brackets ______________"]
[null,null,null,"Channels","Workstations","DVRs","Keyboards","MVS","Subsystem","Intrusion P.","Fail. VRM Ch.","Dual VRM Ch.","Stitched Chan.","Augm. Realty","Unmanaged S.","E-prise Upgr.","ATM","POS","Allegiant","OPC","for DIVAR IP"]
[null,"Base Packages"]
[null,"Professional Edition 9.0","MBV-BPRO-90","8(-)",2,1,1,null,null,0,8,8,null,null,1,null,"Yes","Yes","Yes","Yes","no"]
[null,"Plus Edition 9.0","MBV-BPLU-90","8(256)","5(10)","1(10)","5(10)","1(4)",null,"0(10)","0(256)","0(256)","0(100)","0(100)",null,null,"Yes","Yes","Yes","Yes","no"]
[null,"Enterprise Edition 9.0","MBV-BENT-90","8(-)",2,1,1,null,2,0,8,8,null,null,1,"Yes","Yes","Yes","Yes","Yes","no"]
[null,"Demo 9.0 (non-expandable)","MBV-BDEM-90","3(3)",2,2,2,null,null,1,"3(3)","3(3)",null,null,1,null,null,null,null,null,"no"]
[null,"Lite 32 Edition 9.0 (non-expandable)","MBV-BLIT32-90","32(32)",2,null,2,1,null,2,null,null,null,null,1,null,null,null,null,null,"no"]
[null,"Lite 64 Edition 9.0 (non-expandable)","MBV-BLIT64-90","64(64)",4,null,4,1,null,4,null,null,null,null,1,null,null,null,null,null,"no"]
[null,"DIPs only"]
[null,"DIVAR IP Professional Edition Max32","BVMS-PROS-DIP","32(32)","5(5)","1(5)","1(5)","1(1)","0(1)","0(5)","0(1)","0(1)","0(100)","0(100)",null,null,"Yes","Yes",null,null,"yes"]
[null,"DIVAR IP Professional Edition Max64","BVMS-PROM-DIP","32(64)","5(10)","1(10)","1(10)","1(2)","0(1)","0(10)","0(1)","0(1)","0(100)","0(100)",null,null,"Yes","Yes",null,null,"yes"]
[null,"DIVAR IP Professional Edition Max128","MBV-BXPAN-DIP","32(128)","5(10)","1(10)","1(10)","1(4)","0(1)","0(10)","0(1)","0(1)","0(100)","0(100)",null,null,"Yes","Yes",null,null,"yes"]
[null,"Optional Packages"]
[null,"Enterprise Upgrade License for Pro 9.0","MBV-FEUP-90",null,null,null,null,null,null,null,null,null,null,null,null,"Yes",null,null,null,null,"no"]
[null,"PC only"]
[null,"POS/ATM License","MBV-FATM-90",null,null,null,null,null,null,null,null,null,null,null,null,null,"Yes","Yes",null,null,"no"]
[null,"Allegiant License","MBV-FALG-90",null,null,null,null,null,null,null,null,null,null,null,null,null,null,null,"Yes",null,"no"]
[null,"OPC Server License","MBV-FOPC-90 ",null,null,null,null,null,null,null,null,null,null,null,null,null,null,null,null,"Yes","no"]
[null,"Expansion Packages"]
[null,"Enterprise Subsystem Expansion (1)","MBV-XSUB-90",null,null,null,null,null,1,null,null,null,null,null,null,null,null,null,null,null,"no"]
[null,"Channel (Enc/Dec) Expansion (1)","MBV-XCHAN-90",1,null,null,null,null,null,null,null,null,null,null,null,null,null,null,null,null,"no"]
[null,"Workstation Expansion (1)","MBV-XWST-90",null,1,null,null,null,null,null,null,null,null,null,null,null,null,null,null,null,"no"]
[null,"DVR Expansion (1)","MBV-XDVR-90",null,null,1,null,null,null,null,null,null,null,null,null,null,null,null,null,null,"no"]
[null,"CCTV Keyboard Expansion (1)","MBV-XKBD-90",null,null,null,1,null,null,null,null,null,null,null,null,null,null,null,null,null,"no"]
[null,"Mobile Video Service Expansion (1)","MBV-XMVS-90",null,null,null,null,1,null,null,null,null,null,null,null,null,null,null,null,null,"no"]
[null,"Failover VRM Channel Expansion (1)","MBV-XFOV-90",null,null,null,null,null,null,null,1,null,null,null,null,null,null,null,null,null,"no"]
[null,"Dual Recording VRM Channel Expansion (1)","MBV-XDUR-90",null,null,null,null,null,null,null,null,1,null,null,null,null,null,null,null,null,"no"]
[null,"Intrusion Panel Expansion (1)","MBV-XINT-90",null,null,null,null,null,null,1,null,null,null,null,null,null,null,null,null,null,"no"]
[null,"Unmanaged Site Expansion (1)","MBV-XSITE-90",null,null,null,null,null,null,null,null,null,null,null,1,null,null,null,null,null,"no"]
[null,"Stitched Channel Expansion (1)","MBV-XSTCH-90",null,null,null,null,null,null,null,null,null,1,null,null,null,null,null,null,null,"no"]
[null,"Augmented Reality Expansion (1)","MBV-XAGR-90",null,null,null,null,null,null,null,null,null,null,1,null,null,null,null,null,null,"no"]
[null,"Channel (Enc/Dec) Expansion Plus (1)","MBV-XCHANPLU-90",1,null,null,null,null,null,null,null,null,null,null,null,null,null,null,null,null,"no"]
[null,"Workstation Expansion Plus (1)","MBV-XWSTPLU-90",null,1,null,null,null,null,null,null,null,null,null,null,null,null,null,null,null,"no"]
[null,"DVR Expansion Plus (1)","MBV-XDVRPLU-90",null,null,1,null,null,null,null,null,null,null,null,null,null,null,null,null,null,"no"]
[null,"CCTV Keyboard Expansion Plus (1)","MBV-XKBDPLU-90",null,null,null,1,null,null,null,null,null,null,null,null,null,null,null,null,null,"no"]
[null,"Mobile Video Service Expansion Plus (1)","MBV-XMVSPLU-90",null,null,null,null,1,null,null,null,null,null,null,null,null,null,null,null,null,"no"]
[null,"Failover VRM Channel Expansion Plus (1)","MBV-XFOVPLU-90",null,null,null,null,null,null,null,1,null,null,null,null,null,null,null,null,null,"no"]
[null,"Dual Recording VRM Channel Expansion Plus (1)","MBV-XDURPLU-90",null,null,null,null,null,null,null,null,1,null,null,null,null,null,null,null,null,"no"]
[null,"Stitched Channel Expansion Plus (1)","MBV-XSTCHPLU-90",null,null,null,null,null,null,null,null,null,1,null,null,null,null,null,null,null,"no"]
[null,"Augmented Reality Expansion Plus (1)","MBV-XAGRPLU-90",null,null,null,null,null,null,null,null,null,null,1,null,null,null,null,null,null,"no"]
[null,"Intrusion Panel Expansion Plus (1)","MBV-XINTPLU-90",null,null,null,null,null,null,1,null,null,null,null,null,null,null,null,null,null,"no"]
[null,"Upgrade BLITE64 to BPro w. 64 channels","BVMS-LITEPRO-64",null,null,null,null,null,null,null,null,null,null,null,null,null,null,null,null,null,"no"]
[null,"DIPs only"]
[null,"DIVAR IP Channel (Enc/Dec) Expans. (8) ","MBV-XCHAN-DIP",8,null,null,null,null,null,null,null,null,null,null,null,null,null,null,null,null,"yes"]
[null,"DIVAR IP Workstation Expansion (1)","MBV-XWST-DIP",null,1,null,null,null,null,null,null,null,null,null,null,null,null,null,null,null,"yes"]
[null,"DIVAR IP DVR Expansion (1)","MBV-XDVR-DIP",null,null,1,null,null,null,null,null,null,null,null,null,null,null,null,null,null,"yes"]
[null,"DIVAR IP Keyboard Expansion (1)","MBV-XKBD-DIP",null,null,null,1,null,null,null,null,null,null,null,null,null,null,null,null,null,"yes"]
[null,"DIVAR IP Mobile Video Service Expan. (1)","MBV-XMVS-DIP",null,null,null,null,1,null,null,null,null,null,null,null,null,null,null,null,null,"yes"]
[null,"DIVAR IP Intrusion Panel Expansion (1)","MBV-XINT-DIP",null,null,null,null,null,null,1,null,null,null,null,null,null,null,null,null,null,"yes"]
[null,"DIVAR IP License Stitching channel expansion","MBV-1STCH-DIP",null,null,null,null,null,null,null,null,null,1,null,null,null,null,null,null,null,"yes"]
[null,"DIVAR IP License Augmented reality expansion","MBV-5AGR-DIP",null,null,null,null,null,null,null,null,null,null,1,null,null,null,null,null,null,"yes"]
[null,"DIVAR IP POS/ATM License","MBV-FATM-DIP",null,null,null,null,null,null,null,null,null,null,null,null,null,"Yes","Yes",null,null,"yes"]
[null,"DIVAR IP Allegiant License","MBV-FALG-DIP",null,null,null,null,null,null,null,null,null,null,null,null,null,null,null,"Yes",null,"yes"]
[null,"DIVAR IP OPC Server License","MBV-FOPC-DIP",null,null,null,null,null,null,null,null,null,null,null,null,null,null,null,null,"Yes","yes"]
[null,"Maintenance Agreements"]
[null,"BVMS Demo SMA 1yr","MBV-MDEM"]
[null,"BVMS Lite-32 Edition SMA 1yr","MBV-MLIT32"]
[null,"BVMS Lite 32 Edition SMA 3yrs","MBV-MLIT32-3YR"]
[null,"BVMS Lite-64 Edition SMA 1yr","MBV-MLIT64"]
[null,"BVMS Lite 64 Edition SMA 3yrs","MBV-MLIT64-3YR"]
[null,"BVMS Professional Edition SMA 1yr","MBV-MPRO"]
[null,"BVMS Professional Edition SMA 3yrs","MBV-MPRO-3YR"]
[null,"BVMS Enterprise Edition SMA 1yr","MBV-MENT "]
[null,"BVMS Enterprise Edition SMA 3yrs","MBV-MENT-3YR"]
[null,"BVSM Enterprise Subsystem SMA 1yr","MBV-MSUB"]
[null,"BVMS Enterprise Subsystem SMA 3yrs","MBV-MSUB-3YR"]
[null,"BVSM Enterprise Upgrade for Pro SMA 1yr","MBV-MEUP"]
[null,"BVMS Enterprise Upgrade for Pro SMA 3yrs","MBV-MEUP-3YR"]
[null,"BVMS Channel Expansion SMA 1yr","MBV-MCHAN"]
[null,"BVMS Channel Expansion SMA 3yrs","MBV-MCHAN-3YR"]
[null,"BVMS Workstation Expansion SMA 1yr","MBV-MWST"]
[null,"BVMS Workstation Expansion SMA 3yrs","MBV-MWST-3YR"]
[null,"BVMS DVR Expansion SMA 1yr","MBV-MDVR"]
[null,"BVMS DVR Exp SMA 3yrs","MBV-MDVR-3YR"]
[null,"BVMS CCTV Keyboard Expansion SMA 1yr","MBV-MKBD"]
[null,"BVMS CCTV Keyboard Expansion SMA 3yrs","MBV-MKBD-3YR"]
[null,"BVMS Forensic Search Expansion SMA 1 yr","MBV-MFOREN"]
[null,"BVMS Forensic Search Expansion SMA 3yrs","MBV-MFOREN-3YR"]
[null,"BVMS Allegiant Feature SMA 1 yr","MBV-MALG"]
[null,"BVMS Allegiant Feature SMA 3yrs","MBV-MALG-3YR"]
[null,"BVMS ATM Feature SMA 1 yr","MBV-MATM"]
[null,"BVMS ATM Feature SMA 3yrs","MBV-MATM-3YR"]
[null,"BVMS OPC Feature SMA 1 yr","MBV-MOPC"]
[null,"BVMS OPC Feature SMA 3yrs","MBV-MOPC-3YR"]
[null,"BVMS Mobile Video Service SMA 1 yr","MBV-MMVS"]
[null,"BVMS Mobile Video Service SMA 3yrs","MBV-MMVS-3YR"]
[null,"BVMS Failover VRM Expans. (1Ch)  SMA 1yr","MBV-MFOV"]
[null,"BVMS Failover VRM Expans. (1Ch)  SMA 3yr","MBV-MFOV-3YR"]
[null,"BVMS Dual R. VRM Expans. (1Ch)  SMA 1yr","MBV-MDUR"]
[null,"BVMS Dual R. VRM Expans (1Ch)  SMA 3yrs","MBV-MDUR-3YR"]
[null,"BVMS Intrusion Panel Expansion SMA 1yr","MBV-MINT"]
[null,"BVMS Intrusion Panel Expansion SMA 3yrs","MBV-MINT-3YR"]
[null,"BVMS Site Expansion SMA 1yr","MBV-MSITE"]
[null,"BVMS Site Expansion SMA 3yrs","MBV-MSITE-3YR"]
[null,"BVMS Stitched Channel Expansion  SMA 1 yr","MBV-XSTCH"]
[null,"BVMS Stitched Channel Expansion  SMA 3 yrs","MBV-XSTCH-3YR"]
[null,"BVMS Augmented Reality Expansion SMA 1 yr","MBV-XAGR"]
[null,"BVMS Augmented Reality Expansion SMA 3 yrs","MBV-XAGR-3YR"]
[null,"BVMS Plus Edition SMA 1 yr","MBV-MPLU"]
[null,"BVMS Plus Edition SMA 3 yr","MBV-MPLU-3YR"]
[null,"BVMS Plus channel expansion SMA 1 yr","MBV-MCHANPLU"]
[null,"BVMS Plus channel expansion SMA 3 yr","MBV-MCHANPLU-3YR"]
[null,"BVMS Plus failover VRM SMA 1 yr","MBV-MFOVPLU"]
[null,"BVMS Plus failover VRM SMA 3 yr","MBV-MFOVPLU-3YR"]
[null,"BVMS Plus Dual R. VRM Expans. (1Ch)  SMA 1yr","MBV-MDURPLU"]
[null,"BVMS Plus Dual R. VRM Expans. (1Ch)  SMA 3yr","MBV-MDURPLU-3YR"]
[]
[]
[null,"Increased version number to 9.0"]
[]
[null,"Note:"]
[null,"Licenses marked with \"no\" in column \"for Divar IP\" cannot be used on DIVAR IP 3000 / 7000 devices!"]

{"sheet":"Workstations Matrix","index":7,"n_rows":112,"n_cols":25,"rows_kept":112,"cut":false,"hidden":false,"merged":[[109,3,109,23],[104,0,105,0],[106,1,107,1],[99,9,99,22],[36,0,37,0],[39,1,42,1],[50,2,50,13],[91,2,91,23],[92,2,92,23],[93,2,93,23],[94,2,94,23],[95,2,95,23],[96,2,96,23],[74,10,74,13],[74,14,74,15],[39,21,39,23],[40,21,40,23],[41,21,41,23],[42,21,42,23],[43,21,43,23],[38,21,38,23],[35,10,37,14],[35,5,37,9],[38,10,38,14],[6,0,7,0],[35,1,37,1],[35,2,37,2],[5,1,7,1],[5,2,7,2],[5,5,7,7],[5,9,7,11],[5,13,7,15],[90,2,90,23],[35,3,37,4],[38,3,38,4],[39,3,39,4],[5,3,7,4],[41,3,41,4],[42,3,42,4],[43,3,43,4],[44,3,44,4],[40,3,40,4],[74,16,74,17],[74,18,74,19],[74,20,74,21],[74,22,74,23],[5,17,7,19],[8,17,8,19],[71,1,72,22],[73,4,73,17],[73,18,73,23],[74,1,75,1],[74,2,75,2],[78,1,81,1],[68,0,69,24],[74,24,75,24],[75,4,75,5],[75,6,75,7],[75,8,75,9],[75,10,75,11],[75,12,75,13],[75,14,75,15],[75,16,75,17],[75,18,75,19],[75,20,75,21],[75,22,75,23],[74,3,75,3],[74,4,74,5],[74,6,74,9],[39,10,39,14],[44,21,44,23],[35,18,37,20],[35,21,37,23],[2,22,2,24],[0,22,0,24],[3,22,4,23],[1,20,1,24],[8,4,8,8],[9,4,9,8],[10,4,10,8],[8,9,8,12],[9,9,9,12],[10,9,10,12],[8,13,8,16],[9,13,9,16],[10,13,10,16],[5,20,7,23],[8,20,8,23],[9,20,9,23],[10,20,10,23],[9,17,9,19],[10,17,10,19],[33,7,33,22],[104,18,104,19],[104,20,104,21],[104,22,104,23],[38,5,38,9],[39,5,39,9],[40,5,40,9],[41,5,41,9],[42,5,42,9],[43,5,43,9],[44,5,44,9],[40,10,40,14],[41,10,41,14],[42,10,42,14],[43,10,43,14],[44,10,44,14],[46,2,47,23],[38,18,38,20],[39,18,39,20],[40,18,40,20],[41,18,41,20],[42,18,42,20],[43,18,43,20],[44,18,44,20],[38,15,38,17],[105,22,105,23],[101,1,102,23],[100,22,100,24],[98,22,98,24],[111,2,111,23],[105,4,105,5],[105,6,105,7],[105,8,105,9],[105,10,105,11],[105,12,105,13],[105,14,105,15],[105,16,105,17],[105,18,105,19],[105,20,105,21],[103,1,105,1],[103,2,105,2],[103,3,105,3],[103,4,103,17],[103,18,103,23],[104,4,104,5],[104,6,104,9],[104,10,104,13],[104,14,104,15],[104,16,104,17],[82,1,83,1],[84,1,85,1],[11,4,11,8],[11,9,11,12],[11,13,11,16],[11,17,11,19],[11,20,11,23],[44,1,45,1],[45,3,45,4],[45,5,45,9],[45,10,45,14],[45,15,45,17],[45,18,45,20],[45,21,45,23],[32,22,32,24],[34,22,34,24],[12,22,12,24],[35,15,37,17],[39,15,39,17],[40,15,40,17],[41,15,41,17],[42,15,42,17],[43,15,43,17],[44,15,44,17]]}
[]
[]
[]
[]
[]
[null,"Model","Base Unit","HDD",null,"DVD Drive",null,null,null,"Processor",null,null,null,"Memory",null,null,null,"Service",null,null,"OS"]
[null,null,"Base Unit"]
[null,null,"Base Unit"]
[null,"Z240 SFF","HP Z240 240W 92% Efficient Chassis","500GB 7200 RPM SATA","SuperMulti DVD RW SATA",null,null,null,null,"Intel Core i7-6700 CPU @ 3.40 GHz",null,null,null,"8GB DDR4-2133 (2x4GB) RAM",null,null,null,"HP 3‑year Next Business Day on-site hardware support",null,null,"Microsoft Windows 10 Pro Edition, 64-bit OS"]
[null,"Z440 NG","HP Z440 700W 90% Efficient Chassis","500GB 7200 RPM SATA","SuperMulti DVD RW SATA",null,null,null,null,"Intel Xeon E5-1620 v4 3.5 10M 2133 4C CPU",null,null,null,"8GB DDR4-2400 ECC (2x4GB) RAM",null,null,null,"HP 3‑year Next Business Day on-site hardware support",null,null,"Microsoft Windows 10 Pro Edition, 64-bit OS"]
[null,"Z440 EE","HP Z440 700W 90% Efficient Chassis","500GB 7200 RPM SATA","Blu-ray Writer SATA ",null,null,null,null,"Intel Xeon E5-1650 v4 3.6 15M 2400 6C CPU",null,null,null,"8GB DDR4-2400 ECC (2x4GB) RAM",null,null,null,"HP 3‑year Next Business Day on-site hardware support",null,null,"Microsoft Windows 10 Pro Edition, 64-bit OS"]
[null,"Z4G4","HP Z4 G4 750 W 90% Efficient Chassis","500GB 7200 RPM SATA","HP Slim DVD-Writer",null,null,null,null,"Intel Xeon W-2123 3.6 GHz, 8.25 MB cache, 4C CPU",null,null,null,"8 GB (1 x 8 GB) DDR4 2666 DIMM ",null,null,null,"HP 3‑year Next Business Day on-site hardware support",null,null,"Microsoft Windows 10 Pro Edition, 64-bit OS"]
[]
[]
[]
[]
[]
[]
[]
[]
[]
[]
[]
[]
[]
[]
[]
[]
[]
[]
[]
[]
[]
[]
[]
[null,"Model","Graphics cards","Application",null,"Description",null,null,null,null,"No of cards supported",null,null,null,null,"Maximum monitors per card",null,null,"Max monitors per WS (1)",null,null,"GPU decoding supported"]
[null,"CTN","CTN"]
[null,"CTN","CTN"]
[null,"Z240 SFF","MHW-AWGC-K620","Entry 3D Graphics Card",null,"NVIDIA Quadro K620 \n(2 GB)",null,null,null,null,"No 2nd card supported",null,null,null,null,2,null,null,2,null,null,"yes"]
[null,"Z440 NG","MHW-AWGC-M2000","Mid-Range 3D Graphics Card",null,"NVIDIA Quadro M2000 \n(4 GB)",null,null,null,null,"1 or 2 of these cards are\nsupported—2nd\ncard must match 1st",null,null,null,null,"4 (2)",null,null,"4 (2)",null,null,"yes"]
[null,null,"MHW-AWGC-M4000","High-End 3D Graphics Card",null,"NVIDIA Quadro M4000 (8GB)",null,null,null,null,"No 2nd card supported",null,null,null,null,4,null,null,4,null,null,"yes"]
[null,null,"n/a","Mid-Range 3D Graphics Card",null,"NVIDIA Quadro P 2000 (5GB)",null,null,null,null,"NVIDIA Quadro P 2000 (5GB)",null,null,null,null,4,null,null,4,null,null,"yes"]
[null,null,"n/a","High-End 3D Graphics Card",null,"NVIDIA Quadro P 4000 (8GB)",null,null,null,null,"No 2nd card supported",null,null,null,null,4,null,null,4,null,null,"yes"]
[null,"Z440 EE","MHW-AWGC-M4000","High-End 3D Graphics Card",null,"NVIDIA Quadro M4000 (8GB)",null,null,null,null,"No 2nd card supported",null,null,null,null,4,null,null,4,null,null,"yes"]
[null,"Z4G4","n/a","Mid-Range 3D Graphics Card",null,"NVIDIA Quadro P 2000 (5GB)",null,null,null,null,"No 2nd card supported",null,null,null,null,4,null,null,4,null,null,"yes"]
[null,null,"n/a","High-End 3D Graphics Card",null,"NVIDIA Quadro P 4000 (8GB)",null,null,null,null,"No 2nd card supported",null,null,null,null,4,null,null,4,null,null,"yes"]
[null,null,"(1) BVMS uses a maximum of 4 montiors\n(2) multiple cards of the similar type"]
[]
[]
[]
[]
[]
[]
[]
[]
[]
[]
[]
[]
[]
[]
[]
[]
[]
[]
[]
[]
[]
["\n\nNote: The following performance values were measured in Bosch labs under ideal test conditions in live mode using a standard scene.  Real life results may differ depending on the camera and stream settings, the scenes and their conditions, as well as additional workstation load."]
[]
[]
[]
[]
[null,null,null,null,"H.264 , Default Profile \"Balanced standard\"",null,null,null,null,null,null,null,null,null,null,null,null,null,"H.265, Default Profile \"Balanced standard\" "]
[null,"Model","Graphic cards","Description","480p/2CIF",null,"720p",null,null,null,"1080p",null,null,null,"5MP",null,"4K",null,"720p",null,"1080p",null,"5MP"]
[null,"CTN","CTN",null,"25 fps",null,"30 fps",null,"60 fps",null,"30 fps",null,"60 fps",null,"12 fps",null,"(3840x 2160)",null,"30 fps",null,"30 fps",null,"30 fps"]
[null,"Z240 SFF","MHW-AWGC-K620","NVIDIA Quadro K620 (2 GB)","60",null,28,"+G",12,"+G",20,"+G",8,"+G",18,"+G",7,"+G",26,null,12,null,4,null," (1)"]
[null,null,"n.a.","Intel HD Graphics 530","60",null,26,"+G",12,"+G",17,"+G",6,"+G",15,"+G",3,null,30,"+G",12,"+G",6,"+G"]
[null,"Z440 NG","MHW-AWGC-M2000","NVIDIA Quadro M2000 (4GB)",120,null,38,"+G",16,"+G",24,"+G",13,"+G",16,"+G",7,"+G",38,"+G",20,"+G",7,"+G"]
[null,null,"MHW-AWGC-M4000","NVIDIA Quadro M4000 (8GB)",120,null,38,"+G",18,"+G",22,"+G",11,"+G",16,"+G",6,"+G",26,null,12,null,4,null," (1)"]
[null,null,"n/a","NVIDIA Quadro P2000 (5GB)",120,null,40,"+G",14,"+G",26,"+G",12,"+G",13,"+G",6,"+G",40,"+G",22,"+G",10,"+G"]
[null,null,"n/a","NVIDIA Quadro P4000 (8GB)",120,null,40,"+G",15,"+G",26,"+G",12,"+G",13,"+G",6,"+G",38,"+G",22,"+G",10,"+G"]
[null,"Z440 EE","MHW-AWGC-M4000","NVIDIA Quadro M4000 (8GB)",120,null,44,"+G",22,"+G",25,"+G",13,"+G",20,"+G",6,"+G",30,null,14,null,5,null," (1)"]
[null,null,"n/a","NVIDIA Quadro P4000 (8GB)","120",null,45,"+G",20,"+G",28,"+G",15,"+G",20,"+G",7,"+G",44,"+G",24,"+G",10,"+G"]
[null,"Z4G4","n/a","NVIDIA Quadro P2000 (5GB)",120,null,36,"+G",15,"+G",22,"+G",12,"+G",16,"+G",6,"+G",34,"+G",19,"+G",9,"+G"]
[null,null,"n/a","NVIDIA Quadro P4000 (8GB)",120,null,36,"+G",16,"+G",24,"+G",13,"+G",17,"+G",6,"+G",34,"+G",20,"+G",9,"+G"]
[null,"Divar IP 7000 R2","AMD FirePro W4100","AMD FirePro W4100 (2 GB)",40,null,15,null,8,null,8,null,4,null,4,null,0,null,8,null,6,null,1]
[]
[null,null,null,null,null,null,null,null,null,null,null,null,null,null,null,null,null,null,null,null,null,null,null,"Test limit is exceeded whenever CPU Load >90% or frame drop >5% or the live stream judders"]
[null,"Attention: ","Since BVMS 9.0 the values have been measured with different settings than in previous versions."]
[null,"+G ","Utilizes GPU and CPU decoding; if GPU decoding is disabled lower values will be achieved; GPU decoding is only available on certain NVIDIA graphics cards."]
[null,"(1) ","Not all NVIDIA graphics cards are capable of hardware accelerated decoding of H.265 streams."]
[null,"Note 2: ","Maximum values must be under 90% CPU-load and under 5% frame drops in more than 5 out of 10 measurements, and live streams must not judder."]
[null,"Note 3: ","480p/2CIF (25fps) is limited by the maximum number of available cameos on the workstation (60 on a 2 monitor system, 120 on a 4 monitor system, 50 on 2 monitors attached to a DIP 7000 R2)"]
[null,"Note 4: ","Each cell value in a column is to be viewed in isolation as the maximum number of simultaneously viewable cameras per workstation.  Sums of values across columns are meaningless."]
[null,"Note 5: ","Values have been determined by using the default stream settings profile \"Balanced standard\""]
[]
[]
[]
[]
[]
[]
[]
[null,"Model","Graphic cards","Description","H.264 , Default Profile \"Balanced standard\"",null,null,null,null,null,null,null,null,null,null,null,null,null,"H.265, Default Profile \"Balanced standard\" "]
[null,"CTN","CTN",null,"480p/2CIF",null,"720p",null,null,null,"1080p",null,null,null,"5MP",null,"4K",null,"720p",null,"1080p",null,"5MP"]
[null,"CTN","CTN",null,"25 fps",null,"30 fps",null,"60 fps",null,"30 fps",null,"60 fps",null,"12 fps",null,"(3840x 2160)",null,"30 fps",null,"30 fps",null,"30 fps"]
[null,"Z440 NG","2 x MHW-AWGC-K620","NVIDIA Quadro K620 \n(2 GB)","120",null,38,"+G",22,"+G",30,"+G",11,"+G",25,"+G",10,"+G",26,null,12,null,5]
[null,null,"2 x MHW-AWGC-M2000","NVIDIA Quadro M2000 \n(4 GB)","120",null,54,"+G",24,"+G",30,"+G",18,"+G",22,"+G",10,"+G",50,"+G",32,"+G",11,"+G"]
[]
[null,null,null,"Test limit is exceeded whenever CPU Load >90% or frame drop >5% or the live stream judders"]
[null,"Attention:","Since BVMS 9.0 the values have been measured with different settings than in previous versions."]
[null,"Note:","Graphics card usage: All cameras are opened on monitors connected to the first graphics card. When the limit is exceeded for first GPU and CPU, two CPU cameos are closed, then possibly three or four until below the limit again.\nCameras are then opened on monitors attached to the second graphics card, until the limit is reached again."]

{"sheet":"SD lifetime","index":8,"n_rows":23,"n_cols":7,"rows_kept":23,"cut":false,"hidden":false,"merged":[]}
[]
["SD Card Lifetime Estimator"]
[null,null,null,null,null,null,"SD card size"]
["Enter your values of choice in the orange fields.",null,null,null,null,null,1]
[null,null,null,null,null,null,2]
[null,"SD Card size",32,"GB",null,null,4]
[null,null,null,null,null,null,8]
[null,"Maximum write cycles",2000,null,null,null,16]
[null,null,null,null,null,null,32]
[null,"Recording bit rate",6000,"kbps",null,null,64]
[]
[null,null,"Calculate"]
[]
[null,"Estimated maximum SD Card life time"]
[null,"Endurance time [days]",{"$f":"C23/24","v":987.65432098765416}]
[null,"Endurance time [weeks]",{"$f":"C15/7","v":141.09347442680775}]
[null,"Endurance time [months]",{"$f":"C15/30","v":32.92181069958847}]
[]
[]
[null,"Bytes / second",{"$f":"C10/8*1000","v":750000}]
[]
[null,"Endurance time [sec]",{"$f":"C6*1000000000/C20*C8","v":85333333.333333328}]
[null,"Endurance time [hours]",{"$f":"C22/3600","v":23703.703703703701}]

{"sheet":"local recording","index":9,"n_rows":13,"n_cols":6,"rows_kept":13,"cut":false,"hidden":false,"merged":[]}
["Bosch IP networked video - local recording"]
[]
[]
[null,"Local recording"]
[null,"Video data rate",6000,"Kbits/s"]
[null,"SD/CF/hard disk total disk space",40,"Gigabytes"]
[null,"No.of cameras",1]
[]
[null,"Recording duration per camera",{"$f":"INT(C12/60/60/24)","v":0},"days and",{"$f":"(C12-C9*24*60*60)/60/60","v":14.757736296296295},"hours"]
[]
[]
[null,"which is",{"$f":"C6*C13*1024*1024*8/C5/C7","v":53127.850666666665},"seconds"]
[null,"Headroom",0.95]

{"sheet":"MPEG4 Data Rate_PAL","index":10,"n_rows":70,"n_cols":11,"rows_kept":70,"cut":false,"hidden":true,"merged":[[0,0,0,10],[1,0,3,0],[1,1,3,1],[1,2,1,4],[1,5,1,7],[1,8,1,10],[2,2,2,4],[2,5,2,7],[2,8,2,10]]}
["MPEG 4 bitrates"]
["Video Resolution","Video fram-rate (IPS)","Quiet",null,null,"Medium",null,null,"Busy"]
[null,null,"Video Quality",null,null,"Video Quality",null,null,"Video Quality"]
[null,null,"optimised","medium","high","optimised","medium","high","optimised","medium","high"]
["QCIF",25,36,65,94,54,105.5,157,109,224.5,340]
["QCIF",13,33,36,39,37,60,83,84,150.5,217]
["QCIF",8,22,35.5,49,27,44.5,62,55,101,147]
["QCIF",6,18,31,44,23,38,53,58,87.5,117]
["QCIF",5,18,24.5,31,20,30.5,41,41,72.5,104]
["QCIF",4,17,22,27,17,27,37,33,56.5,80]
["QCIF",3,16,17.5,19,16,25.5,35,35,53.5,72]
["QCIF",2,13,18,23,13,19,25,28,45,62]
["QCIF",1,11,10.5,10,9,11.5,14,24,39,54]
["CIF",25,94,159.5,225,221,399.5,578,420,633.5,847]
["CIF",13,110,143,176,156,260,364,338,580,822]
["CIF",8,67,124.5,182,107,193,279,268,431.5,595]
["CIF",6,62,97.5,133,98,164.5,231,201,341,481]
["CIF",5,48,72,96,85,127,169,186,297,408]
["CIF",4,55,70.5,86,67,108,149,236,363.5,491]
["CIF",3,46,65.5,85,61,97.5,134,205,321.5,438]
["CIF",2,35,53.5,72,44,73,102,166,250,334]
["CIF",1,26,31.5,37,29,44,59,100,142.5,185]
["2CIF",25,307,651,995,549,993.5,1438,795,1362,1929]
["2CIF",13,258,492.5,727,331,616.5,902,679,1173,1667]
["2CIF",8,179,383,587,244,446,648,581,963,1345]
["2CIF",6,125,228,331,207,353,499,660,1043.5,1427]
["2CIF",5,127,239,351,154,294.5,435,648,904,1160]
["2CIF",4,110,191,272,142,244,346,497,713,929]
["2CIF",3,75,144.5,214,128,209,290,421,629.5,838]
["2CIF",2,69,116,163,100,160,220,324,453.5,583]
["2CIF",1,53,70,87,53,83,113,177,259,341]
["4CIF",25,614,1318,2022,1084,2005,2926,1596,2654.5,3713]
["4CIF",13,505,981.5,1458,664,1217.5,1771,1357,2198,3039]
["4CIF",8,344,736.5,1129,492,929,1366,1048,1954,2860]
["4CIF",6,298,458,618,404,674.5,945,1375,2004,2633]
["4CIF",5,257,492.5,728,326,577.5,829,1198,1905.5,2613]
["4CIF",4,221,403.5,586,289,477.5,666,911,1420,1929]
["4CIF",3,152,297,442,227,413,599,859,1244.5,1630]
["4CIF",2,129,211.5,294,184,315.5,447,625,915.5,1206]
["4CIF",1,95,134,173,108,180,252,371,547,723]
["HALF-D1",25,223,361,499,454,796,1138,833,1261,1689]
["HALF-D1",13,187,302.5,418,279,521.5,764,649,1186.5,1724]
["HALF-D1",8,133,237,341,223,394,565,522,829,1136]
["HALF-D1",6,133,173.5,214,190,320.5,451,424,714,1004]
["HALF-D1",5,137,164,191,166,276.5,387,364,572.5,781]
["HALF-D1",4,101,150.5,200,130,208.5,287,432,678,924]
["HALF-D1",3,70,132.5,195,105,188,271,447,656,865]
["HALF-D1",2,58,87,116,92,140.5,189,328,493.5,659]
["HALF-D1",1,50,60.5,71,53,84,115,208,293,378]
["2/3D1",25,295,511.5,728,631,1110,1589,1040,1615,2190]
["2/3D1",13,224,412.5,601,377,724,1071,836,1560,2284]
["2/3D1",8,165,345.5,526,295,496.5,698,666,1058.5,1451]
["2/3D1",6,166,220,274,245,420.5,596,562,916.5,1271]
["2/3D1",5,102,215,328,192,349.5,507,628,966,1304]
["2/3D1",4,127,201,275,152,270,388,677,950.5,1224]
["2/3D1",3,79,167,255,166,269.5,373,567,858,1149]
["2/3D1",2,80,119,158,121,196,271,440,622.5,805]
["2/3D1",1,43,82.5,122,75,112,149,234,370,506]
[]
[]
[]
["All the tests were done with the VCS test DVD."]
["The following scenes where selected:"]
[]
["Quiet","Scene 9"]
["Medium","Scene 14"]
["Busy","Scene 15"]
[]
["Tests are based on the VIP-1600 version 2.50 B30."]
["Testdate: 22nd February 2007"]

{"sheet":"PAL_NTSC","index":11,"n_rows":32,"n_cols":16,"rows_kept":32,"cut":false,"hidden":true,"merged":[]}
[null,"NTSC","PAL"]
["SKIP",30,25,null,null,null,null,null,"PALTONTSC"]
[1,{"$f":"$B$2/A3","v":30},{"$f":"$C$2/A3","v":25},null,null,null,null,null,25,30,30,null,null,{"$f":"ROUNDUP($I3*1.2,1)","v":30},{"$f":"ROUNDDOWN($I3*1.23,1)","v":30.7},{"$f":"ROUND($I3*1.21,0)","v":30}]
[2,{"$f":"$B$2/A4","v":15},{"$f":"$C$2/A4","v":12.5},null,null,null,null,null,12.5,15,15,null,null,15,{"$f":"ROUNDDOWN($I4*1.25,1)","v":15.6},{"$f":"ROUND($I4*1.21,0)","v":15}]
[3,10,8.3333333333333339,null,null,null,null,null,8,10,10,null,null,9.6,10,10]
[4,7.5,6.25,null,null,null,null,null,6,7.5,8,null,null,7.2,7.5,7]
[5,6,5,null,null,null,null,null,5,6,6,null,null,6,6.2,6]
[6,5,4.166666666666667,null,null,null,null,null,4,5,5,null,null,4.8,5,5]
[7,4.2857142857142856,3.5714285714285716,null,null,null,null,null,3,3.75,4,null,null,3.6,3.7,4]
[8,3.75,3.125,null,null,null,null,null,2,2,2,null,null,2.4,2.5,2]
[9,3.3333333333333335,2.7777777777777777,null,null,null,null,null,1,1,1,null,null,1.2,1.2,1]
[10,3,2.5]
[11,2.7272727272727271,2.2727272727272729,null,null,null,null,null,"1,2,3,4,5,6,8,12,25  1,2,4,5,6,7,10,15,30"]
[12,2.5,2.0833333333333335]
[13,2.3076923076923075,1.9230769230769231]
[14,2.1428571428571428,1.7857142857142858]
[15,2,1.6666666666666667]
[16,1.875,1.5625]
[17,1.7647058823529411,1.4705882352941178]
[18,1.6666666666666667,1.3888888888888888]
[19,1.5789473684210527,1.3157894736842106]
[20,1.5,{"$f":"$C$2/A22","v":1.25}]
[21,1.4285714285714286,1.1904761904761905]
[22,1.3636363636363635,1.1363636363636365]
[23,1.3043478260869565,1.0869565217391304]
[24,1.25,1.0416666666666667]
[25,1.2,1]
[26,1.1538461538461537,0.96153846153846156]
[27,1.1111111111111112,0.92592592592592593]
[28,1.0714285714285714,{"$f":"$C$2/A30","v":0.8928571428571429}]
[29,1.0344827586206897,{"$f":"$C$2/A31","v":0.86206896551724133}]
[30,1,{"$f":"$C$2/A32","v":0.83333333333333337}]

{"sheet":"Sheet1","index":12,"n_rows":207,"n_cols":36,"rows_kept":207,"cut":false,"hidden":true,"merged":[]}
[null,"DIVAR IP 3000 (already includes BVMS for 32ch)"]
[null,"DIVAR IP 7000 (already includes BVMS for 32ch, expandable to 128ch)"]
[null,"BVMS Lite-32 9.0,NonEx 32Ch 2WS 0DVR 1Kb"]
[null,"BVMS Lite-64 9.0,NonEx 64Ch 4WS 0DVR 2Kb"]
[null,"BVMS Professional 9.0, 8Ch 2WS 1DVR 1Kb"]
[null,"BVMS Enterprise 9.0, 8Ch 2WS 2Sub 1DVR 1kb"]
[null,"BVMS Plus 9.0, 8CH 5WS 1DVR 5Kb"]
[]
[null,"Dinion",null,null,null,null,"MPEG-4"]
[null,"Dinion IP",null,null,null,null,"H.264"]
[null,"Flexidome"]
[null,"Flexidome IP"]
[null,"Autodome"]
[null,"Autodome IP"]
[null,"Extreme"]
[null,"Extreme IP"]
[null,"3rd party Analog Fixed-Camera"]
[null,"3rd party Analog PTZ / Dome"]
[]
[null,null,null,null,null,null,"MHW-W67M2D4-AE  (less then 32 cameras)"]
[null,null,null,null,null,null,"MHW-W67M2-NG + MHW-AWGC-NVS450 (less then 32 cameras)"]
[null,null,null,null,null,null,"MHW-W67M2-NG + MHW-AWGC-FX1700E (less then 32 cameras)"]
[null,null,null,null,null,null,"MHW-W67M2-NG + MHW-AWGC-FX4800 (less then 32 cameras)"]
[null,null,null,null,null,null,"MHW-SM5M2-DE ",null,null,null,null,null,null,"None",0]
[null,null,null,null,null,null,"MHW-SM5M2-UK ",null,null,null,null,null,null,"VJD-3000",1]
[null,"VIPX1600M4S",null,null,null,null,"MHW-SM5M2-FR",null,null,null,null,null,null,"VJD-8000 (single monitor mode;release:2016Q1)",1]
[null,"VIPX1600M4SA",null,null,null,null,"MHW-SL5M4-DE",null,null,null,null,null,null,"VJD-8000 (dual monitor mode;release:2016Q1)",2]
[null,"VJT-X40S",null,null,null,null,"MHW-SL5M4-UK",null,null,null,null,null,null,"HP ProDesk 600G1 (single monitor mode)",1]
[null,"VJT-X40SN",null,null,null,null,"MHW-SL5M4-FR",null,null,null,null,null,null,"HP ProDesk 600G1 (Dual monitor mode)",2]
[null,null,null,null,null,null,null,null,null,null,null,null,null,"EOL - VIP-XDHD",1]
[null,null,null,null,null,null,null,null,null,null,null,null,null,"EOL - VJD-7000 (single monitor mode)",1]
[null,null,null,"VIPX1(A)","VIPX2(A)",null,"MHW-SM5M2-DE",null,null,null,"MHW-SL5M4-DE",null,null,"EOL - VJD-7000 (dual monitor mode)",2]
[null,null,null,"VJT-X10S","VJT-X20S",null,"MHW-SM5M2-UK",null,null,null,"MHW-SL5M4-UK",null,null,"VIP-XD",1]
[null,null,null,"VJT-X10SN","VJT-X20SN",null,"MHW-SM5M2-FR",null,null,null,"MHW-SL5M4-FR",null,null,"VIP-XDA",1]
[null,null,null,null,null,null,null,null,null,null,"MHW-SM5M2-DE",null,null,"EOL - VIP-X1600-XFMD",4]
[null,null,null,null,null,null,null,null,null,null,"MHW-SM5M2-UK"]
[null,null,null,null,null,null,null,null,null,null,"MHW-SM5M2-FR"]
[null,"ü"]
[null,null,null,null,null,null,"MHW-W67M2-HE"]
[null,null,null,null,null,null,"MHW-WQ67M4-EE"]
[null,null,null,null,null,null,"MHW-W67M2-NG + MHW-AWGC-NVS450"]
[null,null,null,null,null,null,"MHW-W67M2-NG + MHW-AWGC-FX1800",null,null,null,null,null,"none"]
[null,null,null,null,null,null,"MHW-W67M2-NG + MHW-AWGC-FX4800",null,null,null,null,null,"DB06C1050R2"]
[null,"VIPXD",null,null,null,null,"3rd party - According minimal system specifications",null,null,null,null,null,"DB12C2050R2"]
[null,"VIP-X1600-XFMD",null,null,null,null,"Same as Central server as this in an All-in-one system",null,null,null,null,null,"DB06C1075R2"]
[null,"VIPXDA",null,null,null,null,null,null,null,null,null,null,"DB12C2075R2"]
[null,null,null,null,null,null,"SCSI",null,null,null,null,null,"DB12C2200R2"]
[null,"CIF",null,null,null,null,"iSCSI",null,null,null,null,null,"DB18C3025R2"]
[null,"2CIF",null,null,null,null,null,null,null,null,null,null,"DB18C3050R2"]
[null,"4CIF",null,0,null,null,"Standalone",null,null,null,null,null,"DB18C3100R2"]
[null,null,null,25,null,null,"Redundancy",null,null,null,null,null,"DB18C3200R2"]
[null,null,null,12.5,null,null,null,null,null,null,null,null,"DB24C4025R2"]
[null,null,null,8,null,null,null,null,null,null,null,null,"DB24C4050R2"]
[null,"NVR",null,6,null,null,null,null,null,null,null,null,"DB24C4100R2"]
[null,"VRM",null,5,null,null,null,null,null,null,null,null,"DB24C4200R2"]
[null,"DiBOS",null,4,null,null,"NetApp 2020 Base Unit 6x1000GB",null,null,null,null,null,"DB30C5025R2"]
[null,null,null,3,null,null,"NetApp 2020 Base Unit 12x1000GB",null,null,null,null,null,"DB30C5050R2"]
[null,null,null,2,null,null,"NetApp 2050 Base Unit 20x1000GB",null,null,null,null,null,"DB30C5100R2"]
[null,null,null,1,null,null,"DVA-12T-04075RA",null,null,null,null,null,"DB30C5200R2"]
[null,"Continues",null,null,null,null,"DVA-12T-12075RA",null,null,null,null,null,"DB06C1025D2"]
[null,"Alarm",null,null,null,null,null,null,null,null,null,null,"DB06C1050D2"]
[null,null,null,null,null,null,"None",null,null,null,null,null,"DB12C2025D2"]
[null,null,null,null,null,null,"None (recording on internal HDD drives)",null,null,null,null,null,"DB12C2050D2"]
[null,"Export ",null,null,null,null,"DVA-08E-04050RA - EOL"]
[null,"Tape",null,null,null,null,"DVA-08E-08050RA - EOL"]
[null,"Back Up",null,null,null,null,"DVA-08E-04075RA - EOL",null,null,null,"DVA-12T-04075RA"]
[null,null,null,null,null,null,"DVA-08E-08075RA - EOL",null,null,null,"DVA-12T-12075RA"]
[null,"DSL 0-500kbps",null,null,null,null,"DVA-08E-04100RA",null,null,null,"FAS2020 Base Unit 6x1000GB"]
[null,"DSL 0.5-1Mbps",null,null,null,null,"DVA-08E-08100RA",null,null,null,"FAS2020 Base Unit 12x1000GB"]
[null,"DSL 1-2Mbps",null,null,null,null,"DVA-08K-04050RA - EOL",null,null,null,"FAS2020 XStage1 26x1000GB"]
[null,"DSL 2-5Mbps",null,null,null,null,"DVA-08K-08050RA - EOL",null,null,null,"FAS2020 XStage1 40x1000GB"]
[null,"100Mbps FD",null,null,null,null,"DVA-08K-04075RA - EOL",null,null,null,"FAS2050 Base Unit 20x750GB"]
[null,"100Mbps HD",null,null,null,null,"DVA-08K-08075RA - EOL",null,null,null,"FAS2050 XStage1 34x1000GB"]
[null,"1000Mbps FD",null,"One Way",null,null,"DVA-08K-04100RA",null,null,null,"FAS2050 XStage2 48x1000GB"]
[null,null,null,"Two Way",null,null,"DVA-08K-08100RA",null,null,null,"FAS2050 XStage3 62x1000GB"]
[null,null,null,null,null,null,"DVA-16K-08050RA - EOL",null,null,null,"FAS2050 XStage4 76x1000GB"]
[null,null,null,null,null,null,"DVA-16K-16050RA - EOL",null,null,null,"FAS2050 XStage5 90x1000GB"]
[null,null,null,null,null,null,"DVA-16K-08075RA - EOL",null,null,null,"FAS2050 XStage6 104x1000GB"]
[null,null,null,null,null,null,"DVA-16K-16075RA - EOL"]
[null,null,null,null,null,null,"DVA-16K-08100RA"]
[null,null,null,null,null,null,"DVA-16K-16100RA",null,null,null,"MHW-AWM1E-DE",null,"1 GB Memory Expansion Workstation for DE"]
[null,null,null,null,null,null,null,null,null,null,"MHW-AWM2E-DE",null,"2 GB Memory Expansion Workstation for DE"]
[null,null,null,null,null,null,null,null,null,null,"MHW-ASM1E-DE",null,"1 GB Memory Expansion Server for DE"]
[null,null,null,null,null,null,null,null,null,null,"MHW-ASM2E-DE",null,"2 GB Memory Expansion Server for DE"]
[]
[null,"VRM service running on DLA 1200 series (std 32ch / max 64ch)"]
[null,"VRM service running on DLA 1400 series (std 64ch / max 128ch)"]
[null,"MHW.S360R7-LL Entry-level server - Standard Performance",null,null,null,null,null,null,null,null,"MHW-WZ2R0-EL HP Z200 Entry-level workstation"]
[null,"MHW.S380R7.EL Midrange server - advanced performance",null,null,null,null,null,null,null,null,"MHW-WZ2R0-PE HP Z200 Premium workstation"]
[null,"MHW.S380R7.MC Upper Midrange server - High performance",null,null,null,null,null,null,null,null,"MHW-WZ4R0-HE HP Z400 High-end workstation"]
[null,"MHW.S380R7.HC High End server - Highest performance",null,null,null,null,null,null,null,null,"MHW-WZ4R0-EE HP Z400 Extreme edition workstation"]
[null,"EOL- MHW.S360R6-LL Entry-level server - Standard Performance",null,null,null,null,null,null,null,null,"MHW-WZ2R0-NG HP Z200 Premium workstation NG + MHW-AWGC-FX1800"]
[null,"EOL- MHW.S380R6.EL Midrange server - advanced performance",null,null,null,null,null,null,null,null,"MHW-WZ4R0-NG HP Z400 High-end workstation NG + MHW-AWGC-FX1800"]
[null,"EOL- MHW.S380R6.MC Upper Midrange server - High performance",null,null,null,null,null,null,null,null,"3rd party - According minimal system specifications"]
[null,"EOL- MHW.S380R6.HC High End server - Highest performance",null,null,null,null,null,null,null,null,"Same as Central server as this in an All-in-one system"]
[null,"EOL- MHW.S380R6.IDN Midrange server - standard performance (internal hard disks)"]
[null,"MHW-WZ4R0-EE HP Z400 Extreme edition workstation (less then 64 cameras)"]
[null,"MHW-WZ2R0-NG HP Z200 Premium workstation NG + MHW-AWGC-FX1800 (less then 32 cameras)",null,null,null,null,null,null,null,null,null,"MHW.S360R7-LL Entry-level server - Standard Performance"]
[null,"MHW-WZ4R0-NG HP Z400 High-end workstation NG + MHW-AWGC-FX580 (less then 32 cameras)",null,null,null,null,null,null,null,null,null,"MHW.S380R7.EL Midrange server - advanced performance"]
[null,"MHW-WZ4R0-NG HP Z400 High-end workstation NG + MHW-AWGC-FX1800 (less then 32 cameras)",null,null,null,null,null,null,null,null,null,"MHW.S380R7.MC Upper Midrange server - High performance"]
[null,"3rd party - According minimal system specifications",null,null,null,null,null,null,null,null,null,"MHW.S380R7.HC High End server - Highest performance"]
[null,null,null,null,null,null,null,null,null,null,null,"3rd party - According minimal system specifications"]
[null,null,null,null,null,null,null,null,null,null,null,"EOL- MHW.S360R6-LL Entry-level server - Standard Performance"]
[null,null,null,null,null,null,null,null,null,null,null,"EOL- MHW.S380R6.EL Midrange server - advanced performance"]
[null,"Old",null,"New",null,null,null,null,null,null,null,"EOL- MHW.S380R6.MC Upper Midrange server - High performance"]
[null,"MHW-AWGC-FX370",null,"MHW-AWGC-FX580",null,null,null,null,null,null,null,"EOL- MHW.S380R6.HC High End server - Highest performance"]
[null,"MHW-AWGC-FX570",null,"MHW-AWGC-FX580",null,null,null,null,null,null,null,"EOL- MHW.S380R6.IDN Midrange server - standard performance (internal hard disks)"]
[null,"MHW-AWGC-FX1700",null,"MHW-AWGC-FX1800",null,null,null,null,null,null,null,null,null,null,null,null,null,null,null,"MHW-S380R8-SC","Bosch Standard Application Server (WW)","HP DL380",{"$f":"V108&\" | \"&T108&\" - \"&U108","v":"HP DL380 | MHW-S380R8-SC - Bosch Standard Application Server (WW)"}]
[null,"MHW-AWGC-ATIV56",null,"MHW-AWGC-ATIV57"]
[null,"MHW-AWGC-ATIV72",null,"MHW-AWGC-ATIV77"]
[null,null,null,"MHW-AWGC-FX3800"]
[null,null,null,null,null,null,null,null,null,null,null,"WS"]
[null,null,null,null,null,null,null,null,null,null,null,"MHW-WZ2R1-EL HP Z210 Entry-level workstation",null,null,null,null,null,null,null,"MHW-WZ2R3-PEUK","MHW-AWGC-K600","HP Z230","HP Z230 | MHW-WZ2R3-PE incl. MHW-AWGC-K600 (up to 64 cameras)"]
[null,null,null,null,null,null,null,null,null,null,null,"MHW-WZ2R1-PE HP Z210 Premium workstation",null,null,null,null,null,null,null,"MHW-WZ4R2-NG","MHW-AWGC-K600","HP Z420","HP Z440 | MHW-WZ4R4-NG + 1x MHW-AWGC-K620 (up to 64 cameras)"]
[null,null,null,null,null,null,null,null,null,null,null,"MHW-WZ4R0-HE HP Z400 High-end workstation",null,null,null,null,null,null,null,"MHW-WZ4R2-NG","MHW-AWGC-K2000","HP Z420","HP Z440 | MHW-WZ4R4-NG + 1x MHW-AWGC-K2200 (up to 64 cameras)"]
[null,null,null,null,null,null,null,null,null,null,null,"MHW-WZ4R0-EE HP Z400 Extreme edition workstation",null,null,null,null,null,null,null,"MHW-WZ4R2-NG","MHW-AWGC-K4000","HP Z420","HP Z440 | MHW-WZ4R4-NG + 1x MHW-AWGC-K4200 (up to 64 cameras)"]
[null,null,null,null,null,null,null,null,null,null,null,"MHW-WZ2R1-NG HP Z210 Premium workstation NG + MHW-AWGC-Q600",null,null,null,null,null,null,null,"MHW-WZ4R2-NG","MHW-AWGC-K5000","HP Z420","HP Z440 | MHW-WZ4R4-NG + 1x MHW-AWGC-ATIW51 (up to 64 cameras)"]
[null,null,null,null,null,null,null,null,null,null,null,"MHW-WZ2R1-NG HP Z210 Premium workstation NG + MHW-AWGC-Q2000",null,null,null,null,null,null,null,"MHW-WZ4R2-EEUK","AMD FirePro W7000 (4 monitor support)","HP Z420","HP Z440 | MHW-WZ4R2-EE incl. AMD FirePro W7100  (4 monitor support)"]
[null,null,null,null,null,null,null,null,null,null,null,"MHW-WZ2R1-NG HP Z210 Premium workstation NG + MHW-AWGC-ATI38",null,null,null,null,null,null,null,"DIP-3042","Intel HD Graphics","DIVAR IP 3000",{"$f":"V119&\" | \"&T119&\" incl. \"&U119","v":"DIVAR IP 3000 | DIP-3042 incl. Intel HD Graphics"}]
[null,null,null,null,null,null,null,null,null,null,null,"MHW-WZ4R0-NG HP Z400 High-end workstation NG + MHW-AWGC-Q2000",null,null,null,null,null,null,null,"DIP-7082","AMD FirePro V3900","DIVAR IP 7000",{"$f":"V120&\" | \"&T120&\" incl. \"&U120","v":"DIVAR IP 7000 | DIP-7082 incl. AMD FirePro V3900"}]
[null,null,null,null,null,null,null,null,null,null,null,"MHW-WZ4R0-NG HP Z400 High-end workstation NG + MHW-AWGC-Q4000",null,null,null,null,null,null,null,"HW-WZ4R2-NG","2x MHW-AWGC-K600","HP Z420","HP Z440 | MHW-WZ4R4-NG + 2x MHW-AWGC-K620 (up to 64 cameras)"]
[null,null,null,null,null,null,null,null,null,null,null,"MHW-WZ4R0-NG HP Z400 High-end workstation NG + MHW-AWGC-Q5000",null,null,null,null,null,null,null,"HW-WZ4R2-NG","2x MHW-AWGC-K2000","HP Z420","HP Z440 | MHW-WZ4R4-NG + 2x MHW-AWGC-K2200 (up to 64 cameras)"]
[null,null,null,null,null,null,null,null,null,null,null,null,null,null,null,null,null,null,null,null,null,null,"HP Z440 | MHW-WZ4R4-NG + 2x MHW-AWGC-ATIW51 (up to 64 cameras)"]
[null,null,null,null,null,null,null,null,null,null,null,"MHW-WZ4R0-NG HP Z400 High-end workstation NG + MHW-AWGC-ATI38",null,null,null,null,null,null,null,null,null,null,"3rd party - According minimal system specifications"]
[null,null,null,null,null,null,null,null,null,null,null,"MHW-WZ4R0-NG HP Z400 High-end workstation NG + MHW-AWGC-ATI58",null,null,null,null,null,null,null,null,null,null,"Same as Central server as this in an All-in-one system"]
[]
[]
[]
[null,null,null,null,null,null,null,null,null,null,null,null,null,null,null,null,null,null,null,null,null,null,null,null,null,null,null,null,"VRM service running on DIVAR IP 2000 (max16ch)",null,null,null,null,null,null,"VRM service running on DIVAR IP 2000 (max 16ch)"]
[null,null,null,null,null,null,null,null,null,null,null,null,null,null,null,null,null,null,null,null,null,null,null,null,null,null,null,null,"VRM service running on DIVAR IP 3000 (max 32ch)",null,null,null,null,null,null,"VRM service running on DIVAR IP 3000 (max 32ch)"]
[null,null,null,null,null,null,null,null,null,null,null,null,null,null,null,null,null,null,null,null,null,null,null,null,null,null,null,null,"VRM service running on DIVAR IP 6000 (std 64ch / max 128ch)",null,null,null,null,null,null,"VRM service running on DIVAR IP 6000 (std 64ch / max 128ch)"]
[null,"ARCHIVE","=Sheet1!$B$61:$B$63",null,null,null,null,null,null,null,null,null,null,null,null,null,null,null,null,null,null,null,null,null,null,null,null,null,"VRM service running on DIVAR IP 7000  (std 32ch / max 128ch)",null,null,null,null,null,null,"VRM service running on DIVAR IP 7000  (std 32ch / max 128ch)"]
[null,"ARRAYS","=Sheet1!$G$53:$G$57",null,null,null,null,null,null,null,null,"VRM service running on DLA 1200 series (std 32ch / max 64ch)",null,null,null,null,null,null,null,null,null,null,null,null,null,null,null,null,"VRM service running on DLA 1200 series (std 32ch / max 64ch)",null,null,null,null,null,null,"EOL - VRM service running on DLA 1200 series (std 32ch / max 64ch)"]
[null,"AUDIO","=Sheet1!$D$71:$D$72",null,null,null,null,null,null,null,null,"VRM service running on DLA 1400 series (std 64ch / max 128ch)",null,null,null,null,null,null,null,null,null,null,null,null,null,null,null,null,"VRM service running on DLA 1400 series (std 64ch / max 128ch)",null,null,null,null,null,null,"EOL - VRM service running on DLA 1400 series (std 64ch / max 128ch)"]
[null,"BVMS","=Sheet1!$B$2:$B$4",null,null,null,null,null,null,null,null,"MHW.S360R7-LL Entry-level server - Standard Performance",null,null,null,null,null,null,null,null,null,null,null,null,null,null,null,null,"EOL - HP DL380 | MHW-S380R8-SC - Bosch Standard Application Server (WW)",null,null,null,null,null,null,"EOL - HP DL380 | MHW-S380R8-SC - Bosch Standard Application Server (WW)"]
[null,"cam1","=benchmark_records!$A$1:$A$6693",null,null,null,null,null,null,null,null,"MHW.S380R7.EL Midrange server - advanced performance",null,null,null,null,null,null,null,null,null,null,"HP Z220 | MHW-WZ2R2-PE incl. MHW-AWGC-Q2000",null,null,null,null,null,"HP DL380 | MHW-S380R9-SC - Bosch Standard Application Server (WW)",null,null,null,null,null,null,"HP DL380 | MHW-S380R9-SC - Bosch Standard Application Server (WW)"]
[null,"cam1_enc1_dr","=benchmark_records!$L:$L",null,null,null,null,null,null,null,null,"MHW.S380R7.MC Upper Midrange server - High performance",null,null,null,null,null,null,null,null,null,null,"HP Z420 | MHW-WZ4R2-NG + 1x MHW-AWGC-Q600",null,null,null,null,null,"HP Z230 | MHW-WZ2R3-PE incl. MHW-AWGC-K600 (up to 64 cameras)",null,null,null,null,null,null,"HP Z230 | MHW-WZ2R3-PE incl. MHW-AWGC-K600 (up to 64 cameras)"]
[null,"cam1_enc1_fr","=benchmark_records!$M:$M",null,null,null,null,null,null,null,null,"MHW.S380R7.HC High End server - Highest performance",null,null,null,null,null,null,null,null,null,null,"HP Z420 | MHW-WZ4R2-NG + 1x MHW-AWGC-Q2000",null,null,null,null,null,"HP Z440 | MHW-WZ4R4-NG + 1x MHW-AWGC-K620 (up to 64 cameras)",null,null,null,null,null,null,"HP Z440 | MHW-WZ4R4-NG + 1x MHW-AWGC-K620 (up to 64 cameras)"]
[null,"cam1_enc2_dr","=benchmark_records!$N:$N",null,null,null,null,null,null,null,null,"MHW-WZ4R0-EE HP Z400 Extreme edition workstation (less then 64 cameras)",null,null,null,null,null,null,null,null,null,null,"HP Z420 | MHW-WZ4R2-NG + 1x MHW-AWGC-Q4000",null,null,null,null,null,"HP Z440 | MHW-WZ4R4-NG + 1x MHW-AWGC-K2200 (up to 64 cameras)",null,null,null,null,null,null,"HP Z440 | MHW-WZ4R4-NG + 1x MHW-AWGC-K2200 (up to 64 cameras)"]
[null,"cam1_enc2_fr","=benchmark_records!$O:$O",null,null,null,null,null,null,null,null,"EOL- MHW.S360R6-LL Entry-level server - Standard Performance",null,null,null,null,null,null,null,null,null,null,"HP Z420 | MHW-WZ4R2-NG + 1x MHW-AWGC-Q5000",null,null,null,null,null,"HP Z440 | MHW-WZ4R4-NG + 1x MHW-AWGC-K4200 (up to 64 cameras)",null,null,null,null,null,null,"HP Z440 | MHW-WZ4R4-NG + 1x MHW-AWGC-K4200 (up to 64 cameras)"]
[null,"cam2","=benchmark_records!$B$1:$B$6693",null,null,null,null,null,null,null,null,"EOL- MHW.S380R6.EL Midrange server - advanced performance",null,null,null,null,null,null,null,null,null,null,"HP Z420 | MHW-WZ4R2-EE incl. AMD FirePro V7900 ",null,null,null,null,null,"HP Z440 | MHW-WZ4R4-NG + 1x MHW-AWGC-ATIW51 (up to 64 cameras)",null,null,null,null,null,null,"HP Z440 | MHW-WZ4R4-NG + 1x MHW-AWGC-ATIW51 (up to 64 cameras)"]
[null,"cam2_enc1_dr","=benchmark_records!$P:$P",null,null,null,null,null,null,null,null,"EOL- MHW.S380R6.MC Upper Midrange server - High performance",null,null,null,null,null,null,null,null,null,null,"DIVAR IP 3000 | DIP-3042 incl. Intel HD Graphics",null,null,null,null,null,"HP Z440 | MHW-WZ4R2-EE incl. AMD FirePro W7100  (up to 64 cameras)",null,null,null,null,null,null,"HP Z440 | MHW-WZ4R2-EE incl. AMD FirePro W7100  (up to 64 cameras)"]
[null,"cam2_enc1_fr","=benchmark_records!$Q:$Q",null,null,null,null,null,null,null,null,"EOL- MHW.S380R6.HC High End server - Highest performance",null,null,null,null,null,null,null,null,null,null,"DIVAR IP 7000 | DIP-7082 incl. AMD FirePro V3900",null,null,null,null,null,{"$f":"W142&\" (up to 32 cameras)\"","v":"DIVAR IP 3000 | DIP-3042 incl. Intel HD Graphics (up to 32 cameras)"},null,null,null,null,null,null,"HP Z440 | MHW-WZ4R4-NG + 2x MHW-AWGC-K620 (up to 64 cameras)"]
[null,"cam2_enc2_dr","=benchmark_records!$R:$R",null,null,null,null,null,null,null,null,"EOL- MHW.S380R6.IDN Midrange server - standard performance (internal hard disks)",null,null,null,null,null,null,null,null,null,null,"HP Z420 | HW-WZ4R2-NG + 2x MHW-AWGC-Q600",null,null,null,null,null,{"$f":"W143&\" (default 64, up to 128 cameras)\"","v":"DIVAR IP 7000 | DIP-7082 incl. AMD FirePro V3900 (default 64, up to 128 cameras)"},null,null,null,null,null,null,"HP Z440 | MHW-WZ4R4-NG + 2x MHW-AWGC-K2200 (up to 64 cameras)"]
[null,"cam2_enc2_fr","=benchmark_records!$S:$S",null,null,null,null,null,null,null,null,"MHW-WZ4R0-NG HP Z400 High-end workstation NG + MHW-AWGC-Q2000 (less then 64 cameras)",null,null,null,null,null,null,null,null,null,null,"HP Z420 | HW-WZ4R2-NG + 2x MHW-AWGC-Q2000",null,null,null,null,null,"HP Z440 | MHW-WZ4R4-NG + 2x MHW-AWGC-K620 (up to 64 cameras)",null,null,null,null,null,null,"HP Z440 | MHW-WZ4R4-NG + 2x MHW-AWGC-ATIW51 (up to 64 cameras)"]
[null,"cam3","=benchmark_records!$C$1:$C$6693",null,null,null,null,null,null,null,null,"MHW-WZ4R0-NG HP Z400 High-end workstation NG + MHW-AWGC-Q4000 (less then 64 cameras)",null,null,null,null,null,null,null,null,null,null,"3rd party - According minimal system specifications",null,null,null,null,null,"HP Z440 | MHW-WZ4R4-NG + 2x MHW-AWGC-K2200 (up to 64 cameras)",null,null,null,null,null,null,"3rd party - According minimal system specifications"]
[null,"cam3_enc1_dr","=benchmark_records!$T:$T",null,null,null,null,null,null,null,null,"MHW-WZ4R0-NG HP Z400 High-end workstation NG + MHW-AWGC-Q5000 (less then 64 cameras)",null,null,null,null,null,null,null,null,null,null,"EOL - MHW.S360R7-LL Entry-level server - Standard Performance",null,null,null,null,null,"HP Z440 | MHW-WZ4R4-NG + 2x MHW-AWGC-ATIW51 (up to 64 cameras)",null,null,null,null,null,null,"EOL - MHW.S360R7-LL Entry-level server - Standard Performance"]
[null,"cam3_enc1_fr","=benchmark_records!$U:$U",null,null,null,null,null,null,null,null,"MHW-WZ4R0-NG HP Z400 High-end workstation NG + MHW-AWGC-ATI38 (less then 64 cameras)",null,null,null,null,null,null,null,null,null,null,"EOL - MHW.S380R7.EL Midrange server - advanced performance",null,null,null,null,null,{"$f":"W146","v":"3rd party - According minimal system specifications"},null,null,null,null,null,null,"EOL - MHW.S380R7.EL Midrange server - advanced performance"]
[null,"cam3_enc2_dr","=benchmark_records!$V:$V",null,null,null,null,null,null,null,null,"MHW-WZ4R0-NG HP Z400 High-end workstation NG + MHW-AWGC-ATI58 (less then 64 cameras)",null,null,null,null,null,null,null,null,null,null,"EOL - MHW.S380R7.MC Upper Midrange server - High performance",null,null,null,null,null,{"$f":"W147","v":"EOL - MHW.S360R7-LL Entry-level server - Standard Performance"},null,null,null,null,null,null,"EOL - MHW.S380R7.MC Upper Midrange server - High performance"]
[null,"cam3_enc2_fr","=benchmark_records!$W:$W",null,null,null,null,null,null,null,null,"MHW-WZ2R1-NG HP Z210 Premium workstation NG + MHW-AWGC-Q600 (less then 32 cameras)",null,null,null,null,null,null,null,null,null,null,"EOL - MHW.S380R7.HC High End server - Highest performance",null,null,null,null,null,{"$f":"W148","v":"EOL - MHW.S380R7.EL Midrange server - advanced performance"},null,null,null,null,null,null,"EOL - MHW.S380R7.HC High End server - Highest performance"]
[null,"cam4","=benchmark_records!$D$1:$D$6693",null,null,null,null,null,null,null,null,"MHW-WZ2R1-NG HP Z210 Premium workstation NG + MHW-AWGC-Q2000 (less then 32 cameras)",null,null,null,null,null,null,null,null,null,null,null,null,null,null,null,null,{"$f":"W149","v":"EOL - MHW.S380R7.MC Upper Midrange server - High performance"}]
[null,"cam4_enc1_dr","=benchmark_records!$X:$X",null,null,null,null,null,null,null,null,"MHW-WZ2R1-NG HP Z210 Premium workstation NG + MHW-AWGC-ATI38 (less then 32 cameras)",null,null,null,null,null,null,null,null,null,null,null,null,null,null,null,null,{"$f":"W150","v":"EOL - MHW.S380R7.HC High End server - Highest performance"},null,null,null,null,null,null,"None - Not applicable"]
[null,"cam4_enc1_fr","=benchmark_records!$Y:$Y",null,null,null,null,null,null,null,null,"3rd party - According minimal system specifications",null,null,null,null,null,null,null,null,null,null,null,null,null,null,null,null,null,null,null,null,null,null,null,"EOL - HP DL380 | MHW-S380R8-SC - Bosch Standard Application Server (WW)"]
[null,"cam4_enc2_dr","=benchmark_records!$Z:$Z",null,null,null,null,null,null,null,null,null,null,null,null,null,null,null,null,null,null,null,null,null,null,null,null,null,null,null,null,null,null,null,null,"HP DL380 | MHW-S380R9-SC - Bosch Standard Application Server (WW)"]
[null,"cam4_enc2_fr","=benchmark_records!$AA:$AA",null,null,null,null,null,null,null,null,null,null,null,null,null,null,null,null,null,null,null,"none",null,null,null,null,null,null,null,null,null,null,null,null,"3rd party - According minimal system specifications"]
[null,"CAMERA","=Sheet1!$B$6:$B$15",null,null,null,null,null,null,null,null,null,null,null,null,null,null,null,null,null,null,null,"VJT-XTC-XF"]
[null,"codec","=benchmark_records!$H$1:$H$9801",null,null,null,null,null,null,null,null,null,null,null,null,null,null,null,null,null,null,null,"Build in DIVAR IP"]
[null,"DECODERS","=Sheet1!$N$21:$N$25"]
[null,"DIBOS","=Sheet1!$M$39:$M$60"]
[null,"diskarrays","=Sheet1!$K$63:$K$75",null,null,null,null,null,null,null,null,null,null,null,null,null,null,2000,"GB",{"$f":"R160*1000*1000*1000","v":2000000000000},"byte",{"$f":"T160/1024/1024/1024","v":1862.645149230957}]
[null,"DLAplusservers","=Sheet1!$B$83:$B$98",null,null,null,null,null,null,null,null,null,null,null,null,null,null,3000,"GB",{"$f":"R161*1000*1000*1000","v":3000000000000},"byte",{"$f":"T161/1024/1024/1024","v":2793.9677238464355}]
[null,"ENCODER","=Sheet1!$B$23:$B$30",null,null,null,null,null,null,null,null,null,null,null,null,null,null,4000,"GB",{"$f":"R162*1000*1000*1000","v":4000000000000},"byte",{"$f":"T162/1024/1024/1024","v":3725.2902984619141}]
[null,"encoding_standaard","=Sheet1!$G$6:$G$7"]
[null,"H.263","='BVMS checklist'!$I$362:$I$367"]
[null,"H.263_str1","='BVMS checklist'!$I$355:$I$360"]
[null,"H.264","='BVMS checklist'!$K$362:$K$363"]
[null,"H.264_1080p","='BVMS checklist'!$O$362:$O$367"]
[null,"H.264_1080p_str1","='BVMS checklist'!$O$355:$O$357"]
[null,"H.264_720p","='BVMS checklist'!$N$362:$N$365"]
[null,"H.264_720p_str1","='BVMS checklist'!$N$355"]
[null,"H.264_NBC200","='BVMS checklist'!$L$362:$L$363"]
[null,"H.264_NBC200_720p","='BVMS checklist'!$M$362:$M$365"]
[null,"H.264_NBC200_720p_str1","='BVMS checklist'!$M$355"]
[null,"H.264_NBC200_str1","='BVMS checklist'!$L$355:$L$356"]
[null,"H.264_str1","='BVMS checklist'!$K$355:$K$356"]
[null,"H.264_XFM4","='BVMS checklist'!$J$362:$J$367"]
[null,"H.264_XFM4_str1","='BVMS checklist'!$J$355:$J$360"]
[null,"HD1080p","='BVMS checklist'!$E$325:$E$328"]
[null,"HD720p","='BVMS checklist'!$E$322:$E$324"]
[null,"IPS","=Sheet1!$D$47:$D$56"]
[null,"iSCSI","=Sheet1!$G$52:$G$52"]
[null,"iscsi_on","=benchmark_records!$J$1:$J$6693"]
[null,"none","='BVMS checklist'!$E$299"]
[null,"NVR","=Sheet1!$G$29:$G$31"]
[null,"NVRserver","=Sheet1!$L$95:$L$104"]
[null,"RECORDING","=Sheet1!$B$51:$B$54"]
[null,"RECTYPE","=Sheet1!$B$57:$B$58"]
[null,"res_enc1","=benchmark_records!$E$1:$E$6693"]
[null,"res_enc2","=benchmark_records!$F$1:$F$6693"]
[null,"RESOLUTION","=Sheet1!$B$45:$B$47"]
[null,"scene_activity","=benchmark_records!$I$1:$I$6693"]
[null,"SCSI","=Sheet1!$G$59:$G$78"]
[null,"SD","='BVMS checklist'!$E$300:$E$320"]
[null,"serverg6","=Sheet1!$B$85:$B$98"]
[null,"SPEED","=Sheet1!$B$65:$B$71"]
[null,"STRUCTURE","=Sheet1!$G$44:$G$45"]
[null,"SVSTRUC","=Sheet1!$G$47:$G$50"]
[null,"table","=benchmark_records!$L$6693:A177"]
[null,"TEST","=Sheet1!$D$29:$D$31"]
[null,"vca_on","=benchmark_records!$K$1:$K$6693"]
[null,"VGA","='BVMS checklist'!$E$321"]
[null,"video_standard","=benchmark_records!$G$1:$G$6693"]
[null,"VINK","=Sheet1!$B$35"]
[null,"VRM","=Sheet1!$K$29"]
[null,"VRM1","=Sheet1!$K$29:$K$34"]
[null,"WORKSTATION","=Sheet1!$K$85:$K$92"]
[null,"YY","=Sheet1!$E$29:$E$31"]

{"sheet":"changelog","index":13,"n_rows":120,"n_cols":3,"rows_kept":120,"cut":false,"hidden":false,"merged":[]}
["Changelog:"]
["11.0.73","2018-08-27","updated workstation matrix"]
["11.0.72","2018-08-16","updated workstation matrix"]
["11.0.71","2018-08-14","added example videos"]
["11.0.70","2018-08-13","automatic saving deactivated"]
["11.0.69","2018-08-08","Updated bit rate guide"]
["11.0.67","2018-07-31","Updated new bitrate guide"]
["11.0.61","2018-07-13","Added new bitrate guide"]
["11.0.55","2018-02-27","Corrected HDD label"]
["11.0.54","2018-01-26","Added Netapp E-Series 2800, corrected max VRM Server, added unmanaged site licenses"]
["11.0.53","2018-01-15","Corrected iSCSI session error for DIP 7000 combination"]
["11.0.52","2017-12-01","VIP XD channel calculation corrected"]
["11.0.51","2017-11-21","updated bitrate guide, complete calculation reworked, VIPXD note"]
["11.0.49","2017-11-08","updated workstation matrix"]
["11.0.48","2017-11-03","updated workstation matrix"]
["11.0.47","2017-10-05","updated bitrate guide"]
["11.0.46","2017-09-22","add CPP7 bitrate guide"]
["11.0.45","2017-08-16","added bitrate guide for cpp7.3 platform"]
["11.0.44","2017-08-11","added CPP7.3_1080p and CPP7.3_1080p60 cameras and benchmarks, increased BVMS Version to 8.0"]
["11.0.43","2017-08-09","added camera Flexidome 5000i and CPP7.3_MP, benchmark records missing for the cameras, check with sachin"]
["11.0.42","2017-08-08","Changes manual check logic to allow up to 5000 channels without showing must be checked manually, increase limit of VRM max storage to 2 petabyte"]
["11.0.41","2017-07-28","Added Autodome 4000i und 5000i"]
["11.0.40","2017-04-04","Corrected worst case iSCSI session calculation on DIP 7000."]
["11.0.39","2017-03-23","Corrected iSCSI session calculation for all in one units, corrected storage capactiy for E-Series 6TB drives."]
["11.0.38","2017-03-02","Update to BVMS 7.5"]
["11.0.37","2017-02-20","bug fixed RAID 6 storage calculation"]
["11.0.36","2017-02-08","added RAID 6 option for all DIP 7000 + DIP 6000 combinations"]
["11.0.34","2017-02-07","added 6 and 8 TB drives to all pools"]
["11.0.32","2017-02-03","Removed EOL storage units"]
["11.0.31","2017-02-03","added DIP 7000 6 and 8 TB drives, DSA 8 TB for Pool 0"]
["11.0.30","2016-11-22","corrected Pixie cameras"]
["11.0.27","2016-11-14","corrected IVA enabling"]
["11.0.26","2016-10-19","fixed problem with \"Allow >1 Divar IP 3000/7000 systems\""]
["11.0.25","2016-09-14","corrected iSCSI session calculation, updated to BVMS 7.0, camera update"]
["11.0.24","2016-06-01","Added Autodome 5000"]
["11.0.23","2016-05-31","Workstation matrix updated"]
["11.0.22","2016-05-23","Added DIP 7000 R2 combinations and DIP 5000"]
["11.0.19","2016-05-13","Added DIP 7000 R2 + DIP 6000 R2 combination"]
["11.0.18","2016-05-11","EOL DIP 7000 "]
["11.0.17","2016-05-04","Corrected number of storage units in quantity field of (Manuel)"]
["11.0.16","2016-04-20","DIP 7000 R2  added"]
["11.0.14","2016-04-12","Update to BVMS 6.5, DIP-6000R2 iSCSI session update "]
["11.0.13","2016-01-15","Changed software licenses to BVMS 6.0 (Manuel)"]
["11.0.12","2015-12-03","Fixed gross storage value to 64TB on the DIP-6000R2 16x4TB (was incorrectly stating 48TB)"]
["11.0.11","2015-11-25","Changed decoder license consumption (fixed: Manual H)"]
[null,null,"DIP-6000 R2 performance data reworked and added HS and RAID 6 modes."]
[null,null,"Removed DLA-1400 and DIP-6000 (R1) from AIO mode (VRM included) to shorten the list."]
["11.0.10","2015-11-02","Added Panoramic bitrates (same as Datasheets)"]
[null,null,"Added panoramic 5000/7000 series of cameras"]
[null,null,"Fixed typo onto the E2700 HD shelf (4TB instead of 6TB; Source: Uwe K)"]
[null,null,"Hotspare option on 4 disk DIVAR IP systems removed (not supported)"]
[null,null,"DIP-6000R2 added 3TB / 4TB"]
[null,null,"DIP-2000 RAID1 option added"]
[null,null,"Workstation matrix updated"]
[null,null,"Workstations in dropdown selections updated"]
["11.0.09","2015-08-20","RT: Removed NetApp E2600 series (to make the list shorter)"]
["11.0.08","2015-08-20","RT: Added NetApp E2700 series (note: performance data used in full port utilisation, so both iSCSI ports/hosts connected on each controller)"]
["11.0.07","2015-07-12","RT: small bug smashed"]
["11.0.06","2015-03-20","Rosenstiel - removed wrong email addresses and corrected value of # of BRS systems"]
["11.0.06","2015-03-02","Rosenstiel - added subsystem extension type and upgrade from Pro to the tab \"Licenses\""]
["11.0.05","2015-01-22","Rosenstiel - Simplified layout and appearence with input from APR"]
["11.0.04","2015-01-07","Reworked dual recording implementation on secondary recording to select alternative camera qty"]
[null,null,"Reworked quiet time implementation on the secondary recording to inherit the quiet time reduction factor from the primary recording group."]
["11.0.03","2014-12-11","Added the VRM pool selection None"]
[null,null,"Corrected the warning for DIP 7000 channel expansion (32ch is default, not 8ch)"]
[null,null,"Reworked the dual recording implementation to include bandwidth and quiet time for the secondary recording."]
[null,null,"fixed orange color warning for expansion licenses"]
[null,null,"orange warning fixed on \"Check manualy BU-ESS expert\" field "]
[null,null,"bug fixed on pool handling"]
[null,null,"Warning added on pools when changing camera count (and consequently storage capabilities change.)"]
[null,null,"added the SD lifetime calculator"]
["11.0.02","2014-11-05","Added DIP 2000/3000 3TB versions"]
[null,null,"Added DIP 6000 3TB versions (iSCSI target only mode)"]
[null,null,"DIP2000: changed OS partition size reservation to 200GB "]
[null,null,"DIP7000: removed OS partition size reservation (OS running on separate SSD)"]
[null,null,"Workstation matrix updated"]
[null,null,"Implemented mirrored/secondary/failover recording; reworked pool implementation"]
[null,null,"Added secondary VRM server selection"]
[null,null,"Added 2 decoder groups; added single and dual monitor support for the VJD-7000 seperately"]
[null,null,"Added warning for the Workstation expansion licenses against the workstation count"]
[null,null,"VSG PC/server hardware comment field added"]
[null,null,"Added MBV-XSUB-50, MBV-XMVS-50, MBV-FEUP-50, MBV-XFOV-50, MBV-XDUR-50 licenses"]
[null,null,"Added warning for MBV-BXPAN-DIP license when 64channels are reached"]
[null,null,"Added BVMS licensing overview to the checklist workbook"]
["11.0.01","2014-10-10","Reworked to BVMS 5.0"]
[null,null,"workstation/graphics card options reworked"]
[null,null,"4TB E-series added"]
[null,null,"Dinion IP ultra 8000 cameras added"]
[null,null,"Dinion IP starlight 8000 cameras added"]
[null,null,"MIC IP starlight/dynamic 7000 added"]
["10.0.18","2013-09-06","Changed default setting: \"Allow >1 Divar IP 3000/7000 systems\" to false"]
["10.0.17","2013-09-05","Fixed bug: Gross storage wrong assigned for the DIP-2000"]
["10.0.17","2013-09-05","Fixed bug: error SCSI sessiosn using the multi-pool assignment"]
["10.0.16","2013-08-30","E-Series - 3TB versions added"]
["10.0.15","2013-08-30","internal"]
["10.0.14","2013-08-29","DIP-6000/7000 3TB versions added"]
["10.0.13","2013-08-23","N-1 redundancy reworked for Divar IP range"]
["10.0.12","2013-08-23","DIVAR IP 3000+2000 and DIVAR IP 7000+6000 iSCSI sessions and bandwidth fixed"]
["10.0.11","2013-08-23","VSG channels are fixed"]
["10.0.10","2013-07-04","Changed DIVAR IP 3000 with one slave DIVAR IP 2000 "]
["10.0.09","2013-07-01","Storage pools implemented"]
[null,null,"VRM 3.0 based storage calculation (incl sanity check)"]
[null,null,"New encoder/camera series/families/platforms implemented"]
[null,null,"Gross storage size presentation (due to competition is always offering on basis of Gross)"]
[null,null,"DIVAR IP added (reworked as a single management system with optional storage extension of x number of 2000/6000 units)"]
[null,null,"E-Series Phase II added "]
[null,null,"Graphical overview of overcapacity"]
[null,null,"Graphical overview of price point comparison"]
[null,null,"Enterprise subsystem licenses entry field"]
[null,null,"Transcoder entry field"]
[null,null,"New decoders added"]
[null,null,"fixed 5MP bug"]
[null,null,"added subsystem extension type "]
[null,null,"other minor bug fixes"]
["10.0.5","2013-05-15","VIP X1600 XF/VJ X20XF-E/VJ X40XF-E resolutions didn’t work well (thanks Jeremy)"]
[null,null,"VIP X1600 XF channel count was faulty (thanks Jeremy)"]
[null,null,"Minor changes to the Divar IP iSCSI session usage."]
["9.0.5","2012-07-17","Netapp E-series added"]
[null,null,"New bitrate and encoder capability sheet added"]
[null,null,"Additional camera group added specially for ONVIF "]

{"sheet":"--Bit Rate Quick Guide old ----","index":14,"n_rows":456,"n_cols":13,"rows_kept":456,"cut":false,"hidden":false,"merged":[[415,3,416,3],[203,1,204,1],[447,0,455,0],[314,1,322,1],[427,1,435,1],[437,1,445,1],[427,0,445,0],[417,1,425,1],[277,0,322,0],[417,0,425,0],[347,0,377,0],[345,3,346,3],[205,0,250,0],[415,4,416,4],[415,5,416,5],[357,1,366,1],[275,2,276,2],[275,3,276,3],[275,4,276,4],[283,1,291,1],[277,1,281,1],[275,1,276,1],[415,1,416,1],[347,1,355,1],[293,1,301,1],[303,1,312,1],[345,1,346,1],[345,2,346,2],[415,2,416,2],[70,4,71,4],[70,5,71,5],[191,1,199,1],[1,2,2,2],[73,1,81,1],[1,4,2,4],[1,5,2,5],[1,3,2,3],[70,3,71,3],[70,2,71,2],[166,2,167,2],[166,3,167,3],[1,1,2,1],[4,1,42,5],[166,4,167,4],[166,5,167,5],[203,5,204,5],[203,3,204,3],[345,4,346,4],[345,5,346,5],[235,1,240,1],[203,2,204,2],[225,1,231,1],[232,1,233,1],[205,1,213,1],[215,1,223,1],[242,1,248,1],[203,4,204,4],[249,1,250,1],[3,0,29,0],[30,0,41,0],[104,1,112,1],[70,1,71,1],[166,1,167,1],[83,1,91,1],[93,1,102,1],[168,0,201,0],[114,1,123,1],[125,1,133,1],[180,1,189,1],[72,0,133,0],[170,1,178,1],[140,1,141,1],[134,1,134,5],[140,2,141,2],[140,3,141,3],[140,4,141,4],[140,5,141,5],[142,0,162,0],[142,1,150,1],[152,1,161,1]]}
[]
[]
[]
[]
[]
[]
[]
[]
[]
[]
[]
[]
[]
[]
[]
[]
[]
[]
[]
[]
[]
[]
[]
[]
[]
[]
[]
[]
[]
[]
[]
[]
[]
[]
[]
[]
[]
[]
[]
[]
[]
[]
[]
[]
[]
[]
[]
[]
[]
[]
[]
[]
[]
[]
[]
[]
[]
[]
[]
[]
[]
[]
[]
[]
[]
[]
[]
[]
[]
[]
[null,"Resolution","ips","Static Scene  (iDNR enabled)","Standard Surveillance Scene","Busy Scene"]
[null,null,"images per second"]
["Common Product Platform 7_3 H.265 mode only"]
[null,"5MP\n16:9",30,2000,4000,8000]
[null,null,25,{"$f":"E75/2","v":1892.7897819999998},{"$f":"$E$74*0.946394891","v":3785.5795639999997},{"$f":"E75*2","v":7571.1591279999993}]
[null,null,20,{"$f":"E76/2","v":1761.5750800000001},{"$f":"$E$74*0.88078754","v":3523.1501600000001},{"$f":"E76*2","v":7046.3003200000003}]
[null,null,15,1592.4099060000001,{"$f":"$E$74*0.796204953","v":3184.8198120000002},6369.6396240000004]
[null,null,10,1353.9849859999999,{"$f":"$E$74*0.676992493","v":2707.9699719999999},5415.9399439999997]
[null,null,5,946.39489000000003,{"$f":"$E$74*0.473197445","v":1892.7897800000001},3785.5795600000001]
[null,null,3,646.01501400000006,{"$f":"$E$74*0.323007507","v":1292.0300280000001},2584.0600560000003]
[null,null,2,407.59009400000002,{"$f":"$E$74*0.203795047","v":815.18018800000004},1630.3603760000001]
[null,null,1,{"$f":"D81/2","v":203.79504700000001},{"$f":"E81/2","v":407.59009400000002},815.18018800000004]
[]
[null,"720p30",30,{"$f":"E84/2","v":500},1000,{"$f":"E84*2","v":2000}]
[null,null,25,{"$f":"E85/2","v":473.19744549999996},{"$f":"$E$84*0.946394891","v":946.39489099999992},{"$f":"E85*2","v":1892.7897819999998}]
[null,null,20,{"$f":"E86/2","v":440.39377000000002},{"$f":"$E$84*0.88078754","v":880.78754000000004},{"$f":"E86*2","v":1761.5750800000001}]
[null,null,15,398.10247650000002,{"$f":"$E$84*0.796204953","v":796.20495300000005},1592.4099060000001]
[null,null,10,338.49624649999998,{"$f":"$E$84*0.676992493","v":676.99249299999997},1353.9849859999999]
[null,null,5,236.59872250000001,{"$f":"$E$84*0.473197445","v":473.19744500000002},946.39489000000003]
[null,null,3,161.50375350000002,{"$f":"$E$84*0.323007507","v":323.00750700000003},646.01501400000006]
[null,null,2,101.89752350000001,{"$f":"$E$84*0.203795047","v":203.79504700000001},407.59009400000002]
[null,null,1,{"$f":"D91/2","v":50.948761750000003},{"$f":"E91/2","v":101.89752350000001},203.79504700000001]
[]
[null,"720p60",60,{"$f":"E94/2","v":600},1200,{"$f":"E94*2","v":2400}]
[null,null,30,500,1000,2000]
[null,null,25,473.19744549999996,{"$f":"$E$95*0.946394891","v":946.39489099999992},1892.7897819999998]
[null,null,20,440.39377000000002,{"$f":"$E$95*0.88078754","v":880.78754000000004},1761.5750800000001]
[null,null,15,398.10247650000002,{"$f":"$E$95*0.796204953","v":796.20495300000005},1592.4099060000001]
[null,null,10,338.49624649999998,{"$f":"$E$95*0.676992493","v":676.99249299999997},1353.9849859999999]
[null,null,5,236.59872250000001,{"$f":"$E$95*0.473197445","v":473.19744500000002},946.39489000000003]
[null,null,3,161.50375350000002,{"$f":"$E$95*0.323007507","v":323.00750700000003},646.01501400000006]
[null,null,2,101.89752350000001,{"$f":"$E$95*0.203795047","v":203.79504700000001},407.59009400000002]
[null,null,1,50.948761750000003,{"$f":"E102/2","v":101.89752350000001},203.79504700000001]
[]
[null,"1080p30",30,{"$f":"E105/2","v":700},1400,{"$f":"E105*2","v":2800}]
[null,null,25,{"$f":"E106/2","v":662.47642369999994},{"$f":"$E$105*0.946394891","v":1324.9528473999999},{"$f":"E106*2","v":2649.9056947999998}]
[null,null,20,{"$f":"E107/2","v":616.55127800000002},{"$f":"$E$105*0.88078754","v":1233.102556},{"$f":"E107*2","v":2466.2051120000001}]
[null,null,15,557.3434671,{"$f":"$E$105*0.796204953","v":1114.6869342},2229.3738684]
[null,null,10,473.89474509999997,{"$f":"$E$105*0.676992493","v":947.78949019999993},1895.5789803999999]
[null,null,5,331.23821149999998,{"$f":"$E$105*0.473197445","v":662.47642299999995},1324.9528459999999]
[null,null,3,226.10525490000001,{"$f":"$E$105*0.323007507","v":452.21050980000001},904.42101960000002]
[null,null,2,142.6565329,{"$f":"$E$105*0.203795047","v":285.3130658},570.62613160000001]
[null,null,1,11.200000000000001,{"$f":"$E$105*0.016","v":22.400000000000002},44.800000000000004]
[]
[null,"1080p60",60,{"$f":"E115/2","v":850},1700,{"$f":"E115*2","v":3400}]
[null,null,30,{"$f":"E116/2","v":700},1400,{"$f":"E116*2","v":2800}]
[null,null,25,{"$f":"E117/2","v":662.47642369999994},{"$f":"$E$116*0.946394891","v":1324.9528473999999},{"$f":"E117*2","v":2649.9056947999998}]
[null,null,20,616.55127800000002,{"$f":"$E$116*0.88078754","v":1233.102556},2466.2051120000001]
[null,null,15,557.3434671,{"$f":"$E$116*0.796204953","v":1114.6869342},2229.3738684]
[null,null,10,473.89474509999997,{"$f":"$E$116*0.676992493","v":947.78949019999993},1895.5789803999999]
[null,null,5,331.23821149999998,{"$f":"$E$116*0.473197445","v":662.47642299999995},1324.9528459999999]
[null,null,3,226.10525490000001,{"$f":"$E$116*0.323007507","v":452.21050980000001},904.42101960000002]
[null,null,2,142.6565329,{"$f":"$E$116*0.203795047","v":285.3130658},570.62613160000001]
[null,null,1,71.328266450000001,{"$f":"E123/2","v":142.6565329},285.3130658]
[]
[null,"UHD",30,{"$f":"E126/2","v":3000},6000,{"$f":"E126*2","v":12000}]
[null,null,25,2839.1849999999999,{"$f":"E126*0.946395","v":5678.37},11356.74]
[null,null,20,2642.364,{"$f":"E126*0.880788","v":5284.7280000000001},10569.456]
[null,null,15,2388.6150000000002,{"$f":"E126*0.796205","v":4777.2300000000005},9554.4600000000009]
[null,null,10,2030.9760000000001,{"$f":"E126*0.676992","v":4061.9520000000002},8123.9040000000005]
[null,null,5,1419.5909999999999,{"$f":"E126*0.473197","v":2839.1819999999998},5678.3639999999996]
[null,null,3,969.024,{"$f":"E126*0.323008","v":1938.048},3876.096]
[null,null,2,611.38499999999999,{"$f":"E126*0.203795","v":1222.77},2445.54]
[null,null,1,48,{"$f":"E126*0.016","v":96},192]
[null,"Note: For CPP 7.3 devices running in H.264 mode please use CPP 7 values!"]
[]
[]
[]
[]
[]
[null,"Resolution","ips","static scene","Standard Surveillance Scene","Busy Scene"]
[null,null,"images per second"]
["Common Product Platform 7_3 H.265 mode only (AutoDome)","1080p30",30,"-",{"$f":"1400*1.5625","v":2187.5},{"$f":"E143*1.8","v":3937.5}]
[null,null,25,"-",{"$f":"$E$143*0.946394891","v":2070.2388240625},{"$f":"E144*1.8","v":3726.4298833125004}]
[null,null,20,"-",{"$f":"$E$143*0.88078754","v":1926.7227437500001},3468.1009387500003]
[null,null,15,"-",{"$f":"$E$143*0.796204953","v":1741.6983346875002},3135.0570024375002]
[null,null,10,"-",{"$f":"$E$143*0.676992493","v":1480.9210784375},2665.6579411875]
[null,null,5,"-",{"$f":"$E$143*0.473197445","v":1035.1194109374999},1863.2149396874997]
[null,null,3,"-",{"$f":"$E$143*0.323007507","v":706.57892156250011},1271.8420588125002]
[null,null,2,"-",{"$f":"$E$143*0.203795047","v":445.80166531250001},802.44299756250007]
[null,null,1,"-",{"$f":"E150/2","v":222.90083265625},401.22149878125003]
[]
[null,"1080p60",60,"-",{"$f":"1700*1.5625","v":2656.25},{"$f":"E153*1.8","v":4781.25}]
[null,null,30,"-",2188,{"$f":"E154*1.8","v":3938.4}]
[null,null,25,"-",{"$f":"$E$154*0.946394891","v":2070.7120215079999},{"$f":"E155*1.8","v":3727.2816387143998}]
[null,null,20,"-",{"$f":"$E$154*0.88078754","v":1927.16313752},3468.8936475360001]
[null,null,15,"-",{"$f":"$E$154*0.796204953","v":1742.096437164},3135.7735868952]
[null,null,10,"-",{"$f":"$E$154*0.676992493","v":1481.259574684},2666.2672344312]
[null,null,5,"-",{"$f":"$E$154*0.473197445","v":1035.3560096599999},1863.640817388]
[null,null,3,"-",{"$f":"$E$154*0.323007507","v":706.74042531600003},1272.1327655688001]
[null,null,2,"-",{"$f":"$E$154*0.203795047","v":445.90356283599999},802.62641310480001]
[null,null,1,"-",{"$f":"E161/2","v":222.951781418},401.3132065524]
[]
[]
[]
[]
[null,"Resolution","ips","Static Scene  (iDNR enabled)","Standard Surveillance Scene","Busy Scene"]
[null,null,"images per second"]
["Common Product Platform 7"]
[]
[null,"720p30",30,600,1200,2400]
[null,null,25,567.8369345260071,1135.6738690520142,2271.3477381040284]
[null,null,20,528.47252377161101,1056.945047543222,2113.890095086444]
[null,null,15,477.72297174569627,955.44594349139254,1910.8918869827851]
[null,null,10,406.19549551730734,812.39099103461467,1624.7819820692293]
[null,null,5,283.91846726300355,567.8369345260071,1135.6738690520142]
[null,null,3,193.80450448269269,387.60900896538539,775.21801793077077]
[null,null,2,122.2770282543037,244.5540565086074,489.10811301721481]
[null,null,1,20,40,40]
[]
[null,"720p60",60,700,1400,2800]
[null,null,30,581.49433468085306,1162.9886693617061,2325.9773387234122]
[null,null,25,550.32326741569273,1100.6465348313855,2201.2930696627709]
[null,null,20,512.17296434614036,1024.3459286922807,2048.6918573845614]
[null,null,15,462.988669361706,925.977338723412,1851.954677446824]
[null,null,10,393.66729902699342,787.33459805398684,1574.6691961079737]
[null,null,5,275.16163370784636,550.32326741569273,1100.6465348313855]
[null,null,3,187.82703565385964,375.65407130771928,751.30814261543856]
[null,null,2,118.505665319147,237.011330638294,474.022661276588]
[null,null,1,20,40,40]
[]
[null,"1080p30",30,800,1600,3200]
[null,null,25,757.11591270134295,1514.2318254026859,3028.4636508053718]
[null,null,20,704.63003169548131,1409.2600633909626,2818.5201267819252]
[null,null,15,636.96396232759503,1273.9279246551901,2547.8558493103801]
[null,null,10,541.59399402307645,1083.1879880461529,2166.3759760923058]
[null,null,5,378.55795635067147,757.11591270134295,1514.2318254026859]
[null,null,3,258.40600597692361,516.81201195384722,1033.6240239076944]
[null,null,2,163.03603767240494,326.07207534480989,652.14415068961978]
[null,null,1,20,40,40]
[]
[]
[]
[null,"Resolution","ips","Static Scene  (iDNR enabled)","Standard Surveillance Scene","Busy Scene"]
[null,null,"images per second"]
["Common Product Platform 6","5MP\n4:3",30,2475,4950,8800]
[null,null,25,2342.3273549197797,4684.6547098395595,8328.275039714772]
[null,null,20,2179.9491605578955,4359.8983211157911,7750.930348650294]
[null,null,15,1970.6072584509973,3941.2145169019946,7006.6035856035451]
[null,null,10,1675.5564190088928,3351.1128380177856,5957.5339342538409]
[null,null,5,1171.1636774598899,2342.3273549197797,4164.137519857386]
[null,null,3,799.44358099110741,1598.8871619822148,2842.4660657461595]
[null,null,2,504.39274154900284,1008.7854830980057,1793.3964143964542]
[null,null,1,20,40,40]
[]
[null,"5MP\n16:9",30,2250,4500,8000]
[null,null,25,2129.3885044725271,4258.7770089450541,7571.1591270134286]
[null,null,20,1981.7719641435413,3963.5439282870825,7046.3003169548128]
[null,null,15,1791.4611440463611,3582.9222880927223,6369.6396232759498]
[null,null,10,1523.2331081899026,3046.4662163798052,5415.9399402307645]
[null,null,5,1064.6942522362635,2129.3885044725271,3785.5795635067143]
[null,null,3,726.7668918100976,1453.5337836201952,2584.060059769236]
[null,null,2,458.53885595363892,917.07771190727783,1630.3603767240495]
[null,null,1,20,40,40]
[]
[null,"UHD",30,3000,6000,12000]
[null,null,25,2839.1846726300359,5678.3693452600719,11356.738690520144]
[null,null,20,2642.3626188580552,5284.7252377161103,10569.450475432221]
[null,null,15,2388.6148587284815,4777.229717456963,9554.4594349139261]
[null,null,10,2030.9774775865369,4061.9549551730738,8123.9099103461476]
[null,null,5,1419.592336315018,2839.1846726300359,5678.3693452600719]
[null,null,3,969.02252241346355,1938.0450448269271,3876.0900896538542]
[null,null,2,611.38514127151859,1222.7702825430372,2445.5405650860744]
[null,null,1,20,40,40]
[]
[null,"12MP",20,3000,6000,12000]
[null,null,10,2305.8653605207228,4611.7307210414456,9223.4614420828912]
[null,null,5,1611.7307210414449,3223.4614420828898,6446.9228841657796]
[null,null,3,1100.177374026254,2200.3547480525081,4400.7094961050161]
[null,null,2,694.13463947927755,1388.2692789585551,2776.5385579171102]
[null,null,1,20,40,40]
[]
[null,"Panoramic 7000",30,3000,6000,12000]
[null,null,25,2839.1846726300359,5678.3693452600719,11356.738690520144]
[null,null,20,2642.3626188580552,5284.7252377161103,10569.450475432221]
[null,null,15,2388.6148587284815,4777.229717456963,9554.4594349139261]
[null,null,12.5,2228,4456,8912]
[null,null,10,1419.592336315018,4062,5678.3693452600719]
[null,null,5,992.24145806220145,2839.1846726300359,3968.9658322488058]
[null,null,2,611.38514127151859,1222.7702825430372,2445.5405650860744]
[null,null,1,20,40,40]
[]
[]
[]
[]
[]
[]
[]
[]
[]
[]
[]
[]
[]
[]
[]
[]
[]
[]
[]
[]
[]
[]
[]
[null,null,null,null,null,null,null,null,null,null,"resolution","recording quality","scene type"]
[null,"Resolution","ips","Static Scene  (iDNR enabled)","Standard Surveillance Scene","Busy Scene",null,null,null,null,"1080p60","bitrate optiimzed","static"]
[null,null,"images per second"]
["Common Product Platform 4","5MP up to 12 ips",12,1200,2400,4000.0000000000005,null,null,null,"CPP_7_3"]
[null,null,6,865.26846521864411,1730.5369304372882,2884.2282173954809,null,null,null,"CPP_7"]
[null,null,3,530.53693043728833,1061.0738608745767,1768.4564347909616,null,null,null,"CPP_6"]
[null,null,2,334.73153478135578,669.46306956271155,1115.7717826045193,null,null,null,"CPP_5"]
[null,null,1,20,40,40,null,null,null,"CPP_4"]
[null,null,null,null,null,null,null,null,null,"CPP_3"]
[null,"1080p30",30,800,1600,3200]
[null,null,25,757.11591270134295,1514.2318254026859,3028.4636508053718]
[null,null,20,704.63003169548131,1409.2600633909626,2818.5201267819252]
[null,null,15,636.96396232759503,1273.9279246551901,2547.8558493103801]
[null,null,10,541.59399402307645,1083.1879880461529,2166.3759760923058]
[null,null,5,378.55795635067147,757.11591270134295,1514.2318254026859]
[null,null,3,258.40600597692361,516.81201195384722,1033.6240239076944]
[null,null,2,163.03603767240494,326.07207534480989,652.14415068961978]
[null,null,1,20,40,40]
[]
[null,"720p30",30,600,1200,2400]
[null,null,25,567.8369345260071,1135.6738690520142,2271.3477381040284]
[null,null,20,528.47252377161101,1056.945047543222,2113.890095086444]
[null,null,15,477.72297174569627,955.44594349139254,1910.8918869827851]
[null,null,10,406.19549551730734,812.39099103461467,1624.7819820692293]
[null,null,5,283.91846726300355,567.8369345260071,1135.6738690520142]
[null,null,3,193.80450448269269,387.60900896538539,775.21801793077077]
[null,null,2,122.2770282543037,244.5540565086074,489.10811301721481]
[null,null,1,20,40,40]
[]
[null,"720p60",60,700,1400,2800]
[null,null,30,581.49433468085306,1162.9886693617061,2325.9773387234122]
[null,null,25,550.32326741569273,1100.6465348313855,2201.2930696627709]
[null,null,20,512.17296434614036,1024.3459286922807,2048.6918573845614]
[null,null,15,462.988669361706,925.977338723412,1851.954677446824]
[null,null,10,393.66729902699342,787.33459805398684,1574.6691961079737]
[null,null,5,275.16163370784636,550.32326741569273,1100.6465348313855]
[null,null,3,187.82703565385964,375.65407130771928,751.30814261543856]
[null,null,2,118.505665319147,237.011330638294,474.022661276588]
[null,null,1,20,40,40]
[]
[null,"432p30",30,350,700,1350]
[null,null,25,331.23821180683751,662.47642361367502,1277.633102683516]
[null,null,20,308.27563886677308,616.55127773354616,1189.0631784861246]
[null,null,15,278.67173351832281,557.34346703664562,1074.8766864278166]
[null,null,10,236.94737238509595,473.89474477019189,913.93986491394151]
[null,null,5,165.61910590341876,331.23821180683751,638.81655134175799]
[null,null,3,113.05262761490407,226.10525522980814,436.06013508605855]
[null,null,2,71.328266481677161,142.65653296335432,275.12331357218335]
[null,null,1,20,40,40]
[]
[]
[]
[]
[]
[]
[]
[]
[]
[]
[]
[]
[]
[]
[]
[]
[]
[]
[]
[]
[]
[]
[null,"Resolution","ips","static scene","Standard Surveillance Scene","Busy Scene"]
[null,null,"images per second"]
["Common Product Platform 4 (AUTODOME)","1080p30",30,"-",2500,4500]
[null,null,25,"-",2365.9872271916965,4258.7770089450541]
[null,null,20,"-",2201.9688490483791,3963.5439282870825]
[null,null,15,"-",1990.5123822737344,3582.9222880927223]
[null,null,10,"-",1692.4812313221139,3046.4662163798052]
[null,null,5,"-",1182.9936135958483,2129.3885044725271]
[null,null,3,"-",807.51876867788621,1453.5337836201952]
[null,null,2,"-",509.4876177262654,917.07771190727783]
[null,null,1,"-",40,40]
[]
[null,"720p60",60,"-",1400,2800]
[null,null,30,"-",1162.9886693617061,2325.9773387234122]
[null,null,25,"-",1100.6465348313855,2201.2930696627709]
[null,null,20,"-",1024.3459286922807,2048.6918573845614]
[null,null,15,"-",925.977338723412,1851.954677446824]
[null,null,10,"-",787.33459805398684,1574.6691961079737]
[null,null,5,"-",550.32326741569273,1100.6465348313855]
[null,null,3,"-",375.65407130771928,751.30814261543856]
[null,null,2,"-",237.011330638294,474.022661276588]
[null,null,1,"-",40,40]
[]
[null,null,60,"-",1000,2000]
[null,null,30,"-",830.70619240121869,1661.4123848024374]
[null,null,25,"-",786.17609630813251,1572.352192616265]
[null,null,20,"-",731.67566335162917,1463.3513267032583]
[null,"4CIF",15,"-",661.41238480243726,1322.8247696048745]
[null,null,10,"-",562.38185575284774,1124.7637115056955]
[null,null,5,"-",393.08804815406626,786.17609630813251]
[null,null,3,"-",268.32433664837095,536.64867329674189]
[null,null,2,"-",169.29380759878146,338.58761519756291]
[null,null,1,"-",40,40]
[]
[]
[]
[]
[]
[]
[]
[]
[]
[]
[]
[]
[]
[]
[]
[]
[]
[]
[]
[]
[]
[]
[]
[]
[]
[]
[]
[]
[]
[]
[]
[]
[]
[]
[]
[]
[]
[null,"Resolution","ips","Static Scene (iDNR enabled)","Standard Surveillance Scene","Busy Scene"]
[null,null,"images per second"]
["CPP4","VGA",30,300,600,1200]
[null,null,25,283.91846726300355,567.8369345260071,1135.6738690520142]
[null,null,20,264.2362618858055,528.47252377161101,1056.945047543222]
[null,null,15,238.86148587284814,477.72297174569627,955.44594349139254]
[null,null,10,203.09774775865367,406.19549551730734,812.39099103461467]
[null,null,5,141.95923363150177,283.91846726300355,567.8369345260071]
[null,null,3,96.902252241346346,193.80450448269269,387.60900896538539]
[null,null,2,61.138514127151851,122.2770282543037,244.5540565086074]
[null,null,1,20,40,40]
[]
["CCP 3 and CPP-ENC","4CIF",25,"-",1443,1805]
[null,null,13,"-",876,1494]
[null,null,8,"-",668,1328]
[null,null,6,"-",485,1362]
[null,null,5,"-",415,1295]
[null,null,4,"-",343,965]
[null,null,3,"-",297,846]
[null,null,2,"-",227,622]
[null,null,1,"-",129,371]
[]
[null,"CIF",25,"-",287,430]
[null,null,13,"-",187,394]
[null,null,8,"-",138,293]
[null,null,6,"-",118,231]
[null,null,5,"-",91,201]
[null,null,4,"-",77,247]
[null,null,3,"-",70,218]
[null,null,2,"-",52,170]
[null,null,1,"-",31,96]
[]
["CPP 5",null,30,"-",1440,1600]
[null,null,25,"-",1362.8086428624174,1514.2318254026859]
[null,null,20,"-",1268.3340570518665,1409.2600633909626]
[null,null,15,"-",1146.535132189671,1273.9279246551901]
[null,"4CIF",10,"-",974.86918924153758,1083.1879880461529]
[null,null,5,"-",681.4043214312087,757.11591270134295]
[null,null,3,"-",465.13081075846253,516.81201195384722]
[null,null,2,"-",293.46486781032888,326.07207534480989]
[null,null,1,"-",40,40]

{"sheet":"CPP3 HD Bit Rate Quick Guide","index":15,"n_rows":38,"n_cols":10,"rows_kept":38,"cut":false,"hidden":false,"merged":[[25,3,25,4],[25,5,25,6],[25,7,25,8],[25,9,25,10],[26,3,26,4],[26,5,26,6],[26,7,26,8],[26,9,26,10],[23,3,23,4],[23,5,23,6],[23,7,23,8],[23,9,23,10],[24,3,24,4],[24,5,24,6],[24,7,24,8],[24,9,24,10],[21,3,21,4],[21,5,21,6],[21,7,21,8],[21,9,21,10],[22,3,22,4],[22,5,22,6],[22,7,22,8],[22,9,22,10],[19,9,19,10],[20,3,20,4],[20,5,20,6],[20,7,20,8],[20,9,20,10],[15,3,15,4],[15,5,15,6],[15,7,15,8],[15,9,15,10],[17,1,26,2],[17,3,17,4],[17,5,17,6],[17,7,17,8],[17,9,17,10],[18,3,18,4],[18,5,18,6],[18,7,18,8],[18,9,18,10],[19,3,19,4],[19,5,19,6],[19,7,19,8],[13,3,13,4],[13,5,13,6],[13,7,13,8],[13,9,13,10],[14,3,14,4],[14,5,14,6],[14,7,14,8],[14,9,14,10],[11,3,11,4],[11,5,11,6],[11,7,11,8],[11,9,11,10],[12,3,12,4],[12,5,12,6],[12,7,12,8],[12,9,12,10],[9,9,9,10],[10,3,10,4],[10,5,10,6],[10,7,10,8],[10,9,10,10],[4,9,5,10],[5,0,6,0],[6,7,6,8],[6,9,6,10],[7,1,15,2],[7,3,7,4],[7,5,7,6],[7,7,7,8],[7,9,7,10],[8,3,8,4],[8,5,8,6],[8,7,8,8],[8,9,8,10],[9,3,9,4],[9,5,9,6],[9,7,9,8],[2,2,3,5],[2,6,3,8],[4,1,6,2],[4,3,6,4],[4,5,6,6],[4,7,5,8]]}
[]
[]
[null,null,"Bandwidth 1080p & 720p HD \nCEP3",null,null,null,"Stream 1&2 (all frames)"]
[]
[null,"Scene type",null,"Video Resolution",null,"Images per second",null,"Quiet",null,"Busy/PTZ"]
[]
[null,null,null,null,null,null,null,"Bandwidth kbit/s",null,"Bandwidth kbit/s"]
[null,"1080p",null,"1080p",null,30,null," - ",null,6000]
[null,null,null,"1080p",null,15,null," -",null,4455]
[null,null,null,"1080p",null,10,null," -",null,3458]
[null,null,null,"1080p",null,7.5,null," -",null,2815]
[null,null,null,"1080p",null,6,null," -",null,2402]
[null,null,null,"1080p",null,5,null," -",null,2138]
[null,null,null,"1080p",null,3,null," -",null,1226]
[null,null,null,"1080p",null,2,null," -",null,634]
[null,null,null,"1080p",null,1,null," -",null,90]
[]
[null,"720p",null,"720p",null,60,null,6343.1314285714288,null,7526.3040000000001]
[null,null,null,"720p",null,30,null,5038.0032000000001,null,5474.8512000000001]
[null,null,null,"720p",null,15,null,3094.5167999999999,null,3770.712]
[null,null,null,"720p",null,10,null,1921.3728000000001,null,2838.9120000000003]
[null,null,null,"720p",null,7.5,null,1469.8127999999999,null,2137.2215999999999]
[null,null,null,"720p",null,6,null,1175.5161600000001,null,1846.848]
[null,null,null,"720p",null,5,null,979.3184,null,1506.5007999999998]
[null,null,null,"720p",null,3,null,513.07488000000001,null,700.73472000000004]
[null,null,null,"720p",null,2,null,301.46995200000003,null,446.11891199999991]
[null,null,null,"720p",null,1,null,131.04767999999999,null,311.90015999999997]
[]
[null,null,"target bitrate",null,"2 Mbps"]
[null,null,"max bitrate *",null,"6 Mbps"]
[null,null,"Sharpness",null,"default"]
[null,null,"I-Frame Quality",null,"default"]
[null,null,"P-frame Quality",null,"default"]
[null,null,"I-frame distance",null,"default"]
[null,null,"Above table gives the reccomended average datarates, "]
[null,null,"The actual datarates at some installation sites may vary depending on the scene complexity and illumination level"]
[null,null,"* except for 60 IPS: then 8 Mbps used"]
[null,null,"NOTE: All CEP3 Devices capable of 1080p are PTZ domes and hence need to  be calculated with high movement scene type"]

{"sheet":"DataBase","index":16,"n_rows":78,"n_cols":17,"rows_kept":78,"cut":false,"hidden":true,"merged":[[1,1,1,15],[27,2,27,4],[27,5,27,6]]}
[]
[null,"Source Data"]
[]
[null,"Frame Base","Width",null,"Height","Framerate"]
[null,null,1920,null,1080,30]
[]
[null,"GOP Type","P-Frame Distanz",null,"B-Frame"]
[null,"IP",1,null,0]
[null,"IBP",2,null,1]
[null,"IBBP",3,null,2]
[]
[]
[null,"Statischer Szenentyp:","I-Frame Base",null,"P-Frame Base","B-Frame Base","I-Frame Noise Base","P-Frame Noise Base Factor",null,"B-Frame Noise base factor"]
[null,"komplex z. B. fraktale Strukturen wie Bäume",500000,null,125,125,400,0.5,null,0.25]
[null,"normale z.B. typische parkplatz Straßenszene",300000,null,125,125,200,0.5,null,0.25]
[null,"einfach große Teile der Szene bestehen aus einer weißen Wand",190000,null,125,125,100,0.5,null,0.25]
[]
[null,null,null,null,null,null,null,null,null,null,null,"special Camera Adaption"]
[null,null,null,null,null,null,null,null,null,null,"overrule ","mod factor","noise level"]
[null,"dynamischer Szenen Typ",null,null,"P-Frame Base","B-Frame Base","dynamic Noise modifier",null,null,null,"thermal",null,46000]
[null,"static",null,null,0,0,1,null,null,null,"placeholder",0]
[null,"standard",null,null,2000,579,1.4,null,null,null,"nothing special"]
[null,"busy",null,null,10000,2500,2]
[null,"crowd",null,null,15780,3964,2]
[null,"escape",null,null,34839,11264,2]
[]
[]
[null,null,"Influence on static scene part",null,null,"Influence on dynamic scene part",null,"Bitrate generated by noise"]
[null,"Bitrate reduction mode","I","P","B","P","B","Base"]
[null,"maximum qual",1.5988204969584494,5.1630468995908085,3.5742971887550201,1.3944673588394254,1.737587793654638,20]
[null,"high qual",1.2645685840244836,1.8174512055109071,1.5149892933618843,1.2123663681017047,1.249793996468511,6]
[null,"medium",1,1,1,1,1,1]
[null,"low bitrate",0.73749569920865443,0.60753623188405792,0.56378600823045266,0.62814362552696612,0.50915211445402908,0.5]
[null,"min bitrate",0.44979014329278288,0.33615669666490205,0.36406995230524641,0.40352683166987424,0.30263660680168131,0.25]
[]
[null,"Video standard"]
[null,"h_264",1]
[null,"h_265",0.75]
[null,null,null,null,"rate control mode 0","short term + max bitrate"]
[null,null,null,null,"rate control mode 1","long term + max bitrate"]
[null,null,null,null,"rate control mode 2","only max bitrate"]
[]
[null,"Platform","static norm Factor","dynamic norm Factor","rate control mode ","max bitrate","noise offset",null,null,"Recording quality","safty factor","bitrate reduction mode","max/target max "]
[null,"CPP_7_3",1.2,1.4,1,32000000,0,null,null,"image optimized",2,{"$f":"B31","v":"high qual"},3]
[null,"CPP_7",1,1.1000000000000001,1,16000000,0,null,null,"balanced",2,{"$f":"B32","v":"medium"},4]
[null,"CPP_6",1,1.4,1,32000000,0,null,null,"bitrate optimized",1,{"$f":"B32","v":"medium"},4]
[null,"CPP_5",1,1.2,2,2000000,12000]
[null,"CPP_4",1.6,1.6,0,12000000,2200,null,null,"Scene profiles","Scence Type","proportion","Scence Type","proportion","Scence Type","proportion"]
[null,"CPP_3",1.6,1.4,0,6000000,18888,null,null,"static",{"$f":"B21","v":"static"},0.89,{"$f":"B22","v":"standard"},0.1,"busy",{"$f":"1-L49-N49","v":9.9999999999999811E-3}]
[null,null,null,null,null,null,null,null,null,"medium",{"$f":"B21","v":"static"},0.54,{"$f":"B22","v":"standard"},0.35,"crowd",{"$f":"1-L50-N50","v":0.10999999999999999}]
[null,"Scale factors",null,null,"Exponent",null,null,null,null,"busy",{"$f":"B21","v":"static"},0.3,{"$f":"B23","v":"busy"},0.55000000000000004,"crowd",{"$f":"1-L51-N51","v":0.14999999999999991}]
[null,"Framerate Factor",1.6,null,0.67807190511263782,null,{"$f":"4^E52","v":2.5600000000000005},null,null,"crowded",{"$f":"B22","v":"standard"},0.3,{"$f":"B24","v":"crowd"},0.3,{"$f":"B25","v":"escape"},{"$f":"1-L52-N52","v":0.39999999999999997},"nicht in standard Porfilen berücksichtigt"]
[null,"Resolution Factor",1.8,null,-0.84799690655494997]
[]
[]
[]
[null,null,null,null,null,"ffmpeg qp28",null,null,null,null,"filmed from screen S2L Pixie 6_44"]
[null,null,null,null,null,"I","P","B",null,null,"I","P","B"]
[null,null,null,null,"still",296927,372,283,null,null,234630,83,64]
[null,null,null,null,"low",290826,2000,579,null,null,222525,1586,263]
[null,null,null,null,"medium",298000,3343,700,null,null,226172,2744,267]
[null,null,null,null,"crowd",305000,15780,3964,null,null,229446,15021,207]
[null,null,null,null,"escape",309342,34839,11264,null,null,227627,31090,9301]
[null,null,null,null,"balcony",353083,11697,1081,null,null,301138,3203,206]
[null,null,null,null,"rollingCart",307277,9414,2098]
[]
[]
[]
[]
[null,null,null,null,null,null,372,283]
[null,null,null,null,null,null,2000,579]
[null,null,null,null,null,null,3343,700]
[null,null,null,null,null,null,15780,3964]
[null,null,null,null,null,null,34839,11264]
[]
[null,null,null,null,{"$f":"2992*1680","v":5026560},625,32,6.8]
[null,null,null,null,{"$f":"1920*1080","v":2073600},275,10.226000000000001,2.6269999999999998]
[null,null,null,null,{"$f":"E76/E77","v":2.424074074074074},{"$f":"F76/F77","v":2.2727272727272729},{"$f":"G76/G77","v":3.1292783101897124},{"$f":"H76/H77","v":2.5885039969547012}]